{"text_format":"1","workbook":"xlsx","n_sheets":24,"sheets":["Home Page","Guidance","Summary Report","Chart data","Outputs","Entity datastore","Emissions Factors","Emissions Factors Lookup","Dynamic dropdown","Material Density","Commentary","Note records","VB Metadata","Sandpit","Bulk Materials","Earthworks","Fencing","Drainage","Road Pavements","Street Furniture","Civils Structures","Fuel and Energy","Business Transport","Waste"],"not_rendered":{"charts":4,"images":5,"macros":1,"external_links":0,"defined_names":29,"comments":1,"pivot_tables":0},"unopened":[],"bounds":{"document_bytes":16777216,"sheet_cells":100000,"rows_first":2000,"rows_last":500,"rows_between":2000,"halvings":0,"cell_chars":16384,"cell_head_chars":4096},"cells_cut":0,"cells_raw":0,"read":"whole","date_system":"1900"}

{"sheet":"Home Page","index":0,"n_rows":76,"n_cols":44,"rows_kept":76,"cut":false,"hidden":false,"merged":[[3,1,4,1],[8,3,8,7],[3,3,3,7],[4,3,4,7],[9,3,9,7],[6,3,6,7],[23,13,23,15],[4,13,4,15],[5,13,5,15],[0,39,0,41],[0,28,0,30],[6,13,6,15],[3,13,3,15],[8,13,9,15],[10,13,10,15],[22,3,22,12],[2,3,2,7],[3,9,3,12],[4,9,4,12],[5,9,5,12],[6,9,6,12],[5,3,5,7],[16,3,16,7],[14,3,14,7],[15,3,15,7],[10,3,10,7],[11,3,11,7],[12,3,12,7],[13,3,13,7],[7,3,7,7]]}
[null,null,null,null,null,null,null,null,null,null,null,null,null,null,null,null,"Row on this sheet of the live return in the metadata:",null,"<---DO NOT MOVE FROM CELL R1",null,null,null,null,null,null,0,"Home Page","Home Page","Name of worksheet currently being blanked during blank_all_returns sub:",null,null,null,"<--- DO NOT MOVE FROM CELL AF1",null,null,null,null,null,null,"Row number of of-which row just added:",null,null,0,"<--- DO NOT MOVE FROM CELL AQ1"]
[null,null,null,null,null,null,null,null,null,null,null,null,null,null,null,null,"Number of categories:",10,"<---DO NOT MOVE FROM CELL R2",null,null,null,0,"<---do not change ('scanloop' number of returns)",null,1,"Bulk Materials","Bulk Materials"]
[null,"Carbon Tool v2.6",null,"Project Details",null,null,null,null,null,null,null,null,null,null,null,null,"First cell:","AA25","<---DO NOT MOVE FROM CELL R3",null,null,null,null,null,null,2,"Earthworks","Earthworks"]
[null,null,"Contractor Name:",null,null,null,null,null,null,"Current live return:",null,null,null,{"$f":"work_out_display_name(T4)","v":"0 "},"2015 Jan - Mar","2015 Jan - Mar","First cell of data in each category return page:","A9","<---DO NOT MOVE FROM CELL R4",0,"<--- livereturn",null,"2025Q2","<---do not change (new return userform textbox 1 value)",null,3,"Fencing, Barriers & Road Restraint Systems","Fencing"]
[null,null,"Project / Contract Name:",null,null,null,null,null,null,"Total carbon this return (tonnes):",null,null,null,{"$f":"'Bulk Materials'!K5+Earthworks!K5+Fencing!K5+Drainage!K5+'Road Pavements'!K5+'Street Furniture'!K5+'Civils Structures'!K5+'Fuel and Energy'!K5+'Business Transport'!K5+Waste!K5","v":0},null,null,"Number of data columns in each category return page:",30,"<---DO NOT MOVE FROM CELL R5",null,null,null,202508,"<---do not change (new return userform textbox 2 value)",null,4,"Drainage","Drainage"]
[null,null,"Contract:",null,null,null,null,null,null,"Total carbon this contract (tonnes):",null,null,null,{"$f":"SUMIFS('Entity datastore'!M:M,'Entity datastore'!AJ:AJ,99991231,'Entity datastore'!AF:AF,\"<>2\")+SUMIFS('Entity datastore'!Z:Z,'Entity datastore'!AJ:AJ,99991231,'Entity datastore'!AF:AF,\"<>2\")","v":0},null,null,"Reinitialise status (0 = on worksheet open, 1 = return just added):",1,"<---DO NOT MOVE FROM CELL R6",null,null,null,null,null,null,5,"Road Pavements","Road Pavements"]
[null,null,"PCF Stage (MP):",1,null,null,null,null,null,"Last Update:",null,null,null,{"$f":"TEXT(DATE(MID(MAX('Entity datastore'!AK:AK),1,4),MID(MAX('Entity datastore'!AK:AK),5,2),MID(MAX('Entity datastore'!AK:AK),7,2)),\"dd mmm yyyy\")&\" at \"&MID(MAX('Entity datastore'!AK:AK),9,2)&\":\"&MID(MAX('Entity datastore'!AK:AK),11,2)","v":"28 Sep 2022 at 13:52"},null,null,"Column range used in entity datastore","A:AQ","<---DO NOT MOVE FROM CELL R7",null,null,null,null,null,null,6,"Street Furniture & Electrical Equipment","Street Furniture"]
[null,null,"3D model (Ops):",0,null,null,null,null,null,null,null,null,null,null,null,null,"If not the workbook is activated for the first time",0,"<---DO NOT MOVE FROM CELL R8",null,null,null,null,null,null,7,"Civils Structures & Retaining Walls","Civils Structures"]
[null,null,"Return Frequency:",null,null,null,null,null,null,null,null,null,null,"Input data into shaded cells",null,null,null,null,null,0,"<---Scoping question 'lock' status (1 = locked)",null,null,null,null,8,"Fuel, Energy & Water","Fuel and Energy",null,null,null,0]
[null,null,"Contract Location:",null,null,null,null,null,null,null,null,null,null,null,null,null,null,null,null,null,null,null,null,null,null,9,"Business and Employee Transport","Business Transport"]
[null,null,"Contract Activity:","Maintenance works",null,null,null,null,null,null,null,null,null,null,null,null,null,null,null,null,"is lane km numeric?",{"$f":"ISNUMBER(D13)","v":false},null,null,null,10,"Waste","Waste"]
[null,null,"Type of Construction:","New Road",null,null,null,null,null,null,null,null,null,null,null,null,null,null,null,null,"is start date a date?",{"$f":"date_check(D14)","v":1}]
[null,null,{"$f":"\"Lane km \"&IF(D11=\"Construction works\",\"Constructed:\",\"Maintained:\")","v":"Lane km Maintained:"},null,null,null,null,null,null,null,null,null,"Contract Start / End Dates must be in format dd/mm/yyyy",null,null,null,null,null,null,null,"is end date a date?",{"$f":"date_check(D15)","v":1},{"$f":"V12+V13","v":2}]
[null,null,"Contract Start Date:",null,null,null,null,null,null,null,null,null,"Contract Value must be numeric, keep it as £0 when not applicable",null,null,null,null,null,null,null,"is contract value numeric?",{"$f":"ISNUMBER(D16)","v":true}]
[null,null,"Contract End Date:"]
[null,null,"Contract Value (£):",0]
[null,null,"Project Description:"]
[null,null,null,null,null,null,null,null,null,null,null,null,null,"(Project detail must be fixed before adding first return)"]
[]
[null,null,null,null,null,null,null,null,null,null,null,null,null,null,null,null,null,null,null,null,null,null,null,null,null,null,"On/off:",1,1,1,1,1,1,1,1,1,1]
[]
[null,null,null,null,null,null,null,null,null,null,null,null,null,null,null,null,null,null,null,null,null,null,null,null,null,null,"IF(SUM(ab25:ak25)>=SUM($ab$20:$ak$20),\"Complete\", IF(SUM(ab25:ak25)>0,\"Partially Complete\",\"Not Started\"))","IF(VLOOKUP($aa25,$aa:$ak,1,FALSE)=$aa25,IF(VLOOKUP($aa25,$aa:$ak,2,FALSE)=1,\"Complete\",\"-\"),\"-\")","IF(VLOOKUP($aa25,$aa:$ak,1,FALSE)=$aa25,IF(VLOOKUP($aa25,$aa:$ak,3,FALSE)=1,\"Complete\",\"-\"),\"-\")","IF(VLOOKUP($aa25,$aa:$ak,1,FALSE)=$aa25,IF(VLOOKUP($aa25,$aa:$ak,4,FALSE)=1,\"Complete\",\"-\"),\"-\")","IF(VLOOKUP($aa25,$aa:$ak,1,FALSE)=$aa25,IF(VLOOKUP($aa25,$aa:$ak,5,FALSE)=1,\"Complete\",\"-\"),\"-\")","IF(VLOOKUP($aa25,$aa:$ak,1,FALSE)=$aa25,IF(VLOOKUP($aa25,$aa:$ak,6,FALSE)=1,\"Complete\",\"-\"),\"-\")","IF(VLOOKUP($aa25,$aa:$ak,1,FALSE)=$aa25,IF(VLOOKUP($aa25,$aa:$ak,7,FALSE)=1,\"Complete\",\"-\"),\"-\")","IF(VLOOKUP($aa25,$aa:$ak,1,FALSE)=$aa25,IF(VLOOKUP($aa25,$aa:$ak,8,FALSE)=1,\"Complete\",\"-\"),\"-\")","IF(VLOOKUP($aa25,$aa:$ak,1,FALSE)=$aa25,IF(VLOOKUP($aa25,$aa:$ak,9,FALSE)=1,\"Complete\",\"-\"),\"-\")","IF(VLOOKUP($aa25,$aa:$ak,1,FALSE)=$aa25,IF(VLOOKUP($aa25,$aa:$ak,10,FALSE)=1,\"Complete\",\"-\"),\"-\")","IF(VLOOKUP($aa25,$aa:$ak,1,FALSE)=$aa25,IF(VLOOKUP($aa25,$aa:$ak,11,FALSE)=1,\"Complete\",\"-\"),\"-\")"]
[null,null,null,"Click a category to switch it on / off…",null,null,null,null,null,null,null,null,null,null,null,null,null,null,null,null,null,null,null,null,null,null,"IF(SUM(ab25:ak25)>=SUM($ab$20:$ak$20),\"Complete\", IF(SUM(ab25:ak25)>0,\"Partially Complete\",\"Not Started\"))","IF(VLOOKUP($aa25,$aa:$ak,1,FALSE)=$aa25,IF(VLOOKUP($aa25,$aa:$ak,2,FALSE)=1,\"Complete\",\"-\"),\"-\")","IF(VLOOKUP($aa25,$aa:$ak,1,FALSE)=$aa25,IF(VLOOKUP($aa25,$aa:$ak,3,FALSE)=1,\"Complete\",\"-\"),\"-\")","IF(VLOOKUP($aa25,$aa:$ak,1,FALSE)=$aa25,IF(VLOOKUP($aa25,$aa:$ak,4,FALSE)=1,\"Complete\",\"-\"),\"-\")","IF(VLOOKUP($aa25,$aa:$ak,1,FALSE)=$aa25,IF(VLOOKUP($aa25,$aa:$ak,5,FALSE)=1,\"Complete\",\"-\"),\"-\")","IF(VLOOKUP($aa25,$aa:$ak,1,FALSE)=$aa25,IF(VLOOKUP($aa25,$aa:$ak,6,FALSE)=1,\"Complete\",\"-\"),\"-\")","IF(VLOOKUP($aa25,$aa:$ak,1,FALSE)=$aa25,IF(VLOOKUP($aa25,$aa:$ak,7,FALSE)=1,\"Complete\",\"-\"),\"-\")","IF(VLOOKUP($aa25,$aa:$ak,1,FALSE)=$aa25,IF(VLOOKUP($aa25,$aa:$ak,8,FALSE)=1,\"Complete\",\"-\"),\"-\")","IF(VLOOKUP($aa25,$aa:$ak,1,FALSE)=$aa25,IF(VLOOKUP($aa25,$aa:$ak,9,FALSE)=1,\"Complete\",\"-\"),\"-\")","IF(VLOOKUP($aa25,$aa:$ak,1,FALSE)=$aa25,IF(VLOOKUP($aa25,$aa:$ak,10,FALSE)=1,\"Complete\",\"-\"),\"-\")","IF(VLOOKUP($aa25,$aa:$ak,1,FALSE)=$aa25,IF(VLOOKUP($aa25,$aa:$ak,11,FALSE)=1,\"Complete\",\"-\"),\"-\")"]
[null,"Return Period","Return Status",{"$f":"IF(VLOOKUP($AA24,$AA:$AK,1,FALSE)=$AA24,IF(VLOOKUP($AA24,$AA:$AK,2,FALSE)=1,\"Complete\",\"-\"),\"-\")","v":"-"},{"$f":"IF(VLOOKUP($AA24,$AA:$AK,1,FALSE)=$AA24,IF(VLOOKUP($AA24,$AA:$AK,3,FALSE)=1,\"Complete\",\"-\"),\"-\")","v":"-"},{"$f":"IF(VLOOKUP($AA24,$AA:$AK,1,FALSE)=$AA24,IF(VLOOKUP($AA24,$AA:$AK,4,FALSE)=1,\"Complete\",\"-\"),\"-\")","v":"-"},{"$f":"IF(VLOOKUP($AA24,$AA:$AK,1,FALSE)=$AA24,IF(VLOOKUP($AA24,$AA:$AK,5,FALSE)=1,\"Complete\",\"-\"),\"-\")","v":"-"},{"$f":"IF(VLOOKUP($AA24,$AA:$AK,1,FALSE)=$AA24,IF(VLOOKUP($AA24,$AA:$AK,6,FALSE)=1,\"Complete\",\"-\"),\"-\")","v":"-"},{"$f":"IF(VLOOKUP($AA24,$AA:$AK,1,FALSE)=$AA24,IF(VLOOKUP($AA24,$AA:$AK,7,FALSE)=1,\"Complete\",\"-\"),\"-\")","v":"-"},{"$f":"IF(VLOOKUP($AA24,$AA:$AK,1,FALSE)=$AA24,IF(VLOOKUP($AA24,$AA:$AK,8,FALSE)=1,\"Complete\",\"-\"),\"-\")","v":"-"},{"$f":"IF(VLOOKUP($AA24,$AA:$AK,1,FALSE)=$AA24,IF(VLOOKUP($AA24,$AA:$AK,9,FALSE)=1,\"Complete\",\"-\"),\"-\")","v":"-"},{"$f":"IF(VLOOKUP($AA24,$AA:$AK,1,FALSE)=$AA24,IF(VLOOKUP($AA24,$AA:$AK,10,FALSE)=1,\"Complete\",\"-\"),\"-\")","v":"-"},{"$f":"IF(VLOOKUP($AA24,$AA:$AK,1,FALSE)=$AA24,IF(VLOOKUP($AA24,$AA:$AK,11,FALSE)=1,\"Complete\",\"-\"),\"-\")","v":"-"},"Options",null,null,"Estimated spend in return period (£)",null,null,null,null,null,null,null,null,null,"Period","Cat 1","Cat 2","Cat 3","Cat 4","Cat 5","Cat 6","Cat 7","Cat 8","Cat 9","Cat 10","shadow sort val","last update","£ spend"]
[null,null,null,null,null,null,null,null,null,null,null,null,null,null,null,null,null,null,"Area 4 - Kent, Surrey, East Sussex, West Sussex"]
[null,null,null,null,null,null,null,null,null,null,null,null,null,null,null,null,null,null,"Area 5 - Essex, Cambs, Suffolk, Norfolk"]
[null,null,null,null,null,null,null,null,null,null,null,null,null,null,null,null,null,null,"Area 6 - Essex, Cambs, Suffolk, Norfolk"]
[null,null,null,null,null,null,null,null,null,null,null,null,null,null,null,null,null,null,"Area 7 - Leics, Notts, Lincs, Derbyshire"]
[null,null,null,null,null,null,null,null,null,null,null,null,null,null,null,null,null,null,"Area 8 - Bucks, Herts, Beds, Essex, Cambs, Northants"]
[null,null,null,null,null,null,null,null,null,null,null,null,null,null,null,null,null,null,"Area 9 - Gloucs, Worcs, West Mids, Warwickshire, Staffs"]
[null,null,null,null,null,null,null,null,null,null,null,null,null,null,null,null,null,null,"Area 10 - Cheshire, Merseyside, Grt Manchester, South Lancs"]
[null,null,null,null,null,null,null,null,null,null,null,null,null,null,null,null,null,null,"Area 12 - Yorkshire, North Lincs"]
[null,null,null,null,null,null,null,null,null,null,null,null,null,null,null,null,null,null,"Area 13 - Cumbria, North Lancs"]
[null,null,null,null,null,null,null,null,null,null,null,null,null,null,null,null,null,null,"Area 14 - Northumberland, Tyne & Wear, Durham, North Yorks"]
[null,null,null,null,null,null,null,null,null,null,null,null,null,null,null,null,null,"What does the contract involve? (Select all that apply)","Design "]
[null,null,null,null,null,null,null,null,null,null,null,null,null,null,null,null,null,null,"Construction"]
[null,null,null,null,null,null,null,null,null,null,null,null,null,null,null,null,null,null,"Maintenance"]
[null,null,null,null,null,null,null,null,null,null,null,null,null,null,null,null,null,null,"Operation"]
[null,null,null,null,null,null,null,null,null,null,null,null,null,null,null,null,null,"If construction: What type of construction?","New Road"]
[null,null,null,null,null,null,null,null,null,null,null,null,null,null,null,null,null,null,"New Structure"]
[null,null,null,null,null,null,null,null,null,null,null,null,null,null,null,null,null,null,"New Road and Structure"]
[null,null,null,null,null,null,null,null,null,null,null,null,null,null,null,null,null,null,"Road Widening"]
[null,null,null,null,null,null,null,null,null,null,null,null,null,null,null,null,null,null,"Smart Motorway"]
[null,null,null,null,null,null,null,null,null,null,null,null,null,null,null,null,null,"What length of reporting period is this for?","Month"]
[null,null,null,null,null,null,null,null,null,null,null,null,null,null,null,null,null,null,"Quarter"]
[null,null,null,null,null,null,null,null,null,null,null,null,null,null,null,null,null,"If month: Select month","January"]
[null,null,null,null,null,null,null,null,null,null,null,null,null,null,null,null,null,null,"February"]
[null,null,null,null,null,null,null,null,null,null,null,null,null,null,null,null,null,null,"March"]
[null,null,null,null,null,null,null,null,null,null,null,null,null,null,null,null,null,null,"April"]
[null,null,null,null,null,null,null,null,null,null,null,null,null,null,null,null,null,null,"May"]
[null,null,null,null,null,null,null,null,null,null,null,null,null,null,null,null,null,null,"June"]
[null,null,null,null,null,null,null,null,null,null,null,null,null,null,null,null,null,null,"July"]
[null,null,null,null,null,null,null,null,null,null,null,null,null,null,null,null,null,null,"August"]
[null,null,null,null,null,null,null,null,null,null,null,null,null,null,null,null,null,null,"September"]
[null,null,null,null,null,null,null,null,null,null,null,null,null,null,null,null,null,null,"October"]
[null,null,null,null,null,null,null,null,null,null,null,null,null,null,null,null,null,null,"November"]
[null,null,null,null,null,null,null,null,null,null,null,null,null,null,null,null,null,null,"December"]
[null,null,null,null,null,null,null,null,null,null,null,null,null,null,null,null,null,"If quarter: Select quarter","Q1: April, May, June"]
[null,null,null,null,null,null,null,null,null,null,null,null,null,null,null,null,null,null,"Q2: July, August, September"]
[null,null,null,null,null,null,null,null,null,null,null,null,null,null,null,null,null,null,"Q3: October, November, December"]
[null,null,null,null,null,null,null,null,null,null,null,null,null,null,null,null,null,null,"Q4: January, February, March"]
[]
[null,null,null,null,null,null,null,null,null,null,null,null,null,null,null,null,null,"Scoping Questions"]
[null,null,null,null,null,null,null,null,null,null,null,null,null,null,null,null,null,"Question","Drop down list Options"]
[null,null,null,null,null,null,null,null,null,null,null,null,null,null,null,null,null,"Does the project involve fencing, barriers or road restraint systems?","Yes"]
[null,null,null,null,null,null,null,null,null,null,null,null,null,null,null,null,null,null,"No"]
[null,null,null,null,null,null,null,null,null,null,null,null,null,null,null,null,null,"Does the project involve drainage? ","Yes"]
[null,null,null,null,null,null,null,null,null,null,null,null,null,null,null,null,null,null,"No"]
[null,null,null,null,null,null,null,null,null,null,null,null,null,null,null,null,null,"Does the project involve earthworks?","Yes"]
[null,null,null,null,null,null,null,null,null,null,null,null,null,null,null,null,null,null,"No"]
[null,null,null,null,null,null,null,null,null,null,null,null,null,null,null,null,null,"Does the project involve road pavement?","Yes"]
[null,null,null,null,null,null,null,null,null,null,null,null,null,null,null,null,null,null,"No"]
[null,null,null,null,null,null,null,null,null,null,null,null,null,null,null,null,null,"Does the project involve street furniture or electrical equipment?","Yes"]
[null,null,null,null,null,null,null,null,null,null,null,null,null,null,null,null,null,null,"No"]
[null,null,null,null,null,null,null,null,null,null,null,null,null,null,null,null,null,"Does the project involve civil structures or retaining walls?","Yes"]
[null,null,null,null,null,null,null,null,null,null,null,null,null,null,null,null,null,null,"No"]

{"sheet":"Guidance","index":1,"n_rows":73,"n_cols":23,"rows_kept":73,"cut":false,"hidden":false,"merged":[[10,1,10,4],[14,1,14,17],[16,1,18,17],[20,1,22,17],[8,5,8,14],[9,5,9,14],[12,1,12,17],[0,0,0,18],[4,1,4,17],[2,1,2,17],[7,1,7,17],[3,1,3,3],[6,1,6,3],[5,1,5,18],[53,1,54,17],[57,1,57,17],[72,1,72,17],[56,1,56,4],[71,1,71,6],[55,1,55,17],[51,1,52,17],[49,1,49,17],[24,1,26,17],[28,1,31,17],[33,1,33,17],[35,1,39,17],[41,1,42,17],[44,1,47,17]]}
[]
[null,null,null,null,null,null,null,null,null,null,null,null,null,null,null,null,null,null,null,null,null,null,0]
[null,"Guidance for using the National Highways carbon tool"]
[null,"Introduction"]
[null,"Welcome to the National Highways carbon tool. National Highways is committed to net zero construction and maintenance carbon by 2040, as set out in our Net zero highways plan. This means we need to accurately monitor all of the greenhouse gases (measured as carbon equivalents (CO2e)) generated by building and maintaining the Strategic Road Network.\n\nAs one of our supply chain members, you shall complete the tool as accurately as possible for the entirety of the contract or project for which you are contracted for. Our carbon tool has been developed based on supply chain user feedback to improve the carbon reporting process, ensuring ease of use and accurate data."]
[null,"The data you input into this tool is known as your 'Carbon Return'. You must send your carbon returns to National Highways on a quarterly or monthly basis, depending on agreement with National Highways Project Managers. You shall read this guidance page (which should only take 10 minutes) to ensure you use the tool correctly. You shall also refer to the separate detailed guidance document as necessary when completing the tool. You shall use the same file for the entire length of your contract, so make sure you save it somewhere so that you can access it again for future returns."]
[null,"Tool Layout"]
[null,"The tool is centred around the 'Home Page'; from there you can create your 'Carbon Returns' by inputting the relevant carbon data for the given period. This period can be one month or one financial quarter (three months), whichever is more convenient for you. The tool allows you to save and resume a carbon return to allow data to be added as and when it becomes available. Once you have started or resumed your carbon return you will see a number of buttons appear at the top of the page. These will take you to the 10 data category pages where you shall input your data. See below for the data requirements."]
[null,null,null,null,null,"Cells in the tool that are formatted with this colour will require you to enter data."]
[null,null,null,null,null,"Cells in the tool that are formatted with this colour should not be edited"]
[null,"Step by Step Guide"]
[]
[null,"Step 1) Download the current version of the Carbon Tool from the National Highways website and save to local machine. Firstly, ensure the carbon tool is saved on your local computer drive. (Saving the tool on OneDrive can cause the tool to behave incorrectly or not work at all.) Please read the main Guidance Document before using the tool."]
[]
[null,"Step 2) Enable Macros. Next, you will need to enable macros/editing by pressing the 'Enable Content' or 'Enable Editing' button on the yellow banner at the top of this page. Once you have clicked this button, the banner should disappear and you can begin using the tool. "]
[]
[null,"Step 3) Project Details. Now that you have enabled macros, the buttons at the top of the page will work. These buttons will allow you to move between pages in this tool. After reading this guidance, begin your carbon return at the 'Home Page'. You shall enter the Project Details in the purple formatted cells. These questions can only be filled in once per contract/project and cannot be edited once you click 'Fix Project Details', which is required before you can submit your data to National Highways. This includes your as agreed choice of carbon return frequency, either monthly or quarterly."]
[]
[]
[]
[null,"Step 4) Create a Carbon Return. From the 'Home Page' you will need to click 'Add new return'. This will bring up a box where you will need to input the relevant year and month for the period you are reporting (this box may appear on another screen if using multiple monitors). This will then appear as a line in the table on the Home Page. The blue line around a carbon return shows which return you currently have loaded and active. Once you have created a carbon return, you can save and close the tool down, re-open it and continue to enter your data into the return at any time by clicking 'Resume'."]
[]
[]
[]
[null,"Switching categories off. If you know that your project or contract does not involve one of the 10 categories then you can ‘switch it off’ by clicking the category title in the table on the home page. Once you click the category it will turn the cells below that category grey, indicating that data is not required for this category in carbon returns you submit."]
[]
[]
[]
[null,"Step 5) Inputting data - Bulk Materials. Now that you have created a carbon return, you shall enter the data into each of the pages which are accessible from the second row of buttons at the top of the page. You shall start with the bulk materials page. For each material you need to add, click ‘standard carbon factor’ under the ‘add new row’ heading and enter the information required in the purple cells.  If you believe you have a more accurate or representative carbon factor than the one shown in the tool, you can click the ‘custom carbon factor’ button which will allow you to input your own carbon factor. More of the cells in the row turn purple, and you should enter information in to each of these, including the methodology as to where the factor came from and why it has been used.   "]
[]
[]
[]
[]
[null,"Step 6) Bulk Materials - Forecasting and Assigning to Other Categories. The Bulk Materials category works slightly differently to the other nine categories in the tool. It requires two extra steps as shown below. "]
[]
[null,"Assigning materials to the other categories\nYou will need to assign the percentage of materials you have entered in the bulk materials category to the other categories in the tool, using the best available information or estimation. You do not need to input these into each category separately. For example out of 100 tonnes of concrete delivered during a given period, 20% might have been for drainage, 30% for road pavements and 50% for structures. This data will then be carried over to the appropriate categories, so that you are reminded of the materials which you have already entered.\n\nSome items constructed on site do not appear as separate options in the tool. These are captured by assigning the bulk materials to the relevant category, for example, concrete elements made on site such as a slip formed concrete step barriers or in-situ concrete piles. "]
[]
[]
[]
[]
[]
[null,"Forecasting\nYou will need to forecast how much of the bulk materials you are likely to have delivered in the next reporting period. For example you may have had 137 tonnes of asphalt delivered during the current quarter/month and be expecting approximately 200 tonnes for the next month/quarter."]
[]
[]
[null,"Step 7) Complete the Carbon Return. When you have completed the Bulk Materials, repeat this process for Step 4 for each of the nine categories which are relevant to your project or contract. If the exact item you have is not available in the drop down list, choose the closest option available. For example if you a have a 475mm pipe and the tool only has 450mm pipe then choose this. Don't forget to record the mode of transport and the distance from your supplier to your site for each item.\n \nAs you complete each category, you should click the 'Mark page as complete' box at the top of the page and move onto the next category. When you have finished inputting your data, click the 'Home Page' button to return to the front screen. The carbon return you have just entered will now be marked as 'Complete' and highlighted as green. If it is not, check each of the categories again, making sure you have entered the necessary data and ticked each category as complete."]
[]
[]
[]
[]
[null,"Step 8) Save the Tool. Save the completed tool on your own computer and close the tool. A remidner that saving the tool on OneDrive can cause the tool to behave incorrectly or not work at all. The tool autosaves when it is closed but please re-open the tool and check each tab to ensure that the data has not gone missing."]
[]
[null,"Step 9)  Add your commentary. Please populate the commentary tab, selecting the correct return period and provide a narrative summary to justify your carbon emission totals. Electronic declaration signature is required to ensure assurance checks have been completed prior to submission to National Highways.\nNotes \nThe ‘commentary’ button can be found on the top right of the tool. You will need to select which carbon return you wish to add commentary about from the drop-down list, then enter text in the large grey cell. Once you have finished your commentary click ‘save’. This is your opportunity to tell us about any innovation or good practice you have employed to reduce carbon. For example, if you have reduced steel by leaving some in situ, or reduced employee travel by introducing a car share scheme. This commentary tab should also be used to provide narrative around why emissions are high or low. Commentary entered here will be exported and sent to National Highways"]
[]
[null,"Step 10) Create Export file and Email to National Highways.  Once you have finished inputting your data and returned to the Home Page, you should click the ‘Create export file’ button. This will generate an export file (which has a ‘.rct’ file extension) which you will automatically be saved into the same folder that the carbon tool is saved in. You need to email the export file and a copy of the carbon tool to us at the following address: carbon.reporting@nationalhighways.co.uk\nNotes\nThe export file will not open directly, National Highways will open the .rct file upon receipt.\n\n"]
[]
[null,"Step 11) Next Carbon Return. The next time you come to enter a new carbon return, please download a new version of the Carbon Tool from the National Highways website and repeat steps 3 to 10 for each month/quarter."]
[null,"Data Requirements"]
[null,"The tool requires data for energy, materials, transport and waste. These have been split into 10 categories. The diagram below summarises the data requirements of the tool and the carbon emission boundaries this captures. For more in depth explanation of the boundaries for data, please refer to the separate guidance document and E-learning training programme.\n\n"]
[]
[]
[]
[]
[]
[]
[]
[]
[]
[]
[]
[]
[]
[null,"Data Sources and Record Keeping"]
[null,"Where possible, you should enter actual data values into this tool using delivery notes, invoices, receipts, bills and waste transfer notes. You may be asked to take part in our verification process which will require you to keep hold of these data sources for the duration of the contract or project you are reporting for. This verification will be carried out periodically to check the accuracy and validity of the data National Highways collects. This will involve checking the data you are inputting into the tool and assisting you to improve the accuracy of your carbon returns where possible.   "]

{"sheet":"Summary Report","index":2,"n_rows":64,"n_cols":23,"rows_kept":64,"cut":false,"hidden":false,"merged":[[5,2,6,3],[8,2,9,3],[6,13,6,14],[5,1,6,1],[62,12,62,13],[58,12,58,13],[59,12,60,13],[61,12,61,13],[3,1,4,5],[3,6,4,16],[62,4,62,5],[39,2,41,6],[39,9,41,14],[55,10,55,11],[55,12,55,13],[5,13,5,14],[8,13,8,14],[9,13,9,14],[38,2,38,6],[56,10,56,11],[57,10,57,11],[55,2,55,3],[56,12,56,13],[57,12,57,13],[0,39,0,41],[56,15,57,16],[56,17,57,17],[56,18,57,18],[61,2,61,3],[60,2,60,3],[55,4,55,5],[56,4,56,5],[57,4,57,5],[58,4,58,5],[59,4,59,5],[60,4,60,5],[56,2,56,3],[57,2,57,3],[58,2,58,3],[59,2,59,3],[63,2,63,3],[61,4,61,5],[63,4,63,5],[58,10,58,11],[68,8,68,9],[62,2,62,3],[62,10,62,11],[59,10,60,11],[61,10,61,11]]}
[]
[null,null,null,null,null,null,null,null,null,null,null,null,null,null,null,null,null,null,null,null,null,null,3]
[]
[null,"Carbon Summary Report for -",null,null,null,null,{"$f":"'Home Page'!D4&\" - \"&'Home Page'!D5","v":" - "}]
[]
[null,"select: ",null,null,null,"Carbon dioxide equivalent emissions CO2e produced during the period:",null,null,null,null,null,null,null,{"$f":"IF(ISERROR(VLOOKUP(C6,Outputs!B8:C9999,2,FALSE)),\"\",VLOOKUP(C6,Outputs!B8:C9999,2,FALSE))","v":""},null," tonnes"]
[null,null,null,null,null,"Carbon dioxide equivalent emissions CO2e produced per £ spent this period:",null,null,null,null,null,null,null,{"$f":"IF(ISERROR(N6/VLOOKUP(C6,'Home Page'!B25:Q9994,16,FALSE)),\"\",N6/VLOOKUP(C6,'Home Page'!B25:Q9994,16,FALSE))","v":""},null," tonnes"]
[]
[null,null,"Total",null,null,"Total carbon dioxide equivalent emissions CO2e produced for this contract:",null,null,null,null,null,null,null,{"$f":"'Home Page'!N6","v":0},null," tonnes"]
[null,null,null,null,null,"Total carbon dioxide equivalent emissions CO2e produced per £ spent:",null,null,null,null,null,null,null,{"$f":"IF(ISERROR(N9/SUM('Home Page'!Q25:Q9994)),\"\",N9/SUM('Home Page'!Q25:Q9994))","v":""},null," tonnes"]
[]
[null,null,"The overall cumulative total emissions for this project are displayed below against a baseline value. "]
[]
[]
[]
[]
[]
[]
[]
[]
[]
[]
[]
[]
[]
[]
[]
[]
[]
[]
[]
[]
[]
[]
[]
[]
[]
[]
[null,null,"Materials ",null,null,null,null,null,null,"Materials, Transport, Energy and Waste Emissions "]
[null,null,"For this return, the  table and pie chart displayed below show the CO2e emissions associated with materials purchased for the contract. ",null,null,null,null,null,null,"For this return, this  table and pie chart  show the CO2e emissions associated with materials compared to materials transport, energy use, business and employee transport and waste"]
[]
[]
[]
[]
[]
[]
[]
[]
[]
[]
[]
[]
[]
[]
[]
[null,null,"Category ",null,"CO2e Emissions",null,null,null,null,null,"Category ",null,"CO2e Emissions"]
[null,null,"Fencing / RRS / barriers",null,{"$f":"IF(ISERROR('Chart data'!X13),\"\",'Chart data'!X13)","v":""},null,null,null,null,null,"Materials Total",null,{"$f":"IF(ISERROR('Chart data'!AF13),\"\",'Chart data'!AF13)","v":""}]
[null,null,"Drainage",null,{"$f":"IF(ISERROR('Chart data'!X14),\"\",'Chart data'!X14)","v":""},null,null,null,null,null,"Materials Transport",null,{"$f":"IF(ISERROR('Chart data'!AF14),\"\",'Chart data'!AF14)","v":""}]
[null,null,"Earthworks",null,{"$f":"IF(ISERROR('Chart data'!X15),\"\",'Chart data'!X15)","v":""},null,null,null,null,null,"Energy Use",null,{"$f":"IF(ISERROR('Chart data'!AF15),\"\",'Chart data'!AF15)","v":""}]
[null,null,"Pavements",null,{"$f":"IF(ISERROR('Chart data'!X16),\"\",'Chart data'!X16)","v":""},null,null,null,null,null,"Business and Employee transport",null,{"$f":"IF(ISERROR('Chart data'!AF16),\"\",'Chart data'!AF16)","v":""}]
[null,null,"Street furniture",null,{"$f":"IF(ISERROR('Chart data'!X17),\"\",'Chart data'!X17)","v":""}]
[null,null,"Civil Structures",null,{"$f":"IF(ISERROR('Chart data'!X18),\"\",'Chart data'!X18)","v":""},null,null,null,null,null,"Waste",null,{"$f":"IF(ISERROR('Chart data'!AF18),\"\",'Chart data'!AF18)","v":""}]
[null,null,"Bulk Materials",null,{"$f":"IF(ISERROR('Chart data'!X19),\"\",'Chart data'!X19)","v":""},null,null,null,null,null,"Total",null,{"$f":"SUM(M57:N62)","v":0}]
[null,null,"Total",null,{"$f":"SUM(E57:E63)","v":0}]

{"sheet":"Chart data","index":3,"n_rows":19,"n_cols":32,"rows_kept":19,"cut":false,"hidden":true,"merged":[[0,8,0,10]]}
[]
[]
[]
["chart_number_1",null,null,null,null,null,null,null,null,null,null,"chart_number_2"]
["NAME:",null,"=OFFSET('Chart data'!$c$8,0,0,COUNTA('Chart data'!$c$8:$c$9999),5)",null,null,null,null,null,null,null,null,"=OFFSET('Chart data'!$n$8,0,0,COUNTA('Chart data'!$n$8:$n$9999),5)"]
["FORMULAE:",null,{"$f":"IF(ISERROR(G6+C5),G6,G6+C5)","v":0},{"$f":"('Home Page'!$D$16/1000000)*152","v":0},{"$f":"('Home Page'!$D$16/1000000)*350","v":0},{"$f":"IF(ISERROR(D6+D5),D6,D6+D5)","v":0},{"$f":"Outputs!C6","v":0},null,null,null,null,{"$f":"Outputs!C6","v":0},{"$f":"IF(ISERROR(VLOOKUP(N6,'Home Page'!$B:$Q,16,FALSE)),0,VLOOKUP(N6,'Home Page'!$B:$Q,16,FALSE))","v":0},{"$f":"Outputs!B6","v":0},{"$f":"IF(ISERROR((L6/M6)),0,(L6/M6))*1000000","v":0},152,350,{"$f":"IF(ISERROR(C6/S6),0,(C6/S6))*1000000","v":0},{"$f":"IF(ISERROR(M6+S5),M6,M6+S5)","v":0}]
[null,null,"project to date","Lower benchmark","Upper Benchmark","running total baseline","Individual return",null,null,null,null,"Total","Spend","Return","CO2 per £","Lower Limit","Upper Limit","Project to date","Cumulative spend"]
[]
[]
[null,null,null,null,null,null,null,null,null,null,null,null,null,null,null,null,null,null,null,null,null,null,"Value pulled thru from Summary Report selector cell:",{"$f":"'Summary Report'!C6","v":0}]
[]
[]
[null,null,null,null,null,null,null,null,null,null,null,null,null,null,null,null,null,null,null,null,null,"Fencing/ RRS/ barriers",null,{"$f":"VLOOKUP(X10,Outputs!B8:X9999,8,FALSE)-VLOOKUP(X10,Outputs!B8:X9999,9,FALSE)","v":{"$error":"#N/A"}},null,null,null,"Materials Total",null,null,null,{"$f":"SUM(X13:X19)","v":{"$error":"#N/A"}}]
[null,null,null,null,null,null,null,null,null,null,null,null,null,null,null,null,null,null,null,null,null,"Drainage",null,{"$f":"VLOOKUP(X10,Outputs!B8:X9999,10,FALSE)-VLOOKUP(X10,Outputs!B8:X9999,11,FALSE)","v":{"$error":"#N/A"}},null,null,null,"Materials Transport",null,null,null,{"$f":"VLOOKUP(X10,Outputs!B8:X9999,5,FALSE)+VLOOKUP(X10,Outputs!B8:X9999,7,FALSE)+VLOOKUP(X10,Outputs!B8:X9999,9,FALSE)+VLOOKUP(X10,Outputs!B8:X9999,11,FALSE)+VLOOKUP(X10,Outputs!B8:X9999,13,FALSE)+VLOOKUP(X10,Outputs!B8:X9999,15,FALSE)+VLOOKUP(X10,Outputs!B8:X9999,17,FALSE)","v":{"$error":"#N/A"}}]
[null,null,null,null,null,null,null,null,null,null,null,null,null,null,null,null,null,null,null,null,null,"Earthworks",null,{"$f":"VLOOKUP(X10,Outputs!B8:X9999,6,FALSE)-VLOOKUP(X10,Outputs!B8:X9999,7,FALSE)","v":{"$error":"#N/A"}},null,null,null,"Energy Use",null,null,null,{"$f":"VLOOKUP(X10,Outputs!B8:X9999,18,FALSE)","v":{"$error":"#N/A"}}]
[null,null,null,null,null,null,null,null,null,null,null,null,null,null,null,null,null,null,null,null,null,"Pavements",null,{"$f":"VLOOKUP(X10,Outputs!B8:X9999,12,FALSE)-VLOOKUP(X10,Outputs!B8:X9999,13,FALSE)","v":{"$error":"#N/A"}},null,null,null,"Business and Employee transport",null,null,null,{"$f":"VLOOKUP(X10,Outputs!B8:X9999,20,FALSE)","v":{"$error":"#N/A"}}]
[null,null,null,null,null,null,null,null,null,null,null,null,null,null,null,null,null,null,null,null,null,"Street furniture",null,{"$f":"VLOOKUP(X10,Outputs!B8:X9999,14,FALSE)-VLOOKUP(X10,Outputs!B8:X9999,15,FALSE)","v":{"$error":"#N/A"}}]
[null,null,null,null,null,null,null,null,null,null,null,null,null,null,null,null,null,null,null,null,null,"Civil Structures",null,{"$f":"VLOOKUP(X10,Outputs!B8:X9999,16,FALSE)-VLOOKUP(X10,Outputs!B8:X9999,17,FALSE)","v":{"$error":"#N/A"}},null,null,null,"waste",null,null,null,{"$f":"VLOOKUP(X10,Outputs!B8:X9999,22,FALSE)","v":{"$error":"#N/A"}}]
[null,null,null,null,null,null,null,null,null,null,null,null,null,null,null,null,null,null,null,null,null,"Bulk Materials",null,{"$f":"VLOOKUP(X10,Outputs!B8:X9999,4,FALSE)-VLOOKUP(X10,Outputs!B8:X9999,5,FALSE)","v":{"$error":"#N/A"}}]

{"sheet":"Outputs","index":4,"n_rows":10,"n_cols":24,"rows_kept":10,"cut":false,"hidden":false,"merged":[[4,23,5,23],[4,4,5,4],[4,3,5,3],[4,5,5,5],[4,9,5,9],[4,11,5,11],[4,17,5,17],[4,19,5,19],[4,21,5,21],[0,21,0,22],[0,31,0,33],[4,1,5,1],[4,2,5,2],[4,12,5,12],[4,14,5,14],[4,16,5,16],[4,18,5,18],[4,20,5,20],[4,22,5,22],[4,8,5,8],[4,10,5,10],[4,6,5,6],[4,7,5,7],[4,13,5,13],[4,15,5,15]]}
[]
[]
[null,"Output Summary"]
[null,null,{"$f":"E4+I4+K4+G4+M4+O4+Q4+S4+U4+W4","v":0},{"$f":"F4+J4+L4+H4+N4+P4+R4+T4+V4+X4","v":0},{"$f":"SUMIFS('Entity datastore'!$M:$M,'Entity datastore'!$AJ:$AJ,99991231,'Entity datastore'!$A:$A,$A4,'Entity datastore'!$C:$C,E$5,'Entity datastore'!$B:$B,\"<>Bulk Materials\")+SUMIFS('Entity datastore'!$Z:$Z,'Entity datastore'!$AJ:$AJ,99991231,'Entity datastore'!$A:$A,$A4,'Entity datastore'!$C:$C,E$5,'Entity datastore'!$B:$B,\"<>Bulk Materials\")","v":0},{"$f":"SUMIFS('Entity datastore'!$Z:$Z,'Entity datastore'!$AJ:$AJ,99991231,'Entity datastore'!$A:$A,$A4,'Entity datastore'!$C:$C,E$5,'Entity datastore'!$B:$B,\"<>Bulk Materials\")","v":0},{"$f":"SUMIFS('Entity datastore'!$M:$M,'Entity datastore'!$AJ:$AJ,99991231,'Entity datastore'!$A:$A,$A4,'Entity datastore'!$C:$C,G$5,'Entity datastore'!$B:$B,\"<>Bulk Materials\")+SUMIFS('Entity datastore'!$Z:$Z,'Entity datastore'!$AJ:$AJ,99991231,'Entity datastore'!$A:$A,$A4,'Entity datastore'!$C:$C,G$5,'Entity datastore'!$B:$B,\"<>Bulk Materials\")","v":0},{"$f":"SUMIFS('Entity datastore'!$Z:$Z,'Entity datastore'!$AJ:$AJ,99991231,'Entity datastore'!$A:$A,$A4,'Entity datastore'!$C:$C,G$5,'Entity datastore'!$B:$B,\"<>Bulk Materials\")","v":0},{"$f":"SUMIFS('Entity datastore'!$M:$M,'Entity datastore'!$AJ:$AJ,99991231,'Entity datastore'!$A:$A,$A4,'Entity datastore'!$C:$C,I$5,'Entity datastore'!$B:$B,\"<>Bulk Materials\")+SUMIFS('Entity datastore'!$Z:$Z,'Entity datastore'!$AJ:$AJ,99991231,'Entity datastore'!$A:$A,$A4,'Entity datastore'!$C:$C,I$5,'Entity datastore'!$B:$B,\"<>Bulk Materials\")","v":0},{"$f":"SUMIFS('Entity datastore'!$Z:$Z,'Entity datastore'!$AJ:$AJ,99991231,'Entity datastore'!$A:$A,$A4,'Entity datastore'!$C:$C,I$5,'Entity datastore'!$B:$B,\"<>Bulk Materials\")","v":0},{"$f":"SUMIFS('Entity datastore'!$M:$M,'Entity datastore'!$AJ:$AJ,99991231,'Entity datastore'!$A:$A,$A4,'Entity datastore'!$C:$C,K$5,'Entity datastore'!$B:$B,\"<>Bulk Materials\")+SUMIFS('Entity datastore'!$Z:$Z,'Entity datastore'!$AJ:$AJ,99991231,'Entity datastore'!$A:$A,$A4,'Entity datastore'!$C:$C,K$5,'Entity datastore'!$B:$B,\"<>Bulk Materials\")","v":0},{"$f":"SUMIFS('Entity datastore'!$Z:$Z,'Entity datastore'!$AJ:$AJ,99991231,'Entity datastore'!$A:$A,$A4,'Entity datastore'!$C:$C,K$5,'Entity datastore'!$B:$B,\"<>Bulk Materials\")","v":0},{"$f":"SUMIFS('Entity datastore'!$M:$M,'Entity datastore'!$AJ:$AJ,99991231,'Entity datastore'!$A:$A,$A4,'Entity datastore'!$C:$C,M$5,'Entity datastore'!$B:$B,\"<>Bulk Materials\")+SUMIFS('Entity datastore'!$Z:$Z,'Entity datastore'!$AJ:$AJ,99991231,'Entity datastore'!$A:$A,$A4,'Entity datastore'!$C:$C,M$5,'Entity datastore'!$B:$B,\"<>Bulk Materials\")","v":0},{"$f":"SUMIFS('Entity datastore'!$Z:$Z,'Entity datastore'!$AJ:$AJ,99991231,'Entity datastore'!$A:$A,$A4,'Entity datastore'!$C:$C,M$5,'Entity datastore'!$B:$B,\"<>Bulk Materials\")","v":0},{"$f":"SUMIFS('Entity datastore'!$M:$M,'Entity datastore'!$AJ:$AJ,99991231,'Entity datastore'!$A:$A,$A4,'Entity datastore'!$C:$C,O$5,'Entity datastore'!$B:$B,\"<>Bulk Materials\")+SUMIFS('Entity datastore'!$Z:$Z,'Entity datastore'!$AJ:$AJ,99991231,'Entity datastore'!$A:$A,$A4,'Entity datastore'!$C:$C,O$5,'Entity datastore'!$B:$B,\"<>Bulk Materials\")","v":0},{"$f":"SUMIFS('Entity datastore'!$Z:$Z,'Entity datastore'!$AJ:$AJ,99991231,'Entity datastore'!$A:$A,$A4,'Entity datastore'!$C:$C,O$5,'Entity datastore'!$B:$B,\"<>Bulk Materials\")","v":0},{"$f":"SUMIFS('Entity datastore'!$M:$M,'Entity datastore'!$AJ:$AJ,99991231,'Entity datastore'!$A:$A,$A4,'Entity datastore'!$C:$C,Q$5,'Entity datastore'!$B:$B,\"<>Bulk Materials\")+SUMIFS('Entity datastore'!$Z:$Z,'Entity datastore'!$AJ:$AJ,99991231,'Entity datastore'!$A:$A,$A4,'Entity datastore'!$C:$C,Q$5,'Entity datastore'!$B:$B,\"<>Bulk Materials\")","v":0},{"$f":"SUMIFS('Entity datastore'!$Z:$Z,'Entity datastore'!$AJ:$AJ,99991231,'Entity datastore'!$A:$A,$A4,'Entity datastore'!$C:$C,Q$5,'Entity datastore'!$B:$B,\"<>Bulk Materials\")","v":0},{"$f":"SUMIFS('Entity datastore'!$M:$M,'Entity datastore'!$AJ:$AJ,99991231,'Entity datastore'!$A:$A,$A4,'Entity datastore'!$C:$C,S$5,'Entity datastore'!$B:$B,\"<>Bulk Materials\")+SUMIFS('Entity datastore'!$Z:$Z,'Entity datastore'!$AJ:$AJ,99991231,'Entity datastore'!$A:$A,$A4,'Entity datastore'!$C:$C,S$5,'Entity datastore'!$B:$B,\"<>Bulk Materials\")","v":0},{"$f":"SUMIFS('Entity datastore'!$Z:$Z,'Entity datastore'!$AJ:$AJ,99991231,'Entity datastore'!$A:$A,$A4,'Entity datastore'!$C:$C,S$5,'Entity datastore'!$B:$B,\"<>Bulk Materials\")","v":0},{"$f":"SUMIFS('Entity datastore'!$M:$M,'Entity datastore'!$AJ:$AJ,99991231,'Entity datastore'!$A:$A,$A4,'Entity datastore'!$C:$C,U$5,'Entity datastore'!$B:$B,\"<>Bulk Materials\")+SUMIFS('Entity datastore'!$Z:$Z,'Entity datastore'!$AJ:$AJ,99991231,'Entity datastore'!$A:$A,$A4,'Entity datastore'!$C:$C,U$5,'Entity datastore'!$B:$B,\"<>Bulk Materials\")","v":0},{"$f":"SUMIFS('Entity datastore'!$Z:$Z,'Entity datastore'!$AJ:$AJ,99991231,'Entity datastore'!$A:$A,$A4,'Entity datastore'!$C:$C,U$5,'Entity datastore'!$B:$B,\"<>Bulk Materials\")","v":0},{"$f":"SUMIFS('Entity datastore'!$M:$M,'Entity datastore'!$AJ:$AJ,99991231,'Entity datastore'!$A:$A,$A4,'Entity datastore'!$C:$C,W$5,'Entity datastore'!$B:$B,\"<>Bulk Materials\")+SUMIFS('Entity datastore'!$Z:$Z,'Entity datastore'!$AJ:$AJ,99991231,'Entity datastore'!$A:$A,$A4,'Entity datastore'!$C:$C,W$5,'Entity datastore'!$B:$B,\"<>Bulk Materials\")","v":0},{"$f":"SUMIFS('Entity datastore'!$Z:$Z,'Entity datastore'!$AJ:$AJ,99991231,'Entity datastore'!$A:$A,$A4,'Entity datastore'!$C:$C,W$5,'Entity datastore'!$B:$B,\"<>Bulk Materials\")","v":0}]
[null,"Return","Total","(of which Transport)","Bulk Materials","(of which Transport)","Earthworks","(of which Transport)","Fencing, Barriers & Road Restraint Systems","(of which Transport)","Drainage","(of which Transport)","Road Pavements","(of which Transport)","Street Furniture & Electrical Equipment","(of which Transport)","Civils Structures & Retaining Walls","(of which Transport)","Fuel, Energy & Water","(of which Transport)","Business and Employee Transport","(of which Transport)","Waste","(of which Transport)"]
[]
[null,"Total all returns",{"$f":"SUM(C8:C10000)","v":0},0,{"$f":"SUM(E8:E10000)","v":0},0,{"$f":"SUM(G8:G10000)","v":0},{"$f":"SUM(H8:H10000)","v":0},0,0,0,0,{"$f":"SUM(M8:M10005)","v":0},{"$f":"SUM(N8:N10000)","v":0},0,0,0,0,0,0,0,0,0,0]
[{"$f":"'Home Page'!#REF!","v":{"$error":"#REF!"}}]
[{"$f":"'Home Page'!#REF!","v":{"$error":"#REF!"}}]
[{"$f":"'Home Page'!#REF!","v":{"$error":"#REF!"}}]

{"sheet":"Entity datastore","index":5,"n_rows":84,"n_cols":37,"rows_kept":84,"cut":false,"hidden":true,"merged":[]}
["Period",null,"Category","Item","Type","Unit","Material Type","This Return Quantity","Next Return Quantity Forecast","Carbon Factor Value","Carbon Factor Unit","Conver\n-sion Factor","This Return tCO2e","Methodology",null,"Not Allocated %","Fencing\n%","Drainage\n%","Road Pavements %","Civils Structures %","Waste\n%",null,"Transport mode","Transport distance value (km)","Carbon Factor (tCO2e/t.km)","This Return tCO2e",null,"Next Return Quantity Forecast",null,null,null,null,null,null,"rec_acdt","rec_edt","rec_ts"]
[202208,null,"Fuel, Energy & Water","Site offices, site vehicles and plant energy ","Biodiesel","Litres","Energy and Fuel",null,null,0.53083999999999998,"kgCO2e/l",1E-3,"","Carbon factor taken from Government Carbon Factors 2022. Bioenergy > Biodiesel. Includes all well to tank emissions. Biogenic content of biofuels is classed as out of scopes.",0,null,null,null,null,null,null,null,null,null,"","",null,null,null,null,null,0,2,null,20220914,20220914,20220914154340]
[202208,null,"Fuel, Energy & Water","Site offices, site vehicles and plant energy ","Biodiesel","Litres","Energy and Fuel",null,null,0.53083999999999998,"kgCO2e/l",1E-3,"","Carbon factor taken from Government Carbon Factors 2022. Bioenergy > Biodiesel. Includes all well to tank emissions. Biogenic content of biofuels is classed as out of scopes.",0,null,null,null,null,null,null,null,null,null,"","",null,null,null,null,null,0,2,null,20220914,20220914,20220914154608]
[202208,null,"Fuel, Energy & Water","Site offices, site vehicles and plant energy ","Biodiesel","Litres","Energy and Fuel",null,null,0.53083999999999998,"kgCO2e/l",1E-3,"","Carbon factor taken from Government Carbon Factors 2022. Bioenergy > Biodiesel. Includes all well to tank emissions. Biogenic content of biofuels is classed as out of scopes.",0,null,null,null,null,null,null,null,null,null,"","",null,null,null,null,null,0,2,null,20220914,20220914,20220914154850]
[202208,null,"Fuel, Energy & Water","Site offices, site vehicles and plant energy ","Biodiesel","Litres","Energy and Fuel",null,null,0.53083999999999998,"kgCO2e/l",1E-3,"","Carbon factor taken from Government Carbon Factors 2022. Bioenergy > Biodiesel. Includes all well to tank emissions. Biogenic content of biofuels is classed as out of scopes.",0,null,null,null,null,null,null,null,null,null,"","",null,null,null,null,null,0,2,null,20220914,20220915,20220914154851]
[202208,null,"Fuel, Energy & Water","Site offices, site vehicles and plant energy ","Gas Oil (red diesel)","Litres","Energy and Fuel",null,null,3.3911000000000002,"kgCO2e/l",1E-3,"","Carbon factor taken from Government Carbon Factors 2022. Fuel > Gas Oil. Includes all well to tank emissions.",0,null,null,null,null,null,null,null,null,null,"","",null,null,null,null,null,0,2,null,20220915,20220915,20220915111203]
[202208,null,"Business and Employee Transport","Other transport",null,"","",null,null,"","","","","",0,null,null,null,null,null,null,null,null,null,"","",null,null,null,null,null,0,1,null,20220915,20220915,20220915111203]
[202208,null,"Fuel, Energy & Water","Site offices, site vehicles and plant energy ","Gas Oil (red diesel)","Litres","Energy and Fuel",null,null,3.3911000000000002,"kgCO2e/l",1E-3,"","Carbon factor taken from Government Carbon Factors 2022. Fuel > Gas Oil. Includes all well to tank emissions.",0,null,null,null,null,null,null,null,null,null,"","",null,null,null,null,null,0,2,null,20220915,20220915,20220915112519]
[202208,null,"Business and Employee Transport","Other transport",null,"","",null,null,"","","","","",0,null,null,null,null,null,null,null,null,null,"","",null,null,null,null,null,0,1,null,20220915,20220915,20220915112519]
[202208,null,"Fuel, Energy & Water","Site offices, site vehicles and plant energy ","Biodiesel","Litres","Energy and Fuel",null,null,0.53083999999999998,"kgCO2e/l",1E-3,"","Carbon factor taken from Government Carbon Factors 2022. Bioenergy > Biodiesel. Includes all well to tank emissions. Biogenic content of biofuels is classed as out of scopes.",0,null,null,null,null,null,null,null,null,null,"","",null,null,null,null,null,0,2,null,20220915,20220915,20220915134845]
[202208,null,"Business and Employee Transport","Other transport","Car (electric)","km","Transport",null,null,3.9523333333333334E-2,"kgCO2e/km",1E-3,"","Carbon factor taken directly from Government Carbon Factors 2022: Business Travel > Cars > Average Battery Electric",0,null,null,null,null,null,null,null,null,null,"","",null,null,null,null,null,0,2,null,20220915,20220915,20220915134845]
[202208,null,"Fuel, Energy & Water","Site offices, site vehicles and plant energy ","Petrol","Litres","Energy and Fuel",null,null,2.7751300000000003,"kgCO2e/l",1E-3,"","Carbon factor taken from Government Carbon Factors 2022. Fuel > Petrol (average blend). Includes all well to tank emissions.",0,null,null,null,null,null,null,null,"Van",null,5.2091499999999994E-4,"",null,null,null,null,null,0,3,null,20220916,20220916,20220916125528]
[202208,null,"Waste","Wood/Timber","Composting","tonnes","Waste",null,null,8.9105813953488395E-3,"tCO2e/t",1,"","Carbon factor taken directly from Government Carbon Factors 2022. Waste disposal > Construction > Wood",0,null,null,null,null,null,null,null,null,null,"","",null,null,null,null,null,0,2,null,20220916,20220916,20220916125528]
[202208,null,"Waste","Glass","Incineration (with energy recovery)","tonnes","Waste",null,null,2.1280193798449601E-2,"tCO2e/t",1,"","Carbon factor taken directly from Government Carbon Factors 2022. Waste disposal > Other > Glass",0,null,null,null,null,null,null,null,null,null,"","",null,null,null,null,null,0,2,null,20220916,20220916,20220916125528]
[202208,null,"Fuel, Energy & Water","Site offices, site vehicles and plant energy ","Petrol","Litres","Energy and Fuel",null,null,2.7751300000000003,"kgCO2e/l",1E-3,"","Carbon factor taken from Government Carbon Factors 2022. Fuel > Petrol (average blend). Includes all well to tank emissions.",0,null,null,null,null,null,null,null,"Van",null,5.2091499999999994E-4,"",null,null,null,null,null,0,3,null,20220916,20220916,20220916125531]
[202208,null,"Waste","Wood/Timber","Composting","tonnes","Waste",null,null,8.9105813953488395E-3,"tCO2e/t",1,"","Carbon factor taken directly from Government Carbon Factors 2022. Waste disposal > Construction > Wood",0,null,null,null,null,null,null,null,null,null,"","",null,null,null,null,null,0,2,null,20220916,20220916,20220916125531]
[202208,null,"Waste","Glass","Incineration (with energy recovery)","tonnes","Waste",null,null,2.1280193798449601E-2,"tCO2e/t",1,"","Carbon factor taken directly from Government Carbon Factors 2022. Waste disposal > Other > Glass",0,null,null,null,null,null,null,null,null,null,"","",null,null,null,null,null,0,2,null,20220916,20220916,20220916125531]
[202208,null,"Fuel, Energy & Water","Site offices, site vehicles and plant energy ","Petrol","Litres","Energy and Fuel",null,null,2.7751300000000003,"kgCO2e/l",1E-3,"","Carbon factor taken from Government Carbon Factors 2022. Fuel > Petrol (average blend). Includes all well to tank emissions.",0,null,null,null,null,null,null,null,"Van",null,5.2091499999999994E-4,"",null,null,null,null,null,0,3,null,20220916,20220916,20220916125539]
[202208,null,"Waste","Wood/Timber","Composting","tonnes","Waste",null,null,8.9105813953488395E-3,"tCO2e/t",1,"","Carbon factor taken directly from Government Carbon Factors 2022. Waste disposal > Construction > Wood",0,null,null,null,null,null,null,null,null,null,"","",null,null,null,null,null,0,2,null,20220916,20220916,20220916125539]
[202208,null,"Waste","Glass","Incineration (with energy recovery)","tonnes","Waste",null,null,2.1280193798449601E-2,"tCO2e/t",1,"","Carbon factor taken directly from Government Carbon Factors 2022. Waste disposal > Other > Glass",0,null,null,null,null,null,null,null,null,null,"","",null,null,null,null,null,0,2,null,20220916,20220916,20220916125539]
[202208,null,"Fuel, Energy & Water","Site offices, site vehicles and plant energy ","Petrol","Litres","Energy and Fuel",null,null,2.7751300000000003,"kgCO2e/l",1E-3,"","Carbon factor taken from Government Carbon Factors 2022. Fuel > Petrol (average blend). Includes all well to tank emissions.",0,null,null,null,null,null,null,null,"Van",null,5.2091499999999994E-4,"",null,null,null,null,null,0,3,null,20220916,20220916,20220916125542]
[202208,null,"Waste","Wood/Timber","Composting","tonnes","Waste",null,null,8.9105813953488395E-3,"tCO2e/t",1,"","Carbon factor taken directly from Government Carbon Factors 2022. Waste disposal > Construction > Wood",0,null,null,null,null,null,null,null,null,null,"","",null,null,null,null,null,0,2,null,20220916,20220916,20220916125542]
[202208,null,"Waste","Glass","Incineration (with energy recovery)","tonnes","Waste",null,null,2.1280193798449601E-2,"tCO2e/t",1,"","Carbon factor taken directly from Government Carbon Factors 2022. Waste disposal > Other > Glass",0,null,null,null,null,null,null,null,null,null,"","",null,null,null,null,null,0,2,null,20220916,20220916,20220916125542]
[202208,null,"Fuel, Energy & Water","Site offices, site vehicles and plant energy ","Petrol","Litres","Energy and Fuel",null,null,2.7751300000000003,"kgCO2e/l",1E-3,"","Carbon factor taken from Government Carbon Factors 2022. Fuel > Petrol (average blend). Includes all well to tank emissions.",0,null,null,null,null,null,null,null,"Van",null,5.2091499999999994E-4,"",null,null,null,null,null,0,3,null,20220916,20220916,20220916125543]
[202208,null,"Waste","Wood/Timber","Composting","tonnes","Waste",null,null,8.9105813953488395E-3,"tCO2e/t",1,"","Carbon factor taken directly from Government Carbon Factors 2022. Waste disposal > Construction > Wood",0,null,null,null,null,null,null,null,null,null,"","",null,null,null,null,null,0,2,null,20220916,20220916,20220916125543]
[202208,null,"Waste","Glass","Incineration (with energy recovery)","tonnes","Waste",null,null,2.1280193798449601E-2,"tCO2e/t",1,"","Carbon factor taken directly from Government Carbon Factors 2022. Waste disposal > Other > Glass",0,null,null,null,null,null,null,null,null,null,"","",null,null,null,null,null,0,2,null,20220916,20220916,20220916125543]
[202208,null,"Fuel, Energy & Water","Site offices, site vehicles and plant energy ","Petrol","Litres","Energy and Fuel",null,null,2.7751300000000003,"kgCO2e/l",1E-3,"","Carbon factor taken from Government Carbon Factors 2022. Fuel > Petrol (average blend). Includes all well to tank emissions.",0,null,null,null,null,null,null,null,"Van",null,5.2091499999999994E-4,"",null,null,null,null,null,0,3,null,20220916,20220916,20220916130034]
[202208,null,"Waste","Wood/Timber","Composting","tonnes","Waste",null,null,8.9105813953488395E-3,"tCO2e/t",1,"","Carbon factor taken directly from Government Carbon Factors 2022. Waste disposal > Construction > Wood",0,null,null,null,null,null,null,null,null,null,"","",null,null,null,null,null,0,2,null,20220916,20220916,20220916130034]
[202208,null,"Waste","Glass","Incineration (with energy recovery)","tonnes","Waste",null,null,2.1280193798449601E-2,"tCO2e/t",1,"","Carbon factor taken directly from Government Carbon Factors 2022. Waste disposal > Other > Glass",0,null,null,null,null,null,null,null,null,null,"","",null,null,null,null,null,0,2,null,20220916,20220916,20220916130034]
[202208,null,"Fuel, Energy & Water","Site offices, site vehicles and plant energy ","Petrol","Litres","Energy and Fuel",null,null,2.7751300000000003,"kgCO2e/l",1E-3,"","Carbon factor taken from Government Carbon Factors 2022. Fuel > Petrol (average blend). Includes all well to tank emissions.",0,null,null,null,null,null,null,null,"Van",null,5.2091499999999994E-4,"",null,null,null,null,null,0,3,null,20220916,20220916,20220916130035]
[202208,null,"Waste","Wood/Timber","Composting","tonnes","Waste",null,null,8.9105813953488395E-3,"tCO2e/t",1,"","Carbon factor taken directly from Government Carbon Factors 2022. Waste disposal > Construction > Wood",0,null,null,null,null,null,null,null,null,null,"","",null,null,null,null,null,0,2,null,20220916,20220916,20220916130035]
[202208,null,"Waste","Glass","Incineration (with energy recovery)","tonnes","Waste",null,null,2.1280193798449601E-2,"tCO2e/t",1,"","Carbon factor taken directly from Government Carbon Factors 2022. Waste disposal > Other > Glass",0,null,null,null,null,null,null,null,null,null,"","",null,null,null,null,null,0,2,null,20220916,20220916,20220916130035]
[202208,null,"Fuel, Energy & Water","Site offices, site vehicles and plant energy ","Petrol","Litres","Energy and Fuel",null,null,2.7751300000000003,"kgCO2e/l",1E-3,"","Carbon factor taken from Government Carbon Factors 2022. Fuel > Petrol (average blend). Includes all well to tank emissions.",0,null,null,null,null,null,null,null,"Van",null,5.2091499999999994E-4,"",null,null,null,null,null,0,3,null,20220916,20220916,20220916130037]
[202208,null,"Waste","Wood/Timber","Composting","tonnes","Waste",null,null,8.9105813953488395E-3,"tCO2e/t",1,"","Carbon factor taken directly from Government Carbon Factors 2022. Waste disposal > Construction > Wood",0,null,null,null,null,null,null,null,null,null,"","",null,null,null,null,null,0,2,null,20220916,20220916,20220916130037]
[202208,null,"Waste","Glass","Incineration (with energy recovery)","tonnes","Waste",null,null,2.1280193798449601E-2,"tCO2e/t",1,"","Carbon factor taken directly from Government Carbon Factors 2022. Waste disposal > Other > Glass",0,null,null,null,null,null,null,null,null,null,"","",null,null,null,null,null,0,2,null,20220916,20220916,20220916130037]
[202208,null,"Fuel, Energy & Water","Site offices, site vehicles and plant energy ","Petrol","Litres","Energy and Fuel",null,null,2.7751300000000003,"kgCO2e/l",1E-3,"","Carbon factor taken from Government Carbon Factors 2022. Fuel > Petrol (average blend). Includes all well to tank emissions.",0,null,null,null,null,null,null,null,"Van",null,5.2091499999999994E-4,"",null,null,null,null,null,0,3,null,20220916,20220916,20220916130818]
[202208,null,"Waste","Wood/Timber","Composting","tonnes","Waste",null,null,8.9105813953488395E-3,"tCO2e/t",1,"","Carbon factor taken directly from Government Carbon Factors 2022. Waste disposal > Construction > Wood",0,null,null,null,null,null,null,null,"Rail",null,1.3910000000000001E-5,"",null,null,null,null,null,0,3,null,20220916,20220916,20220916130818]
[202208,null,"Waste","Waste water",null,"","",null,null,"","","","","",0,null,null,null,null,null,null,null,"Van",null,5.2091499999999994E-4,"",null,null,null,null,null,0,2,null,20220916,20220916,20220916130818]
[202208,null,"Waste","Organic waste","Composting","tonnes","Waste",null,null,8.9105813953488395E-3,"tCO2e/t",1,"","Carbon factor taken directly from Government Carbon Factors 2022: Waste disposal > Organic garden waste > composting.",0,null,null,null,null,null,null,null,"Van",null,5.2091499999999994E-4,"",null,null,null,null,null,0,3,null,20220916,20220916,20220916130818]
[202208,null,"Waste",null,null,"","",null,null,"","","","","",0,null,null,null,null,null,null,null,"HGV",null,1.2278499999999999E-3,"",null,null,null,null,null,0,1,null,20220916,20220916,20220916130818]
[202208,null,"Fuel, Energy & Water","Site offices, site vehicles and plant energy ","Petrol","Litres","Energy and Fuel",null,null,2.7751300000000003,"kgCO2e/l",1E-3,"","Carbon factor taken from Government Carbon Factors 2022. Fuel > Petrol (average blend). Includes all well to tank emissions.",0,null,null,null,null,null,null,null,"Van",null,5.2091499999999994E-4,"",null,null,null,null,null,0,3,null,20220916,20220916,20220916130829]
[202208,null,"Waste","Wood/Timber","Composting","tonnes","Waste",null,null,8.9105813953488395E-3,"tCO2e/t",1,"","Carbon factor taken directly from Government Carbon Factors 2022. Waste disposal > Construction > Wood",0,null,null,null,null,null,null,null,"Rail",null,1.3910000000000001E-5,"",null,null,null,null,null,0,3,null,20220916,20220916,20220916130829]
[202208,null,"Waste","Waste water",null,"","",null,null,"","","","","",0,null,null,null,null,null,null,null,"Van",null,5.2091499999999994E-4,"",null,null,null,null,null,0,2,null,20220916,20220916,20220916130829]
[202208,null,"Waste","Organic waste","Composting","tonnes","Waste",null,null,8.9105813953488395E-3,"tCO2e/t",1,"","Carbon factor taken directly from Government Carbon Factors 2022: Waste disposal > Organic garden waste > composting.",0,null,null,null,null,null,null,null,"Van",null,5.2091499999999994E-4,"",null,null,null,null,null,0,3,null,20220916,20220916,20220916130829]
[202208,null,"Waste",null,null,"","",null,null,"","","","","",0,null,null,null,null,null,null,null,"HGV",null,1.2278499999999999E-3,"",null,null,null,null,null,0,1,null,20220916,20220916,20220916130829]
[202208,null,"Civils Structures & Retaining Walls","Formwork / Shuttering",null,"","",null,null,"","","","","",0,null,null,null,null,null,null,null,null,null,"","",null,null,null,null,null,0,1,null,20220927,20220927,20220927094636]
[202208,null,"Business and Employee Transport","Other transport","Van (average)","km","Transport",null,null,0.23099,"kgCO2e/km",1E-3,"","Carbon factor taken directly from Government Carbon Factors 2022: Freighting goods > Vans > Average Unknown",0,null,null,null,null,null,null,null,null,null,"","",null,null,null,null,null,0,2,null,20220927,20220927,20220927094636]
[202208,null,"Civils Structures & Retaining Walls","Formwork / Shuttering",null,"","",null,null,"","","","","",0,null,null,null,null,null,null,null,null,null,"","",null,null,null,null,null,0,1,null,20220927,20220927,20220927094806]
[202208,null,"Business and Employee Transport","Other transport","Van (average)","km","Transport",null,null,0.23099,"kgCO2e/km",1E-3,"","Carbon factor taken directly from Government Carbon Factors 2022: Freighting goods > Vans > Average Unknown",0,null,null,null,null,null,null,null,null,null,"","",null,null,null,null,null,0,2,null,20220927,20220927,20220927094806]
[202208,null,"Civils Structures & Retaining Walls","Formwork / Shuttering",null,"","",null,null,"","","","","",0,null,null,null,null,null,null,null,null,null,"","",null,null,null,null,null,0,1,null,20220927,20220927,20220927104010]
[202208,null,"Business and Employee Transport","Other transport","Van (average)","km","Transport",null,null,0.23099,"kgCO2e/km",1E-3,"","Carbon factor taken directly from Government Carbon Factors 2022: Freighting goods > Vans > Average Unknown",0,null,null,null,null,null,null,null,null,null,"","",null,null,null,null,null,0,2,null,20220927,20220927,20220927104010]
[202208,null,"Waste","Wood/Timber","Recycled","tonnes","Waste",null,null,2.1280193798449601E-2,"tCO2e/t",1,"","Carbon factor taken directly from Government Carbon Factors 2022. Waste disposal > Construction > Wood",0,null,null,null,null,null,null,null,null,null,"","",null,null,null,null,null,0,2,null,20220927,20220927,20220927104010]
[202208,null,"Civils Structures & Retaining Walls","Formwork / Shuttering",null,"","",null,null,"","","","","",0,null,null,null,null,null,null,null,null,null,"","",null,null,null,null,null,0,1,null,20220927,20220927,20220927104101]
[202208,null,"Business and Employee Transport","Other transport","Van (average)","km","Transport",null,null,0.23099,"kgCO2e/km",1E-3,"","Carbon factor taken directly from Government Carbon Factors 2022: Freighting goods > Vans > Average Unknown",0,null,null,null,null,null,null,null,null,null,"","",null,null,null,null,null,0,2,null,20220927,20220927,20220927104101]
[202208,null,"Waste","Wood/Timber","Recycled","tonnes","Waste",null,null,2.1280193798449601E-2,"tCO2e/t",1,"","Carbon factor taken directly from Government Carbon Factors 2022. Waste disposal > Construction > Wood",0,null,null,null,null,null,null,null,null,null,"","",null,null,null,null,null,0,2,null,20220927,20220927,20220927104101]
[202208,null,"Civils Structures & Retaining Walls","Formwork / Shuttering",null,"","",null,null,"","","","","",0,null,null,null,null,null,null,null,null,null,"","",null,null,null,null,null,0,1,null,20220927,20220927,20220927104224]
[202208,null,"Business and Employee Transport","Other transport","Van (average)","km","Transport",null,null,0.23099,"kgCO2e/km",1E-3,"","Carbon factor taken directly from Government Carbon Factors 2022: Freighting goods > Vans > Average Unknown",0,null,null,null,null,null,null,null,null,null,"","",null,null,null,null,null,0,2,null,20220927,20220927,20220927104224]
[202208,null,"Waste","Wood/Timber","Recycled","tonnes","Waste",null,null,2.1280193798449601E-2,"tCO2e/t",1,"","Carbon factor taken directly from Government Carbon Factors 2022. Waste disposal > Construction > Wood",0,null,null,null,null,null,null,null,null,null,"","",null,null,null,null,null,0,2,null,20220927,20220927,20220927104224]
[202208,null,"Civils Structures & Retaining Walls","Formwork / Shuttering",null,"","",null,null,"","","","","",0,null,null,null,null,null,null,null,null,null,"","",null,null,null,null,null,0,1,null,20220927,20220927,20220927104624]
[202208,null,"Business and Employee Transport","Other transport","Van (average)","km","Transport",null,null,0.23099,"kgCO2e/km",1E-3,"","Carbon factor taken directly from Government Carbon Factors 2022: Freighting goods > Vans > Average Unknown",0,null,null,null,null,null,null,null,null,null,"","",null,null,null,null,null,0,2,null,20220927,20220927,20220927104624]
[202208,null,"Waste","Wood/Timber","Recycled","tonnes","Waste",null,null,2.1280193798449601E-2,"tCO2e/t",1,"","Carbon factor taken directly from Government Carbon Factors 2022. Waste disposal > Construction > Wood",0,null,null,null,null,null,null,null,null,null,"","",null,null,null,null,null,0,2,null,20220927,20220927,20220927104624]
[202208,null,"Civils Structures & Retaining Walls","Formwork / Shuttering",null,"","",null,null,"","","","","",0,null,null,null,null,null,null,null,null,null,"","",null,null,null,null,null,0,1,null,20220927,20220927,20220927104633]
[202208,null,"Business and Employee Transport","Other transport","Van (average)","km","Transport",null,null,0.23099,"kgCO2e/km",1E-3,"","Carbon factor taken directly from Government Carbon Factors 2022: Freighting goods > Vans > Average Unknown",0,null,null,null,null,null,null,null,null,null,"","",null,null,null,null,null,0,2,null,20220927,20220927,20220927104633]
[202208,null,"Waste","Wood/Timber","Recycled","tonnes","Waste",null,null,2.1280193798449601E-2,"tCO2e/t",1,"","Carbon factor taken directly from Government Carbon Factors 2022. Waste disposal > Construction > Wood",0,null,null,null,null,null,null,null,null,null,"","",null,null,null,null,null,0,2,null,20220927,20220927,20220927104633]
[202208,null,"Fencing, Barriers & Road Restraint Systems","Paint or timber treatment","Water based paint","Litres","Paint",null,null,3.76,"tCO2e/t",1.1999999999999999E-3,"","Carbon factor taken from ICE V3: Paint > Solvent borne.  Conversion factor calculated from density of paint, 1.2kg/l.",0,null,null,null,null,null,null,null,null,null,"","",null,null,null,null,null,0,2,null,20220928,20220928,20220928112023]
[202208,null,"Civils Structures & Retaining Walls","Paint","General paint","Litres","Paint",null,null,3.76,"tCO2e/t",1.1999999999999999E-3,"","Carbon factor taken from ICE V3: Paint > Solvent borne.  Conversion factor calculated from density of paint, 1.2kg/l.",0,null,null,null,null,null,null,null,null,null,"","",null,null,null,null,null,0,2,null,20220928,20220928,20220928112023]
[202208,null,"Business and Employee Transport","Other transport","HGV (diesel, average laden)","km","Transport",null,null,0.89061000000000001,"kgCO2e/km",1E-3,"","Carbon factor taken directly from Government Carbon Factors 2022: Freighting goods > All HGVs > Average Laden",0,null,null,null,null,null,null,null,null,null,"","",null,null,null,null,null,0,2,null,20220928,20220928,20220928112023]
[202208,null,"Fencing, Barriers & Road Restraint Systems","Paint or timber treatment","Water based paint","Litres","Paint",null,null,3.76,"tCO2e/t",1.1999999999999999E-3,"","Carbon factor taken from ICE V3: Paint > Solvent borne.  Conversion factor calculated from density of paint, 1.2kg/l.",0,null,null,null,null,null,null,null,null,null,"","",null,null,null,null,null,0,2,null,20220928,20220928,20220928130610]
[202208,null,"Civils Structures & Retaining Walls","Paint","General paint","Litres","Paint",null,null,3.76,"tCO2e/t",1.1999999999999999E-3,"","Carbon factor taken from ICE V3: Paint > Solvent borne.  Conversion factor calculated from density of paint, 1.2kg/l.",0,null,null,null,null,null,null,null,null,null,"","",null,null,null,null,null,0,2,null,20220928,20220928,20220928130610]
[202208,null,"Business and Employee Transport","Other transport","Van (electric)","km","Transport",null,null,4.1500000000000002E-2,"kgCO2e/km",1E-3,"","Carbon factor taken directly from Government Carbon Factors 2022: Freighting goods > Vans > Average Battery Electric",0,null,null,null,null,null,null,null,null,null,"","",null,null,null,null,null,0,2,null,20220928,20220928,20220928130610]
[202208,null,"Fencing, Barriers & Road Restraint Systems","Paint or timber treatment","Water based paint","Litres","Paint",null,null,3.76,"tCO2e/t",1.1999999999999999E-3,"","Carbon factor taken from ICE V3: Paint > Solvent borne.  Conversion factor calculated from density of paint, 1.2kg/l.",0,null,null,null,null,null,null,null,null,null,"","",null,null,null,null,null,0,2,null,20220928,20220928,20220928130617]
[202208,null,"Civils Structures & Retaining Walls","Paint","General paint","Litres","Paint",null,null,3.76,"tCO2e/t",1.1999999999999999E-3,"","Carbon factor taken from ICE V3: Paint > Solvent borne.  Conversion factor calculated from density of paint, 1.2kg/l.",0,null,null,null,null,null,null,null,null,null,"","",null,null,null,null,null,0,2,null,20220928,20220928,20220928130618]
[202208,null,"Business and Employee Transport","Other transport","Van (electric)","km","Transport",null,null,4.1500000000000002E-2,"kgCO2e/km",1E-3,"","Carbon factor taken directly from Government Carbon Factors 2022: Freighting goods > Vans > Average Battery Electric",0,null,null,null,null,null,null,null,null,null,"","",null,null,null,null,null,0,2,null,20220928,20220928,20220928130618]
[202208,null,"Fencing, Barriers & Road Restraint Systems","Paint or timber treatment","Solvent based paint","Litres","Paint",null,null,2.54,"tCO2e/t",1.1999999999999999E-3,"","Carbon factor taken from ICE V3: Paint > Solvent borne. Conversion factor calculated from density of paint, 1.2kg/l.",0,null,null,null,null,null,null,null,null,null,"","",null,null,null,null,null,0,2,null,20220928,20220928,20220928134538]
[202208,null,"Civils Structures & Retaining Walls","Paint","General paint","Litres","Paint",null,null,3.76,"tCO2e/t",1.1999999999999999E-3,"","Carbon factor taken from ICE V3: Paint > Solvent borne.  Conversion factor calculated from density of paint, 1.2kg/l.",0,null,null,null,null,null,null,null,null,null,"","",null,null,null,null,null,0,2,null,20220928,20220928,20220928134538]
[202208,null,"Business and Employee Transport","Other transport","Van (electric)","km","Transport",null,null,4.1500000000000002E-2,"kgCO2e/km",1E-3,"","Carbon factor taken directly from Government Carbon Factors 2022: Freighting goods > Vans > Average Battery Electric",0,null,null,null,null,null,null,null,null,null,"","",null,null,null,null,null,0,2,null,20220928,20220928,20220928134538]
[202208,null,"Fencing, Barriers & Road Restraint Systems","Paint or timber treatment","Solvent based paint","Litres","Paint",null,null,2.54,"tCO2e/t",1.1999999999999999E-3,"","Carbon factor taken from ICE V3: Paint > Solvent borne. Conversion factor calculated from density of paint, 1.2kg/l.",0,null,null,null,null,null,null,null,null,null,"","",null,null,null,null,null,0,2,null,20220928,20220928,20220928134659]
[202208,null,"Civils Structures & Retaining Walls","Paint","General paint","Litres","Paint",null,null,3.76,"tCO2e/t",1.1999999999999999E-3,"","Carbon factor taken from ICE V3: Paint > Solvent borne.  Conversion factor calculated from density of paint, 1.2kg/l.",0,null,null,null,null,null,null,null,null,null,"","",null,null,null,null,null,0,2,null,20220928,20220928,20220928134659]
[202208,null,"Business and Employee Transport","Other transport","Van (electric)","km","Transport",null,null,4.1500000000000002E-2,"kgCO2e/km",1E-3,"","Carbon factor taken directly from Government Carbon Factors 2022: Freighting goods > Vans > Average Battery Electric",0,null,null,null,null,null,null,null,null,null,"","",null,null,null,null,null,0,2,null,20220928,20220928,20220928134659]
[202208,null,"Waste","Wood/Timber","Reuse off site","tonnes","Waste",null,null,0,"tCO2e/t",1,"","The carbon emissions factor is zero and no direct carbon emissions will be accounted for. Transport emissions should still be captured.",0,null,null,null,null,null,null,null,null,null,"","",null,null,null,null,null,0,2,null,20220928,20220928,20220928134659]
[202208,null,"Fencing, Barriers & Road Restraint Systems","Paint or timber treatment","Solvent based paint","Litres","Paint",null,null,2.54,"tCO2e/t",1.1999999999999999E-3,"","Carbon factor taken from ICE V3: Paint > Solvent borne. Conversion factor calculated from density of paint, 1.2kg/l.",0,null,null,null,null,null,null,null,null,null,"","",null,null,null,null,null,0,2,null,20220928,20220928,20220928135222]
[202208,null,"Civils Structures & Retaining Walls","Paint","General paint","Litres","Paint",null,null,3.76,"tCO2e/t",1.1999999999999999E-3,"","Carbon factor taken from ICE V3: Paint > Solvent borne.  Conversion factor calculated from density of paint, 1.2kg/l.",0,null,null,null,null,null,null,null,null,null,"","",null,null,null,null,null,0,2,null,20220928,20220928,20220928135222]
[202208,null,"Business and Employee Transport","Other transport","HGV (diesel, 0% laden)","km","Transport",null,null,0.67032000000000003,"kgCO2e/km",1E-3,"","Carbon factor taken directly from Government Carbon Factors 2022: Freighting goods > Vans > Average Battery Electric",0,null,null,null,null,null,null,null,null,null,"","",null,null,null,null,null,0,2,null,20220928,20220928,20220928135222]
[202208,null,"Waste","Wood/Timber","Reuse off site","tonnes","Waste",null,null,0,"tCO2e/t",1,"","The carbon emissions factor is zero and no direct carbon emissions will be accounted for. Transport emissions should still be captured.",0,null,null,null,null,null,null,null,null,null,"","",null,null,null,null,null,0,2,null,20220928,20220928,20220928135222]

{"sheet":"Emissions Factors","index":6,"n_rows":374,"n_cols":10,"rows_kept":374,"cut":false,"hidden":false,"merged":[[328,1,373,1],[328,2,330,2],[331,2,333,2],[334,2,336,2],[337,2,339,2],[340,2,342,2],[343,2,345,2],[346,2,350,2],[351,2,353,2],[354,2,356,2],[357,2,359,2],[360,2,362,2],[363,2,365,2],[366,2,367,2],[368,2,369,2],[371,2,373,2],[296,1,313,1],[296,2,310,2],[311,2,313,2],[314,2,316,2],[317,2,319,2],[314,1,327,1],[320,2,327,2],[270,1,295,1],[270,2,273,2],[274,2,276,2],[276,5,276,9],[277,2,279,2],[280,2,287,2],[289,2,290,2],[291,2,292,2],[293,2,294,2],[248,1,269,1],[248,2,249,2],[250,2,251,2],[252,2,258,2],[259,2,260,2],[261,2,262,2],[264,2,265,2],[266,2,267,2],[236,5,236,9],[237,2,238,2],[240,1,247,1],[240,2,243,2],[244,2,246,2],[181,5,181,9],[182,2,191,2],[192,2,201,2],[202,2,204,2],[206,5,206,9],[114,5,114,9],[119,1,140,1],[119,2,122,2],[123,2,134,2],[123,9,125,9],[126,9,128,9],[129,9,131,9],[132,9,134,9],[135,2,138,2],[138,5,138,9],[139,2,140,2],[0,28,0,30],[0,39,0,41],[3,1,3,9],[2,1,2,5],[5,1,12,1],[5,2,8,2],[9,2,12,2],[13,1,110,1],[74,2,95,2],[99,2,109,2],[13,2,73,2],[141,2,149,2],[111,1,118,1],[111,2,112,2],[114,2,117,2],[97,2,98,2],[150,2,158,2],[141,1,239,1],[159,2,167,2],[168,2,170,2],[171,2,180,2],[207,2,222,2],[223,2,225,2],[226,2,228,2],[229,2,232,2],[233,2,234,2],[235,2,236,2]]}
[]
[]
[null,"Emissions and Conversion Factors"]
[null,"Materials emissions factors have been taken from the Inventory of Carbon and Energy (ICE) version 3 (please note that some of the emissions factors in version 3 are the same as version 2). Energy, waste and transport emissions factors have been taken from the UK Government emission conversion factors for greenhouse gas company reporting 2023 (BEIS: Department for Business, Energy & Industrial Strategy). Where an input unit is not required as a weight, such as a number (no.) of products or metres of product, a conversion factor has been  applied. This is based upon the weight of a product calculated using suppliers specifications and technical drawings. When a product contains multiple materials a weighted average carbon factor has been calculated using multiple factors from the ICE V3. ICE carbon factors used within this tool include the embodied carbon within the raw materials but do not account for the carbon associated with the manufacture or processing of the raw materials into a product prior to their purchase by the reporting contractor. Well to tank emissions, also known as upstream or indirect emissions, is an average of all the GHG emissions released into the atmosphere from the production, processing and delivery of a fuel. Well to tank emissions have been included for fuels directly used on site, but not for fuels used by third parties transporting materials to and from the site."]
[null,"Category","Item","Material/Product","Input Unit","Material Type","Carbon Factor","Carbon Factor Units","Conversion Factor","Methodology"]
[null,"Transport factors ","Laden","Van","km","Energy and Fuel",{"$f":"0.570596267114094 /1000","v":5.705962671140939E-4},"tCO2e/t.km",null,"Carbon factor taken directly from Government Carbon Factors 2023:  Freighting Goods > Average van > Diesel >  tonne/km."]
[null,null,null,"HGV","km","Energy and Fuel",{"$f":" 0.096957467114094 /1000","v":9.6957467114094001E-5},"tCO2e/t.km",null,"Carbon factor taken directly from Government Carbon Factors 2023:  Freighting Goods > Average HGV >  Average laden > tonne/km."]
[null,null,null,"Rail","km","Energy and Fuel",{"$f":"0.0277880711409396/1000","v":2.7788071140939601E-5},"tCO2e/t.km",null,"Carbon factor taken directly from Government Carbon Factors 2023: Freighting Goods > Rail > tonne/km."]
[null,null,null,"Ship","km","Energy and Fuel",{"$f":" 0.013212768590604 / 1000","v":1.3212768590603999E-5},"tCO2e/t.km",null,"Carbon factor taken directly from Government Carbon Factors 2023:  Freighting Goods > Cargo Ship > General Cargo > Average > tonne/km."]
[null,null,"Unladen","Van","km","Energy and Fuel",{"$f":" 0.231284026845638 / 1000","v":2.3128402684563802E-4},"tCO2e/km",null,"Carbon factor taken from Government Carbon Factors 2023:  Delivery Vehicles > Average van > Diesel > km.  Assumed average load is 1 tonnes to calculate number of return journeys."]
[null,null,null,"HGV","km","Energy and Fuel",8.5677130380313194E-5,"tCO2e/km",null,"Carbon factor taken from Government Carbon Factors 2023:  Delivery Vehicle > Average HGV >  0% laden > km. Assumed average load is 7.5 tonnes to calculate number of return journeys."]
[null,null,null,"Rail","km","Energy and Fuel",0,"tCO2e/t.km",null,"Assumed rail transport returns laden for purposes not related to the reporting contract and thus a zero carbon factor is applied."]
[null,null,null,"Ship","km","Energy and Fuel",0,"tCO2e/t.km",null,"Assumed ship transport returns laden for purposes not related to the reporting contract and thus  a zero carbon factor is applied."]
[null,"Bulk Materials","Ready mix concrete ","General ","m3","Concrete",0.10336134453781512,"tCO2e/t",2.4,"Carbon factor taken directly from the ICE V3: Concrete > General. Please note that ICE strongly recommend to avoid selecting a 'general' value for concrete. Selecting data for a specific cement content in the concrete type will give much greater accuracy. Please either specify cement content used by selecting the appropriate option from the tool or enter a custom carbon factor if an appropriate option is not available. If additional cement is added to ready mix concrete this should be added separately in the cement item."]
[null,null,null,"General - C6/8 (Gen 0)","m3","Concrete",6.541385563785411E-2,"tCO2e/t",2.4,"Carbon factor taken directly from the ICE V3: Concrete > Gen 0"]
[null,null,null,"General - C8/10 (Gen 1)","m3","Concrete",8.9870081687601966E-2,"tCO2e/t",2.4,"Carbon factor taken directly from the ICE V3: Concrete > Gen 1"]
[null,null,null,"General - C12/15 (Gen 2)","m3","Concrete",9.7099819046999977E-2,"tCO2e/t",2.4,"Carbon factor taken directly from the ICE V3: Concrete > Gen 2 "]
[null,null,null,"General - C16/20 (Gen 3)","m3","Concrete",0.10418316585890676,"tCO2e/t",2.4,"Carbon factor taken directly from the ICE V3: Concrete > Gen 3"]
[null,null,null,"General - C20/25 ","m3","Concrete",0.11202281084862262,"tCO2e/t",2.4,"Carbon factor taken directly from the ICE V3: Concrete > 20/25 mpa."]
[null,null,null,"General - C25/30 ","m3","Concrete",0.11901728598445512,"tCO2e/t",2.4,"Carbon factor taken directly from the ICE V3: Concrete > 25/30 mpa."]
[null,null,null,"General - C28/35 ","m3","Concrete",0.12602133609831798,"tCO2e/t",2.4,"Carbon factor taken directly from the ICE V3: Concrete > 28/35 mpa."]
[null,null,null,"General - C32/40 ","m3","Concrete",0.13824435098291596,"tCO2e/t",2.4,"Carbon factor taken directly from the ICE V3: Concrete > 32/40 mpa."]
[null,null,null,"General - C35/45","m3","Concrete",0.14869972927088423,"tCO2e/t",2.4,"Carbon factor taken directly from the ICE V3: Concrete > 35/45 mpa."]
[null,null,null,"General - C40/50 ","m3","Concrete",0.15912485869294088,"tCO2e/t",2.4,"Carbon factor taken directly from the ICE V3: Concrete > 40/50 mpa."]
[null,null,null,"100% CEM I - C6/8 (Gen 0)","m3","Concrete",7.0437227264430385E-2,"tCO2e/t",2.4,"Carbon factor taken directly from the ICE V3: Concrete > CEM I > Gen 0"]
[null,null,null,"100% CEM I - C8/10 (Gen 1)","m3","Concrete",9.7192891130175652E-2,"tCO2e/t",2.4,"Carbon factor taken directly from the ICE V3: Concrete > CEM I > Gen 1"]
[null,null,null,"100% CEM I - C12/15 (Gen 2)","m3","Concrete",0.10495955074870886,"tCO2e/t",2.4,"Carbon factor taken directly from the ICE V3: Concrete > CEM I > Gen 2 "]
[null,null,null,"100% CEM I - C16/20 (Gen 3)","m3","Concrete",0.11266388302920674,"tCO2e/t",2.4,"Carbon factor taken directly from the ICE V3: Concrete > CEM I > Gen 3"]
[null,null,null,"100% CEM I - C20/25 ","m3","Concrete",0.120928209310575,"tCO2e/t",2.4,"Carbon factor taken directly from the ICE V3: Concrete > CEM I > 20/25 mpa."]
[null,null,null,"100% CEM I - C25/30 ","m3","Concrete",0.12857193304862502,"tCO2e/t",2.4,"Carbon factor taken directly from the ICE V3: Concrete > CEM I > 25/30 mpa."]
[null,null,null,"100% CEM I - C28/35 ","m3","Concrete",0.136185060548625,"tCO2e/t",2.4,"Carbon factor taken directly from the ICE V3: Concrete > CEM I > 28/35 mpa."]
[null,null,null,"100% CEM I - C32/40 ","m3","Concrete",0.14948253680858334,"tCO2e/t",2.4,"Carbon factor taken directly from the ICE V3: Concrete > CEM I > 32/40 mpa."]
[null,null,null,"100% CEM I - C35/45","m3","Concrete",0.16087418150703747,"tCO2e/t",2.4,"Carbon factor taken directly from the ICE V3: Concrete > CEM I > 35/45 mpa."]
[null,null,null,"100% CEM I - C40/50 ","m3","Concrete",0.17228928332133001,"tCO2e/t",2.4,"Carbon factor taken directly from the ICE V3: Concrete > CEM I > 40/50 mpa."]
[null,null,null,"14% Limestone replacement - C6/8 (Gen 0)","m3","Concrete",6.1434467983035437E-2,"tCO2e/t",2.4,"Carbon factor taken directly from the ICE V3: Concrete > 14% Limestone > Gen 0"]
[null,null,null,"14% Limestone replacement - C8/10 (Gen 1)","m3","Concrete",0.15422424988364275,"tCO2e/t",2.4,"Carbon factor taken directly from the ICE V3: Concrete > 14% Limestone > Gen 1"]
[null,null,null,"14% Limestone replacement - C12/15 (Gen 2)","m3","Concrete",9.0489450810207608E-2,"tCO2e/t",2.4,"Carbon factor taken directly from the ICE V3: Concrete > 14% Limestone > Gen 2 "]
[null,null,null,"14% Limestone replacement - C16/20 (Gen 3)","m3","Concrete",9.6635029634689409E-2,"tCO2e/t",2.4,"Carbon factor taken directly from the ICE V3: Concrete > 14% Limestone > Gen 3"]
[null,null,null,"14% Limestone replacement - C20/25 ","m3","Concrete",0.10402806228101349,"tCO2e/t",2.4,"Carbon factor taken directly from the ICE V3: Concrete > 14% Limestone > 20/25 mpa."]
[null,null,null,"14% Limestone replacement - C25/30 ","m3","Concrete",0.11082778592362502,"tCO2e/t",2.4,"Carbon factor taken directly from the ICE V3: Concrete > 14% Limestone > 25/30 mpa."]
[null,null,null,"14% Limestone replacement - C28/35 ","m3","Concrete",0.11738485574029167,"tCO2e/t",2.4,"Carbon factor taken directly from the ICE V3: Concrete > 14% Limestone > 28/35 mpa."]
[null,null,null,"14% Limestone replacement - C32/40 ","m3","Concrete",0.12883423105441666,"tCO2e/t",2.4,"Carbon factor taken directly from the ICE V3: Concrete > 14% Limestone > 32/40 mpa."]
[null,null,null,"14% Limestone replacement - C35/45","m3","Concrete",0.14028105668203747,"tCO2e/t",2.4,"Carbon factor taken directly from the ICE V3: Concrete > 14% Limestone > 35/45 mpa."]
[null,null,null,"14% Limestone replacement - C40/50 ","m3","Concrete",0.15286989642032428,"tCO2e/t",2.4,"Carbon factor taken directly from the ICE V3: Concrete > 14% Limestone > 40/50 mpa."]
[null,null,null,"35% natural pozzolanic ash replacement - C6/8 (Gen 0)","m3","Concrete",5.5653295469829119E-2,"tCO2e/t",2.4,"Carbon factor taken directly from the ICE V3: Concrete > 35% NPA > Gen 0"]
[null,null,null,"35% natural pozzolanic ash replacement - C8/10 (Gen 1)","m3","Concrete",7.5670551646413675E-2,"tCO2e/t",2.4,"Carbon factor taken directly from the ICE V3: Concrete > 35% NPA > Gen 1"]
[null,null,null,"35% natural pozzolanic ash replacement - C12/15 (Gen 2)","m3","Concrete",8.1413702240055702E-2,"tCO2e/t",2.4,"Carbon factor taken directly from the ICE V3: Concrete > 35% NPA > Gen 2 "]
[null,null,null,"35% natural pozzolanic ash replacement - C16/20 (Gen 3)","m3","Concrete",8.7165950126131639E-2,"tCO2e/t",2.4,"Carbon factor taken directly from the ICE V3: Concrete > 35% NPA > Gen 3"]
[null,null,null,"35% natural pozzolanic ash replacement - C20/25 ","m3","Concrete",9.4095575694085096E-2,"tCO2e/t",2.4,"Carbon factor taken directly from the ICE V3: Concrete > 35% NPA > 20/25 mpa."]
[null,null,null,"35% natural pozzolanic ash replacement - C25/30 ","m3","Concrete",9.9829867993128873E-2,"tCO2e/t",2.4,"Carbon factor taken directly from the ICE V3: Concrete > 35% NPA > 25/30 mpa."]
[null,null,null,"35% natural pozzolanic ash replacement - C28/35 ","m3","Concrete",0.10588296799932774,"tCO2e/t",2.4,"Carbon factor taken directly from the ICE V3: Concrete > 35% NPA > 28/35 mpa."]
[null,null,null,"35% natural pozzolanic ash replacement - C32/40 ","m3","Concrete",0.11706436752617645,"tCO2e/t",2.4,"Carbon factor taken directly from the ICE V3: Concrete > 35% NPA > 32/40 mpa."]
[null,null,null,"35% natural pozzolanic ash replacement - C35/45","m3","Concrete",0.12411121911226623,"tCO2e/t",2.4,"Carbon factor taken directly from the ICE V3: Concrete > 35% NPA > 35/45 mpa."]
[null,null,null,"35% natural pozzolanic ash replacement - C40/50 ","m3","Concrete",0.13263414864244058,"tCO2e/t",2.4,"Carbon factor taken directly from the ICE V3: Concrete > 35% NPA > 40/50 mpa."]
[null,null,null,"30% fly ash replacement - C6/8 (Gen 0)","m3","Concrete",5.659832213070759E-2,"tCO2e/t",2.4,"Carbon factor taken directly from the ICE V3: Concrete > 30% fly ash > Gen 0"]
[null,null,null,"30% fly ash replacement - C8/10 (Gen 1)","m3","Concrete",0.14353700604586053,"tCO2e/t",2.4,"Carbon factor taken directly from the ICE V3: Concrete > 30% fly ash > Gen 1"]
[null,null,null,"30% fly ash replacement - C12/15 (Gen 2)","m3","Concrete",8.5461063752750366E-2,"tCO2e/t",2.4,"Carbon factor taken directly from the ICE V3: Concrete > 30% fly ash > Gen 2 "]
[null,null,null,"30% fly ash replacement - C16/20 (Gen 3)","m3","Concrete",9.1549249145155442E-2,"tCO2e/t",2.4,"Carbon factor taken directly from the ICE V3: Concrete > 30% fly ash > Gen 3"]
[null,null,null,"30% fly ash replacement - C20/25 ","m3","Concrete",9.8877226594873732E-2,"tCO2e/t",2.4,"Carbon factor taken directly from the ICE V3: Concrete > 30% fly ash > 20/25 mpa."]
[null,null,null,"30% fly ash replacement - C25/30 ","m3","Concrete",0.10503899205394956,"tCO2e/t",2.4,"Carbon factor taken directly from the ICE V3: Concrete > 30% fly ash > 25/30 mpa."]
[null,null,null,"30% fly ash replacement - C28/35 ","m3","Concrete",0.11308669751613443,"tCO2e/t",2.4,"Carbon factor taken directly from the ICE V3: Concrete > 30% fly ash > 28/35 mpa."]
[null,null,null,"30% fly ash replacement - C32/40 ","m3","Concrete",0.12513254458500001,"tCO2e/t",2.4,"Carbon factor taken directly from the ICE V3: Concrete > 30% fly ash > 32/40 mpa."]
[null,null,null,"30% fly ash replacement - C35/45","m3","Concrete",0.1327268796143671,"tCO2e/t",2.4,"Carbon factor taken directly from the ICE V3: Concrete > 30% fly ash > 35/45 mpa."]
[null,null,null,"30% fly ash replacement - C40/50 ","m3","Concrete",0.14191255226008764,"tCO2e/t",2.4,"Carbon factor taken directly from the ICE V3: Concrete > 30% fly ash > 40/50 mpa."]
[null,null,null,"25% GGBS replacement - C6/8 (Gen 0)","m3","Concrete",5.5084294059592864E-2,"tCO2e/t",2.4,"Carbon factor taken directly from the ICE V3: Concrete > 25% GGBS > Gen 0"]
[null,null,null,"25% GGBS replacement - C8/10 (Gen 1)","m3","Concrete",0.10288240973300029,"tCO2e/t",2.4,"Carbon factor taken directly from the ICE V3: Concrete > 25% GGBS > Gen 1"]
[null,null,null,"25% GGBS replacement - C12/15 (Gen 2, ST 3)","m3","Concrete",8.1194991274614423E-2,"tCO2e/t",2.4,"Carbon factor taken directly from the ICE V3: Concrete > 25% GGBS > Gen 2 "]
[null,null,null,"25% GGBS replacement - C16/20 (Gen 3)","m3","Concrete",8.6950407693164297E-2,"tCO2e/t",2.4,"Carbon factor taken directly from the ICE V3: Concrete > 25% GGBS > Gen 3"]
[null,null,null,"25% GGBS replacement - C20/25 ","m3","Concrete",9.418312170818631E-2,"tCO2e/t",2.4,"Carbon factor taken directly from the ICE V3: Concrete > 25% GGBS > 20/25 mpa."]
[null,null,null,"25% GGBS replacement - C25/30 ","m3","Concrete",0.10010010749759496,"tCO2e/t",2.4,"Carbon factor taken directly from the ICE V3: Concrete > 25% GGBS > 25/30 mpa."]
[null,null,null,"25% GGBS replacement - C28/35 ","m3","Concrete",0.10734227983831372,"tCO2e/t",2.4,"Carbon factor taken directly from the ICE V3: Concrete > 25% GGBS > 28/35 mpa."]
[null,null,null,"25% GGBS replacement - C32/40 ","m3","Concrete",0.12035169454015378,"tCO2e/t",2.4,"Carbon factor taken directly from the ICE V3: Concrete > 25% GGBS > 32/40 mpa."]
[null,null,null,"25% GGBS replacement - C35/45","m3","Concrete",0.12936848314980792,"tCO2e/t",2.4,"Carbon factor taken directly from the ICE V3: Concrete > 25% GGBS > 35/45 mpa."]
[null,null,null,"25% GGBS replacement - C40/50 ","m3","Concrete",0.13834024411009846,"tCO2e/t",2.4,"Carbon factor taken directly from the ICE V3: Concrete > 25% GGBS > 40/50 mpa."]
[null,null,"Cement and binders","Average CEM I, Ordinary Portland Cement (OPC)","tonnes","Cement",0.91200000000000003,"tCO2e/t",1,"Carbon factor taken directly from the ICE V3: Cement > CEM I > Ordinary Portland Cement (OPC)"]
[null,null,null,"CEM II-A-S - 13% GGBs","tonnes","Cement",0.80284223999999993,"tCO2e/t",1,"Carbon factor taken directly from the ICE V3: Cement > Portland-slag cement > CEM II-A-S - 13% GGBs"]
[null,null,null,"CEM II/B-S - 28% GGBs","tonnes","Cement",0.67162943999999991,"tCO2e/t",1,"Carbon factor taken directly from the ICE V3: Cement > Portland-slag cement > CEM II/B-S - 28% GGBs"]
[null,null,null,"CEM II/A-P - 13% natural pozzolanic ash","tonnes","Cement",0.79797944700000001,"tCO2e/t",1,"Carbon factor taken directly from the ICE V3: Cement > Portland-pozzolana cement > CEM II/A-P - 13% natural pozzolanic ash"]
[null,null,null,"CEM II/B-P 28% natural pozzolanic ash","tonnes","Cement",0.66115573199999988,"tCO2e/t",1,"Carbon factor taken directly from the ICE V3: Cement > Portland-pozzolana cement > CEM II/B-P 28% natural pozzolanic ash"]
[null,null,null,"CEM II/A-V - 13% fly ash siliceous","tonnes","Cement",0.79792979999999991,"tCO2e/t",1,"Carbon factor taken directly from the ICE V3: Cement > Portland-fly ash cement > CEM II/A-V - 13% fly ash siliceous"]
[null,null,null,"CEM II/B-V - 28% fly ash siliceous","tonnes","Cement",0.66104879999999999,"tCO2e/t",1,"Carbon factor taken directly from the ICE V3: Cement > Portland-fly ash cement > CEM II/B-V - 28% fly ash siliceous"]
[null,null,null,"CEM II/A-W - 13% fly ash calcareous","tonnes","Cement",0.79792979999999991,"tCO2e/t",1,"Carbon factor taken directly from the ICE V3: Cement > Portland-fly ash cement > CEM II/A-W - 13% fly ash calcareous"]
[null,null,null,"CEM II/B-W - 28% fly ash calcareous","tonnes","Cement",0.66104879999999999,"tCO2e/t",1,"Carbon factor taken directly from the ICE V3: Cement > Portland-fly ash cement > CEM II/B-W - 28% fly ash calcareous"]
[null,null,null,"CEM II/A-L - 13% limestone","tonnes","Cement",0.79946755049999996,"tCO2e/t",1,"Carbon factor taken directly from the ICE V3: Cement > Portland-limestone cement > CEM II/A-L - 13% limestone"]
[null,null,null,"CEM II/B-L- 28% limestone","tonnes","Cement",0.66436087799999988,"tCO2e/t",1,"Carbon factor taken directly from the ICE V3: Cement > Portland-limestone cement > CEM II/B-L- 28% limestone"]
[null,null,null,"CEM II/A-LL - 13% limestone","tonnes","Cement",0.79946755049999996,"tCO2e/t",1,"Carbon factor taken directly from the ICE V3: Cement > Portland-limestone cement > CEM II/A-LL - 13% limestone"]
[null,null,null,"CEM II/B-LL - 28% limestone","tonnes","Cement",0.66436087799999988,"tCO2e/t",1,"Carbon factor taken directly from the ICE V3: Cement > Portland-limestone cement > CEM II/B-LL - 28% limestone"]
[null,null,null,"CEM II/A-M - 16% cement replacement","tonnes","Cement",0.77357664000000004,"tCO2e/t",1,"Carbon factor taken directly from the ICE V3: Cement > Portland-composite cement > CEM II/A-M - 16% cement replacement"]
[null,null,null,"CEM II/B-M - 28% cement replacement","tonnes","Cement",0.66633911999999995,"tCO2e/t",1,"Carbon factor taken directly from the ICE V3: Cement > Portland-composite cement > CEM II/B-M - 28% cement replacement"]
[null,null,null,"CEM III/A - 50.5% GGBS","tonnes","Cement",0.47481023999999994,"tCO2e/t",1,"Carbon factor taken directly from the ICE V3: Cement > Blast furnace cement > CEM III/A - 50.5% GGBS"]
[null,null,null,"CEM III/B - 73% GGBS","tonnes","Cement",0.27799103999999997,"tCO2e/t",1,"Carbon factor taken directly from the ICE V3: Cement > Blast furnace cement > CEM III/B - 73% GGBS"]
[null,null,null,"CEM III/C - 88% GGBS","tonnes","Cement",0.14677824,"tCO2e/t",1,"Carbon factor taken directly from the ICE V3: Cement > Blast furnace cement > CEM III/C - 88% GGBS"]
[null,null,null,"CEM IV/A - 23% cement replacement","tonnes","Cement",0.70667580000000008,"tCO2e/t",1,"Carbon factor taken directly from the ICE V3: Cement > Pozzolanic cement > CEM IV/A - 23% cement replacement"]
[null,null,null,"CEM IV/B - 46% cement replacement","tonnes","Cement",0.50135429999999992,"tCO2e/t",1,"Carbon factor taken directly from the ICE V3: Cement > Pozzolanic cement > CEM IV/B - 46% cement replacement"]
[null,null,null,"CEM V/A - 24% GGBS and 24% cement replacement","tonnes","Cement",0.48866637599999996,"tCO2e/t",1,"Carbon factor taken directly from the ICE V3: Cement > Composite cement > CEM V/A - 24% GGBS and 24% cement replacement"]
[null,null,null,"CEM V/B - 36% GGBS and 36% cement replacement","tonnes","Cement",0.28363401450000003,"tCO2e/t",1,"Carbon factor taken directly from the ICE V3: Cement > Composite cement > CEM V/B - 36% GGBS and 36% cement replacement"]
[null,null,"Reinforcement steel","Steel bar and rod","tonnes","Steel",1.99,"tCO2e/t",1,"Carbon factor taken directly from the ICE V3: Carbon Factors: Steel > Rebar. Please note the carbon factor is based on world average steel. If the recycled content is known, you may consult the ICE database to identify a more accurate value to enter as a custom carbon factor."]
[null,null,"Asphalt ","General Asphalt ","tonnes","Asphalt and Bitumen",5.5300000000000002E-2,"tCO2e/t",1,"Carbon factor taken directly from the ICE V3: Asphalt > Bitumen binder content ranges from 3% to 7%. Value of 5.5% used here as a typical content."]
[null,null,null,"Warm Mix Asphalt","tonnes","Asphalt and Bitumen",5.2534999999999998E-2,"tCO2e/t",1,"Carbon factor estimated to be 5% lower than the general asphalt value. If you have a carbon factor for a specific warm asphalt product please add a customer carbon factor and provide supporting information in the ‘notes’ section of carbon tool. The carbon tool guidance provides further information on custom factors and notes."]
[null,null,"Fill, aggregate and sand","Site-won","tonnes","Inert",0,"tCO2e/t",1,"Embodied carbon of site won material assumed to be zero. Emissions from the movement around the site captured by fuel use."]
[null,null,null,"General mixture","tonnes","Inert",7.4700000000000001E-3,"tCO2e/t",1,"Carbon factor taken directly from ICE V3: Aggregate > General UK mixture"]
[null,null,null,"Recycled and secondary mixture","tonnes","Inert",1.4181253693490319E-2,"tCO2e/t",1,"Carbon factor taken directly from ICE V3: Aggregate > Mixture of recycled and secondary"]
[null,null,null,"Virgin mixture of land won and marine","tonnes","Inert",4.9277889032866068E-3,"tCO2e/t",1,"Carbon factor taken directly from ICE V3: Aggregate > Virgin mixture of land won and marine"]
[null,null,null,"Virgin land won resources","tonnes","Inert",4.3843502238805968E-3,"tCO2e/t",1,"Carbon factor taken directly from ICE V3: Aggregate > Virgin mixture of land won resources"]
[null,null,null,"Virgin marine resources","tonnes","Inert",9.0375000000000021E-3,"tCO2e/t",1,"Carbon factor taken directly from ICE V3: Aggregate > virgin marine resources. Data uncertainty for aggregate and sand from marine sources is high due to large variations."]
[null,null,null,"Recycled resources, no heat treatment","tonnes","Inert",6.0953116666666663E-3,"tCO2e/t",1,"Carbon factor taken directly from ICE V3: Aggregate > recycled imported resources, no heat treatment"]
[null,null,null,"Recycled resources, with heat treatment","tonnes","Inert",0.11877166666666666,"tCO2e/t",1,"Carbon factor taken directly from ICE V3: Aggregate > recycled imported resources, with heat treatment"]
[null,null,null,"Expanded clay","tonnes","Inert",0.393208,"tCO2e/t",1,"Carbon factor taken directly from ICE V3: Aggregate > Expanded clay"]
[null,null,null,"Expanded foamed glass","tonnes","Inert",0.27762999999999999,"tCO2e/t",1,"Carbon factor taken directly from ICE V3: Aggregate > Expanded foamed glass"]
[null,null,null,"Secondary resources","tonnes","Inert",6.332299999999999E-2,"tCO2e/t",1,"Carbon factor taken directly from ICE V3: Aggregate > Secondary resources"]
[null,null,"Road salt/grit","Road salt/grit","tonnes","Road  Salt",7.0000000000000001E-3,"tCO2/t",1,"Carbon factor taken directly from the ICE V3: Miscellaneous > Grit."]
[null,"Earthworks","Imported Soil ","General soil/top soil","tonnes","Inert",2.4E-2,"tCO2e/t",1,"Carbon factor taken directly from the ICE V3: Soil > General (rammed soil)"]
[null,null,null,"Stabilised soil - Cement, Fly Ash or GGBS ","tonnes","Inert",5.8000000000000003E-2,"tCO2e/t",1,"Carbon factors taken from the ICE V3: Soil > Cement stabilised soils. Average taken of all the variations in stabilised soil."]
[null,null,"Site won soil/ muck shift","General soil","tonnes","Inert",0,"tCO2e/t",1,"Embodied carbon of site won material assumed to be zero. Movement around site captured by fuel use."]
[null,null,"Ground stabilisation","Portland CEM I cement","tonnes","Please include this within the bulk materials category under cement."]
[null,null,null,"GGBS ","tonnes","Cement",8.3000000000000004E-2,"tCO2e/t",1,"Carbon factor taken directly from the ICE V3: Miscellaneous > Slag."]
[null,null,null,"Fly ash  ","tonnes","Cement",8.0000000000000002E-3,"tCO2e/t",1,"Carbon factor taken directly from the ICE V3: Miscellaneous > Fly Ash."]
[null,null,null,"Lime","tonnes","Cement",0.78,"tCO2e/t",1,"Carbon factor taken directly from the ICE V3: Lime > General."]
[null,null,"Geotextiles","Polypropylene geotextile / matting","m2","Plastic",2.54,"tCO2e/t",9.4600000000000001E-4,"Carbon factor taken from the ICE V3: Plastic > General Polypropylene. Conversion factor has assumed geotextile thickness is approximately 1mm. Density of polypropylene = 946 kg/m3 ."]
[null,"Fencing, Barriers & Road Restraint Systems","Fence","Fence timber (by volume)","m3","Timber",0.26300000000000001,"tCO2e/t",0.5,"Carbon factor taken from the ICE V3: Timber > Softwood no carbon storage. Alternative ICE carbon factors are presented for sustainable timber which may be used where a chain of custody of timber provides sufficient justification."]
[null,null,null,"Timber rail fence (all types, includes posts)","metres","Timber",0.26300000000000001,"tCO2e/t",1.4283850000000001E-2,"Carbon factor taken from the ICE V3: Timber > Softwood no carbon storage. Alternative ICE carbon factors are presented for sustainable timber which may be used where a chain of custody of timber provides sufficient justification. Weight of fencing material per metre taken as an average from Specification for Highways Works - Volume 3 H series drawings 3 and 4 rail fencing with a calculated weight of  14.3kg per metre. Fittings and  small miscellaneous items have been omitted due their relatively small contribution to the overall carbon emissions associated with fencing."]
[null,null,null,"Timber panels and posts","no.","Timber",0.26300000000000001,"tCO2e/t",3.5749999999999997E-2,"Carbon factor taken from the ICE V3: Timber > Softwood no carbon storage. Alternative ICE carbon factors are presented for sustainable timber which may be used where a chain of custody of timber provides sufficient justification. Weight of fence panel and post taken from supplier with a stated weight of 35.8kg per panel and post. Fittings and  small miscellaneous items have been omitted due their relatively small contribution to the overall carbon emissions associated with fencing."]
[null,null,null,"Steel/wire/chain fence (includes posts)","metres","Steel",2.76,"tCO2e/t",3.82E-3,"Carbon factor taken directly from the ICE V3: Steel >  Hot dipped galvanised steel Weight of steel per metre estimate from supplier for a 1.8m high chain link fence and steel post to be 3.8kg. Fittings and  small miscellaneous items have been omitted due their relatively small contribution to the overall carbon emissions associated with fencing."]
[null,null,"Noise Barriers","Timber barrier 2m ","metres","Timber",0.92886666666666662,"tCO2e/t",0.09,"Carbon factor taken from the ICE V3: Timber > Softwood no carbon storage. Alternative ICE carbon factors are presented for sustainable timber which may be used where a chain of custody of timber provides sufficient justification. Weight taken to be 33kg/m2 from supplier of typical timber noise barrier. Posts are assumed to be steel I beams of 16kg per m, of 1 meter longer than the height of the barrier. Fittings and  small miscellaneous items have been omitted due their relatively small contribution to the overall carbon emissions associated with noise barriers."]
[null,null,null,"Timber barrier 3m ","metres","Timber",0.87295419847328237,"tCO2e/t",0.13100000000000001]
[null,null,null,"Timber barrier 4m ","metres","Timber",0.84369767441860455,"tCO2e/t",0.17200000000000001]
[null,null,null,"Steel barrier 2m","metres","Steel",2.76,"tCO2e/t",7.400000000000001E-2,"Carbon factor taken from the ICE V3: Steel >  Hot dipped galvanised steel. Weight taken to be 25kg/m2 from supplier of typical noise barrier. Posts are assumed steel I beams of 16kg per m, of 1 meter longer than the height of the barrier. Fittings and  small miscellaneous items have been omitted due their relatively small contribution to the overall carbon emissions associated with noise barriers."]
[null,null,null,"Steel barrier 3m","metres","Steel",2.76,"tCO2e/t",0.10700000000000001]
[null,null,null,"Steel barrier 4m","metres","Steel",2.76,"tCO2e/t",0.14000000000000001]
[null,null,null,"Aluminium barrier 2m","metres","Aluminium",5.1564516129032256,"tCO2e/t",6.2E-2,"Carbon factor taken from the ICE V3: Aluminium > General aluminium. Weight taken to be 19kg/m2 from supplier of typical noise barrier. Posts are assumed steel I beams of 16kg per m, of 1 meter longer than the height of the barrier.  Fittings and  small miscellaneous items have been omitted due their relatively small contribution to the overall carbon emissions associated with noise barriers."]
[null,null,null,"Aluminium barrier 3m","metres","Aluminium",5.2641573033707862,"tCO2e/t",8.8999999999999996E-2]
[null,null,null,"Aluminium barrier 4m","metres","Aluminium",5.321724137931036,"tCO2e/t",0.11599999999999999]
[null,null,null,"Plastic barrier 2m","metres","Plastic",3.1316216216216213,"tCO2e/t",7.400000000000001E-2,"Carbon factor taken from the ICE V3: Plastic > General Plastic. Thickness taken to be 15mm from supplier of typical noise barrier. Posts are assumed steel I beams of 16kg per m, of 1 meter longer than the height of the barrier. Fittings and  small miscellaneous items have been omitted due their relatively small contribution to the overall carbon emissions associated with noise barriers."]
[null,null,null,"Plastic barrier 3m","metres","Plastic",3.1455140186915886,"tCO2e/t",0.10700000000000001]
[null,null,null,"Plastic barrier 4m","metres","Plastic",3.1528571428571426,"tCO2e/t",0.14000000000000001]
[null,null,"Road Restraint System/ Safety Barrier","Steel RRS barrier single sided","metres","Steel",2.76,"tCO2e/t",2.2290000000000001E-2,"Carbon factor taken directly from the ICE V3: Steel > Hot dip galvanised Steel. Weight of barrier taken from supplier, including W3 beam, bolts and a 2m post spacing."]
[null,null,null,"Steel RRS barrier double sided","metres","Steel",2.76,"tCO2e/t",3.5540000000000002E-2,"Carbon factor taken directly from the ICE V3: Steel > Hot dip galvanised Steel. Weight of barrier taken from supplier, including beam, posts and bolts."]
[null,null,null,"Pre-cast concrete step barrier","metres","Concrete",0.249,"tCO2e/t",1.2,"Carbon factor taken from the ICE V3: Concrete > Precast concrete beams and columns - steel reinforced with 100kg world average steel per m3. Volume of concrete step barrier taken to be 0.5m3 per metre with density of 2.4 tonnes per m3."]
[null,null,null,"In-situ concrete step barrier","metres","Please include this within the bulk materials category under concrete."]
[null,null,"Paint or timber treatment","Solvent based paint","Litres","Paint",2.54,"tCO2e/t",1.1999999999999999E-3,"Carbon factor taken from ICE V3: Paint > Solvent borne. Conversion factor calculated from density of paint, 1.2kg/l."]
[null,null,null,"Water based paint","Litres","Paint",3.76,"tCO2e/t",1.1999999999999999E-3,"Carbon factor taken from ICE V3: Paint > Solvent borne.  Conversion factor calculated from density of paint, 1.2kg/l."]
[null,"Drainage","Plastic pipework (HDPE)","150mm diameter","metres","Plastic",2.52,"tCO2e/t",2.3616922773361266E-3,"Carbon factor taken directly from the ICE V3: Plastic > HDPE Pipe. Conversion factor calculated from approximate 150mm pipe wall thickness of 5mm and HDPE density 0.97 t/m3."]
[null,null,null,"225mm diameter","metres","Plastic",2.52,"tCO2e/t",4.2236199953391926E-3,"Carbon factor taken directly from the ICE V3: Plastic > HDPE Pipe. Conversion factor calculated from approximate 225mm pipe wall thickness of 6mm and HDPE density 0.97 t/m3."]
[null,null,null,"300mm diameter","metres","Plastic",2.52,"tCO2e/t",7.5086577694918914E-3,"Carbon factor taken directly from the ICE V3: Plastic > HDPE Pipe. Conversion factor calculated from approximate 300mm pipe wall thickness of 8mm and HDPE density 0.97 t/m3."]
[null,null,null,"450mm diameter","metres","Plastic",2.52,"tCO2e/t",1.1165471618270428E-2,"Carbon factor taken directly from the ICE V3: Plastic > HDPE Pipe. Conversion factor calculated from approximate 450mm pipe wall thickness of 8mm and HDPE density 0.97 t/m3."]
[null,null,null,"600mm diameter","metres","Plastic",2.52,"tCO2e/t",2.0481204898033695E-2,"Carbon factor taken directly from the ICE V3: Plastic > HDPE Pipe. Conversion factor calculated from approximate 600mm pipe wall thickness of 11mm and HDPE density 0.97 t/m3."]
[null,null,null,"900mm diameter","metres","Plastic",2.52,"tCO2e/t",4.4661886473081711E-2,"Carbon factor taken directly from the ICE V3: Plastic > HDPE Pipe. Conversion factor calculated from approximate 900mm pipe wall thickness of 16mm and HDPE density 0.97 t/m3."]
[null,null,null,"1200mm diameter","metres","Plastic",2.52,"tCO2e/t",7.4355214925163171E-2,"Carbon factor taken directly from the ICE V3: Plastic > HDPE Pipe. Conversion factor calculated from approximate 1200mm pipe wall thickness of 20mm and HDPE density of 0.97 t/m3."]
[null,null,null,"1500mm diameter","metres","Plastic",2.52,"tCO2e/t",0.11618002332056755,"Carbon factor taken directly from the ICE V3: Plastic > HDPE Pipe. Conversion factor calculated from approximate 1500mm pipe wall thickness of 25mm and HDPE density of 0.97 t/m3."]
[null,null,null,"1800mm diameter","metres","Plastic",2.52,"tCO2e/t",0.16729923358161752,"Carbon factor taken directly from the ICE V3: Plastic > HDPE Pipe. Conversion factor calculated from approximate 1800mm pipe wall thickness of 30mm and HDPE density of 0.97 t/m3."]
[null,null,"Plastic pipework (PVC)","150mm diameter","metres","Plastic",3.23,"tCO2e/t",3.1651545984917161E-3,"Carbon factor taken directly from the ICE V3: Plastic > PVC Pipe. Conversion factor calculated from approximate 150mm pipe wall thickness of 5mm and PVC density of 1.3 t/m3."]
[null,null,null,"225mm diameter","metres","Plastic",3.23,"tCO2e/t",5.6605216432380938E-3,"Carbon factor taken directly from the ICE V3: Plastic > PVC Pipe. Conversion factor calculated from approximate 225mm pipe wall thickness of 6mm and PVC density of 1.3 t/m3."]
[null,null,null,"300mm diameter","metres","Plastic",3.23,"tCO2e/t",1.0063149587978824E-2,"Carbon factor taken directly from the ICE V3: Plastic > PVC Pipe. Conversion factor calculated from approximate 300mm pipe wall thickness of 8mm and PVC density of 1.3 t/m3."]
[null,null,null,"450mm diameter","metres","Plastic",3.23,"tCO2e/t",1.4964034127578924E-2,"Carbon factor taken directly from the ICE V3: Plastic > PVC Pipe. Conversion factor calculated from approximate 450mm pipe wall thickness of 8mm and PVC density of 1.3 t/m3."]
[null,null,null,"600mm diameter","metres","Plastic",3.23,"tCO2e/t",2.7449037492210105E-2,"Carbon factor taken directly from the ICE V3: Plastic > PVC Pipe. Conversion factor calculated from approximate 600mm pipe wall thickness of 11mm and PVC density of 1.3 t/m3."]
[null,null,null,"900mm diameter","metres","Plastic",3.23,"tCO2e/t",5.9856136510315697E-2,"Carbon factor taken directly from the ICE V3: Plastic > PVC Pipe. Conversion factor calculated from approximate 900mm pipe wall thickness of 16mm and PVC density of 1.3 t/m3."]
[null,null,null,"1200mm diameter","metres","Plastic",3.23,"tCO2e/t",9.9651318971868172E-2,"Carbon factor taken directly from the ICE V3: Plastic > PVC Pipe. Conversion factor calculated from approximate 1200mm pipe wall thickness of 20mm and PVC density of 1.3 t/m3."]
[null,null,null,"1500mm diameter","metres","Plastic",3.23,"tCO2e/t",0.15570518589354415,"Carbon factor taken directly from the ICE V3: Plastic > PVC Pipe. Conversion factor calculated from approximate 1500mm pipe wall thickness of 25mm and PVC density of 1.3 t/m3."]
[null,null,null,"1800mm diameter","metres","Plastic",3.23,"tCO2e/t",0.22421546768670392,"Carbon factor taken directly from the ICE V3: Plastic > PVC Pipe. Conversion factor calculated from approximate 1800mm pipe wall thickness of 30mm and PVC density of 1.3 t/m3."]
[null,null,"Plastic pipework (Polypropylene)","150mm diameter","metres","Plastic",4.49,"tCO2e/t",2.3032586539793562E-3,"Carbon factor taken directly from the ICE V3: Plastic > Injection moulded polypropylene. Conversion factor calculated from approximate 150mm pipe wall thickness of 5mm and PP density of 0.946 t/m3."]
[null,null,null,"225mm diameter","metres","Plastic",4.49,"tCO2e/t",4.1191180573101815E-3,"Carbon factor taken directly from the ICE V3: Plastic > Injection moulded polypropylene. Conversion factor calculated from approximate 225mm pipe wall thickness of 6mm and PP density of 0.946 t/m3."]
[null,null,null,"300mm diameter","metres","Plastic",4.49,"tCO2e/t",7.3228765463292057E-3,"Carbon factor taken directly from the ICE V3: Plastic > Injection moulded polypropylene. Conversion factor calculated from approximate 300mm pipe wall thickness of 8mm and PP density of 0.946 t/m3."]
[null,null,null,"450mm diameter","metres","Plastic",4.49,"tCO2e/t",1.0889212526684355E-2,"Carbon factor taken directly from the ICE V3: Plastic > Injection moulded polypropylene. Conversion factor calculated from approximate 450mm pipe wall thickness of 8mm and PP density of 0.946 t/m3."]
[null,null,null,"600mm diameter","metres","Plastic",4.49,"tCO2e/t",1.9974453436639044E-2,"Carbon factor taken directly from the ICE V3: Plastic > Injection moulded polypropylene. Conversion factor calculated from approximate 600mm pipe wall thickness of 11mm and PP density of 0.946 t/m3."]
[null,null,null,"900mm diameter","metres","Plastic",4.49,"tCO2e/t",4.3556850106737419E-2,"Carbon factor taken directly from the ICE V3: Plastic > Injection moulded polypropylene. Conversion factor calculated from approximate 900mm pipe wall thickness of 16mm and PP density of 0.946 t/m3."]
[null,null,null,"1200mm diameter","metres","Plastic",4.49,"tCO2e/t",7.2515498267220979E-2,"Carbon factor taken directly from the ICE V3: Plastic > Injection moulded polypropylene. Conversion factor calculated from approximate 1200mm pipe wall thickness of 20mm and PP density of 0.946 t/m3."]
[null,null,null,"1500mm diameter","metres","Plastic",4.49,"tCO2e/t",0.11330546604253289,"Carbon factor taken directly from the ICE V3: Plastic > Injection moulded polypropylene. Conversion factor calculated from approximate 1500mm pipe wall thickness of 25mm and PP density of 0.946 t/m3."]
[null,null,null,"1800mm diameter","metres","Plastic",4.49,"tCO2e/t",0.16315987110124761,"Carbon factor taken directly from the ICE V3: Plastic > Injection moulded polypropylene. Conversion factor calculated from approximate 1800mm pipe wall thickness of 30mm and PP density of 0.946 t/m3."]
[null,null,"Vitrified clay pipework","150mm diameter","metres","Inert",0.5,"tCO2e/t",1.7500000000000002E-2,"Carbon factor taken directly from the ICE V3: Clay > Pipes 200-300mm. Conversion factor based on typical unit mass estimate from Hepworth Drainage."]
[null,null,null,"225mm diameter","metres","Inert",0.5,"tCO2e/t",3.4000000000000002E-2,"Carbon factor taken directly from the ICE V3: Clay > Pipes 200-300mm. Conversion factor based on typical unit mass estimate from Hepworth Drainage."]
[null,null,null,"300mm diameter","metres","Inert",0.5,"tCO2e/t",7.2999999999999995E-2,"Carbon factor taken directly from the ICE V3: Clay > Pipes 200-300mm. Conversion factor based on typical unit mass estimate from Hepworth Drainage."]
[null,null,"Precast concrete circular pipework","225mm diameter","metres","Concrete",0.14599999999999999,"tCO2e/t",8.7999999999999995E-2,"Carbon factor taken directly from the ICE V3: Concrete > Precast concrete pipe, DN600 unreinforced per kg. Conversion factor based on precast unit mass estimation from supplier."]
[null,null,null,"300mm diameter","metres","Concrete",0.14599999999999999,"tCO2e/t",0.128,"Carbon factor taken directly from the ICE V3: Concrete > Precast concrete pipe, DN600 unreinforced per kg. Conversion factor based on precast unit mass estimation from supplier."]
[null,null,null,"450mm diameter","metres","Concrete",0.14599999999999999,"tCO2e/t",0.28799999999999998,"Carbon factor taken directly from the ICE V3: Concrete > Precast concrete pipe, DN600 unreinforced per kg. Conversion factor based on precast unit mass estimation from supplier."]
[null,null,null,"600mm diameter","metres","Concrete",0.14599999999999999,"tCO2e/t",0.48799999999999999,"Carbon factor taken directly from the ICE V3: Concrete > Precast concrete pipe, DN600 unreinforced per kg. Conversion factor based on precast unit mass estimation from supplier."]
[null,null,null,"900mm diameter","metres","Concrete",0.14599999999999999,"tCO2e/t",0.88800000000000001,"Carbon factor taken directly from the ICE V3: Concrete > Precast concrete pipe, DN600 unreinforced per kg. Conversion factor based on precast unit mass estimation from supplier."]
[null,null,null,"1200mm diameter","metres","Concrete",0.14599999999999999,"tCO2e/t",1.4039999999999999,"Carbon factor taken directly from the ICE V3: Concrete > Precast concrete pipe, DN600 unreinforced per kg. Conversion factor based on precast unit mass estimation from supplier."]
[null,null,null,"1500mm diameter","metres","Concrete",0.14599999999999999,"tCO2e/t",1.796,"Carbon factor taken directly from the ICE V3: Concrete > Precast concrete pipe, DN600 unreinforced per kg. Conversion factor based on precast unit mass estimation from supplier."]
[null,null,null,"1800mm diameter","metres","Concrete",0.14599999999999999,"tCO2e/t",2.86,"Carbon factor taken directly from the ICE V3: Concrete > Precast concrete pipe, DN600 unreinforced per kg. Conversion factor based on precast unit mass estimation from supplier."]
[null,null,null,"2100mm diameter","metres","Concrete",0.14599999999999999,"tCO2e/t",3.448,"Carbon factor taken directly from the ICE V3: Concrete > Precast concrete pipe, DN600 unreinforced per kg. Conversion factor based on precast unit mass estimation from supplier."]
[null,null,null,"2400mm diameter","metres","Concrete",0.14599999999999999,"tCO2e/t",3.8730000000000002,"Carbon factor taken directly from the ICE V3: Concrete > Precast concrete pipe, DN600 unreinforced per kg. Conversion factor based on precast unit mass estimation from supplier."]
[null,null,"Precast concrete box culvert","Precast concrete","metres","Please include this within the civil structures category under pre-cast concrete."]
[null,null,"Steel pipework","300mm diameter","metres","Steel",3.02,"tCO2e/t",1.4E-2,"Carbon factor taken directly from the ICE V3: World average Steel > UO Pipe. Conversion factor based on indicative unit mass from supplier."]
[null,null,null,"450mm diameter","metres","Steel",3.02,"tCO2e/t",2.1000000000000001E-2,"Carbon factor taken directly from the ICE V3: World average Steel > UO Pipe. Conversion factor based on indicative unit mass from supplier."]
[null,null,null,"600mm diameter","metres","Steel",3.02,"tCO2e/t",3.2000000000000001E-2,"Carbon factor taken directly from the ICE V3: World average Steel > UO Pipe. Conversion factor based on indicative unit mass from supplier."]
[null,null,null,"900mm diameter","metres","Steel",3.02,"tCO2e/t",6.6000000000000003E-2,"Carbon factor taken directly from the ICE V3: World average Steel > UO Pipe. Conversion factor based on indicative unit mass from supplier."]
[null,null,null,"1200mm diameter","metres","Steel",3.02,"tCO2e/t",8.8999999999999996E-2,"Carbon factor taken directly from the ICE V3: World average Steel > UO Pipe. Conversion factor based on indicative unit mass from supplier."]
[null,null,null,"1500mm diameter","metres","Steel",3.02,"tCO2e/t",0.113,"Carbon factor taken directly from the ICE V3: World average Steel > UO Pipe. Conversion factor based on indicative unit mass from supplier."]
[null,null,null,"1800mm diameter","metres","Steel",3.02,"tCO2e/t",0.13500000000000001,"Carbon factor taken directly from the ICE V3: World average Steel > UO Pipe. Conversion factor based on indicative unit mass from supplier."]
[null,null,null,"2400mm diameter","metres","Steel",3.02,"tCO2e/t",0.17899999999999999,"Carbon factor taken directly from the ICE V3: World average Steel > UO Pipe. Conversion factor based on indicative unit mass from supplier."]
[null,null,null,"3000mm diameter","metres","Steel",3.02,"tCO2e/t",0.28799999999999998,"Carbon factor taken directly from the ICE V3: World average Steel > UO Pipe. Conversion factor based on indicative unit mass from supplier."]
[null,null,null,"3600mm diameter","metres","Steel",3.02,"tCO2e/t",0.371,"Carbon factor taken directly from the ICE V3: World average Steel > UO Pipe. Conversion factor based on indicative unit mass from supplier."]
[null,null,"Glass reinforced plastic GRP (Fibreglass) pipework","150mm diameter","metres","Plastic",8.1,"tCO2/t",4.0000000000000001E-3,"Carbon factor taken directly from the ICE V3: Miscellaneous > GRP. Conversion factor calculated from typical GRP pipe unit mass from supplier."]
[null,null,null,"225mm diameter","metres","Plastic",8.1,"tCO2/t",6.0000000000000001E-3,"Carbon factor taken directly from the ICE V3: Miscellaneous > GRP. Conversion factor calculated from typical GRP pipe unit mass from supplier."]
[null,null,null,"300mm diameter","metres","Plastic",8.1,"tCO2/t",8.0000000000000002E-3,"Carbon factor taken directly from the ICE V3: Miscellaneous > GRP. Conversion factor calculated from typical GRP pipe unit mass from supplier."]
[null,null,null,"450mm diameter","metres","Plastic",8.1,"tCO2/t",1.4E-2,"Carbon factor taken directly from the ICE V3: Miscellaneous > GRP. Conversion factor calculated from typical GRP pipe unit mass from supplier."]
[null,null,null,"600mm diameter","metres","Plastic",8.1,"tCO2/t",2.3E-2,"Carbon factor taken directly from the ICE V3: Miscellaneous > GRP. Conversion factor calculated from typical GRP pipe unit mass from supplier."]
[null,null,null,"900mm diameter","metres","Plastic",8.1,"tCO2/t",0.05,"Carbon factor taken directly from the ICE V3: Miscellaneous > GRP. Conversion factor calculated from typical GRP pipe unit mass from supplier."]
[null,null,null,"1200mm diameter","metres","Plastic",8.1,"tCO2/t",8.5999999999999993E-2,"Carbon factor taken directly from the ICE V3: Miscellaneous > GRP. Conversion factor calculated from typical GRP pipe unit mass from supplier."]
[null,null,null,"1500mm diameter","metres","Plastic",8.1,"tCO2/t",0.13200000000000001,"Carbon factor taken directly from the ICE V3: Miscellaneous > GRP. Conversion factor calculated from typical GRP pipe unit mass from supplier."]
[null,null,null,"1800mm diameter","metres","Plastic",8.1,"tCO2/t",0.188,"Carbon factor taken directly from the ICE V3: Miscellaneous > GRP. Conversion factor calculated from typical GRP pipe unit mass from supplier."]
[null,null,null,"2400mm diameter","metres","Plastic",8.1,"tCO2/t",0.32900000000000001,"Carbon factor taken directly from the ICE V3: Miscellaneous > GRP. Conversion factor calculated from typical GRP pipe unit mass from supplier."]
[null,null,"Iron pipework","150mm diameter","metres","Steel",2.0299999999999998,"tCO2e/t",1.406E-2,"Carbon factor taken directly from the ICE V3: Iron > General."]
[null,null,null,"300mm diameter","metres","Steel",2.0299999999999998,"tCO2e/t",4.3229999999999998E-2,"Carbon factor taken directly from the ICE V3: Iron > General."]
[null,null,null,"400mm diameter","metres","Steel",2.0299999999999998,"tCO2e/t",0.06,"Carbon factor taken directly from the ICE V3: Iron > General."]
[null,null,"Brick manholes and inspection chambers","Brick (includes mortar)","no.","Brick and Blockwork",0.20526105940346864,"tCO2e/t",2.5834349999999998E-3,"Carbon factor taken directly from the ICE V3: Brick > General. Assumed weight of brick is 2.13kg and 10mm of mortar."]
[null,null,"In-situ concrete manholes and inspection chambers","In-situ concrete",null,"Please include this within the bulk materials category under concrete."]
[null,null,"Precast concrete manholes","900mm diameter, up to 3m depth","no.","Concrete",0.27797943444730078,"tCO2e/t",1.9450000000000001,"Carbon factor uses ICE V3: Concrete > Precast RC40/50 with average UK additions. and ICE V3: Iron > General for covers. Factor presented is weighted average based on relative estimated mass of precast concrete and ductile iron cover and frame. Conversion factor based on indicative unit mass from supplier for concrete shafts and cover slabs, assumed max. depth for category, and indicative unit mass for iron cover and frame from supplier."]
[null,null,null,"900mm diameter, 3m - 6m depth","no.","Concrete",0.23300990099009897,"tCO2e/t",3.5350000000000001,"Carbon factor uses ICE V3: Concrete > Precast RC40/50 with average UK additions. and ICE V3: Iron > General for covers. Factor presented is weighted average based on relative estimated mass of precast concrete and ductile iron cover and frame. Conversion factor based on indicative unit mass from supplier for concrete shafts and cover slabs, assumed max. depth for category, and indicative unit mass for iron cover and frame from supplier."]
[null,null,null,"1050mm diameter, up to 3m depth","no.","Concrete",0.25578399999999996,"tCO2e/t",2.5,"Carbon factor uses ICE V3: Concrete > Precast RC40/50 with average UK additions. and ICE V3: Iron > General for covers. Factor presented is weighted average based on relative estimated mass of precast concrete and ductile iron cover and frame. Conversion factor based on indicative unit mass from supplier for concrete shafts and cover slabs, assumed max. depth for category, and indicative unit mass for iron cover and frame from supplier."]
[null,null,null,"1050mm diameter, 3m - 6m depth","no.","Concrete",0.22,"tCO2e/t",4.63,"Carbon factor uses ICE V3: Concrete > Precast RC40/50 with average UK additions. and ICE V3: Iron > General for covers. Factor presented is weighted average based on relative estimated mass of precast concrete and ductile iron cover and frame. Conversion factor based on indicative unit mass from supplier for concrete shafts and cover slabs, assumed max. depth for category, and indicative unit mass for iron cover and frame from supplier."]
[null,null,null,"1200mm diameter, up to 3m depth","no.","Concrete",0.23839130434782607,"tCO2e/t",3.22,"Carbon factor uses ICE V3: Concrete > Precast RC40/50 with average UK additions. and ICE V3: Iron > General for covers. Factor presented is weighted average based on relative estimated mass of precast concrete and ductile iron cover and frame. Conversion factor based on indicative unit mass from supplier for concrete shafts and cover slabs, assumed max. depth for category, and indicative unit mass for iron cover and frame from supplier."]
[null,null,null,"1200mm diameter, 3m - 6m depth","no.","Concrete",0.21068235294117643,"tCO2e/t",5.95,"Carbon factor uses ICE V3: Concrete > Precast RC40/50 with average UK additions. and ICE V3: Iron > General for covers. Factor presented is weighted average based on relative estimated mass of precast concrete and ductile iron cover and frame. Conversion factor based on indicative unit mass from supplier for concrete shafts and cover slabs, assumed max. depth for category, and indicative unit mass for iron cover and frame from supplier."]
[null,null,null,"1500mm diameter, up to 3m depth","no.","Concrete",0.21760488798370667,"tCO2e/t",4.91,"Carbon factor uses ICE V3: Concrete > Precast RC40/50 with average UK additions. and ICE V3: Iron > General for covers. Factor presented is weighted average based on relative estimated mass of precast concrete and ductile iron cover and frame. Conversion factor based on indicative unit mass from supplier for concrete shafts and cover slabs, assumed max. depth for category, and indicative unit mass for iron cover and frame from supplier."]
[null,null,null,"1500mm diameter, 3m - 6m depth","no.","Concrete",0.19984943820224718,"tCO2e/t",8.9,"Carbon factor uses ICE V3: Concrete > Precast RC40/50 with average UK additions. and ICE V3: Iron > General for covers. Factor presented is weighted average based on relative estimated mass of precast concrete and ductile iron cover and frame. Conversion factor based on indicative unit mass from supplier for concrete shafts and cover slabs, assumed max. depth for category, and indicative unit mass for iron cover and frame from supplier."]
[null,null,null,"1800mm diameter, up to 3m depth","no.","Concrete",0.20737462235649545,"tCO2e/t",6.62,"Carbon factor uses ICE V3: Concrete > Precast RC40/50 with average UK additions. and ICE V3: Iron > General for covers. Factor presented is weighted average based on relative estimated mass of precast concrete and ductile iron cover and frame. Conversion factor based on indicative unit mass from supplier for concrete shafts and cover slabs, assumed max. depth for category, and indicative unit mass for iron cover and frame from supplier."]
[null,null,null,"1800mm diameter, 3m - 6m depth","no.","Concrete",0.19434117647058824,"tCO2e/t",11.9,"Carbon factor uses ICE V3: Concrete > Precast RC40/50 with average UK additions. and ICE V3: Iron > General for covers. Factor presented is weighted average based on relative estimated mass of precast concrete and ductile iron cover and frame. Conversion factor based on indicative unit mass from supplier for concrete shafts and cover slabs, assumed max. depth for category, and indicative unit mass for iron cover and frame from supplier."]
[null,null,null,"2400mm diameter, up to 3m depth","no.","Concrete",0.19612301957129544,"tCO2e/t",10.73,"Carbon factor uses ICE V3: Concrete > Precast RC40/50 with average UK additions. and ICE V3: Iron > General for covers. Factor presented is weighted average based on relative estimated mass of precast concrete and ductile iron cover and frame. Conversion factor based on indicative unit mass from supplier for concrete shafts and cover slabs, assumed max. depth for category, and indicative unit mass for iron cover and frame from supplier."]
[null,null,null,"2400mm diameter, 3m - 6m depth","no.","Concrete",0.18826174142480212,"tCO2e/t",18.95,"Carbon factor uses ICE V3: Concrete > Precast RC40/50 with average UK additions. and ICE V3: Iron > General for covers. Factor presented is weighted average based on relative estimated mass of precast concrete and ductile iron cover and frame. Conversion factor based on indicative unit mass from supplier for concrete shafts and cover slabs, assumed max. depth for category, and indicative unit mass for iron cover and frame from supplier."]
[null,null,null,"3000mm diameter, up to 3m depth","no.","Concrete",0.18933216783216783,"tCO2e/t",17.16,"Carbon factor uses ICE V3: Concrete > Precast RC40/50 with average UK additions. and ICE V3: Iron > General for covers. Factor presented is weighted average based on relative estimated mass of precast concrete and ductile iron cover and frame. Conversion factor based on indicative unit mass from supplier for concrete shafts and cover slabs, assumed max. depth for category, and indicative unit mass for iron cover and frame from supplier."]
[null,null,null,"3000mm diameter, 3m - 6m depth","no.","Concrete",0.18457403651115617,"tCO2e/t",29.58,"Carbon factor uses ICE V3: Concrete > Precast RC40/50 with average UK additions. and ICE V3: Iron > General for covers. Factor presented is weighted average based on relative estimated mass of precast concrete and ductile iron cover and frame. Conversion factor based on indicative unit mass from supplier for concrete shafts and cover slabs, assumed max. depth for category, and indicative unit mass for iron cover and frame from supplier."]
[null,null,null,"4000 diameter, up to 3m depth","no.","Concrete",0.18465503080082132,"tCO2e/t",29.22,"Carbon factor uses ICE V3: Concrete > Precast RC40/50 with average UK additions. and ICE V3: Iron > General for covers. Factor presented is weighted average based on relative estimated mass of precast concrete and ductile iron cover and frame. Conversion factor based on indicative unit mass from supplier for concrete shafts and cover slabs, assumed max. depth for category, and indicative unit mass for iron cover and frame from supplier."]
[null,null,null,"4000 diameter, 3m - 6m depth","no.","Concrete",0.18202608695652175,"tCO2e/t",48.3,"Carbon factor uses ICE V3: Concrete > Precast RC40/50 with average UK additions. and ICE V3: Iron > General for covers. Factor presented is weighted average based on relative estimated mass of precast concrete and ductile iron cover and frame. Conversion factor based on indicative unit mass from supplier for concrete shafts and cover slabs, assumed max. depth for category, and indicative unit mass for iron cover and frame from supplier."]
[null,null,"Precast concrete inspection chambers","600mm diameter, up to 1.2m depth","no.","Concrete",0.27975824175824177,"tCO2e/t",0.36399999999999999,"Carbon factor taken directly from the ICE V3: Concrete > 40/50mpa + precast factor. Factor presented is weighted average based on relative estimated mass of precast concrete and ductile iron cover and frame. Conversion factor based on indicative unit mass from supplier for concrete house inspection chambers."]
[null,null,null,"750mm diameter, up to 1.2m depth","no.","Concrete",0.24461870503597125,"tCO2e/t",0.55600000000000005,"Carbon factor taken directly from the ICE V3: Concrete > 40/50mpa + precast factor. Factor presented is weighted average based on relative estimated mass of precast concrete and ductile iron cover and frame. Conversion factor based on indicative unit mass from supplier for concrete house inspection chambers."]
[null,null,null,"1000mm diameter, 1.2m - 3m depth","no.","Concrete",0.19912949229891613,"tCO2e/t",1.7530000000000001,"Carbon factor taken directly from the ICE V3: Concrete > 40/50mpa + precast factor. Factor presented is weighted average based on relative estimated mass of precast concrete and ductile iron cover and frame. Conversion factor based on indicative unit mass from supplier for concrete house inspection chambers."]
[null,null,"Plastic inspection chambers","450mm diameter, up to 1.2m depth","no.","Steel",3.0663888888888886,"tCO2e/t",3.456E-2,"Carbon factor uses ICE V3: Plastic > Polypropylene for plastic module and ICE V3: Iron > General for covers and frames. Factor presented is weighted average based on estimated relative masses of plastic pot and ductile iron cover and frame. Conversion factor based on indicative unit masses for plastic chamber from supplier and ductile iron cover and frame from supplier. Concrete elements for cover and frame support are assumed to be cast in-situ and thus included in bulk materials category; concrete elements here are excluded."]
[null,null,null,"600mm diameter, up to 1.2m depth","no.","Plastic",4.2296825396825399,"tCO2e/t",0.189,"Carbon factor uses ICE V3: Plastic > Polypropylene for plastic module and ICE V3: Iron > General for covers and frames. Factor presented is weighted average based on estimated relative masses of plastic pot and ductile iron cover and frame. Conversion factor based on estimated unit masses for plastic chamber based on technical specs from supplier and ductile iron cover and frame from supplier. Concrete elements for cover and frame support are assumed to be cast in-situ and thus included in bulk materials category; concrete elements here are excluded."]
[null,null,null,"600mm diameter, 1.2m - 3m depth","no.","Plastic",4.3389407430150442,"tCO2e/t",0.32569999999999999,"Carbon factor uses ICE V3: Plastic > Polypropylene for plastic module and ICE V3: Iron > General for covers and frames. Factor presented is weighted average based on estimated relative masses of plastic pot and ductile iron cover and frame. Conversion factor based on estimated unit masses for plastic chamber based on technical specs from supplier and ductile iron cover and frame from supplier. Concrete elements for cover and frame support are assumed to be cast in-situ and thus included in bulk materials category; concrete elements here are excluded."]
[null,null,"Gullies","Plastic gully pots - PVC","no.","Plastic",2.5952830188679243,"tCO2e/t",2.12E-2,"Carbon factor uses ICE V3: Plastic > PVC Injection Moulding for plastic pot and ICE V3: Iron > General for covers. Factor presented is weighted average based on relative estimated mass of plastic pot and ductile iron cover and frame. Conversion factor based on indicative plastic volume in gully pot DN150 and 300mm depth, PVC density of approximately 1.3t/m3, and indicative unit mass for DN150 grating from supplier."]
[null,null,null,"Plastic gully pots - PE","no.","Plastic",2.2959808612440189,"tCO2e/t",2.0899999999999998E-2,"Carbon factor uses ICE V3: Plastic > Polyethylene for plastic pot and ICE V3: Iron > General for covers. Factor presented is weighted average based on relative estimated mass of plastic pot and ductile iron cover and frame. Conversion factor based on indicative plastic volume in gully pot DN150 and 300mm depth, HDPE density of approximately 0.97t/m3, and indicative unit mass for DN150 grating from supplier."]
[null,null,null,"Plastic gully pots - PP","no.","Plastic",3.3129665071770336,"tCO2e/t",2.0899999999999998E-2,"Carbon factor uses ICE V3: Plastic > Polypropylene Injection Moulding for plastic pot and ICE V3: Iron > General for covers. Factor presented is weighted average based on relative estimated mass of plastic pot and ductile iron cover and frame. Conversion factor based on indicative plastic volume in gully pot DN150 and 300mm depth, PP density of approximately 0.946t/m3, and indicative unit mass for DN150 grating from supplier."]
[null,null,null,"Precast concrete gully pots (heavy duty)","no.","Concrete",0.18847311827956986,"tCO2e/t",0.46500000000000002,"Carbon factor uses ICE V3: Concrete > 40/50mpa + precast factor for precast concrete and ICE V3: Iron > General for covers. Factor presented is weighted average based on relative estimated mass of precast concrete and ductile iron cover and frame. Conversion factor based on indicative unit mass from supplier for typical concrete gully pot DN450 and 900mm depth and suitable cover slab, and indicative unit mass for iron cover and frame from supplier."]
[null,null,"Channel & slot drains","Plastic (Polypropylene) channel (light duty)","metres","Steel",3.371818181818182,"tCO2e/t",2.1999999999999999E-2,"Carbon factor uses ICE V3: Plastic > Polypropylene Injection Moulding for plastic channel and ICE V3: Iron > General for channel gratings. Factor presented is weighted average based on relative estimated mass of plastic and ductile iron. Conversion factor based on indicative unit mass from supplier for light duty polypropylene 150mm channel, and indicative unit mass for C250 rated ductile iron grating from supplier."]
[null,null,null,"Precast concrete channel (heavy duty)","metres","Concrete",0.30146666666666666,"tCO2e/t",0.15,"Carbon factor uses ICE V3: Precast RC40/50 with average UK additions and ICE V3: Iron > General for channel gratings. Factor presented is weighted average based on relative estimated mass of precast concrete and ductile iron. Conversion factor estimated based on technical specs from ACO for heavy duty 200mm channel, and indicative unit mass for D400 rated ductile iron grating from supplier."]
[null,null,"Headwalls","Brick (includes mortar)","no.","Brick and Blockwork",0.20526105940346864,"tCO2e/t",2.5834349999999998E-3,"Carbon factor taken directly from the ICE V3: Brick > General. Assumed weight of brick is 2.13kg and 10mm of mortar."]
[null,null,null,"In-situ reinforced concrete",null,"Please include this within the bulk materials category."]
[null,null,"Petrol interceptor","Plastic (Polyethylene)","no.","Plastic",2.54,"tCO2e/t",0.5,"Carbon factor taken directly from the ICE V3: Plastic > polyethylene. Weight of petrol interceptor taken to be 0.5 tonnes based on supplier information for a 52l/s bypass interceptor."]
[null,null,null,"Glass reinforced plastic GRP (Fiberglass)","no.","Plastic",8.1,"tCO2e/t",0.5,"Carbon factor taken directly from the ICE V3: Miscellaneous > GRP. Weight of petrol interceptor taken to be 0.5 tonnes based on supplier information for a 52 l/s bypass interceptor."]
[null,null,"Damp proof course and impermeable membrane","Polyethylene membrane","m2","Plastic",2.54,"tCO2e/t",9.5E-4,"Carbon factor taken from the ICE V3: Plastic > Polyethylene. Conversion factor has assumed membrane thickness is approximately 1mm. General PE value given. Density of PE = 950 kg/m3 used."]
[null,"Road Pavements","Bitumen / surface treatment","Straight-run bitumen","tonnes","Asphalt and bitumen",0.191,"tCO2e/t",1,"Carbon factor taken directly from the ICE V3: Bitumen > Straight-run bitumen."]
[null,null,null,"Bitumen emulsion","tonnes","Asphalt and bitumen",0.222,"tCO2e/t",1,"Carbon factor taken directly from the ICE V3: Bitumen > Bitumen emulsion. Include only the weight of set bitumen not water. "]
[null,null,null,"RAP (recycled asphalt pavement)","tonnes","Asphalt and bitumen",0,"tCO2e/t",1,"Carbon factor assumed to be zero for site won material. Additives or energy use to be recorded separately. "]
[null,null,null,"High friction surfacing","tonnes","Plastic",5.7,"tCO2/t",1,"Carbon factor taken directly from ICE V3: Sealants and adhesives > Epoxide resin. Note the carbon factor is for CO2 only and not CO2e."]
[null,null,"Kerb","Pre-cast concrete 125x150mm","metres","Concrete",0.13200000000000001,"tCO2e/t",4.3099999999999999E-2,"Carbon factor taken directly from the ICE V3: Concrete > Precast concrete paving (Blocks, Slabs, Channels and Kerbs). Dimensions of kerbs taken from supplier."]
[null,null,null,"Pre-cast concrete 125x255mm","metres","Concrete",0.13200000000000001,"tCO2e/t",7.3300000000000004E-2,"Carbon factor taken directly from the ICE V3: Concrete > Precast concrete paving (Blocks, Slabs, Channels and Kerbs). Dimensions of kerbs taken from supplier."]
[null,null,null,"Pre-cast concrete 125x305mm","metres","Concrete",0.13200000000000001,"tCO2e/t",8.77E-2,"Carbon factor taken directly from the ICE V3: Concrete > Precast concrete paving (Blocks, Slabs, Channels and Kerbs). Dimensions of kerbs taken from supplier."]
[null,null,"Road markings","Thermoplastic road marking","tonnes","Plastic",5.7,"tCO2/t",1,"Carbon factor taken directly from ICE V3: Sealants and adhesives > Epoxide resin."]
[null,"Street Furniture & Electrical Equipment","Traffic signs","Aluminium ","m2","Aluminium",6.67,"tCO2e/t",0.05,"Carbon factor taken directly from the ICE V3: Aluminium > Aluminium general European mix. Weight of sign taken from supplier to be approximately 50kg per m2."]
[null,null,null,"Steel","m2","Steel",2.76,"tCO2e/t",0.05,"Carbon factor taken directly from the ICE V3: World average Steel > Hot dipped galvanised steel. Weight of sign taken from supplier to be approximately 50kg per m2."]
[null,null,"Variable Message Signs (VMS) ","MS4 Sign","no.","Electrical Equipment",4.3230000000000004,"tCO2e/t",0.72499999999999998,"Carbon factor taken for ICE V3: Aluminium > Aluminium general. Copper >EU tube and sheet and Plastic > General Plastic. Supplier gives VMS MS4 to be 725kg. Assumed relative proportions are, 40% aluminium, 50% plastic and 10% copper."]
[null,null,null,"AMI (advanced motorway indicator)","no.","Electrical Equipment",4.3230000000000004,"tCO2e/t",9.9999999999999992E-2,"Carbon factor taken for ICE V3: Aluminium > general aluminium. Copper >EU tube and sheet and Plastic > General Plastic. Supplier gives AMI VMS to be 100kg. Assumed relative proportions are, 40% aluminium, 50% plastic and 10% copper."]
[null,null,"Road lighting and columns","LED light","no.","Aluminium",6.67,"tCO2e/t",1.2E-2,"Carbon factor taken from the ICE V3: Aluminium > General aluminium  general European mix. Supplier of highway LED lights gives a standard weight of 12kg."]
[null,null,null,"Steel columns 8m","no.","Steel",2.76,"tCO2e/t",0.13200000000000001,"Carbon factor taken from the ICE V3: World average Steel >  Hot dipped galvanised steel. The weight of a 8m steel column plus double lighting bracket is taken from a supplier to be 132kg."]
[null,null,null,"Steel columns 10m","no.","Steel",2.76,"tCO2e/t",0.189,"Carbon factor taken from the ICE V3: World average Steel >  Hot dipped galvanised steel. The weight of a 10m steel column plus double lighting bracket is taken from a supplier to be 189kg."]
[null,null,null,"Steel columns 12m","no.","Steel",2.76,"tCO2e/t",0.28799999999999998,"Carbon factor taken from the ICE V3: World average Steel >  Hot dipped galvanised steel. The weight of a 12m steel column plus double lighting bracket is taken from a supplier to be 288kg."]
[null,null,null,"Aluminium columns 8m","no.","Aluminium",6.67,"tCO2e/t",0.1,"Carbon factor taken from the ICE V3: Aluminium > Aluminium general  European mix. The weight of a 8m aluminium column plus double lighting bracket is taken from a supplier to be 100kg."]
[null,null,null,"Aluminium columns 10m","no.","Aluminium",6.67,"tCO2e/t",0.14199999999999999,"Carbon factor taken from the ICE V3: Aluminium > Aluminium general  European mix. The weight of a 10m aluminium column plus double lighting bracket is taken from a supplier to be 142kg."]
[null,null,null,"Aluminium columns 12m","no.","Aluminium",6.67,"tCO2e/t",0.20499999999999999,"Carbon factor taken from the ICE V3: Aluminium > Aluminium general European mix. The weight of a 12m aluminium column plus double lighting bracket is taken from a supplier to be 205kg."]
[null,null,"Cable","Armoured cable / Power cable","metres","Electrical Equipment",1.86,"tCO2e/t",7.3999999999999999E-4,"Carbon factor taken from ICE V3: Copper > EU tube and sheet, Steel > wire rod and plastic > general plastic. Weight of medium copper armoured power cable taken from supplier to be 0.74kg per meter. Weight of copper , steel and plastic assumed to be equal."]
[null,null,null,"Miscellaneous cable","metres","Electrical Equipment",1.86,"tCO2e/t",4.2499999999999998E-4,"Carbon factor taken from ICE V3: Copper > EU tube and sheet, Steel > wire rod and plastic > general plastic. Weight of medium copper armoured power cable taken from supplier to be 0.425kg per meter. Weight of copper , steel and plastic assumed to be equal."]
[null,null,"Plastic cable ducting","50mm diameter ","metres","Plastic",2.52,"tCO2e/t",3.9996401471015068E-4,"Carbon factor taken directly from the ICE V3: Plastic > HDPE Pipe. Conversion factor calculated from approximate 50mm pipe wall thickness of 5mm and HDPE density 0.97 t/m3."]
[null,null,null,"150mm diameter","metres","Plastic",2.52,"tCO2e/t",2.3616922773361266E-3,"Carbon factor taken directly from the ICE V3: Plastic > HDPE Pipe. Conversion factor calculated from approximate 150mm pipe wall thickness of 5mm and HDPE density 0.97 t/m3."]
[null,null,"Cabinets","Average roadside cabinet type","no.","Steel",2.76,"tCO2e/t",0.2,"Carbon factor taken from the ICE V3: Steel > Hot dipped galvanised steel. Weight of a 609 type cabinet taken from supplier to be an average cabinet of approximately 200kg."]
[null,null,"Cameras","Hard shoulder camera and steel pole","no.","Steel",2.76,"tCO2e/t",1.0960000000000001,"Carbon factor taken from the ICE V3: Steel > Hot dipped galvanised steel. The weight of a 12m steel column plus camera bracket is taken from a supplier to be 1.096t."]
[null,null,null,"Camera unit","no.","Electrical Equipment",3.206,"tCO2e/unit",2.5000000000000001E-2,"Carbon factor taken directly from the ICE V3: Plastic > General plastic, Steel; > wire rod. Weight of camera taken from supplier to be 25kg. Assumed main constituent materials to be 90% plastic and 10% steel."]
[null,null,"Marker posts/signs","Aluminium marker sign","no.","Aluminium",6.67,"tCO2e/t",0.01,"Carbon factor taken directly from the ICE V3: Aluminium > Aluminium general European mix. Weight of sign taken from supplier to be 10kg."]
[null,null,null,"Plastic marker post","no.","Plastic",3.31,"tCO2e/unit",1.63E-4,"Carbon factor taken directly from the ICE V3: Plastic > General plastic. Weight of  plastic per distance marker taken from Specification for Highways Works - Volume 3 E series drawings to be 163 grams."]
[null,null,"Road Studs","Any type","no.","Plastic",3.31,"tCO2e/unit",5.0000000000000002E-5,"carbon factor taken directly from the ICE V3: Plastic > General plastic. Weight of road stud taken as an average of multiple road stud designs from suppliers."]
[null,null,"Handrail","Galvanised steel","tonnes","Steel",2.76,"tCO2e/t",1,"Carbon factor taken directly from the ICE V3: Steel > Hot dipped galvanised steel."]
[null,"Civils Structures & Retaining Walls","Formwork / Shuttering","Plywood","m3","Timber",0.68100000000000005,"tCO2e/t",0.54,"Carbon factor taken directly from the ICE V3: Timber > Plywood."]
[null,null,null,"Softwood","m3","Timber",0.26300000000000001,"tCO2e/t",0.5,"Carbon factor taken directly from the ICE V3: Timber > Softwood no carbon storage. Alternative ICE carbon factors are presented for sustainable timber which may be used where a chain of custody of timber provides sufficient justification."]
[null,null,null,"Particle board","m3","Timber",0.66400000000000003,"tCO2e/t",0.75,"Carbon factor taken directly from the ICE V3: Timber > Particle board ."]
[null,null,null,"Plastic formwork (disposable)","tonnes","Plastic",2.52,"tCO2e/t",1,"Carbon factor taken directly from the ICE V3: Plastic > HDPE Pipe."]
[null,null,"Piling","Steel piles","tonnes","Steel",2.76,"tCO2e/t",1,"Carbon factor taken directly from the ICE V3: Steel > Hot dipped galvanised steel."]
[null,null,null,"Pre-cast concrete piles ","tonnes","Concrete",0.249,"tCO2e/t",1,"Carbon factor taken directly from the ICE V3: Concrete > Precast concrete beams and columns - steel reinforced with 100kg world average steel per m3."]
[null,null,null,"In-situ concrete piles","tonnes","Please include this within the bulk materials category under concrete."]
[null,null,"Retaining walls","Steel sheet piles","tonnes","Steel",2.76,"tCO2e/t",1,"Carbon factor taken directly from the ICE V3: Steel > Hot dipped galvanised steel."]
[null,null,null,"Plastic sheet piles","tonnes","Plastic",3.1,"tCO2e/t",1,"Carbon factor taken directly from the ICE V3: Plastic > PVC."]
[null,null,null,"Gabion wall (stone and wire mesh)","tonnes","Inert",8.5553339980059831E-2,"tCO2e/t",1.0029999999999999,"Carbon factor taken from the ICE V3: Stone > General. It has been assumed there is 3kg of steel per tonne of stone."]
[null,null,"Gantries","‘Bendy Pole’ MS4","no.","Steel",2.76,"tCO2e/t",5,"Carbon factor taken from the ICE V3: Steel > Hot dipped galvanised steel. Average weight taken from gantry fabricator to be 5 tonnes."]
[null,null,null,"9m ‘Flagpole’ MS4","no.","Steel",2.76,"tCO2e/t",8,"Carbon factor taken from the ICE V3: Steel > Hot dipped galvanised steel. Average weight taken from gantry fabricator to be 8 tonnes."]
[null,null,null,"14m ADS Tubular Cantilever","no.","Steel",2.76,"tCO2e/t",11.5,"Carbon factor taken from the ICE V3: Steel > Hot dipped galvanised steel. Average weight taken from gantry fabricator to be 11.5 tonnes."]
[null,null,null,"19m Sign/Signal Cantilever","no.","Steel",2.76,"tCO2e/t",21.5,"Carbon factor taken from the ICE V3: Steel > Hot dipped galvanised steel. Average weight taken from gantry fabricator to be 21.5 tonnes."]
[null,null,null,"Up to 33m Portal","no.","Steel",2.76,"tCO2e/t",22,"Carbon factor taken from the ICE V3: Steel > Hot dipped galvanised steel. Average weight taken from gantry fabricator to be 22 tonnes."]
[null,null,null,"33m to 45m Portal","no.","Steel",2.76,"tCO2e/t",25,"Carbon factor taken from the ICE V3: Steel > Hot dipped galvanised steel. Average weight taken from gantry fabricator to be 25 tonnes."]
[null,null,null,"45m to 57m Portal","no.","Steel",2.76,"tCO2e/t",40,"Carbon factor taken from the ICE V3: Steel > Hot dipped galvanised steel. Average weight taken from gantry fabricator to be 40 tonnes."]
[null,null,null,"57m plus Portal","no.","Steel",2.76,"tCO2e/t",85,"Carbon factor taken from the ICE V3: Steel > Hot dipped galvanised steel. Average weight taken from gantry fabricator to be 85 tonnes."]
[null,null,"Paint","General paint","Litres","Paint",3.76,"tCO2e/t",1.1999999999999999E-3,"Carbon factor taken from ICE V3: Paint > Solvent borne.  Conversion factor calculated from density of paint, 1.2kg/l."]
[null,null,"Steelwork","General steel","tonnes","Steel",1.55,"tCO2e/t",1,"Carbon factor taken directly from the ICE V3: Steel > Steel section."]
[null,null,null,"Galvanised steel","tonnes","Steel",2.76,"tCO2e/t",1,"Carbon factor taken directly from the ICE V3: Steel > Hot dipped galvanised steel."]
[null,null,"Pre-cast Concrete","General concrete","tonnes","Concrete",0.12186134453781512,"tCO2e/t",1,"Carbon factor taken directly from the ICE V3: Concrete > Precast Concrete Model > Concrete average UK mix"]
[null,null,null,"High strength concrete ","tonnes","Concrete",0.19078928332132999,"tCO2e/t",1,"Carbon factor taken directly from the ICE V3: Concrete > Precast Concrete Model >  RC40/50 with CEM I Cement"]
[null,null,"Bricks and blockwork","Concrete blocks (includes mortar)","no.","Brick and Blockwork",0.102719718527867,"tCO2e/t",1.6797400000000001E-2,"Carbon factors taken from the ICE V3: Average of concrete block types. Assumed weight of block is 15kg and 10mm of mortar."]
[null,null,null,"Standard bricks (includes mortar)","no.","Brick and Blockwork",0.20526105940346864,"tCO2e/t",2.5834349999999998E-3,"Carbon factor taken directly from the ICE V3: Brick > General. Assumed weight of brick is 2.13kg and 10mm of mortar."]
[null,null,"Decorative stone","General stone","tonnes","Inert",7.9000000000000001E-2,"tCO2e/t",1,"Carbon factor taken directly from the ICE V3: Stone > General."]
[null,"Fuel, Energy & Water","Site offices, site vehicles and plant energy ","Electricity","kWh","Energy and Fuel",0.20707428859060401,"kgCO2e/kWh",1E-3,"Carbon factor taken directly from Government Carbon Factors 2023. UK electricity."]
[null,null,null,"Gas ","kWh","Energy and Fuel",0.18292892617449666,"kgCO2e/kWh",1E-3,"Carbon factor taken directly from Government Carbon Factors 2023. Fuel > Natural Gas > Gross CV. Includes all well to tank emissions."]
[null,null,null,"Bottled Gas","kg","Energy and Fuel",0.18322852617449664,"kgCO2e/t",1E-3,"Carbon factor taken directly from Government Carbon Factors 2023. Fuel > Other petroleum Gas. Includes all well to tank emissions."]
[null,null,null,"Gas Oil (red diesel)","Litres","Energy and Fuel",2.7554089785234899,"kgCO2e/l",1E-3,"Carbon factor taken from Government Carbon Factors 2023. Fuel > Gas Oil. Includes all well to tank emissions."]
[null,null,null,"Petrol","Litres","Energy and Fuel",2.0974731275167788,"kgCO2e/l",1E-3,"Carbon factor taken from Government Carbon Factors 2023. Fuel > Petrol (average blend). Includes all well to tank emissions."]
[null,null,null,"Diesel","Litres","Energy and Fuel",2.5120638845637586,"kgCO2e/l",1E-3,"Carbon factor taken from Government Carbon Factors 2023. Fuel > Diesel (average blend). Includes all well to tank emissions."]
[null,null,null,"Biodiesel","Litres","Energy and Fuel",0.16750999999999999,"kgCO2e/l",1E-3,"Carbon factor taken from Government Carbon Factors 2023. Bioenergy > Biodiesel. Includes all well to tank emissions. Biogenic content of biofuels is classed as out of scopes."]
[null,null,null,"Biodiesel HVO","Litres","Energy and Fuel",3.5580000000000001E-2,"kgCO2e/l",1E-3,"Carbon factor taken from Government Carbon Factors 2023. Bioenergy > Biodiesel HVO. Includes all well to tank emissions. Biogenic content of biofuels is classed as out of scopes."]
[null,null,null,"Bioethanol","Litres","Energy and Fuel",9.0100000000000006E-3,"kgCO2e/l",1E-3,"Carbon factor taken from Government Carbon Factors 2023. Bioenergy > Bioethanol. Includes all well to tank emissions. Biogenic content of biofuels is classed as out of scopes."]
[null,null,null,"Biopropane (bioLPG)","Litres","Energy and Fuel",2.14E-3,"kgCO2e/l",1E-3,"Carbon factor taken from Government Carbon Factors 2023. Bioenergy > Biopropane. Includes all well to tank emissions. Biogenic content of biofuels is classed as out of scopes."]
[null,null,null,"Biomethane (compressed)","kg","Energy and Fuel",5.2100000000000002E-3,"kgCO2e/kg",1E-3,"Carbon factor taken from Government Carbon Factors 2023. Bioenergy > Biomethane (compressed). Includes all well to tank emissions. Biogenic content of biofuels is classed as out of scopes."]
[null,null,null,"Biomethane (liquified)","kg","Energy and Fuel",5.3400000000000001E-3,"kgCO2e/kg",1E-3,"Carbon factor taken from Government Carbon Factors 2023. Bioenergy > Biomethane (liquified). Includes all well to tank emissions. Biogenic content of biofuels is classed as out of scopes."]
[null,null,null,"Biomethanol ","Litres","Energy and Fuel",6.6899999999999998E-3,"kgCO2e/l",1E-3,"Carbon factor taken from Government Carbon Factors 2023. Bioenergy > Biomethanol. Includes all well to tank emissions. Biogenic content of biofuels is classed as out of scopes."]
[null,null,null,"Fuel Oil ","Litres","Energy and Fuel",3.1749249825503401,"kgCO2e/l",1E-3,"Carbon factor taken from Government Carbon Factors 2023. Fuel > Fuel Oil.  Includes all well to tank emissions."]
[null,null,null,"Burning Oil / Kerosene","Litres","Energy and Fuel",2.5401558563758391,"kgCO2e/l",1E-3,"Carbon factor taken from Government Carbon Factors 2023. Fuel > Burning Oil.  Includes all well to tank emissions."]
[null,null,"Water","Mains ","Litres","Energy and Fuel",1.7668454657901399E-4,"kgCO2e/l",1E-3,"Carbon factor taken directly from Government Carbon Factors 2023 > Mains water."]
[null,null,null,"Abstracted","Litres","Energy and Fuel",0,"kgCO2e/l",1,"Embodied carbon of site abstracted water assumed to be zero. Movement around site captured by fuel use."]
[null,null,null,"Transported (Tanker)","Litres","Energy and Fuel",1.7668454657901399E-4,"kgCO2e/l",1E-3,"Carbon factor taken directly from Government Carbon Factors 2023 > Mains water."]
[null,"Business and employee transport","Business travel  ","Private vehicle (any type)","km","Transport",0.16663858791946309,"kgCO2e/km",1E-3,"Carbon factor of unknown average car emissions from Government Carbon Factors 2023. Conversion factor for kg into tonnes."]
[null,null,null,"Bus/coach","km","Transport",0.10215039463087248,"kgCO2e/km",1E-3,"Carbon factor taken directly from Government Carbon Factors 2023. Business Travel > Average Bus. Conversion factor for kg into tonnes."]
[null,null,null,"Train ","km","Transport",3.5462963758389261E-2,"kgCO2e/km",1E-3,"Carbon factor taken directly from Government Carbon Factors 2023. Business Travel > National rail. Conversion factor for kg into tonnes."]
[null,null,"Employee commuting","Private vehicle (any type)","km","Transport",0.16686699999999999,"kgCO2e/km",1E-3,"Carbon factor is an average of the diesel and petrol average car emissions from Government Carbon Factors 2023. Conversion factor for kg into tonnes."]
[null,null,null,"Bus/coach","km","Transport",0.10215039463087248,"kgCO2e/km",1E-3,"Carbon factor taken directly from Government Carbon Factors 2023. Business Travel > Average Bus. Conversion factor for kg into tonnes."]
[null,null,null,"Train ","km","Transport",3.5462963758389261E-2,"kgCO2e/km",1E-3,"Carbon factor taken directly from Government Carbon Factors 2023. Business Travel > National rail. Conversion factor for kg into tonnes."]
[null,null,"Other transport","HGV (diesel, 0% laden)","km","Transport",0.64257847785234889,"kgCO2e/km",1E-3,"Carbon factor taken directly from Government Carbon Factors 2023: Freighting goods > All HGVs > 0% Laden"]
[null,null,null,"HGV (diesel, average laden)","km","Transport",0.87204847785234896,"kgCO2e/km",1E-3,"Carbon factor taken directly from Government Carbon Factors 2023: Freighting goods > All HGVs > Average Laden"]
[null,null,null,"Van (average)","km","Transport",0.23128402684563801,"kgCO2e/km",1E-3,"Carbon factor taken directly from Government Carbon Factors 2023: Freighting goods > Vans > Average Unknown"]
[null,null,null,"Van (electric)","km","Transport",7.3455241610738256E-2,"kgCO2e/km",1E-3,"Carbon factor taken directly from Government Carbon Factors 2023: Freighting goods > Vans > Average Battery Electric"]
[null,null,null,"Car (average)","km","Transport",0.16663858791946309,"kgCO2e/km",1E-3,"Carbon factor taken directly from Government Carbon Factors 2023: Business Travel > Cars > Average Unknown"]
[null,null,null,"Car (electric)","km","Transport",5.4796441610738253E-2,"kgCO2e/km",1E-3,"Carbon factor taken directly from Government Carbon Factors 2023: Business Travel > Cars > Average Battery Electric"]
[null,null,null,"Car (plug in hybrid electric)","km","Transport",9.3916412080536915E-2,"kgCO2e/km",1E-3,"Carbon factor taken directly from Government Carbon Factors 2023: Business Travel > Cars > Plug-in Hybrid Electric Vehicle"]
[null,null,null,"Car (hybrid)","km","Transport",0.11897858791946307,"kgCO2e/km",1E-3,"Carbon factor taken directly from Government Carbon Factors 2023: Business Travel > Cars > Hybrid"]
[null,"Waste","Mixed construction & demolition waste","Recycled","tonnes","Waste",9.8499999999999998E-4,"tCO2e/t",1,"Carbon factor taken directly from Government Carbon Factors 2023: Waste disposal > Average Construction"]
[null,null,null,"Incineration (with energy recovery)","tonnes","Waste",2.1280807236876299E-2,"tCO2e/t",1,"Carbon factor taken directly from Government Carbon Factors 2023: Waste disposal > Average of all construction wastes"]
[null,null,null,"Landfill","tonnes","Waste",0.10299999999999999,"tCO2e/t",1,"Carbon factor taken directly from Government Carbon Factors 2023: Waste disposal > Average of all construction wastes"]
[null,null,"General Office Waste","Recycled","tonnes","Waste",2.128080723687633E-2,"tCO2e/t",1,"Carbon factor taken directly from Government Carbon Factors 2023: Waste disposal > Refuse > Commercial and industrial."]
[null,null,null,"Incineration (with energy recovery)","tonnes","Waste",2.128080723687633E-2,"tCO2e/t",1,"Carbon factor taken directly from Government Carbon Factors 2023: Waste disposal > Refuse > Commercial and industrial."]
[null,null,null,"Landfill","tonnes","Waste",0.52033499999999999,"tCO2e/t",1,"Carbon factor taken directly from Government Carbon Factors 2023: Waste disposal > Refuse > Commercial and industrial."]
[null,null,"Organic waste","Incineration (with energy recovery)","tonnes","Waste",2.128080723687633E-2,"tCO2e/t",1,"Carbon factor taken directly from Government Carbon Factors 2023: Waste disposal > Organic garden waste > combustion."]
[null,null,null,"Composting","tonnes","Waste",8.9124217106289986E-3,"tCO2e/t",1,"Carbon factor taken directly from Government Carbon Factors 2023: Waste disposal > Organic garden waste > composting."]
[null,null,null,"Landfill","tonnes","Waste",0.64660659082531513,"tCO2e/t",1,"Carbon factor taken directly from Government Carbon Factors 2023: Waste disposal > Organic garden waste > Landfill."]
[null,null,"Plastic ","Recycled","tonnes","Waste",2.128080723687633E-2,"tCO2e/t",1,"Carbon factor taken directly from Government Carbon Factors 2023. Waste disposal > Plastic > Average plastic"]
[null,null,null,"Incineration (with energy recovery)","tonnes","Waste",2.128080723687633E-2,"tCO2e/t",1,"Carbon factor taken directly from Government Carbon Factors 2023. Waste disposal > Plastic > Average plastic"]
[null,null,null,"Landfill","tonnes","Waste",8.8841301316268644E-3,"tCO2e/t",1,"Carbon factor taken directly from Government Carbon Factors 2023. Waste disposal > Plastic > Average plastic"]
[null,null,"Glass","Recycled","tonnes","Waste",2.128080723687633E-2,"tCO2e/t",1,"Carbon factor taken directly from Government Carbon Factors 2023. Waste disposal > Other > Glass"]
[null,null,null,"Incineration (with energy recovery)","tonnes","Waste",2.128080723687633E-2,"tCO2e/t",1,"Carbon factor taken directly from Government Carbon Factors 2023. Waste disposal > Other > Glass"]
[null,null,null,"Landfill","tonnes","Waste",8.8841301316268644E-3,"tCO2e/t",1,"Carbon factor taken directly from Government Carbon Factors 2023. Waste disposal > Other > Glass"]
[null,null,"Concrete, brick, tiles and ceramics","Recycled","tonnes","Waste",9.8491172324161069E-4,"tCO2e/t",1,"Carbon factor taken directly from Government Carbon Factors 2023. Waste disposal > Construction > Concrete / Brick"]
[null,null,null,"Reuse off site","tonnes","Waste",0,"tCO2e/t",1,"The carbon emissions factor is zero and no direct carbon emissions will be accounted for. Transport emissions should still be captured."]
[null,null,null,"Landfill","tonnes","Waste",1.2340139100536914E-3,"tCO2e/t",1,"Carbon factor taken directly from Government Carbon Factors 2023. Waste disposal > Construction > Concrete / Brick"]
[null,null,"Wood/Timber","Recycled","tonnes","Waste",2.128080723687633E-2,"tCO2e/t",1,"Carbon factor taken directly from Government Carbon Factors 2023. Waste disposal > Construction > Wood"]
[null,null,null,"Reuse off site","tonnes","Waste",0,"tCO2e/t",1,"The carbon emissions factor is zero and no direct carbon emissions will be accounted for. Transport emissions should still be captured."]
[null,null,null,"Incineration (with energy recovery)","tonnes","Waste",2.128080723687633E-2,"tCO2e/t",1,"Carbon factor taken directly from Government Carbon Factors 2023. Waste disposal > Construction > Wood"]
[null,null,null,"Composting","tonnes","Waste",8.9124217106289986E-3,"tCO2e/t",1,"Carbon factor taken directly from Government Carbon Factors 2023. Waste disposal > Construction > Wood"]
[null,null,null,"Landfill","tonnes","Waste",0.92524450083024101,"tCO2e/t",1,"Carbon factor taken directly from Government Carbon Factors 2023. Waste disposal > Construction > Wood"]
[null,null,"Bituminous mixtures","Recycled","tonnes","Waste",9.8491172324161069E-4,"tCO2e/t",1,"Carbon factor taken directly from Government Carbon Factors 2023. Waste disposal > Construction > Asphalt"]
[null,null,null,"Reuse off site","tonnes","Waste",0,"tCO2e/t",1,"The carbon emissions factor is zero and no direct carbon emissions will be accounted for. Transport emissions should still be captured."]
[null,null,null,"Landfill","tonnes","Waste",1.2340139100536914E-3,"tCO2e/t",1,"Carbon factor taken directly from Government Carbon Factors 2023. Waste disposal > Construction > Asphalt"]
[null,null,"Mixed metals","Recycled","tonnes","Waste",2.128080723687633E-2,"tCO2e/t",1,"Carbon factor taken directly from Government Carbon Factors 2023. Waste disposal > Metal"]
[null,null,null,"Incineration (with energy recovery)","tonnes","Waste",2.128080723687633E-2,"tCO2e/t",1,"Carbon factor taken directly from Government Carbon Factors 2023. Waste disposal > Metal"]
[null,null,null,"Landfill","tonnes","Waste",8.8841301316268644E-3,"tCO2e/t",1,"Carbon factor taken directly from Government Carbon Factors 2023. Waste disposal > Metal"]
[null,null,"WEEE","Recycled","tonnes","Waste",2.128080723687633E-2,"tCO2e/t",1,"Carbon factor taken directly from Government Carbon Factors 2023. Waste disposal > Electrical Items"]
[null,null,null,"Incineration (with energy recovery)","tonnes","Waste",2.128080723687633E-2,"tCO2e/t",1,"Carbon factor taken directly from Government Carbon Factors 2023. Waste disposal > Electrical Items"]
[null,null,null,"Landfill","tonnes","Waste",8.8841301316268644E-3,"tCO2e/t",1,"Carbon factor taken directly from Government Carbon Factors 2023. Waste disposal > Electrical Items"]
[null,null,"Paper and cardboard","Recycled","tonnes","Waste",2.128080723687633E-2,"tCO2e/t",1,"Carbon factor taken directly from Government Carbon Factors 2023. Waste disposal > Paper and Board mixed"]
[null,null,null,"Incineration (with energy recovery)","tonnes","Waste",2.1280193798449608E-2,"tCO2e/t",1,"Carbon factor taken directly from Government Carbon Factors 2023. Waste disposal > Paper and Board mixed"]
[null,null,null,"Landfill","tonnes","Waste",1.1643904235903739,"tCO2e/t",1,"Carbon factor taken directly from Government Carbon Factors 2023. Waste disposal > Paper and Board mixed"]
[null,null,"Aggregate and soil exported off-site","Recycled","tonnes","Waste",9.8491172324161069E-4,"tCO2e/t",1,"Carbon factor taken directly from Government Carbon Factors 2023. Waste disposal > Aggregates"]
[null,null,null,"Re-use off site","tonnes","Waste",0,"tCO2e/t",1,"The carbon emissions factor is zero and no direct carbon emissions will be accounted for. Transport emissions should still be captured."]
[null,null,null,"Landfill","tonnes","Waste",1.2340139100536914E-3,"tCO2e/t",1,"Carbon factor taken directly from Government Carbon Factors 2023. Waste disposal > Aggregates"]
[null,null,"Oil and Liquid fuel Waste","Recycled","tonnes","Waste",2.128080723687633E-2,"tCO2e/t",1,"Carbon factor taken directly from Government Carbon Factors 2023. Waste disposal > Mineral Oil > Recycled."]
[null,null,null,"Incineration (with energy recovery)","tonnes","Waste",2.128080723687633E-2,"tCO2e/t",1,"Carbon factor taken directly from Government Carbon Factors 2023. Waste disposal > Mineral Oil > Combustion"]
[null,null,"Hazardous waste ","Incineration (with energy recovery)","tonnes","Waste",2.1294E-2,"tCO2e/t",1,"Carbon factor taken directly from Government Carbon Factors 2023: Waste disposal > Average incineration factor."]
[null,null,null,"Landfill","tonnes","Waste",8.8832713178294571E-3,"tCO2e/t",1,"Carbon factor taken directly from Government Carbon Factors 2023: Waste disposal > Batteries"]
[null,null,"Waste water","Waste water treatment","Litres","Energy and Fuel",2.0131829171065601E-4,"kgCO2e/l",1E-3,"Carbon factor taken directly from Government Carbon Factors 2023 > Water treatment"]
[null,null,"Gully Waste and road sweepings","Recycled","tonnes","Waste",9.8491172324161069E-4,"tCO2e/t",1,"Carbon factor taken directly from Government Carbon Factors 2023: Waste disposal > Average Construction"]
[null,null,null,"Incineration (with energy recovery)","tonnes","Waste",2.1280807236876299E-2,"tCO2e/t",1,"Carbon factor taken directly from Government Carbon Factors 2023: Waste disposal > Average of all construction wastes"]
[null,null,null,"Landfill","tonnes","Waste",0.103006,"tCO2e/t",1,"Carbon factor taken directly from Government Carbon Factors 2023: Waste disposal > Average of all construction wastes"]

{"sheet":"Emissions Factors Lookup","index":7,"n_rows":372,"n_cols":22,"rows_kept":372,"cut":false,"hidden":true,"merged":[]}
[{"$f":"'Emissions Factors'!A3","v":0},{"$f":"'Emissions Factors'!B3","v":"Emissions and Conversion Factors"},{"$f":"'Emissions Factors'!C3","v":0},{"$f":"'Emissions Factors'!D3","v":0},null,null,null,null,null,null,{"$f":"IF('Emissions Factors'!E3=\"\",\"\",'Emissions Factors'!E3)","v":""},{"$f":"IF('Emissions Factors'!F3=\"\",\"\",'Emissions Factors'!F3)","v":""},{"$f":"IF('Emissions Factors'!G3=\"\",\"\",'Emissions Factors'!G3)","v":""},{"$f":"IF('Emissions Factors'!H3=\"\",\"\",'Emissions Factors'!H3)","v":""},null,{"$f":"IF('Emissions Factors'!J3=\"\",\"\",'Emissions Factors'!J3)","v":""},null,{"$f":"IF('Emissions Factors'!K3=\"\",\"\",'Emissions Factors'!K3)","v":""}]
[{"$f":"'Emissions Factors'!A4","v":0},{"$f":"'Emissions Factors'!B4","v":"Materials emissions factors have been taken from the Inventory of Carbon and Energy (ICE) version 3 (please note that some of the emissions factors in version 3 are the same as version 2). Energy, waste and transport emissions factors have been taken from the UK Government emission conversion factors for greenhouse gas company reporting 2023 (BEIS: Department for Business, Energy & Industrial Strategy). Where an input unit is not required as a weight, such as a number (no.) of products or metres of product, a conversion factor has been  applied. This is based upon the weight of a product calculated using suppliers specifications and technical drawings. When a product contains multiple materials a weighted average carbon factor has been calculated using multiple factors from the ICE V3. ICE carbon factors used within this tool include the embodied carbon within the raw materials but do not account for the carbon associated with the manufacture or processing of the raw materials into a product prior to their purchase by the reporting contractor. Well to tank emissions, also known as upstream or indirect emissions, is an average of all the GHG emissions released into the atmosphere from the production, processing and delivery of a fuel. Well to tank emissions have been included for fuels directly used on site, but not for fuels used by third parties transporting materials to and from the site."},{"$f":"'Emissions Factors'!C4","v":0},{"$f":"'Emissions Factors'!D4","v":0},null,null,null,null,null,null,{"$f":"IF('Emissions Factors'!E4=\"\",\"\",'Emissions Factors'!E4)","v":""},{"$f":"IF('Emissions Factors'!F4=\"\",\"\",'Emissions Factors'!F4)","v":""},{"$f":"IF('Emissions Factors'!G4=\"\",\"\",'Emissions Factors'!G4)","v":""},{"$f":"IF('Emissions Factors'!H4=\"\",\"\",'Emissions Factors'!H4)","v":""},{"$f":"IF('Emissions Factors'!I4=\"\",\"\",'Emissions Factors'!I4)","v":""},{"$f":"IF('Emissions Factors'!J4=\"\",\"\",'Emissions Factors'!J4)","v":""},null,{"$f":"IF('Emissions Factors'!K4=\"\",\"\",'Emissions Factors'!K4)","v":""}]
[{"$f":"'Emissions Factors'!A5","v":0},{"$f":"'Emissions Factors'!B5","v":"Category"},{"$f":"'Emissions Factors'!C5","v":"Item"},{"$f":"'Emissions Factors'!D5","v":"Material/Product"},null,null,{"$f":"IF(B3=0,G2,B3)","v":"Category"},{"$f":"IF(C3=0,H2,C3)","v":"Item"},{"$f":"IF(D3=0,I2,D3)","v":"Material/Product"},null,{"$f":"IF('Emissions Factors'!E5=\"\",\"\",'Emissions Factors'!E5)","v":"Input Unit"},{"$f":"IF('Emissions Factors'!F5=\"\",\"\",'Emissions Factors'!F5)","v":"Material Type"},{"$f":"IF('Emissions Factors'!G5=\"\",\"\",'Emissions Factors'!G5)","v":"Carbon Factor"},{"$f":"IF('Emissions Factors'!H5=\"\",\"\",'Emissions Factors'!H5)","v":"Carbon Factor Units"},{"$f":"IF('Emissions Factors'!I5=\"\",\"\",'Emissions Factors'!I5)","v":"Conversion Factor"},{"$f":"IF('Emissions Factors'!J5=\"\",\"\",'Emissions Factors'!J5)","v":"Methodology"},null,"0 Means Transport Emissions Not Required"]
[{"$f":"'Emissions Factors'!#REF!","v":{"$error":"#REF!"}},{"$f":"'Emissions Factors'!B6","v":"Transport factors "},{"$f":"'Emissions Factors'!C6","v":"Laden"},{"$f":"'Emissions Factors'!D6","v":"Van"},null,null,{"$f":"IF(B4=0,G3,B4)","v":"Transport factors "},{"$f":"IF(C4=0,H3,C4)","v":"Laden"},{"$f":"IF(D4=0,I3,D4)","v":"Van"},{"$f":"H4&I4","v":"LadenVan"},{"$f":"IF('Emissions Factors'!E6=\"\",\"\",'Emissions Factors'!E6)","v":"km"},{"$f":"IF('Emissions Factors'!F6=\"\",\"\",'Emissions Factors'!F6)","v":"Energy and Fuel"},{"$f":"IF('Emissions Factors'!G6=\"\",\"\",'Emissions Factors'!G6)","v":5.705962671140939E-4},{"$f":"IF('Emissions Factors'!H6=\"\",\"\",'Emissions Factors'!H6)","v":"tCO2e/t.km"},1,{"$f":"IF('Emissions Factors'!J6=\"\",'Emissions Factors'!F6,'Emissions Factors'!J6)","v":"Carbon factor taken directly from Government Carbon Factors 2023:  Freighting Goods > Average van > Diesel >  tonne/km."},null,1,null,null,{"$f":"LEN(H4)","v":5},{"$f":"LEN(I4)","v":3}]
[{"$f":"'Emissions Factors'!#REF!","v":{"$error":"#REF!"}},{"$f":"'Emissions Factors'!B7","v":0},{"$f":"'Emissions Factors'!C7","v":0},{"$f":"'Emissions Factors'!D7","v":"HGV"},null,null,{"$f":"IF(B5=0,G4,B5)","v":"Transport factors "},{"$f":"IF(C5=0,H4,C5)","v":"Laden"},{"$f":"IF(D5=0,I4,D5)","v":"HGV"},{"$f":"H5&I5","v":"LadenHGV"},{"$f":"IF('Emissions Factors'!E7=\"\",\"\",'Emissions Factors'!E7)","v":"km"},{"$f":"IF('Emissions Factors'!F7=\"\",\"\",'Emissions Factors'!F7)","v":"Energy and Fuel"},{"$f":"IF('Emissions Factors'!G7=\"\",\"\",'Emissions Factors'!G7)","v":9.6957467114094001E-5},{"$f":"IF('Emissions Factors'!H7=\"\",\"\",'Emissions Factors'!H7)","v":"tCO2e/t.km"},1,{"$f":"IF('Emissions Factors'!J7=\"\",'Emissions Factors'!F7,'Emissions Factors'!J7)","v":"Carbon factor taken directly from Government Carbon Factors 2023:  Freighting Goods > Average HGV >  Average laden > tonne/km."},null,1,null,null,{"$f":"LEN(H5)","v":5},{"$f":"LEN(I5)","v":3}]
[{"$f":"'Emissions Factors'!#REF!","v":{"$error":"#REF!"}},{"$f":"'Emissions Factors'!B8","v":0},{"$f":"'Emissions Factors'!C8","v":0},{"$f":"'Emissions Factors'!D8","v":"Rail"},null,null,"Transport factors ","Laden","Rail","LadenRail",{"$f":"IF('Emissions Factors'!E8=\"\",\"\",'Emissions Factors'!E8)","v":"km"},{"$f":"IF('Emissions Factors'!F8=\"\",\"\",'Emissions Factors'!F8)","v":"Energy and Fuel"},{"$f":"IF('Emissions Factors'!G8=\"\",\"\",'Emissions Factors'!G8)","v":2.7788071140939601E-5},{"$f":"IF('Emissions Factors'!H8=\"\",\"\",'Emissions Factors'!H8)","v":"tCO2e/t.km"},1,{"$f":"IF('Emissions Factors'!J8=\"\",'Emissions Factors'!F8,'Emissions Factors'!J8)","v":"Carbon factor taken directly from Government Carbon Factors 2023: Freighting Goods > Rail > tonne/km."},null,1,null,null,5,4]
[{"$f":"'Emissions Factors'!#REF!","v":{"$error":"#REF!"}},{"$f":"'Emissions Factors'!B9","v":0},{"$f":"'Emissions Factors'!C9","v":0},{"$f":"'Emissions Factors'!D9","v":"Ship"},null,null,"Transport factors ","Laden","Ship","LadenShip",{"$f":"IF('Emissions Factors'!E9=\"\",\"\",'Emissions Factors'!E9)","v":"km"},{"$f":"IF('Emissions Factors'!F9=\"\",\"\",'Emissions Factors'!F9)","v":"Energy and Fuel"},{"$f":"IF('Emissions Factors'!G9=\"\",\"\",'Emissions Factors'!G9)","v":1.3212768590603999E-5},{"$f":"IF('Emissions Factors'!H9=\"\",\"\",'Emissions Factors'!H9)","v":"tCO2e/t.km"},1,{"$f":"IF('Emissions Factors'!J9=\"\",'Emissions Factors'!F9,'Emissions Factors'!J9)","v":"Carbon factor taken directly from Government Carbon Factors 2023:  Freighting Goods > Cargo Ship > General Cargo > Average > tonne/km."},null,1,null,null,5,4]
[{"$f":"'Emissions Factors'!#REF!","v":{"$error":"#REF!"}},{"$f":"'Emissions Factors'!B10","v":0},{"$f":"'Emissions Factors'!C10","v":"Unladen"},{"$f":"'Emissions Factors'!D10","v":"Van"},null,null,{"$f":"IF(B8=0,G7,B8)","v":"Transport factors "},{"$f":"IF(C8=0,H7,C8)","v":"Unladen"},{"$f":"IF(D8=0,I7,D8)","v":"Van"},{"$f":"H8&I8","v":"UnladenVan"},{"$f":"IF('Emissions Factors'!E10=\"\",\"\",'Emissions Factors'!E10)","v":"km"},{"$f":"IF('Emissions Factors'!F10=\"\",\"\",'Emissions Factors'!F10)","v":"Energy and Fuel"},{"$f":"IF('Emissions Factors'!G10=\"\",\"\",'Emissions Factors'!G10)","v":2.3128402684563802E-4},{"$f":"IF('Emissions Factors'!H10=\"\",\"\",'Emissions Factors'!H10)","v":"tCO2e/km"},1,{"$f":"IF('Emissions Factors'!J10=\"\",'Emissions Factors'!F10,'Emissions Factors'!J10)","v":"Carbon factor taken from Government Carbon Factors 2023:  Delivery Vehicles > Average van > Diesel > km.  Assumed average load is 1 tonnes to calculate number of return journeys."},null,2,null,null,{"$f":"LEN(H8)","v":7},{"$f":"LEN(I8)","v":3}]
[{"$f":"'Emissions Factors'!#REF!","v":{"$error":"#REF!"}},{"$f":"'Emissions Factors'!B11","v":0},{"$f":"'Emissions Factors'!C11","v":0},{"$f":"'Emissions Factors'!D11","v":"HGV"},null,null,"Transport factors ","Unladen","HGV","UnladenHGV",{"$f":"IF('Emissions Factors'!E11=\"\",\"\",'Emissions Factors'!E11)","v":"km"},{"$f":"IF('Emissions Factors'!F11=\"\",\"\",'Emissions Factors'!F11)","v":"Energy and Fuel"},{"$f":"IF('Emissions Factors'!G11=\"\",\"\",'Emissions Factors'!G11)","v":8.5677130380313194E-5},{"$f":"IF('Emissions Factors'!H11=\"\",\"\",'Emissions Factors'!H11)","v":"tCO2e/km"},1,{"$f":"IF('Emissions Factors'!J11=\"\",'Emissions Factors'!F11,'Emissions Factors'!J11)","v":"Carbon factor taken from Government Carbon Factors 2023:  Delivery Vehicle > Average HGV >  0% laden > km. Assumed average load is 7.5 tonnes to calculate number of return journeys."},null,3,null,null,7,3]
[null,{"$f":"'Emissions Factors'!B12","v":0},{"$f":"'Emissions Factors'!C12","v":0},{"$f":"'Emissions Factors'!D12","v":"Rail"},null,null,"Transport factors ","Unladen","Rail","UnladenRail",{"$f":"IF('Emissions Factors'!E12=\"\",\"\",'Emissions Factors'!E12)","v":"km"},{"$f":"IF('Emissions Factors'!F12=\"\",\"\",'Emissions Factors'!F12)","v":"Energy and Fuel"},{"$f":"IF('Emissions Factors'!G12=\"\",\"\",'Emissions Factors'!G12)","v":0},{"$f":"IF('Emissions Factors'!H12=\"\",\"\",'Emissions Factors'!H12)","v":"tCO2e/t.km"},1,{"$f":"IF('Emissions Factors'!J12=\"\",'Emissions Factors'!F12,'Emissions Factors'!J12)","v":"Assumed rail transport returns laden for purposes not related to the reporting contract and thus a zero carbon factor is applied."},null,1]
[null,{"$f":"'Emissions Factors'!B13","v":0},{"$f":"'Emissions Factors'!C13","v":0},{"$f":"'Emissions Factors'!D13","v":"Ship"},null,null,"Transport factors ","Unladen","Ship","UnladenShip",{"$f":"IF('Emissions Factors'!E13=\"\",\"\",'Emissions Factors'!E13)","v":"km"},{"$f":"IF('Emissions Factors'!F13=\"\",\"\",'Emissions Factors'!F13)","v":"Energy and Fuel"},{"$f":"IF('Emissions Factors'!G13=\"\",\"\",'Emissions Factors'!G13)","v":0},{"$f":"IF('Emissions Factors'!H13=\"\",\"\",'Emissions Factors'!H13)","v":"tCO2e/t.km"},1,{"$f":"IF('Emissions Factors'!J13=\"\",'Emissions Factors'!F13,'Emissions Factors'!J13)","v":"Assumed ship transport returns laden for purposes not related to the reporting contract and thus  a zero carbon factor is applied."},null,1]
[{"$f":"'Emissions Factors'!#REF!","v":{"$error":"#REF!"}},{"$f":"'Emissions Factors'!B14","v":"Bulk Materials"},{"$f":"'Emissions Factors'!C14","v":"Ready mix concrete "},{"$f":"'Emissions Factors'!D14","v":"General "},null,null,"Bulk Materials","Ready mix concrete ","General ","Ready mix concrete General ",{"$f":"IF('Emissions Factors'!E14=\"\",\"\",'Emissions Factors'!E14)","v":"m3"},{"$f":"IF('Emissions Factors'!F14=\"\",\"\",'Emissions Factors'!F14)","v":"Concrete"},{"$f":"IF('Emissions Factors'!G14=\"\",\"\",'Emissions Factors'!G14)","v":0.10336134453781512},{"$f":"IF('Emissions Factors'!H14=\"\",\"\",'Emissions Factors'!H14)","v":"tCO2e/t"},{"$f":"IF('Emissions Factors'!I14=\"\",\"\",'Emissions Factors'!I14)","v":2.4},{"$f":"IF('Emissions Factors'!J14=\"\",'Emissions Factors'!F14,'Emissions Factors'!J14)","v":"Carbon factor taken directly from the ICE V3: Concrete > General. Please note that ICE strongly recommend to avoid selecting a 'general' value for concrete. Selecting data for a specific cement content in the concrete type will give much greater accuracy. Please either specify cement content used by selecting the appropriate option from the tool or enter a custom carbon factor if an appropriate option is not available. If additional cement is added to ready mix concrete this should be added separately in the cement item."},null,1,null,null,19,8]
[{"$f":"'Emissions Factors'!#REF!","v":{"$error":"#REF!"}},{"$f":"'Emissions Factors'!B15","v":0},{"$f":"'Emissions Factors'!C15","v":0},{"$f":"'Emissions Factors'!D15","v":"General - C6/8 (Gen 0)"},null,null,"Bulk Materials","Ready mix concrete ","General - C6/8 (Gen 0)","Ready mix concrete General - C6/8 (Gen 0)",{"$f":"IF('Emissions Factors'!E15=\"\",\"\",'Emissions Factors'!E15)","v":"m3"},{"$f":"IF('Emissions Factors'!F15=\"\",\"\",'Emissions Factors'!F15)","v":"Concrete"},{"$f":"IF('Emissions Factors'!G15=\"\",\"\",'Emissions Factors'!G15)","v":6.541385563785411E-2},{"$f":"IF('Emissions Factors'!H15=\"\",\"\",'Emissions Factors'!H15)","v":"tCO2e/t"},{"$f":"IF('Emissions Factors'!I15=\"\",\"\",'Emissions Factors'!I15)","v":2.4},{"$f":"IF('Emissions Factors'!J15=\"\",'Emissions Factors'!F15,'Emissions Factors'!J15)","v":"Carbon factor taken directly from the ICE V3: Concrete > Gen 0"},null,1,null,null,19,22]
[{"$f":"'Emissions Factors'!#REF!","v":{"$error":"#REF!"}},{"$f":"'Emissions Factors'!B16","v":0},{"$f":"'Emissions Factors'!C16","v":0},{"$f":"'Emissions Factors'!D16","v":"General - C8/10 (Gen 1)"},null,null,"Bulk Materials","Ready mix concrete ","General - C8/10 (Gen 1)","Ready mix concrete General - C8/10 (Gen 1)",{"$f":"IF('Emissions Factors'!E16=\"\",\"\",'Emissions Factors'!E16)","v":"m3"},{"$f":"IF('Emissions Factors'!F16=\"\",\"\",'Emissions Factors'!F16)","v":"Concrete"},{"$f":"IF('Emissions Factors'!G16=\"\",\"\",'Emissions Factors'!G16)","v":8.9870081687601966E-2},{"$f":"IF('Emissions Factors'!H16=\"\",\"\",'Emissions Factors'!H16)","v":"tCO2e/t"},{"$f":"IF('Emissions Factors'!I16=\"\",\"\",'Emissions Factors'!I16)","v":2.4},{"$f":"IF('Emissions Factors'!J16=\"\",'Emissions Factors'!F16,'Emissions Factors'!J16)","v":"Carbon factor taken directly from the ICE V3: Concrete > Gen 1"},null,1,null,null,19,23]
[{"$f":"'Emissions Factors'!#REF!","v":{"$error":"#REF!"}},{"$f":"'Emissions Factors'!B17","v":0},{"$f":"'Emissions Factors'!C17","v":0},{"$f":"'Emissions Factors'!D17","v":"General - C12/15 (Gen 2)"},null,null,"Bulk Materials","Ready mix concrete ","General - C12/15 (Gen 2)","Ready mix concrete General - C12/15 (Gen 2)",{"$f":"IF('Emissions Factors'!E17=\"\",\"\",'Emissions Factors'!E17)","v":"m3"},{"$f":"IF('Emissions Factors'!F17=\"\",\"\",'Emissions Factors'!F17)","v":"Concrete"},{"$f":"IF('Emissions Factors'!G17=\"\",\"\",'Emissions Factors'!G17)","v":9.7099819046999977E-2},{"$f":"IF('Emissions Factors'!H17=\"\",\"\",'Emissions Factors'!H17)","v":"tCO2e/t"},{"$f":"IF('Emissions Factors'!I17=\"\",\"\",'Emissions Factors'!I17)","v":2.4},{"$f":"IF('Emissions Factors'!J17=\"\",'Emissions Factors'!F17,'Emissions Factors'!J17)","v":"Carbon factor taken directly from the ICE V3: Concrete > Gen 2 "},null,1,null,null,19,24]
[{"$f":"'Emissions Factors'!#REF!","v":{"$error":"#REF!"}},{"$f":"'Emissions Factors'!B18","v":0},{"$f":"'Emissions Factors'!C18","v":0},{"$f":"'Emissions Factors'!D18","v":"General - C16/20 (Gen 3)"},null,null,"Bulk Materials","Ready mix concrete ","General - C16/20 (Gen 3)","Ready mix concrete General - C16/20 (Gen 3)",{"$f":"IF('Emissions Factors'!E18=\"\",\"\",'Emissions Factors'!E18)","v":"m3"},{"$f":"IF('Emissions Factors'!F18=\"\",\"\",'Emissions Factors'!F18)","v":"Concrete"},{"$f":"IF('Emissions Factors'!G18=\"\",\"\",'Emissions Factors'!G18)","v":0.10418316585890676},{"$f":"IF('Emissions Factors'!H18=\"\",\"\",'Emissions Factors'!H18)","v":"tCO2e/t"},{"$f":"IF('Emissions Factors'!I18=\"\",\"\",'Emissions Factors'!I18)","v":2.4},{"$f":"IF('Emissions Factors'!J18=\"\",'Emissions Factors'!F18,'Emissions Factors'!J18)","v":"Carbon factor taken directly from the ICE V3: Concrete > Gen 3"},null,1,null,null,19,24]
[{"$f":"'Emissions Factors'!#REF!","v":{"$error":"#REF!"}},{"$f":"'Emissions Factors'!B19","v":0},{"$f":"'Emissions Factors'!C19","v":0},{"$f":"'Emissions Factors'!D19","v":"General - C20/25 "},null,null,"Bulk Materials","Ready mix concrete ","General - C20/25 ","Ready mix concrete General - C20/25 ",{"$f":"IF('Emissions Factors'!E19=\"\",\"\",'Emissions Factors'!E19)","v":"m3"},{"$f":"IF('Emissions Factors'!F19=\"\",\"\",'Emissions Factors'!F19)","v":"Concrete"},{"$f":"IF('Emissions Factors'!G19=\"\",\"\",'Emissions Factors'!G19)","v":0.11202281084862262},{"$f":"IF('Emissions Factors'!H19=\"\",\"\",'Emissions Factors'!H19)","v":"tCO2e/t"},{"$f":"IF('Emissions Factors'!I19=\"\",\"\",'Emissions Factors'!I19)","v":2.4},{"$f":"IF('Emissions Factors'!J19=\"\",'Emissions Factors'!F19,'Emissions Factors'!J19)","v":"Carbon factor taken directly from the ICE V3: Concrete > 20/25 mpa."},null,1,null,null,19,17]
[{"$f":"'Emissions Factors'!#REF!","v":{"$error":"#REF!"}},{"$f":"'Emissions Factors'!B20","v":0},{"$f":"'Emissions Factors'!C20","v":0},{"$f":"'Emissions Factors'!D20","v":"General - C25/30 "},null,null,"Bulk Materials","Ready mix concrete ","General - C25/30 ","Ready mix concrete General - C25/30 ",{"$f":"IF('Emissions Factors'!E20=\"\",\"\",'Emissions Factors'!E20)","v":"m3"},{"$f":"IF('Emissions Factors'!F20=\"\",\"\",'Emissions Factors'!F20)","v":"Concrete"},{"$f":"IF('Emissions Factors'!G20=\"\",\"\",'Emissions Factors'!G20)","v":0.11901728598445512},{"$f":"IF('Emissions Factors'!H20=\"\",\"\",'Emissions Factors'!H20)","v":"tCO2e/t"},{"$f":"IF('Emissions Factors'!I20=\"\",\"\",'Emissions Factors'!I20)","v":2.4},{"$f":"IF('Emissions Factors'!J20=\"\",'Emissions Factors'!F20,'Emissions Factors'!J20)","v":"Carbon factor taken directly from the ICE V3: Concrete > 25/30 mpa."},null,1,null,null,19,17]
[{"$f":"'Emissions Factors'!#REF!","v":{"$error":"#REF!"}},{"$f":"'Emissions Factors'!B21","v":0},{"$f":"'Emissions Factors'!C21","v":0},{"$f":"'Emissions Factors'!D21","v":"General - C28/35 "},null,null,"Bulk Materials","Ready mix concrete ","General - C28/35 ","Ready mix concrete General - C28/35 ",{"$f":"IF('Emissions Factors'!E21=\"\",\"\",'Emissions Factors'!E21)","v":"m3"},{"$f":"IF('Emissions Factors'!F21=\"\",\"\",'Emissions Factors'!F21)","v":"Concrete"},{"$f":"IF('Emissions Factors'!G21=\"\",\"\",'Emissions Factors'!G21)","v":0.12602133609831798},{"$f":"IF('Emissions Factors'!H21=\"\",\"\",'Emissions Factors'!H21)","v":"tCO2e/t"},{"$f":"IF('Emissions Factors'!I21=\"\",\"\",'Emissions Factors'!I21)","v":2.4},{"$f":"IF('Emissions Factors'!J21=\"\",'Emissions Factors'!F21,'Emissions Factors'!J21)","v":"Carbon factor taken directly from the ICE V3: Concrete > 28/35 mpa."},null,1,null,null,19,17]
[{"$f":"'Emissions Factors'!#REF!","v":{"$error":"#REF!"}},{"$f":"'Emissions Factors'!B22","v":0},{"$f":"'Emissions Factors'!C22","v":0},{"$f":"'Emissions Factors'!D22","v":"General - C32/40 "},null,null,"Bulk Materials","Ready mix concrete ","General - C32/40 ","Ready mix concrete General - C32/40 ",{"$f":"IF('Emissions Factors'!E22=\"\",\"\",'Emissions Factors'!E22)","v":"m3"},{"$f":"IF('Emissions Factors'!F22=\"\",\"\",'Emissions Factors'!F22)","v":"Concrete"},{"$f":"IF('Emissions Factors'!G22=\"\",\"\",'Emissions Factors'!G22)","v":0.13824435098291596},{"$f":"IF('Emissions Factors'!H22=\"\",\"\",'Emissions Factors'!H22)","v":"tCO2e/t"},{"$f":"IF('Emissions Factors'!I22=\"\",\"\",'Emissions Factors'!I22)","v":2.4},{"$f":"IF('Emissions Factors'!J22=\"\",'Emissions Factors'!F22,'Emissions Factors'!J22)","v":"Carbon factor taken directly from the ICE V3: Concrete > 32/40 mpa."},null,1,null,null,19,17]
[{"$f":"'Emissions Factors'!#REF!","v":{"$error":"#REF!"}},{"$f":"'Emissions Factors'!B23","v":0},{"$f":"'Emissions Factors'!C23","v":0},{"$f":"'Emissions Factors'!D23","v":"General - C35/45"},null,null,"Bulk Materials","Ready mix concrete ","General - C35/45","Ready mix concrete General - C35/45",{"$f":"IF('Emissions Factors'!E23=\"\",\"\",'Emissions Factors'!E23)","v":"m3"},{"$f":"IF('Emissions Factors'!F23=\"\",\"\",'Emissions Factors'!F23)","v":"Concrete"},{"$f":"IF('Emissions Factors'!G23=\"\",\"\",'Emissions Factors'!G23)","v":0.14869972927088423},{"$f":"IF('Emissions Factors'!H23=\"\",\"\",'Emissions Factors'!H23)","v":"tCO2e/t"},{"$f":"IF('Emissions Factors'!I23=\"\",\"\",'Emissions Factors'!I23)","v":2.4},{"$f":"IF('Emissions Factors'!J23=\"\",'Emissions Factors'!F23,'Emissions Factors'!J23)","v":"Carbon factor taken directly from the ICE V3: Concrete > 35/45 mpa."},null,1,null,null,19,16]
[{"$f":"'Emissions Factors'!#REF!","v":{"$error":"#REF!"}},{"$f":"'Emissions Factors'!B24","v":0},{"$f":"'Emissions Factors'!C24","v":0},{"$f":"'Emissions Factors'!D24","v":"General - C40/50 "},null,null,"Bulk Materials","Ready mix concrete ","General - C40/50 ","Ready mix concrete General - C40/50 ",{"$f":"IF('Emissions Factors'!E24=\"\",\"\",'Emissions Factors'!E24)","v":"m3"},{"$f":"IF('Emissions Factors'!F24=\"\",\"\",'Emissions Factors'!F24)","v":"Concrete"},{"$f":"IF('Emissions Factors'!G24=\"\",\"\",'Emissions Factors'!G24)","v":0.15912485869294088},{"$f":"IF('Emissions Factors'!H24=\"\",\"\",'Emissions Factors'!H24)","v":"tCO2e/t"},{"$f":"IF('Emissions Factors'!I24=\"\",\"\",'Emissions Factors'!I24)","v":2.4},{"$f":"IF('Emissions Factors'!J24=\"\",'Emissions Factors'!F24,'Emissions Factors'!J24)","v":"Carbon factor taken directly from the ICE V3: Concrete > 40/50 mpa."},null,1,null,null,19,17]
[{"$f":"'Emissions Factors'!#REF!","v":{"$error":"#REF!"}},{"$f":"'Emissions Factors'!B25","v":0},{"$f":"'Emissions Factors'!C25","v":0},{"$f":"'Emissions Factors'!D25","v":"100% CEM I - C6/8 (Gen 0)"},null,null,"Bulk Materials","Ready mix concrete ","100% CEM I - C6/8 (Gen 0)","Ready mix concrete 100% CEM I - C6/8 (Gen 0)",{"$f":"IF('Emissions Factors'!E25=\"\",\"\",'Emissions Factors'!E25)","v":"m3"},{"$f":"IF('Emissions Factors'!F25=\"\",\"\",'Emissions Factors'!F25)","v":"Concrete"},{"$f":"IF('Emissions Factors'!G25=\"\",\"\",'Emissions Factors'!G25)","v":7.0437227264430385E-2},{"$f":"IF('Emissions Factors'!H25=\"\",\"\",'Emissions Factors'!H25)","v":"tCO2e/t"},{"$f":"IF('Emissions Factors'!I25=\"\",\"\",'Emissions Factors'!I25)","v":2.4},{"$f":"IF('Emissions Factors'!J25=\"\",'Emissions Factors'!F25,'Emissions Factors'!J25)","v":"Carbon factor taken directly from the ICE V3: Concrete > CEM I > Gen 0"},null,1,null,null,19,25]
[{"$f":"'Emissions Factors'!#REF!","v":{"$error":"#REF!"}},{"$f":"'Emissions Factors'!B26","v":0},{"$f":"'Emissions Factors'!C26","v":0},{"$f":"'Emissions Factors'!D26","v":"100% CEM I - C8/10 (Gen 1)"},null,null,"Bulk Materials","Ready mix concrete ","100% CEM I - C8/10 (Gen 1)","Ready mix concrete 100% CEM I - C8/10 (Gen 1)",{"$f":"IF('Emissions Factors'!E26=\"\",\"\",'Emissions Factors'!E26)","v":"m3"},{"$f":"IF('Emissions Factors'!F26=\"\",\"\",'Emissions Factors'!F26)","v":"Concrete"},{"$f":"IF('Emissions Factors'!G26=\"\",\"\",'Emissions Factors'!G26)","v":9.7192891130175652E-2},{"$f":"IF('Emissions Factors'!H26=\"\",\"\",'Emissions Factors'!H26)","v":"tCO2e/t"},{"$f":"IF('Emissions Factors'!I26=\"\",\"\",'Emissions Factors'!I26)","v":2.4},{"$f":"IF('Emissions Factors'!J26=\"\",'Emissions Factors'!F26,'Emissions Factors'!J26)","v":"Carbon factor taken directly from the ICE V3: Concrete > CEM I > Gen 1"},null,1,null,null,19,26]
[{"$f":"'Emissions Factors'!#REF!","v":{"$error":"#REF!"}},{"$f":"'Emissions Factors'!B27","v":0},{"$f":"'Emissions Factors'!C27","v":0},{"$f":"'Emissions Factors'!D27","v":"100% CEM I - C12/15 (Gen 2)"},null,null,"Bulk Materials","Ready mix concrete ","100% CEM I - C12/15 (Gen 2)","Ready mix concrete 100% CEM I - C12/15 (Gen 2)",{"$f":"IF('Emissions Factors'!E27=\"\",\"\",'Emissions Factors'!E27)","v":"m3"},{"$f":"IF('Emissions Factors'!F27=\"\",\"\",'Emissions Factors'!F27)","v":"Concrete"},{"$f":"IF('Emissions Factors'!G27=\"\",\"\",'Emissions Factors'!G27)","v":0.10495955074870886},{"$f":"IF('Emissions Factors'!H27=\"\",\"\",'Emissions Factors'!H27)","v":"tCO2e/t"},{"$f":"IF('Emissions Factors'!I27=\"\",\"\",'Emissions Factors'!I27)","v":2.4},{"$f":"IF('Emissions Factors'!J27=\"\",'Emissions Factors'!F27,'Emissions Factors'!J27)","v":"Carbon factor taken directly from the ICE V3: Concrete > CEM I > Gen 2 "},null,1,null,null,19,27]
[{"$f":"'Emissions Factors'!#REF!","v":{"$error":"#REF!"}},{"$f":"'Emissions Factors'!B28","v":0},{"$f":"'Emissions Factors'!C28","v":0},{"$f":"'Emissions Factors'!D28","v":"100% CEM I - C16/20 (Gen 3)"},null,null,"Bulk Materials","Ready mix concrete ","100% CEM I - C16/20 (Gen 3)","Ready mix concrete 100% CEM I - C16/20 (Gen 3)",{"$f":"IF('Emissions Factors'!E28=\"\",\"\",'Emissions Factors'!E28)","v":"m3"},{"$f":"IF('Emissions Factors'!F28=\"\",\"\",'Emissions Factors'!F28)","v":"Concrete"},{"$f":"IF('Emissions Factors'!G28=\"\",\"\",'Emissions Factors'!G28)","v":0.11266388302920674},{"$f":"IF('Emissions Factors'!H28=\"\",\"\",'Emissions Factors'!H28)","v":"tCO2e/t"},{"$f":"IF('Emissions Factors'!I28=\"\",\"\",'Emissions Factors'!I28)","v":2.4},{"$f":"IF('Emissions Factors'!J28=\"\",'Emissions Factors'!F28,'Emissions Factors'!J28)","v":"Carbon factor taken directly from the ICE V3: Concrete > CEM I > Gen 3"},null,1,null,null,19,27]
[{"$f":"'Emissions Factors'!#REF!","v":{"$error":"#REF!"}},{"$f":"'Emissions Factors'!B29","v":0},{"$f":"'Emissions Factors'!C29","v":0},{"$f":"'Emissions Factors'!D29","v":"100% CEM I - C20/25 "},null,null,"Bulk Materials","Ready mix concrete ","100% CEM I - C20/25 ","Ready mix concrete 100% CEM I - C20/25 ",{"$f":"IF('Emissions Factors'!E29=\"\",\"\",'Emissions Factors'!E29)","v":"m3"},{"$f":"IF('Emissions Factors'!F29=\"\",\"\",'Emissions Factors'!F29)","v":"Concrete"},{"$f":"IF('Emissions Factors'!G29=\"\",\"\",'Emissions Factors'!G29)","v":0.120928209310575},{"$f":"IF('Emissions Factors'!H29=\"\",\"\",'Emissions Factors'!H29)","v":"tCO2e/t"},{"$f":"IF('Emissions Factors'!I29=\"\",\"\",'Emissions Factors'!I29)","v":2.4},{"$f":"IF('Emissions Factors'!J29=\"\",'Emissions Factors'!F29,'Emissions Factors'!J29)","v":"Carbon factor taken directly from the ICE V3: Concrete > CEM I > 20/25 mpa."},null,1,null,null,19,20]
[{"$f":"'Emissions Factors'!#REF!","v":{"$error":"#REF!"}},{"$f":"'Emissions Factors'!B30","v":0},{"$f":"'Emissions Factors'!C30","v":0},{"$f":"'Emissions Factors'!D30","v":"100% CEM I - C25/30 "},null,null,"Bulk Materials","Ready mix concrete ","100% CEM I - C25/30 ","Ready mix concrete 100% CEM I - C25/30 ",{"$f":"IF('Emissions Factors'!E30=\"\",\"\",'Emissions Factors'!E30)","v":"m3"},{"$f":"IF('Emissions Factors'!F30=\"\",\"\",'Emissions Factors'!F30)","v":"Concrete"},{"$f":"IF('Emissions Factors'!G30=\"\",\"\",'Emissions Factors'!G30)","v":0.12857193304862502},{"$f":"IF('Emissions Factors'!H30=\"\",\"\",'Emissions Factors'!H30)","v":"tCO2e/t"},{"$f":"IF('Emissions Factors'!I30=\"\",\"\",'Emissions Factors'!I30)","v":2.4},{"$f":"IF('Emissions Factors'!J30=\"\",'Emissions Factors'!F30,'Emissions Factors'!J30)","v":"Carbon factor taken directly from the ICE V3: Concrete > CEM I > 25/30 mpa."},null,1,null,null,19,20]
[{"$f":"'Emissions Factors'!#REF!","v":{"$error":"#REF!"}},{"$f":"'Emissions Factors'!B31","v":0},{"$f":"'Emissions Factors'!C31","v":0},{"$f":"'Emissions Factors'!D31","v":"100% CEM I - C28/35 "},null,null,"Bulk Materials","Ready mix concrete ","100% CEM I - C28/35 ","Ready mix concrete 100% CEM I - C28/35 ",{"$f":"IF('Emissions Factors'!E31=\"\",\"\",'Emissions Factors'!E31)","v":"m3"},{"$f":"IF('Emissions Factors'!F31=\"\",\"\",'Emissions Factors'!F31)","v":"Concrete"},{"$f":"IF('Emissions Factors'!G31=\"\",\"\",'Emissions Factors'!G31)","v":0.136185060548625},{"$f":"IF('Emissions Factors'!H31=\"\",\"\",'Emissions Factors'!H31)","v":"tCO2e/t"},{"$f":"IF('Emissions Factors'!I31=\"\",\"\",'Emissions Factors'!I31)","v":2.4},{"$f":"IF('Emissions Factors'!J31=\"\",'Emissions Factors'!F31,'Emissions Factors'!J31)","v":"Carbon factor taken directly from the ICE V3: Concrete > CEM I > 28/35 mpa."},null,1,null,null,19,20]
[{"$f":"'Emissions Factors'!#REF!","v":{"$error":"#REF!"}},{"$f":"'Emissions Factors'!B32","v":0},{"$f":"'Emissions Factors'!C32","v":0},{"$f":"'Emissions Factors'!D32","v":"100% CEM I - C32/40 "},null,null,"Bulk Materials","Ready mix concrete ","100% CEM I - C32/40 ","Ready mix concrete 100% CEM I - C32/40 ",{"$f":"IF('Emissions Factors'!E32=\"\",\"\",'Emissions Factors'!E32)","v":"m3"},{"$f":"IF('Emissions Factors'!F32=\"\",\"\",'Emissions Factors'!F32)","v":"Concrete"},{"$f":"IF('Emissions Factors'!G32=\"\",\"\",'Emissions Factors'!G32)","v":0.14948253680858334},{"$f":"IF('Emissions Factors'!H32=\"\",\"\",'Emissions Factors'!H32)","v":"tCO2e/t"},{"$f":"IF('Emissions Factors'!I32=\"\",\"\",'Emissions Factors'!I32)","v":2.4},{"$f":"IF('Emissions Factors'!J32=\"\",'Emissions Factors'!F32,'Emissions Factors'!J32)","v":"Carbon factor taken directly from the ICE V3: Concrete > CEM I > 32/40 mpa."},null,1,null,null,19,20]
[{"$f":"'Emissions Factors'!#REF!","v":{"$error":"#REF!"}},{"$f":"'Emissions Factors'!B33","v":0},{"$f":"'Emissions Factors'!C33","v":0},{"$f":"'Emissions Factors'!D33","v":"100% CEM I - C35/45"},null,null,"Bulk Materials","Ready mix concrete ","100% CEM I - C35/45","Ready mix concrete 100% CEM I - C35/45",{"$f":"IF('Emissions Factors'!E33=\"\",\"\",'Emissions Factors'!E33)","v":"m3"},{"$f":"IF('Emissions Factors'!F33=\"\",\"\",'Emissions Factors'!F33)","v":"Concrete"},{"$f":"IF('Emissions Factors'!G33=\"\",\"\",'Emissions Factors'!G33)","v":0.16087418150703747},{"$f":"IF('Emissions Factors'!H33=\"\",\"\",'Emissions Factors'!H33)","v":"tCO2e/t"},{"$f":"IF('Emissions Factors'!I33=\"\",\"\",'Emissions Factors'!I33)","v":2.4},{"$f":"IF('Emissions Factors'!J33=\"\",'Emissions Factors'!F33,'Emissions Factors'!J33)","v":"Carbon factor taken directly from the ICE V3: Concrete > CEM I > 35/45 mpa."},null,1,null,null,19,19]
[{"$f":"'Emissions Factors'!#REF!","v":{"$error":"#REF!"}},{"$f":"'Emissions Factors'!B34","v":0},{"$f":"'Emissions Factors'!C34","v":0},{"$f":"'Emissions Factors'!D34","v":"100% CEM I - C40/50 "},null,null,"Bulk Materials","Ready mix concrete ","100% CEM I - C40/50 ","Ready mix concrete 100% CEM I - C40/50 ",{"$f":"IF('Emissions Factors'!E34=\"\",\"\",'Emissions Factors'!E34)","v":"m3"},{"$f":"IF('Emissions Factors'!F34=\"\",\"\",'Emissions Factors'!F34)","v":"Concrete"},{"$f":"IF('Emissions Factors'!G34=\"\",\"\",'Emissions Factors'!G34)","v":0.17228928332133001},{"$f":"IF('Emissions Factors'!H34=\"\",\"\",'Emissions Factors'!H34)","v":"tCO2e/t"},{"$f":"IF('Emissions Factors'!I34=\"\",\"\",'Emissions Factors'!I34)","v":2.4},{"$f":"IF('Emissions Factors'!J34=\"\",'Emissions Factors'!F34,'Emissions Factors'!J34)","v":"Carbon factor taken directly from the ICE V3: Concrete > CEM I > 40/50 mpa."},null,1,null,null,19,20]
[{"$f":"'Emissions Factors'!#REF!","v":{"$error":"#REF!"}},{"$f":"'Emissions Factors'!B35","v":0},{"$f":"'Emissions Factors'!C35","v":0},{"$f":"'Emissions Factors'!D35","v":"14% Limestone replacement - C6/8 (Gen 0)"},null,null,"Bulk Materials","Ready mix concrete ","14% Limestone replacement - C6/8 (Gen 0)","Ready mix concrete 14% Limestone replacement - C6/8 (Gen 0)",{"$f":"IF('Emissions Factors'!E35=\"\",\"\",'Emissions Factors'!E35)","v":"m3"},{"$f":"IF('Emissions Factors'!F35=\"\",\"\",'Emissions Factors'!F35)","v":"Concrete"},{"$f":"IF('Emissions Factors'!G35=\"\",\"\",'Emissions Factors'!G35)","v":6.1434467983035437E-2},{"$f":"IF('Emissions Factors'!H35=\"\",\"\",'Emissions Factors'!H35)","v":"tCO2e/t"},{"$f":"IF('Emissions Factors'!I35=\"\",\"\",'Emissions Factors'!I35)","v":2.4},{"$f":"IF('Emissions Factors'!J35=\"\",'Emissions Factors'!F35,'Emissions Factors'!J35)","v":"Carbon factor taken directly from the ICE V3: Concrete > 14% Limestone > Gen 0"},null,1,null,null,19,40]
[{"$f":"'Emissions Factors'!#REF!","v":{"$error":"#REF!"}},{"$f":"'Emissions Factors'!B36","v":0},{"$f":"'Emissions Factors'!C36","v":0},{"$f":"'Emissions Factors'!D36","v":"14% Limestone replacement - C8/10 (Gen 1)"},null,null,"Bulk Materials","Ready mix concrete ","14% Limestone replacement - C8/10 (Gen 1)","Ready mix concrete 14% Limestone replacement - C8/10 (Gen 1)",{"$f":"IF('Emissions Factors'!E36=\"\",\"\",'Emissions Factors'!E36)","v":"m3"},{"$f":"IF('Emissions Factors'!F36=\"\",\"\",'Emissions Factors'!F36)","v":"Concrete"},{"$f":"IF('Emissions Factors'!G36=\"\",\"\",'Emissions Factors'!G36)","v":0.15422424988364275},{"$f":"IF('Emissions Factors'!H36=\"\",\"\",'Emissions Factors'!H36)","v":"tCO2e/t"},{"$f":"IF('Emissions Factors'!I36=\"\",\"\",'Emissions Factors'!I36)","v":2.4},{"$f":"IF('Emissions Factors'!J36=\"\",'Emissions Factors'!F36,'Emissions Factors'!J36)","v":"Carbon factor taken directly from the ICE V3: Concrete > 14% Limestone > Gen 1"},null,1,null,null,19,41]
[{"$f":"'Emissions Factors'!#REF!","v":{"$error":"#REF!"}},{"$f":"'Emissions Factors'!B37","v":0},{"$f":"'Emissions Factors'!C37","v":0},{"$f":"'Emissions Factors'!D37","v":"14% Limestone replacement - C12/15 (Gen 2)"},null,null,"Bulk Materials","Ready mix concrete ","14% Limestone replacement - C12/15 (Gen 2)","Ready mix concrete 14% Limestone replacement - C12/15 (Gen 2)",{"$f":"IF('Emissions Factors'!E37=\"\",\"\",'Emissions Factors'!E37)","v":"m3"},{"$f":"IF('Emissions Factors'!F37=\"\",\"\",'Emissions Factors'!F37)","v":"Concrete"},{"$f":"IF('Emissions Factors'!G37=\"\",\"\",'Emissions Factors'!G37)","v":9.0489450810207608E-2},{"$f":"IF('Emissions Factors'!H37=\"\",\"\",'Emissions Factors'!H37)","v":"tCO2e/t"},{"$f":"IF('Emissions Factors'!I37=\"\",\"\",'Emissions Factors'!I37)","v":2.4},{"$f":"IF('Emissions Factors'!J37=\"\",'Emissions Factors'!F37,'Emissions Factors'!J37)","v":"Carbon factor taken directly from the ICE V3: Concrete > 14% Limestone > Gen 2 "},null,1,null,null,19,42]
[{"$f":"'Emissions Factors'!#REF!","v":{"$error":"#REF!"}},{"$f":"'Emissions Factors'!B38","v":0},{"$f":"'Emissions Factors'!C38","v":0},{"$f":"'Emissions Factors'!D38","v":"14% Limestone replacement - C16/20 (Gen 3)"},null,null,"Bulk Materials","Ready mix concrete ","14% Limestone replacement - C16/20 (Gen 3)","Ready mix concrete 14% Limestone replacement - C16/20 (Gen 3)",{"$f":"IF('Emissions Factors'!E38=\"\",\"\",'Emissions Factors'!E38)","v":"m3"},{"$f":"IF('Emissions Factors'!F38=\"\",\"\",'Emissions Factors'!F38)","v":"Concrete"},{"$f":"IF('Emissions Factors'!G38=\"\",\"\",'Emissions Factors'!G38)","v":9.6635029634689409E-2},{"$f":"IF('Emissions Factors'!H38=\"\",\"\",'Emissions Factors'!H38)","v":"tCO2e/t"},{"$f":"IF('Emissions Factors'!I38=\"\",\"\",'Emissions Factors'!I38)","v":2.4},{"$f":"IF('Emissions Factors'!J38=\"\",'Emissions Factors'!F38,'Emissions Factors'!J38)","v":"Carbon factor taken directly from the ICE V3: Concrete > 14% Limestone > Gen 3"},null,1,null,null,19,42]
[{"$f":"'Emissions Factors'!#REF!","v":{"$error":"#REF!"}},{"$f":"'Emissions Factors'!B39","v":0},{"$f":"'Emissions Factors'!C39","v":0},{"$f":"'Emissions Factors'!D39","v":"14% Limestone replacement - C20/25 "},null,null,"Bulk Materials","Ready mix concrete ","14% Limestone replacement - C20/25 ","Ready mix concrete 14% Limestone replacement - C20/25 ",{"$f":"IF('Emissions Factors'!E39=\"\",\"\",'Emissions Factors'!E39)","v":"m3"},{"$f":"IF('Emissions Factors'!F39=\"\",\"\",'Emissions Factors'!F39)","v":"Concrete"},{"$f":"IF('Emissions Factors'!G39=\"\",\"\",'Emissions Factors'!G39)","v":0.10402806228101349},{"$f":"IF('Emissions Factors'!H39=\"\",\"\",'Emissions Factors'!H39)","v":"tCO2e/t"},{"$f":"IF('Emissions Factors'!I39=\"\",\"\",'Emissions Factors'!I39)","v":2.4},{"$f":"IF('Emissions Factors'!J39=\"\",'Emissions Factors'!F39,'Emissions Factors'!J39)","v":"Carbon factor taken directly from the ICE V3: Concrete > 14% Limestone > 20/25 mpa."},null,1,null,null,19,35]
[{"$f":"'Emissions Factors'!#REF!","v":{"$error":"#REF!"}},{"$f":"'Emissions Factors'!B40","v":0},{"$f":"'Emissions Factors'!C40","v":0},{"$f":"'Emissions Factors'!D40","v":"14% Limestone replacement - C25/30 "},null,null,"Bulk Materials","Ready mix concrete ","14% Limestone replacement - C25/30 ","Ready mix concrete 14% Limestone replacement - C25/30 ",{"$f":"IF('Emissions Factors'!E40=\"\",\"\",'Emissions Factors'!E40)","v":"m3"},{"$f":"IF('Emissions Factors'!F40=\"\",\"\",'Emissions Factors'!F40)","v":"Concrete"},{"$f":"IF('Emissions Factors'!G40=\"\",\"\",'Emissions Factors'!G40)","v":0.11082778592362502},{"$f":"IF('Emissions Factors'!H40=\"\",\"\",'Emissions Factors'!H40)","v":"tCO2e/t"},{"$f":"IF('Emissions Factors'!I40=\"\",\"\",'Emissions Factors'!I40)","v":2.4},{"$f":"IF('Emissions Factors'!J40=\"\",'Emissions Factors'!F40,'Emissions Factors'!J40)","v":"Carbon factor taken directly from the ICE V3: Concrete > 14% Limestone > 25/30 mpa."},null,1,null,null,19,35]
[{"$f":"'Emissions Factors'!#REF!","v":{"$error":"#REF!"}},{"$f":"'Emissions Factors'!B41","v":0},{"$f":"'Emissions Factors'!C41","v":0},{"$f":"'Emissions Factors'!D41","v":"14% Limestone replacement - C28/35 "},null,null,"Bulk Materials","Ready mix concrete ","14% Limestone replacement - C28/35 ","Ready mix concrete 14% Limestone replacement - C28/35 ",{"$f":"IF('Emissions Factors'!E41=\"\",\"\",'Emissions Factors'!E41)","v":"m3"},{"$f":"IF('Emissions Factors'!F41=\"\",\"\",'Emissions Factors'!F41)","v":"Concrete"},{"$f":"IF('Emissions Factors'!G41=\"\",\"\",'Emissions Factors'!G41)","v":0.11738485574029167},{"$f":"IF('Emissions Factors'!H41=\"\",\"\",'Emissions Factors'!H41)","v":"tCO2e/t"},{"$f":"IF('Emissions Factors'!I41=\"\",\"\",'Emissions Factors'!I41)","v":2.4},{"$f":"IF('Emissions Factors'!J41=\"\",'Emissions Factors'!F41,'Emissions Factors'!J41)","v":"Carbon factor taken directly from the ICE V3: Concrete > 14% Limestone > 28/35 mpa."},null,1,null,null,19,35]
[{"$f":"'Emissions Factors'!#REF!","v":{"$error":"#REF!"}},{"$f":"'Emissions Factors'!B42","v":0},{"$f":"'Emissions Factors'!C42","v":0},{"$f":"'Emissions Factors'!D42","v":"14% Limestone replacement - C32/40 "},null,null,"Bulk Materials","Ready mix concrete ","14% Limestone replacement - C32/40 ","Ready mix concrete 14% Limestone replacement - C32/40 ",{"$f":"IF('Emissions Factors'!E42=\"\",\"\",'Emissions Factors'!E42)","v":"m3"},{"$f":"IF('Emissions Factors'!F42=\"\",\"\",'Emissions Factors'!F42)","v":"Concrete"},{"$f":"IF('Emissions Factors'!G42=\"\",\"\",'Emissions Factors'!G42)","v":0.12883423105441666},{"$f":"IF('Emissions Factors'!H42=\"\",\"\",'Emissions Factors'!H42)","v":"tCO2e/t"},{"$f":"IF('Emissions Factors'!I42=\"\",\"\",'Emissions Factors'!I42)","v":2.4},{"$f":"IF('Emissions Factors'!J42=\"\",'Emissions Factors'!F42,'Emissions Factors'!J42)","v":"Carbon factor taken directly from the ICE V3: Concrete > 14% Limestone > 32/40 mpa."},null,1,null,null,19,35]
[{"$f":"'Emissions Factors'!#REF!","v":{"$error":"#REF!"}},{"$f":"'Emissions Factors'!B43","v":0},{"$f":"'Emissions Factors'!C43","v":0},{"$f":"'Emissions Factors'!D43","v":"14% Limestone replacement - C35/45"},null,null,"Bulk Materials","Ready mix concrete ","14% Limestone replacement - C35/45","Ready mix concrete 14% Limestone replacement - C35/45",{"$f":"IF('Emissions Factors'!E43=\"\",\"\",'Emissions Factors'!E43)","v":"m3"},{"$f":"IF('Emissions Factors'!F43=\"\",\"\",'Emissions Factors'!F43)","v":"Concrete"},{"$f":"IF('Emissions Factors'!G43=\"\",\"\",'Emissions Factors'!G43)","v":0.14028105668203747},{"$f":"IF('Emissions Factors'!H43=\"\",\"\",'Emissions Factors'!H43)","v":"tCO2e/t"},{"$f":"IF('Emissions Factors'!I43=\"\",\"\",'Emissions Factors'!I43)","v":2.4},{"$f":"IF('Emissions Factors'!J43=\"\",'Emissions Factors'!F43,'Emissions Factors'!J43)","v":"Carbon factor taken directly from the ICE V3: Concrete > 14% Limestone > 35/45 mpa."},null,1,null,null,19,34]
[{"$f":"'Emissions Factors'!#REF!","v":{"$error":"#REF!"}},{"$f":"'Emissions Factors'!B44","v":0},{"$f":"'Emissions Factors'!C44","v":0},{"$f":"'Emissions Factors'!D44","v":"14% Limestone replacement - C40/50 "},null,null,"Bulk Materials","Ready mix concrete ","14% Limestone replacement - C40/50 ","Ready mix concrete 14% Limestone replacement - C40/50 ",{"$f":"IF('Emissions Factors'!E44=\"\",\"\",'Emissions Factors'!E44)","v":"m3"},{"$f":"IF('Emissions Factors'!F44=\"\",\"\",'Emissions Factors'!F44)","v":"Concrete"},{"$f":"IF('Emissions Factors'!G44=\"\",\"\",'Emissions Factors'!G44)","v":0.15286989642032428},{"$f":"IF('Emissions Factors'!H44=\"\",\"\",'Emissions Factors'!H44)","v":"tCO2e/t"},{"$f":"IF('Emissions Factors'!I44=\"\",\"\",'Emissions Factors'!I44)","v":2.4},{"$f":"IF('Emissions Factors'!J44=\"\",'Emissions Factors'!F44,'Emissions Factors'!J44)","v":"Carbon factor taken directly from the ICE V3: Concrete > 14% Limestone > 40/50 mpa."},null,1,null,null,19,35]
[{"$f":"'Emissions Factors'!#REF!","v":{"$error":"#REF!"}},{"$f":"'Emissions Factors'!B45","v":0},{"$f":"'Emissions Factors'!C45","v":0},{"$f":"'Emissions Factors'!D45","v":"35% natural pozzolanic ash replacement - C6/8 (Gen 0)"},null,null,"Bulk Materials","Ready mix concrete ","35% natural pozzolanic ash replacement - C6/8 (Gen 0)","Ready mix concrete 35% natural pozzolanic ash replacement - C6/8 (Gen 0)",{"$f":"IF('Emissions Factors'!E45=\"\",\"\",'Emissions Factors'!E45)","v":"m3"},{"$f":"IF('Emissions Factors'!F45=\"\",\"\",'Emissions Factors'!F45)","v":"Concrete"},{"$f":"IF('Emissions Factors'!G45=\"\",\"\",'Emissions Factors'!G45)","v":5.5653295469829119E-2},{"$f":"IF('Emissions Factors'!H45=\"\",\"\",'Emissions Factors'!H45)","v":"tCO2e/t"},{"$f":"IF('Emissions Factors'!I45=\"\",\"\",'Emissions Factors'!I45)","v":2.4},{"$f":"IF('Emissions Factors'!J45=\"\",'Emissions Factors'!F45,'Emissions Factors'!J45)","v":"Carbon factor taken directly from the ICE V3: Concrete > 35% NPA > Gen 0"},null,1,null,null,19,53]
[{"$f":"'Emissions Factors'!#REF!","v":{"$error":"#REF!"}},{"$f":"'Emissions Factors'!B46","v":0},{"$f":"'Emissions Factors'!C46","v":0},{"$f":"'Emissions Factors'!D46","v":"35% natural pozzolanic ash replacement - C8/10 (Gen 1)"},null,null,"Bulk Materials","Ready mix concrete ","35% natural pozzolanic ash replacement - C8/10 (Gen 1)","Ready mix concrete 35% natural pozzolanic ash replacement - C8/10 (Gen 1)",{"$f":"IF('Emissions Factors'!E46=\"\",\"\",'Emissions Factors'!E46)","v":"m3"},{"$f":"IF('Emissions Factors'!F46=\"\",\"\",'Emissions Factors'!F46)","v":"Concrete"},{"$f":"IF('Emissions Factors'!G46=\"\",\"\",'Emissions Factors'!G46)","v":7.5670551646413675E-2},{"$f":"IF('Emissions Factors'!H46=\"\",\"\",'Emissions Factors'!H46)","v":"tCO2e/t"},{"$f":"IF('Emissions Factors'!I46=\"\",\"\",'Emissions Factors'!I46)","v":2.4},{"$f":"IF('Emissions Factors'!J46=\"\",'Emissions Factors'!F46,'Emissions Factors'!J46)","v":"Carbon factor taken directly from the ICE V3: Concrete > 35% NPA > Gen 1"},null,1,null,null,19,54]
[{"$f":"'Emissions Factors'!#REF!","v":{"$error":"#REF!"}},{"$f":"'Emissions Factors'!B47","v":0},{"$f":"'Emissions Factors'!C47","v":0},{"$f":"'Emissions Factors'!D47","v":"35% natural pozzolanic ash replacement - C12/15 (Gen 2)"},null,null,"Bulk Materials","Ready mix concrete ","35% natural pozzolanic ash replacement - C12/15 (Gen 2)","Ready mix concrete 35% natural pozzolanic ash replacement - C12/15 (Gen 2)",{"$f":"IF('Emissions Factors'!E47=\"\",\"\",'Emissions Factors'!E47)","v":"m3"},{"$f":"IF('Emissions Factors'!F47=\"\",\"\",'Emissions Factors'!F47)","v":"Concrete"},{"$f":"IF('Emissions Factors'!G47=\"\",\"\",'Emissions Factors'!G47)","v":8.1413702240055702E-2},{"$f":"IF('Emissions Factors'!H47=\"\",\"\",'Emissions Factors'!H47)","v":"tCO2e/t"},{"$f":"IF('Emissions Factors'!I47=\"\",\"\",'Emissions Factors'!I47)","v":2.4},{"$f":"IF('Emissions Factors'!J47=\"\",'Emissions Factors'!F47,'Emissions Factors'!J47)","v":"Carbon factor taken directly from the ICE V3: Concrete > 35% NPA > Gen 2 "},null,1,null,null,19,55]
[{"$f":"'Emissions Factors'!#REF!","v":{"$error":"#REF!"}},{"$f":"'Emissions Factors'!B48","v":0},{"$f":"'Emissions Factors'!C48","v":0},{"$f":"'Emissions Factors'!D48","v":"35% natural pozzolanic ash replacement - C16/20 (Gen 3)"},null,null,"Bulk Materials","Ready mix concrete ","35% natural pozzolanic ash replacement - C16/20 (Gen 3)","Ready mix concrete 35% natural pozzolanic ash replacement - C16/20 (Gen 3)",{"$f":"IF('Emissions Factors'!E48=\"\",\"\",'Emissions Factors'!E48)","v":"m3"},{"$f":"IF('Emissions Factors'!F48=\"\",\"\",'Emissions Factors'!F48)","v":"Concrete"},{"$f":"IF('Emissions Factors'!G48=\"\",\"\",'Emissions Factors'!G48)","v":8.7165950126131639E-2},{"$f":"IF('Emissions Factors'!H48=\"\",\"\",'Emissions Factors'!H48)","v":"tCO2e/t"},{"$f":"IF('Emissions Factors'!I48=\"\",\"\",'Emissions Factors'!I48)","v":2.4},{"$f":"IF('Emissions Factors'!J48=\"\",'Emissions Factors'!F48,'Emissions Factors'!J48)","v":"Carbon factor taken directly from the ICE V3: Concrete > 35% NPA > Gen 3"},null,1,null,null,19,55]
[{"$f":"'Emissions Factors'!#REF!","v":{"$error":"#REF!"}},{"$f":"'Emissions Factors'!B49","v":0},{"$f":"'Emissions Factors'!C49","v":0},{"$f":"'Emissions Factors'!D49","v":"35% natural pozzolanic ash replacement - C20/25 "},null,null,"Bulk Materials","Ready mix concrete ","35% natural pozzolanic ash replacement - C20/25 ","Ready mix concrete 35% natural pozzolanic ash replacement - C20/25 ",{"$f":"IF('Emissions Factors'!E49=\"\",\"\",'Emissions Factors'!E49)","v":"m3"},{"$f":"IF('Emissions Factors'!F49=\"\",\"\",'Emissions Factors'!F49)","v":"Concrete"},{"$f":"IF('Emissions Factors'!G49=\"\",\"\",'Emissions Factors'!G49)","v":9.4095575694085096E-2},{"$f":"IF('Emissions Factors'!H49=\"\",\"\",'Emissions Factors'!H49)","v":"tCO2e/t"},{"$f":"IF('Emissions Factors'!I49=\"\",\"\",'Emissions Factors'!I49)","v":2.4},{"$f":"IF('Emissions Factors'!J49=\"\",'Emissions Factors'!F49,'Emissions Factors'!J49)","v":"Carbon factor taken directly from the ICE V3: Concrete > 35% NPA > 20/25 mpa."},null,1,null,null,19,48]
[{"$f":"'Emissions Factors'!#REF!","v":{"$error":"#REF!"}},{"$f":"'Emissions Factors'!B50","v":0},{"$f":"'Emissions Factors'!C50","v":0},{"$f":"'Emissions Factors'!D50","v":"35% natural pozzolanic ash replacement - C25/30 "},null,null,"Bulk Materials","Ready mix concrete ","35% natural pozzolanic ash replacement - C25/30 ","Ready mix concrete 35% natural pozzolanic ash replacement - C25/30 ",{"$f":"IF('Emissions Factors'!E50=\"\",\"\",'Emissions Factors'!E50)","v":"m3"},{"$f":"IF('Emissions Factors'!F50=\"\",\"\",'Emissions Factors'!F50)","v":"Concrete"},{"$f":"IF('Emissions Factors'!G50=\"\",\"\",'Emissions Factors'!G50)","v":9.9829867993128873E-2},{"$f":"IF('Emissions Factors'!H50=\"\",\"\",'Emissions Factors'!H50)","v":"tCO2e/t"},{"$f":"IF('Emissions Factors'!I50=\"\",\"\",'Emissions Factors'!I50)","v":2.4},{"$f":"IF('Emissions Factors'!J50=\"\",'Emissions Factors'!F50,'Emissions Factors'!J50)","v":"Carbon factor taken directly from the ICE V3: Concrete > 35% NPA > 25/30 mpa."},null,1,null,null,19,48]
[{"$f":"'Emissions Factors'!#REF!","v":{"$error":"#REF!"}},{"$f":"'Emissions Factors'!B51","v":0},{"$f":"'Emissions Factors'!C51","v":0},{"$f":"'Emissions Factors'!D51","v":"35% natural pozzolanic ash replacement - C28/35 "},null,null,"Bulk Materials","Ready mix concrete ","35% natural pozzolanic ash replacement - C28/35 ","Ready mix concrete 35% natural pozzolanic ash replacement - C28/35 ",{"$f":"IF('Emissions Factors'!E51=\"\",\"\",'Emissions Factors'!E51)","v":"m3"},{"$f":"IF('Emissions Factors'!F51=\"\",\"\",'Emissions Factors'!F51)","v":"Concrete"},{"$f":"IF('Emissions Factors'!G51=\"\",\"\",'Emissions Factors'!G51)","v":0.10588296799932774},{"$f":"IF('Emissions Factors'!H51=\"\",\"\",'Emissions Factors'!H51)","v":"tCO2e/t"},{"$f":"IF('Emissions Factors'!I51=\"\",\"\",'Emissions Factors'!I51)","v":2.4},{"$f":"IF('Emissions Factors'!J51=\"\",'Emissions Factors'!F51,'Emissions Factors'!J51)","v":"Carbon factor taken directly from the ICE V3: Concrete > 35% NPA > 28/35 mpa."},null,1,null,null,19,48]
[{"$f":"'Emissions Factors'!#REF!","v":{"$error":"#REF!"}},{"$f":"'Emissions Factors'!B52","v":0},{"$f":"'Emissions Factors'!C52","v":0},{"$f":"'Emissions Factors'!D52","v":"35% natural pozzolanic ash replacement - C32/40 "},null,null,"Bulk Materials","Ready mix concrete ","35% natural pozzolanic ash replacement - C32/40 ","Ready mix concrete 35% natural pozzolanic ash replacement - C32/40 ",{"$f":"IF('Emissions Factors'!E52=\"\",\"\",'Emissions Factors'!E52)","v":"m3"},{"$f":"IF('Emissions Factors'!F52=\"\",\"\",'Emissions Factors'!F52)","v":"Concrete"},{"$f":"IF('Emissions Factors'!G52=\"\",\"\",'Emissions Factors'!G52)","v":0.11706436752617645},{"$f":"IF('Emissions Factors'!H52=\"\",\"\",'Emissions Factors'!H52)","v":"tCO2e/t"},{"$f":"IF('Emissions Factors'!I52=\"\",\"\",'Emissions Factors'!I52)","v":2.4},{"$f":"IF('Emissions Factors'!J52=\"\",'Emissions Factors'!F52,'Emissions Factors'!J52)","v":"Carbon factor taken directly from the ICE V3: Concrete > 35% NPA > 32/40 mpa."},null,1,null,null,19,48]
[{"$f":"'Emissions Factors'!#REF!","v":{"$error":"#REF!"}},{"$f":"'Emissions Factors'!B53","v":0},{"$f":"'Emissions Factors'!C53","v":0},{"$f":"'Emissions Factors'!D53","v":"35% natural pozzolanic ash replacement - C35/45"},null,null,"Bulk Materials","Ready mix concrete ","35% natural pozzolanic ash replacement - C35/45","Ready mix concrete 35% natural pozzolanic ash replacement - C35/45",{"$f":"IF('Emissions Factors'!E53=\"\",\"\",'Emissions Factors'!E53)","v":"m3"},{"$f":"IF('Emissions Factors'!F53=\"\",\"\",'Emissions Factors'!F53)","v":"Concrete"},{"$f":"IF('Emissions Factors'!G53=\"\",\"\",'Emissions Factors'!G53)","v":0.12411121911226623},{"$f":"IF('Emissions Factors'!H53=\"\",\"\",'Emissions Factors'!H53)","v":"tCO2e/t"},{"$f":"IF('Emissions Factors'!I53=\"\",\"\",'Emissions Factors'!I53)","v":2.4},{"$f":"IF('Emissions Factors'!J53=\"\",'Emissions Factors'!F53,'Emissions Factors'!J53)","v":"Carbon factor taken directly from the ICE V3: Concrete > 35% NPA > 35/45 mpa."},null,1,null,null,19,47]
[{"$f":"'Emissions Factors'!#REF!","v":{"$error":"#REF!"}},{"$f":"'Emissions Factors'!B54","v":0},{"$f":"'Emissions Factors'!C54","v":0},{"$f":"'Emissions Factors'!D54","v":"35% natural pozzolanic ash replacement - C40/50 "},null,null,"Bulk Materials","Ready mix concrete ","35% natural pozzolanic ash replacement - C40/50 ","Ready mix concrete 35% natural pozzolanic ash replacement - C40/50 ",{"$f":"IF('Emissions Factors'!E54=\"\",\"\",'Emissions Factors'!E54)","v":"m3"},{"$f":"IF('Emissions Factors'!F54=\"\",\"\",'Emissions Factors'!F54)","v":"Concrete"},{"$f":"IF('Emissions Factors'!G54=\"\",\"\",'Emissions Factors'!G54)","v":0.13263414864244058},{"$f":"IF('Emissions Factors'!H54=\"\",\"\",'Emissions Factors'!H54)","v":"tCO2e/t"},{"$f":"IF('Emissions Factors'!I54=\"\",\"\",'Emissions Factors'!I54)","v":2.4},{"$f":"IF('Emissions Factors'!J54=\"\",'Emissions Factors'!F54,'Emissions Factors'!J54)","v":"Carbon factor taken directly from the ICE V3: Concrete > 35% NPA > 40/50 mpa."},null,1,null,null,19,48]
[{"$f":"'Emissions Factors'!#REF!","v":{"$error":"#REF!"}},{"$f":"'Emissions Factors'!B55","v":0},{"$f":"'Emissions Factors'!C55","v":0},{"$f":"'Emissions Factors'!D55","v":"30% fly ash replacement - C6/8 (Gen 0)"},null,null,"Bulk Materials","Ready mix concrete ","30% fly ash replacement - C6/8 (Gen 0)","Ready mix concrete 30% fly ash replacement - C6/8 (Gen 0)",{"$f":"IF('Emissions Factors'!E55=\"\",\"\",'Emissions Factors'!E55)","v":"m3"},{"$f":"IF('Emissions Factors'!F55=\"\",\"\",'Emissions Factors'!F55)","v":"Concrete"},{"$f":"IF('Emissions Factors'!G55=\"\",\"\",'Emissions Factors'!G55)","v":5.659832213070759E-2},{"$f":"IF('Emissions Factors'!H55=\"\",\"\",'Emissions Factors'!H55)","v":"tCO2e/t"},{"$f":"IF('Emissions Factors'!I55=\"\",\"\",'Emissions Factors'!I55)","v":2.4},{"$f":"IF('Emissions Factors'!J55=\"\",'Emissions Factors'!F55,'Emissions Factors'!J55)","v":"Carbon factor taken directly from the ICE V3: Concrete > 30% fly ash > Gen 0"},null,1,null,null,19,38]
[{"$f":"'Emissions Factors'!#REF!","v":{"$error":"#REF!"}},{"$f":"'Emissions Factors'!B56","v":0},{"$f":"'Emissions Factors'!C56","v":0},{"$f":"'Emissions Factors'!D56","v":"30% fly ash replacement - C8/10 (Gen 1)"},null,null,"Bulk Materials","Ready mix concrete ","30% fly ash replacement - C8/10 (Gen 1)","Ready mix concrete 30% fly ash replacement - C8/10 (Gen 1)",{"$f":"IF('Emissions Factors'!E56=\"\",\"\",'Emissions Factors'!E56)","v":"m3"},{"$f":"IF('Emissions Factors'!F56=\"\",\"\",'Emissions Factors'!F56)","v":"Concrete"},{"$f":"IF('Emissions Factors'!G56=\"\",\"\",'Emissions Factors'!G56)","v":0.14353700604586053},{"$f":"IF('Emissions Factors'!H56=\"\",\"\",'Emissions Factors'!H56)","v":"tCO2e/t"},{"$f":"IF('Emissions Factors'!I56=\"\",\"\",'Emissions Factors'!I56)","v":2.4},{"$f":"IF('Emissions Factors'!J56=\"\",'Emissions Factors'!F56,'Emissions Factors'!J56)","v":"Carbon factor taken directly from the ICE V3: Concrete > 30% fly ash > Gen 1"},null,1,null,null,19,39]
[{"$f":"'Emissions Factors'!#REF!","v":{"$error":"#REF!"}},{"$f":"'Emissions Factors'!B57","v":0},{"$f":"'Emissions Factors'!C57","v":0},{"$f":"'Emissions Factors'!D57","v":"30% fly ash replacement - C12/15 (Gen 2)"},null,null,"Bulk Materials","Ready mix concrete ","30% fly ash replacement - C12/15 (Gen 2)","Ready mix concrete 30% fly ash replacement - C12/15 (Gen 2)",{"$f":"IF('Emissions Factors'!E57=\"\",\"\",'Emissions Factors'!E57)","v":"m3"},{"$f":"IF('Emissions Factors'!F57=\"\",\"\",'Emissions Factors'!F57)","v":"Concrete"},{"$f":"IF('Emissions Factors'!G57=\"\",\"\",'Emissions Factors'!G57)","v":8.5461063752750366E-2},{"$f":"IF('Emissions Factors'!H57=\"\",\"\",'Emissions Factors'!H57)","v":"tCO2e/t"},{"$f":"IF('Emissions Factors'!I57=\"\",\"\",'Emissions Factors'!I57)","v":2.4},{"$f":"IF('Emissions Factors'!J57=\"\",'Emissions Factors'!F57,'Emissions Factors'!J57)","v":"Carbon factor taken directly from the ICE V3: Concrete > 30% fly ash > Gen 2 "},null,1,null,null,19,40]
[{"$f":"'Emissions Factors'!#REF!","v":{"$error":"#REF!"}},{"$f":"'Emissions Factors'!B58","v":0},{"$f":"'Emissions Factors'!C58","v":0},{"$f":"'Emissions Factors'!D58","v":"30% fly ash replacement - C16/20 (Gen 3)"},null,null,"Bulk Materials","Ready mix concrete ","30% fly ash replacement - C16/20 (Gen 3)","Ready mix concrete 30% fly ash replacement - C16/20 (Gen 3)",{"$f":"IF('Emissions Factors'!E58=\"\",\"\",'Emissions Factors'!E58)","v":"m3"},{"$f":"IF('Emissions Factors'!F58=\"\",\"\",'Emissions Factors'!F58)","v":"Concrete"},{"$f":"IF('Emissions Factors'!G58=\"\",\"\",'Emissions Factors'!G58)","v":9.1549249145155442E-2},{"$f":"IF('Emissions Factors'!H58=\"\",\"\",'Emissions Factors'!H58)","v":"tCO2e/t"},{"$f":"IF('Emissions Factors'!I58=\"\",\"\",'Emissions Factors'!I58)","v":2.4},{"$f":"IF('Emissions Factors'!J58=\"\",'Emissions Factors'!F58,'Emissions Factors'!J58)","v":"Carbon factor taken directly from the ICE V3: Concrete > 30% fly ash > Gen 3"},null,1,null,null,19,40]
[{"$f":"'Emissions Factors'!#REF!","v":{"$error":"#REF!"}},{"$f":"'Emissions Factors'!B59","v":0},{"$f":"'Emissions Factors'!C59","v":0},{"$f":"'Emissions Factors'!D59","v":"30% fly ash replacement - C20/25 "},null,null,"Bulk Materials","Ready mix concrete ","30% fly ash replacement - C20/25 ","Ready mix concrete 30% fly ash replacement - C20/25 ",{"$f":"IF('Emissions Factors'!E59=\"\",\"\",'Emissions Factors'!E59)","v":"m3"},{"$f":"IF('Emissions Factors'!F59=\"\",\"\",'Emissions Factors'!F59)","v":"Concrete"},{"$f":"IF('Emissions Factors'!G59=\"\",\"\",'Emissions Factors'!G59)","v":9.8877226594873732E-2},{"$f":"IF('Emissions Factors'!H59=\"\",\"\",'Emissions Factors'!H59)","v":"tCO2e/t"},{"$f":"IF('Emissions Factors'!I59=\"\",\"\",'Emissions Factors'!I59)","v":2.4},{"$f":"IF('Emissions Factors'!J59=\"\",'Emissions Factors'!F59,'Emissions Factors'!J59)","v":"Carbon factor taken directly from the ICE V3: Concrete > 30% fly ash > 20/25 mpa."},null,1,null,null,19,33]
[{"$f":"'Emissions Factors'!#REF!","v":{"$error":"#REF!"}},{"$f":"'Emissions Factors'!B60","v":0},{"$f":"'Emissions Factors'!C60","v":0},{"$f":"'Emissions Factors'!D60","v":"30% fly ash replacement - C25/30 "},null,null,"Bulk Materials","Ready mix concrete ","30% fly ash replacement - C25/30 ","Ready mix concrete 30% fly ash replacement - C25/30 ",{"$f":"IF('Emissions Factors'!E60=\"\",\"\",'Emissions Factors'!E60)","v":"m3"},{"$f":"IF('Emissions Factors'!F60=\"\",\"\",'Emissions Factors'!F60)","v":"Concrete"},{"$f":"IF('Emissions Factors'!G60=\"\",\"\",'Emissions Factors'!G60)","v":0.10503899205394956},{"$f":"IF('Emissions Factors'!H60=\"\",\"\",'Emissions Factors'!H60)","v":"tCO2e/t"},{"$f":"IF('Emissions Factors'!I60=\"\",\"\",'Emissions Factors'!I60)","v":2.4},{"$f":"IF('Emissions Factors'!J60=\"\",'Emissions Factors'!F60,'Emissions Factors'!J60)","v":"Carbon factor taken directly from the ICE V3: Concrete > 30% fly ash > 25/30 mpa."},null,1,null,null,19,33]
[{"$f":"'Emissions Factors'!#REF!","v":{"$error":"#REF!"}},{"$f":"'Emissions Factors'!B61","v":0},{"$f":"'Emissions Factors'!C61","v":0},{"$f":"'Emissions Factors'!D61","v":"30% fly ash replacement - C28/35 "},null,null,"Bulk Materials","Ready mix concrete ","30% fly ash replacement - C28/35 ","Ready mix concrete 30% fly ash replacement - C28/35 ",{"$f":"IF('Emissions Factors'!E61=\"\",\"\",'Emissions Factors'!E61)","v":"m3"},{"$f":"IF('Emissions Factors'!F61=\"\",\"\",'Emissions Factors'!F61)","v":"Concrete"},{"$f":"IF('Emissions Factors'!G61=\"\",\"\",'Emissions Factors'!G61)","v":0.11308669751613443},{"$f":"IF('Emissions Factors'!H61=\"\",\"\",'Emissions Factors'!H61)","v":"tCO2e/t"},{"$f":"IF('Emissions Factors'!I61=\"\",\"\",'Emissions Factors'!I61)","v":2.4},{"$f":"IF('Emissions Factors'!J61=\"\",'Emissions Factors'!F61,'Emissions Factors'!J61)","v":"Carbon factor taken directly from the ICE V3: Concrete > 30% fly ash > 28/35 mpa."},null,1,null,null,19,33]
[{"$f":"'Emissions Factors'!#REF!","v":{"$error":"#REF!"}},{"$f":"'Emissions Factors'!B62","v":0},{"$f":"'Emissions Factors'!C62","v":0},{"$f":"'Emissions Factors'!D62","v":"30% fly ash replacement - C32/40 "},null,null,"Bulk Materials","Ready mix concrete ","30% fly ash replacement - C32/40 ","Ready mix concrete 30% fly ash replacement - C32/40 ",{"$f":"IF('Emissions Factors'!E62=\"\",\"\",'Emissions Factors'!E62)","v":"m3"},{"$f":"IF('Emissions Factors'!F62=\"\",\"\",'Emissions Factors'!F62)","v":"Concrete"},{"$f":"IF('Emissions Factors'!G62=\"\",\"\",'Emissions Factors'!G62)","v":0.12513254458500001},{"$f":"IF('Emissions Factors'!H62=\"\",\"\",'Emissions Factors'!H62)","v":"tCO2e/t"},{"$f":"IF('Emissions Factors'!I62=\"\",\"\",'Emissions Factors'!I62)","v":2.4},{"$f":"IF('Emissions Factors'!J62=\"\",'Emissions Factors'!F62,'Emissions Factors'!J62)","v":"Carbon factor taken directly from the ICE V3: Concrete > 30% fly ash > 32/40 mpa."},null,1,null,null,19,33]
[{"$f":"'Emissions Factors'!#REF!","v":{"$error":"#REF!"}},{"$f":"'Emissions Factors'!B63","v":0},{"$f":"'Emissions Factors'!C63","v":0},{"$f":"'Emissions Factors'!D63","v":"30% fly ash replacement - C35/45"},null,null,"Bulk Materials","Ready mix concrete ","30% fly ash replacement - C35/45","Ready mix concrete 30% fly ash replacement - C35/45",{"$f":"IF('Emissions Factors'!E63=\"\",\"\",'Emissions Factors'!E63)","v":"m3"},{"$f":"IF('Emissions Factors'!F63=\"\",\"\",'Emissions Factors'!F63)","v":"Concrete"},{"$f":"IF('Emissions Factors'!G63=\"\",\"\",'Emissions Factors'!G63)","v":0.1327268796143671},{"$f":"IF('Emissions Factors'!H63=\"\",\"\",'Emissions Factors'!H63)","v":"tCO2e/t"},{"$f":"IF('Emissions Factors'!I63=\"\",\"\",'Emissions Factors'!I63)","v":2.4},{"$f":"IF('Emissions Factors'!J63=\"\",'Emissions Factors'!F63,'Emissions Factors'!J63)","v":"Carbon factor taken directly from the ICE V3: Concrete > 30% fly ash > 35/45 mpa."},null,1,null,null,19,32]
[{"$f":"'Emissions Factors'!#REF!","v":{"$error":"#REF!"}},{"$f":"'Emissions Factors'!B64","v":0},{"$f":"'Emissions Factors'!C64","v":0},{"$f":"'Emissions Factors'!D64","v":"30% fly ash replacement - C40/50 "},null,null,"Bulk Materials","Ready mix concrete ","30% fly ash replacement - C40/50 ","Ready mix concrete 30% fly ash replacement - C40/50 ",{"$f":"IF('Emissions Factors'!E64=\"\",\"\",'Emissions Factors'!E64)","v":"m3"},{"$f":"IF('Emissions Factors'!F64=\"\",\"\",'Emissions Factors'!F64)","v":"Concrete"},{"$f":"IF('Emissions Factors'!G64=\"\",\"\",'Emissions Factors'!G64)","v":0.14191255226008764},{"$f":"IF('Emissions Factors'!H64=\"\",\"\",'Emissions Factors'!H64)","v":"tCO2e/t"},{"$f":"IF('Emissions Factors'!I64=\"\",\"\",'Emissions Factors'!I64)","v":2.4},{"$f":"IF('Emissions Factors'!J64=\"\",'Emissions Factors'!F64,'Emissions Factors'!J64)","v":"Carbon factor taken directly from the ICE V3: Concrete > 30% fly ash > 40/50 mpa."},null,1,null,null,19,33]
[{"$f":"'Emissions Factors'!#REF!","v":{"$error":"#REF!"}},{"$f":"'Emissions Factors'!B65","v":0},{"$f":"'Emissions Factors'!C65","v":0},{"$f":"'Emissions Factors'!D65","v":"25% GGBS replacement - C6/8 (Gen 0)"},null,null,"Bulk Materials","Ready mix concrete ","25% GGBS replacement - C6/8 (Gen 0)","Ready mix concrete 25% GGBS replacement - C6/8 (Gen 0)",{"$f":"IF('Emissions Factors'!E65=\"\",\"\",'Emissions Factors'!E65)","v":"m3"},{"$f":"IF('Emissions Factors'!F65=\"\",\"\",'Emissions Factors'!F65)","v":"Concrete"},{"$f":"IF('Emissions Factors'!G65=\"\",\"\",'Emissions Factors'!G65)","v":5.5084294059592864E-2},{"$f":"IF('Emissions Factors'!H65=\"\",\"\",'Emissions Factors'!H65)","v":"tCO2e/t"},{"$f":"IF('Emissions Factors'!I65=\"\",\"\",'Emissions Factors'!I65)","v":2.4},{"$f":"IF('Emissions Factors'!J65=\"\",'Emissions Factors'!F65,'Emissions Factors'!J65)","v":"Carbon factor taken directly from the ICE V3: Concrete > 25% GGBS > Gen 0"},null,1,null,null,19,35]
[{"$f":"'Emissions Factors'!#REF!","v":{"$error":"#REF!"}},{"$f":"'Emissions Factors'!B66","v":0},{"$f":"'Emissions Factors'!C66","v":0},{"$f":"'Emissions Factors'!D66","v":"25% GGBS replacement - C8/10 (Gen 1)"},null,null,"Bulk Materials","Ready mix concrete ","25% GGBS replacement - C8/10 (Gen 1)","Ready mix concrete 25% GGBS replacement - C8/10 (Gen 1)",{"$f":"IF('Emissions Factors'!E66=\"\",\"\",'Emissions Factors'!E66)","v":"m3"},{"$f":"IF('Emissions Factors'!F66=\"\",\"\",'Emissions Factors'!F66)","v":"Concrete"},{"$f":"IF('Emissions Factors'!G66=\"\",\"\",'Emissions Factors'!G66)","v":0.10288240973300029},{"$f":"IF('Emissions Factors'!H66=\"\",\"\",'Emissions Factors'!H66)","v":"tCO2e/t"},{"$f":"IF('Emissions Factors'!I66=\"\",\"\",'Emissions Factors'!I66)","v":2.4},{"$f":"IF('Emissions Factors'!J66=\"\",'Emissions Factors'!F66,'Emissions Factors'!J66)","v":"Carbon factor taken directly from the ICE V3: Concrete > 25% GGBS > Gen 1"},null,1,null,null,19,36]
[{"$f":"'Emissions Factors'!#REF!","v":{"$error":"#REF!"}},{"$f":"'Emissions Factors'!B67","v":0},{"$f":"'Emissions Factors'!C67","v":0},{"$f":"'Emissions Factors'!D67","v":"25% GGBS replacement - C12/15 (Gen 2, ST 3)"},null,null,"Bulk Materials","Ready mix concrete ","25% GGBS replacement - C12/15 (Gen 2, ST 3)","Ready mix concrete 25% GGBS replacement - C12/15 (Gen 2, ST 3)",{"$f":"IF('Emissions Factors'!E67=\"\",\"\",'Emissions Factors'!E67)","v":"m3"},{"$f":"IF('Emissions Factors'!F67=\"\",\"\",'Emissions Factors'!F67)","v":"Concrete"},{"$f":"IF('Emissions Factors'!G67=\"\",\"\",'Emissions Factors'!G67)","v":8.1194991274614423E-2},{"$f":"IF('Emissions Factors'!H67=\"\",\"\",'Emissions Factors'!H67)","v":"tCO2e/t"},{"$f":"IF('Emissions Factors'!I67=\"\",\"\",'Emissions Factors'!I67)","v":2.4},{"$f":"IF('Emissions Factors'!J67=\"\",'Emissions Factors'!F67,'Emissions Factors'!J67)","v":"Carbon factor taken directly from the ICE V3: Concrete > 25% GGBS > Gen 2 "},null,1,null,null,19,43]
[{"$f":"'Emissions Factors'!#REF!","v":{"$error":"#REF!"}},{"$f":"'Emissions Factors'!B68","v":0},{"$f":"'Emissions Factors'!C68","v":0},{"$f":"'Emissions Factors'!D68","v":"25% GGBS replacement - C16/20 (Gen 3)"},null,null,"Bulk Materials","Ready mix concrete ","25% GGBS replacement - C16/20 (Gen 3)","Ready mix concrete 25% GGBS replacement - C16/20 (Gen 3)",{"$f":"IF('Emissions Factors'!E68=\"\",\"\",'Emissions Factors'!E68)","v":"m3"},{"$f":"IF('Emissions Factors'!F68=\"\",\"\",'Emissions Factors'!F68)","v":"Concrete"},{"$f":"IF('Emissions Factors'!G68=\"\",\"\",'Emissions Factors'!G68)","v":8.6950407693164297E-2},{"$f":"IF('Emissions Factors'!H68=\"\",\"\",'Emissions Factors'!H68)","v":"tCO2e/t"},{"$f":"IF('Emissions Factors'!I68=\"\",\"\",'Emissions Factors'!I68)","v":2.4},{"$f":"IF('Emissions Factors'!J68=\"\",'Emissions Factors'!F68,'Emissions Factors'!J68)","v":"Carbon factor taken directly from the ICE V3: Concrete > 25% GGBS > Gen 3"},null,1,null,null,19,37]
[{"$f":"'Emissions Factors'!#REF!","v":{"$error":"#REF!"}},{"$f":"'Emissions Factors'!B69","v":0},{"$f":"'Emissions Factors'!C69","v":0},{"$f":"'Emissions Factors'!D69","v":"25% GGBS replacement - C20/25 "},null,null,"Bulk Materials","Ready mix concrete ","25% GGBS replacement - C20/25 ","Ready mix concrete 25% GGBS replacement - C20/25 ",{"$f":"IF('Emissions Factors'!E69=\"\",\"\",'Emissions Factors'!E69)","v":"m3"},{"$f":"IF('Emissions Factors'!F69=\"\",\"\",'Emissions Factors'!F69)","v":"Concrete"},{"$f":"IF('Emissions Factors'!G69=\"\",\"\",'Emissions Factors'!G69)","v":9.418312170818631E-2},{"$f":"IF('Emissions Factors'!H69=\"\",\"\",'Emissions Factors'!H69)","v":"tCO2e/t"},{"$f":"IF('Emissions Factors'!I69=\"\",\"\",'Emissions Factors'!I69)","v":2.4},{"$f":"IF('Emissions Factors'!J69=\"\",'Emissions Factors'!F69,'Emissions Factors'!J69)","v":"Carbon factor taken directly from the ICE V3: Concrete > 25% GGBS > 20/25 mpa."},null,1,null,null,19,30]
[{"$f":"'Emissions Factors'!#REF!","v":{"$error":"#REF!"}},{"$f":"'Emissions Factors'!B70","v":0},{"$f":"'Emissions Factors'!C70","v":0},{"$f":"'Emissions Factors'!D70","v":"25% GGBS replacement - C25/30 "},null,null,"Bulk Materials","Ready mix concrete ","25% GGBS replacement - C25/30 ","Ready mix concrete 25% GGBS replacement - C25/30 ",{"$f":"IF('Emissions Factors'!E70=\"\",\"\",'Emissions Factors'!E70)","v":"m3"},{"$f":"IF('Emissions Factors'!F70=\"\",\"\",'Emissions Factors'!F70)","v":"Concrete"},{"$f":"IF('Emissions Factors'!G70=\"\",\"\",'Emissions Factors'!G70)","v":0.10010010749759496},{"$f":"IF('Emissions Factors'!H70=\"\",\"\",'Emissions Factors'!H70)","v":"tCO2e/t"},{"$f":"IF('Emissions Factors'!I70=\"\",\"\",'Emissions Factors'!I70)","v":2.4},{"$f":"IF('Emissions Factors'!J70=\"\",'Emissions Factors'!F70,'Emissions Factors'!J70)","v":"Carbon factor taken directly from the ICE V3: Concrete > 25% GGBS > 25/30 mpa."},null,1,null,null,19,30]
[{"$f":"'Emissions Factors'!#REF!","v":{"$error":"#REF!"}},{"$f":"'Emissions Factors'!B71","v":0},{"$f":"'Emissions Factors'!C71","v":0},{"$f":"'Emissions Factors'!D71","v":"25% GGBS replacement - C28/35 "},null,null,{"$f":"IF(B69=0,G68,B69)","v":"Bulk Materials"},{"$f":"IF(C69=0,H68,C69)","v":"Ready mix concrete "},{"$f":"IF(D69=0,I68,D69)","v":"25% GGBS replacement - C28/35 "},{"$f":"H69&I69","v":"Ready mix concrete 25% GGBS replacement - C28/35 "},{"$f":"IF('Emissions Factors'!E71=\"\",\"\",'Emissions Factors'!E71)","v":"m3"},{"$f":"IF('Emissions Factors'!F71=\"\",\"\",'Emissions Factors'!F71)","v":"Concrete"},{"$f":"IF('Emissions Factors'!G71=\"\",\"\",'Emissions Factors'!G71)","v":0.10734227983831372},{"$f":"IF('Emissions Factors'!H71=\"\",\"\",'Emissions Factors'!H71)","v":"tCO2e/t"},{"$f":"IF('Emissions Factors'!I71=\"\",\"\",'Emissions Factors'!I71)","v":2.4},{"$f":"IF('Emissions Factors'!J71=\"\",'Emissions Factors'!F71,'Emissions Factors'!J71)","v":"Carbon factor taken directly from the ICE V3: Concrete > 25% GGBS > 28/35 mpa."},null,1,null,null,19,30]
[{"$f":"'Emissions Factors'!#REF!","v":{"$error":"#REF!"}},{"$f":"'Emissions Factors'!B72","v":0},{"$f":"'Emissions Factors'!C72","v":0},{"$f":"'Emissions Factors'!D72","v":"25% GGBS replacement - C32/40 "},null,null,"Bulk Materials","Ready mix concrete ","25% GGBS replacement - C32/40 ","Ready mix concrete 25% GGBS replacement - C32/40 ",{"$f":"IF('Emissions Factors'!E72=\"\",\"\",'Emissions Factors'!E72)","v":"m3"},{"$f":"IF('Emissions Factors'!F72=\"\",\"\",'Emissions Factors'!F72)","v":"Concrete"},{"$f":"IF('Emissions Factors'!G72=\"\",\"\",'Emissions Factors'!G72)","v":0.12035169454015378},{"$f":"IF('Emissions Factors'!H72=\"\",\"\",'Emissions Factors'!H72)","v":"tCO2e/t"},{"$f":"IF('Emissions Factors'!I72=\"\",\"\",'Emissions Factors'!I72)","v":2.4},{"$f":"IF('Emissions Factors'!J72=\"\",'Emissions Factors'!F72,'Emissions Factors'!J72)","v":"Carbon factor taken directly from the ICE V3: Concrete > 25% GGBS > 32/40 mpa."},null,1,null,null,19,30]
[{"$f":"'Emissions Factors'!#REF!","v":{"$error":"#REF!"}},{"$f":"'Emissions Factors'!B73","v":0},{"$f":"'Emissions Factors'!C73","v":0},{"$f":"'Emissions Factors'!D73","v":"25% GGBS replacement - C35/45"},null,null,"Bulk Materials","Ready mix concrete ","25% GGBS replacement - C35/45","Ready mix concrete 25% GGBS replacement - C35/45",{"$f":"IF('Emissions Factors'!E73=\"\",\"\",'Emissions Factors'!E73)","v":"m3"},{"$f":"IF('Emissions Factors'!F73=\"\",\"\",'Emissions Factors'!F73)","v":"Concrete"},{"$f":"IF('Emissions Factors'!G73=\"\",\"\",'Emissions Factors'!G73)","v":0.12936848314980792},{"$f":"IF('Emissions Factors'!H73=\"\",\"\",'Emissions Factors'!H73)","v":"tCO2e/t"},{"$f":"IF('Emissions Factors'!I73=\"\",\"\",'Emissions Factors'!I73)","v":2.4},{"$f":"IF('Emissions Factors'!J73=\"\",'Emissions Factors'!F73,'Emissions Factors'!J73)","v":"Carbon factor taken directly from the ICE V3: Concrete > 25% GGBS > 35/45 mpa."},null,1,null,null,19,29]
[{"$f":"'Emissions Factors'!#REF!","v":{"$error":"#REF!"}},{"$f":"'Emissions Factors'!B74","v":0},{"$f":"'Emissions Factors'!C74","v":0},{"$f":"'Emissions Factors'!D74","v":"25% GGBS replacement - C40/50 "},null,null,"Bulk Materials","Ready mix concrete ","25% GGBS replacement - C40/50 ","Ready mix concrete 25% GGBS replacement - C40/50 ",{"$f":"IF('Emissions Factors'!E74=\"\",\"\",'Emissions Factors'!E74)","v":"m3"},{"$f":"IF('Emissions Factors'!F74=\"\",\"\",'Emissions Factors'!F74)","v":"Concrete"},{"$f":"IF('Emissions Factors'!G74=\"\",\"\",'Emissions Factors'!G74)","v":0.13834024411009846},{"$f":"IF('Emissions Factors'!H74=\"\",\"\",'Emissions Factors'!H74)","v":"tCO2e/t"},{"$f":"IF('Emissions Factors'!I74=\"\",\"\",'Emissions Factors'!I74)","v":2.4},{"$f":"IF('Emissions Factors'!J74=\"\",'Emissions Factors'!F74,'Emissions Factors'!J74)","v":"Carbon factor taken directly from the ICE V3: Concrete > 25% GGBS > 40/50 mpa."},null,1,null,null,19,30]
[{"$f":"'Emissions Factors'!#REF!","v":{"$error":"#REF!"}},{"$f":"'Emissions Factors'!B75","v":0},{"$f":"'Emissions Factors'!C75","v":"Cement and binders"},{"$f":"'Emissions Factors'!D75","v":"Average CEM I, Ordinary Portland Cement (OPC)"},null,null,"Bulk Materials","Cement and binders","Average CEM I, Ordinary Portland Cement (OPC)","Cement and bindersAverage CEM I, Ordinary Portland Cement (OPC)",{"$f":"IF('Emissions Factors'!E75=\"\",\"\",'Emissions Factors'!E75)","v":"tonnes"},{"$f":"IF('Emissions Factors'!F75=\"\",\"\",'Emissions Factors'!F75)","v":"Cement"},{"$f":"IF('Emissions Factors'!G75=\"\",\"\",'Emissions Factors'!G75)","v":0.91200000000000003},{"$f":"IF('Emissions Factors'!H75=\"\",\"\",'Emissions Factors'!H75)","v":"tCO2e/t"},{"$f":"IF('Emissions Factors'!I75=\"\",\"\",'Emissions Factors'!I75)","v":1},{"$f":"IF('Emissions Factors'!J75=\"\",'Emissions Factors'!F75,'Emissions Factors'!J75)","v":"Carbon factor taken directly from the ICE V3: Cement > CEM I > Ordinary Portland Cement (OPC)"},null,1,null,null,{"$f":"LEN(H73)","v":18},{"$f":"LEN(I73)","v":45}]
[{"$f":"'Emissions Factors'!#REF!","v":{"$error":"#REF!"}},{"$f":"'Emissions Factors'!B76","v":0},{"$f":"'Emissions Factors'!C76","v":0},{"$f":"'Emissions Factors'!D76","v":"CEM II-A-S - 13% GGBs"},null,null,"Bulk Materials","Cement and binders","CEM II-A-S - 13% GGBs","Cement and bindersCEM II-A-S - 13% GGBs",{"$f":"IF('Emissions Factors'!E76=\"\",\"\",'Emissions Factors'!E76)","v":"tonnes"},{"$f":"IF('Emissions Factors'!F76=\"\",\"\",'Emissions Factors'!F76)","v":"Cement"},{"$f":"IF('Emissions Factors'!G76=\"\",\"\",'Emissions Factors'!G76)","v":0.80284223999999993},{"$f":"IF('Emissions Factors'!H76=\"\",\"\",'Emissions Factors'!H76)","v":"tCO2e/t"},{"$f":"IF('Emissions Factors'!I76=\"\",\"\",'Emissions Factors'!I76)","v":1},{"$f":"IF('Emissions Factors'!J76=\"\",'Emissions Factors'!F76,'Emissions Factors'!J76)","v":"Carbon factor taken directly from the ICE V3: Cement > Portland-slag cement > CEM II-A-S - 13% GGBs"},null,1,null,null,18,21]
[{"$f":"'Emissions Factors'!#REF!","v":{"$error":"#REF!"}},{"$f":"'Emissions Factors'!B77","v":0},{"$f":"'Emissions Factors'!C77","v":0},{"$f":"'Emissions Factors'!D77","v":"CEM II/B-S - 28% GGBs"},null,null,"Bulk Materials","Cement and binders","CEM II/B-S - 28% GGBs","Cement and bindersCEM II/B-S - 28% GGBs",{"$f":"IF('Emissions Factors'!E77=\"\",\"\",'Emissions Factors'!E77)","v":"tonnes"},{"$f":"IF('Emissions Factors'!F77=\"\",\"\",'Emissions Factors'!F77)","v":"Cement"},{"$f":"IF('Emissions Factors'!G77=\"\",\"\",'Emissions Factors'!G77)","v":0.67162943999999991},{"$f":"IF('Emissions Factors'!H77=\"\",\"\",'Emissions Factors'!H77)","v":"tCO2e/t"},{"$f":"IF('Emissions Factors'!I77=\"\",\"\",'Emissions Factors'!I77)","v":1},{"$f":"IF('Emissions Factors'!J77=\"\",'Emissions Factors'!F77,'Emissions Factors'!J77)","v":"Carbon factor taken directly from the ICE V3: Cement > Portland-slag cement > CEM II/B-S - 28% GGBs"},null,1,null,null,18,21]
[{"$f":"'Emissions Factors'!#REF!","v":{"$error":"#REF!"}},{"$f":"'Emissions Factors'!B78","v":0},{"$f":"'Emissions Factors'!C78","v":0},{"$f":"'Emissions Factors'!D78","v":"CEM II/A-P - 13% natural pozzolanic ash"},null,null,"Bulk Materials","Cement and binders","CEM II/A-P - 13% natural pozzolanic ash","Cement and bindersCEM II/A-P - 13% natural pozzolanic ash",{"$f":"IF('Emissions Factors'!E78=\"\",\"\",'Emissions Factors'!E78)","v":"tonnes"},{"$f":"IF('Emissions Factors'!F78=\"\",\"\",'Emissions Factors'!F78)","v":"Cement"},{"$f":"IF('Emissions Factors'!G78=\"\",\"\",'Emissions Factors'!G78)","v":0.79797944700000001},{"$f":"IF('Emissions Factors'!H78=\"\",\"\",'Emissions Factors'!H78)","v":"tCO2e/t"},{"$f":"IF('Emissions Factors'!I78=\"\",\"\",'Emissions Factors'!I78)","v":1},{"$f":"IF('Emissions Factors'!J78=\"\",'Emissions Factors'!F78,'Emissions Factors'!J78)","v":"Carbon factor taken directly from the ICE V3: Cement > Portland-pozzolana cement > CEM II/A-P - 13% natural pozzolanic ash"},null,1,null,null,18,39]
[{"$f":"'Emissions Factors'!#REF!","v":{"$error":"#REF!"}},{"$f":"'Emissions Factors'!B79","v":0},{"$f":"'Emissions Factors'!C79","v":0},{"$f":"'Emissions Factors'!D79","v":"CEM II/B-P 28% natural pozzolanic ash"},null,null,"Bulk Materials","Cement and binders","CEM II/B-P 28% natural pozzolanic ash","Cement and bindersCEM II/B-P 28% natural pozzolanic ash",{"$f":"IF('Emissions Factors'!E79=\"\",\"\",'Emissions Factors'!E79)","v":"tonnes"},{"$f":"IF('Emissions Factors'!F79=\"\",\"\",'Emissions Factors'!F79)","v":"Cement"},{"$f":"IF('Emissions Factors'!G79=\"\",\"\",'Emissions Factors'!G79)","v":0.66115573199999988},{"$f":"IF('Emissions Factors'!H79=\"\",\"\",'Emissions Factors'!H79)","v":"tCO2e/t"},{"$f":"IF('Emissions Factors'!I79=\"\",\"\",'Emissions Factors'!I79)","v":1},{"$f":"IF('Emissions Factors'!J79=\"\",'Emissions Factors'!F79,'Emissions Factors'!J79)","v":"Carbon factor taken directly from the ICE V3: Cement > Portland-pozzolana cement > CEM II/B-P 28% natural pozzolanic ash"},null,1,null,null,18,37]
[{"$f":"'Emissions Factors'!#REF!","v":{"$error":"#REF!"}},{"$f":"'Emissions Factors'!B80","v":0},{"$f":"'Emissions Factors'!C80","v":0},{"$f":"'Emissions Factors'!D80","v":"CEM II/A-V - 13% fly ash siliceous"},null,null,"Bulk Materials","Cement and binders","CEM II/A-V - 13% fly ash siliceous","Cement and bindersCEM II/A-V - 13% fly ash siliceous",{"$f":"IF('Emissions Factors'!E80=\"\",\"\",'Emissions Factors'!E80)","v":"tonnes"},{"$f":"IF('Emissions Factors'!F80=\"\",\"\",'Emissions Factors'!F80)","v":"Cement"},{"$f":"IF('Emissions Factors'!G80=\"\",\"\",'Emissions Factors'!G80)","v":0.79792979999999991},{"$f":"IF('Emissions Factors'!H80=\"\",\"\",'Emissions Factors'!H80)","v":"tCO2e/t"},{"$f":"IF('Emissions Factors'!I80=\"\",\"\",'Emissions Factors'!I80)","v":1},{"$f":"IF('Emissions Factors'!J80=\"\",'Emissions Factors'!F80,'Emissions Factors'!J80)","v":"Carbon factor taken directly from the ICE V3: Cement > Portland-fly ash cement > CEM II/A-V - 13% fly ash siliceous"},null,1,null,null,18,34]
[{"$f":"'Emissions Factors'!#REF!","v":{"$error":"#REF!"}},{"$f":"'Emissions Factors'!B81","v":0},{"$f":"'Emissions Factors'!C81","v":0},{"$f":"'Emissions Factors'!D81","v":"CEM II/B-V - 28% fly ash siliceous"},null,null,"Bulk Materials","Cement and binders","CEM II/B-V - 28% fly ash siliceous","Cement and bindersCEM II/B-V - 28% fly ash siliceous",{"$f":"IF('Emissions Factors'!E81=\"\",\"\",'Emissions Factors'!E81)","v":"tonnes"},{"$f":"IF('Emissions Factors'!F81=\"\",\"\",'Emissions Factors'!F81)","v":"Cement"},{"$f":"IF('Emissions Factors'!G81=\"\",\"\",'Emissions Factors'!G81)","v":0.66104879999999999},{"$f":"IF('Emissions Factors'!H81=\"\",\"\",'Emissions Factors'!H81)","v":"tCO2e/t"},{"$f":"IF('Emissions Factors'!I81=\"\",\"\",'Emissions Factors'!I81)","v":1},{"$f":"IF('Emissions Factors'!J81=\"\",'Emissions Factors'!F81,'Emissions Factors'!J81)","v":"Carbon factor taken directly from the ICE V3: Cement > Portland-fly ash cement > CEM II/B-V - 28% fly ash siliceous"},null,1,null,null,18,34]
[{"$f":"'Emissions Factors'!#REF!","v":{"$error":"#REF!"}},{"$f":"'Emissions Factors'!B82","v":0},{"$f":"'Emissions Factors'!C82","v":0},{"$f":"'Emissions Factors'!D82","v":"CEM II/A-W - 13% fly ash calcareous"},null,null,"Bulk Materials","Cement and binders","CEM II/A-W - 13% fly ash calcareous","Cement and bindersCEM II/A-W - 13% fly ash calcareous",{"$f":"IF('Emissions Factors'!E82=\"\",\"\",'Emissions Factors'!E82)","v":"tonnes"},{"$f":"IF('Emissions Factors'!F82=\"\",\"\",'Emissions Factors'!F82)","v":"Cement"},{"$f":"IF('Emissions Factors'!G82=\"\",\"\",'Emissions Factors'!G82)","v":0.79792979999999991},{"$f":"IF('Emissions Factors'!H82=\"\",\"\",'Emissions Factors'!H82)","v":"tCO2e/t"},{"$f":"IF('Emissions Factors'!I82=\"\",\"\",'Emissions Factors'!I82)","v":1},{"$f":"IF('Emissions Factors'!J82=\"\",'Emissions Factors'!F82,'Emissions Factors'!J82)","v":"Carbon factor taken directly from the ICE V3: Cement > Portland-fly ash cement > CEM II/A-W - 13% fly ash calcareous"},null,1,null,null,18,35]
[{"$f":"'Emissions Factors'!#REF!","v":{"$error":"#REF!"}},{"$f":"'Emissions Factors'!B83","v":0},{"$f":"'Emissions Factors'!C83","v":0},{"$f":"'Emissions Factors'!D83","v":"CEM II/B-W - 28% fly ash calcareous"},null,null,"Bulk Materials","Cement and binders","CEM II/B-W - 28% fly ash calcareous","Cement and bindersCEM II/B-W - 28% fly ash calcareous",{"$f":"IF('Emissions Factors'!E83=\"\",\"\",'Emissions Factors'!E83)","v":"tonnes"},{"$f":"IF('Emissions Factors'!F83=\"\",\"\",'Emissions Factors'!F83)","v":"Cement"},{"$f":"IF('Emissions Factors'!G83=\"\",\"\",'Emissions Factors'!G83)","v":0.66104879999999999},{"$f":"IF('Emissions Factors'!H83=\"\",\"\",'Emissions Factors'!H83)","v":"tCO2e/t"},{"$f":"IF('Emissions Factors'!I83=\"\",\"\",'Emissions Factors'!I83)","v":1},{"$f":"IF('Emissions Factors'!J83=\"\",'Emissions Factors'!F83,'Emissions Factors'!J83)","v":"Carbon factor taken directly from the ICE V3: Cement > Portland-fly ash cement > CEM II/B-W - 28% fly ash calcareous"},null,1,null,null,18,35]
[{"$f":"'Emissions Factors'!#REF!","v":{"$error":"#REF!"}},{"$f":"'Emissions Factors'!B84","v":0},{"$f":"'Emissions Factors'!C84","v":0},{"$f":"'Emissions Factors'!D84","v":"CEM II/A-L - 13% limestone"},null,null,"Bulk Materials","Cement and binders","CEM II/A-L - 13% limestone","Cement and bindersCEM II/A-L - 13% limestone",{"$f":"IF('Emissions Factors'!E84=\"\",\"\",'Emissions Factors'!E84)","v":"tonnes"},{"$f":"IF('Emissions Factors'!F84=\"\",\"\",'Emissions Factors'!F84)","v":"Cement"},{"$f":"IF('Emissions Factors'!G84=\"\",\"\",'Emissions Factors'!G84)","v":0.79946755049999996},{"$f":"IF('Emissions Factors'!H84=\"\",\"\",'Emissions Factors'!H84)","v":"tCO2e/t"},{"$f":"IF('Emissions Factors'!I84=\"\",\"\",'Emissions Factors'!I84)","v":1},{"$f":"IF('Emissions Factors'!J84=\"\",'Emissions Factors'!F84,'Emissions Factors'!J84)","v":"Carbon factor taken directly from the ICE V3: Cement > Portland-limestone cement > CEM II/A-L - 13% limestone"},null,1,null,null,18,26]
[{"$f":"'Emissions Factors'!#REF!","v":{"$error":"#REF!"}},{"$f":"'Emissions Factors'!B85","v":0},{"$f":"'Emissions Factors'!C85","v":0},{"$f":"'Emissions Factors'!D85","v":"CEM II/B-L- 28% limestone"},null,null,"Bulk Materials","Cement and binders","CEM II/B-L- 28% limestone","Cement and bindersCEM II/B-L- 28% limestone",{"$f":"IF('Emissions Factors'!E85=\"\",\"\",'Emissions Factors'!E85)","v":"tonnes"},{"$f":"IF('Emissions Factors'!F85=\"\",\"\",'Emissions Factors'!F85)","v":"Cement"},{"$f":"IF('Emissions Factors'!G85=\"\",\"\",'Emissions Factors'!G85)","v":0.66436087799999988},{"$f":"IF('Emissions Factors'!H85=\"\",\"\",'Emissions Factors'!H85)","v":"tCO2e/t"},{"$f":"IF('Emissions Factors'!I85=\"\",\"\",'Emissions Factors'!I85)","v":1},{"$f":"IF('Emissions Factors'!J85=\"\",'Emissions Factors'!F85,'Emissions Factors'!J85)","v":"Carbon factor taken directly from the ICE V3: Cement > Portland-limestone cement > CEM II/B-L- 28% limestone"},null,1,null,null,18,25]
[{"$f":"'Emissions Factors'!#REF!","v":{"$error":"#REF!"}},{"$f":"'Emissions Factors'!B86","v":0},{"$f":"'Emissions Factors'!C86","v":0},{"$f":"'Emissions Factors'!D86","v":"CEM II/A-LL - 13% limestone"},null,null,"Bulk Materials","Cement and binders","CEM II/A-LL - 13% limestone","Cement and bindersCEM II/A-LL - 13% limestone",{"$f":"IF('Emissions Factors'!E86=\"\",\"\",'Emissions Factors'!E86)","v":"tonnes"},{"$f":"IF('Emissions Factors'!F86=\"\",\"\",'Emissions Factors'!F86)","v":"Cement"},{"$f":"IF('Emissions Factors'!G86=\"\",\"\",'Emissions Factors'!G86)","v":0.79946755049999996},{"$f":"IF('Emissions Factors'!H86=\"\",\"\",'Emissions Factors'!H86)","v":"tCO2e/t"},{"$f":"IF('Emissions Factors'!I86=\"\",\"\",'Emissions Factors'!I86)","v":1},{"$f":"IF('Emissions Factors'!J86=\"\",'Emissions Factors'!F86,'Emissions Factors'!J86)","v":"Carbon factor taken directly from the ICE V3: Cement > Portland-limestone cement > CEM II/A-LL - 13% limestone"},null,1,null,null,18,27]
[{"$f":"'Emissions Factors'!#REF!","v":{"$error":"#REF!"}},{"$f":"'Emissions Factors'!B87","v":0},{"$f":"'Emissions Factors'!C87","v":0},{"$f":"'Emissions Factors'!D87","v":"CEM II/B-LL - 28% limestone"},null,null,"Bulk Materials","Cement and binders","CEM II/B-LL - 28% limestone","Cement and bindersCEM II/B-LL - 28% limestone",{"$f":"IF('Emissions Factors'!E87=\"\",\"\",'Emissions Factors'!E87)","v":"tonnes"},{"$f":"IF('Emissions Factors'!F87=\"\",\"\",'Emissions Factors'!F87)","v":"Cement"},{"$f":"IF('Emissions Factors'!G87=\"\",\"\",'Emissions Factors'!G87)","v":0.66436087799999988},{"$f":"IF('Emissions Factors'!H87=\"\",\"\",'Emissions Factors'!H87)","v":"tCO2e/t"},{"$f":"IF('Emissions Factors'!I87=\"\",\"\",'Emissions Factors'!I87)","v":1},{"$f":"IF('Emissions Factors'!J87=\"\",'Emissions Factors'!F87,'Emissions Factors'!J87)","v":"Carbon factor taken directly from the ICE V3: Cement > Portland-limestone cement > CEM II/B-LL - 28% limestone"},null,1,null,null,18,27]
[{"$f":"'Emissions Factors'!#REF!","v":{"$error":"#REF!"}},{"$f":"'Emissions Factors'!B88","v":0},{"$f":"'Emissions Factors'!C88","v":0},{"$f":"'Emissions Factors'!D88","v":"CEM II/A-M - 16% cement replacement"},null,null,"Bulk Materials","Cement and binders","CEM II/A-M - 16% cement replacement","Cement and bindersCEM II/A-M - 16% cement replacement",{"$f":"IF('Emissions Factors'!E88=\"\",\"\",'Emissions Factors'!E88)","v":"tonnes"},{"$f":"IF('Emissions Factors'!F88=\"\",\"\",'Emissions Factors'!F88)","v":"Cement"},{"$f":"IF('Emissions Factors'!G88=\"\",\"\",'Emissions Factors'!G88)","v":0.77357664000000004},{"$f":"IF('Emissions Factors'!H88=\"\",\"\",'Emissions Factors'!H88)","v":"tCO2e/t"},{"$f":"IF('Emissions Factors'!I88=\"\",\"\",'Emissions Factors'!I88)","v":1},{"$f":"IF('Emissions Factors'!J88=\"\",'Emissions Factors'!F88,'Emissions Factors'!J88)","v":"Carbon factor taken directly from the ICE V3: Cement > Portland-composite cement > CEM II/A-M - 16% cement replacement"},null,1,null,null,18,35]
[{"$f":"'Emissions Factors'!#REF!","v":{"$error":"#REF!"}},{"$f":"'Emissions Factors'!B89","v":0},{"$f":"'Emissions Factors'!C89","v":0},{"$f":"'Emissions Factors'!D89","v":"CEM II/B-M - 28% cement replacement"},null,null,"Bulk Materials","Cement and binders","CEM II/B-M - 28% cement replacement","Cement and bindersCEM II/B-M - 28% cement replacement",{"$f":"IF('Emissions Factors'!E89=\"\",\"\",'Emissions Factors'!E89)","v":"tonnes"},{"$f":"IF('Emissions Factors'!F89=\"\",\"\",'Emissions Factors'!F89)","v":"Cement"},{"$f":"IF('Emissions Factors'!G89=\"\",\"\",'Emissions Factors'!G89)","v":0.66633911999999995},{"$f":"IF('Emissions Factors'!H89=\"\",\"\",'Emissions Factors'!H89)","v":"tCO2e/t"},{"$f":"IF('Emissions Factors'!I89=\"\",\"\",'Emissions Factors'!I89)","v":1},{"$f":"IF('Emissions Factors'!J89=\"\",'Emissions Factors'!F89,'Emissions Factors'!J89)","v":"Carbon factor taken directly from the ICE V3: Cement > Portland-composite cement > CEM II/B-M - 28% cement replacement"},null,1,null,null,18,35]
[{"$f":"'Emissions Factors'!#REF!","v":{"$error":"#REF!"}},{"$f":"'Emissions Factors'!B90","v":0},{"$f":"'Emissions Factors'!C90","v":0},{"$f":"'Emissions Factors'!D90","v":"CEM III/A - 50.5% GGBS"},null,null,"Bulk Materials","Cement and binders","CEM III/A - 50.5% GGBS","Cement and bindersCEM III/A - 50.5% GGBS",{"$f":"IF('Emissions Factors'!E90=\"\",\"\",'Emissions Factors'!E90)","v":"tonnes"},{"$f":"IF('Emissions Factors'!F90=\"\",\"\",'Emissions Factors'!F90)","v":"Cement"},{"$f":"IF('Emissions Factors'!G90=\"\",\"\",'Emissions Factors'!G90)","v":0.47481023999999994},{"$f":"IF('Emissions Factors'!H90=\"\",\"\",'Emissions Factors'!H90)","v":"tCO2e/t"},{"$f":"IF('Emissions Factors'!I90=\"\",\"\",'Emissions Factors'!I90)","v":1},{"$f":"IF('Emissions Factors'!J90=\"\",'Emissions Factors'!F90,'Emissions Factors'!J90)","v":"Carbon factor taken directly from the ICE V3: Cement > Blast furnace cement > CEM III/A - 50.5% GGBS"},null,1,null,null,18,22]
[{"$f":"'Emissions Factors'!#REF!","v":{"$error":"#REF!"}},{"$f":"'Emissions Factors'!B91","v":0},{"$f":"'Emissions Factors'!C91","v":0},{"$f":"'Emissions Factors'!D91","v":"CEM III/B - 73% GGBS"},null,null,"Bulk Materials","Cement and binders","CEM III/B - 73% GGBS","Cement and bindersCEM III/B - 73% GGBS",{"$f":"IF('Emissions Factors'!E91=\"\",\"\",'Emissions Factors'!E91)","v":"tonnes"},{"$f":"IF('Emissions Factors'!F91=\"\",\"\",'Emissions Factors'!F91)","v":"Cement"},{"$f":"IF('Emissions Factors'!G91=\"\",\"\",'Emissions Factors'!G91)","v":0.27799103999999997},{"$f":"IF('Emissions Factors'!H91=\"\",\"\",'Emissions Factors'!H91)","v":"tCO2e/t"},{"$f":"IF('Emissions Factors'!I91=\"\",\"\",'Emissions Factors'!I91)","v":1},{"$f":"IF('Emissions Factors'!J91=\"\",'Emissions Factors'!F91,'Emissions Factors'!J91)","v":"Carbon factor taken directly from the ICE V3: Cement > Blast furnace cement > CEM III/B - 73% GGBS"},null,1,null,null,18,20]
[{"$f":"'Emissions Factors'!#REF!","v":{"$error":"#REF!"}},{"$f":"'Emissions Factors'!B92","v":0},{"$f":"'Emissions Factors'!C92","v":0},{"$f":"'Emissions Factors'!D92","v":"CEM III/C - 88% GGBS"},null,null,"Bulk Materials","Cement and binders","CEM III/C - 88% GGBS","Cement and bindersCEM III/C - 88% GGBS",{"$f":"IF('Emissions Factors'!E92=\"\",\"\",'Emissions Factors'!E92)","v":"tonnes"},{"$f":"IF('Emissions Factors'!F92=\"\",\"\",'Emissions Factors'!F92)","v":"Cement"},{"$f":"IF('Emissions Factors'!G92=\"\",\"\",'Emissions Factors'!G92)","v":0.14677824},{"$f":"IF('Emissions Factors'!H92=\"\",\"\",'Emissions Factors'!H92)","v":"tCO2e/t"},{"$f":"IF('Emissions Factors'!I92=\"\",\"\",'Emissions Factors'!I92)","v":1},{"$f":"IF('Emissions Factors'!J92=\"\",'Emissions Factors'!F92,'Emissions Factors'!J92)","v":"Carbon factor taken directly from the ICE V3: Cement > Blast furnace cement > CEM III/C - 88% GGBS"},null,1,null,null,18,20]
[{"$f":"'Emissions Factors'!#REF!","v":{"$error":"#REF!"}},{"$f":"'Emissions Factors'!B93","v":0},{"$f":"'Emissions Factors'!C93","v":0},{"$f":"'Emissions Factors'!D93","v":"CEM IV/A - 23% cement replacement"},null,null,"Bulk Materials","Cement and binders","CEM IV/A - 23% cement replacement","Cement and bindersCEM IV/A - 23% cement replacement",{"$f":"IF('Emissions Factors'!E93=\"\",\"\",'Emissions Factors'!E93)","v":"tonnes"},{"$f":"IF('Emissions Factors'!F93=\"\",\"\",'Emissions Factors'!F93)","v":"Cement"},{"$f":"IF('Emissions Factors'!G93=\"\",\"\",'Emissions Factors'!G93)","v":0.70667580000000008},{"$f":"IF('Emissions Factors'!H93=\"\",\"\",'Emissions Factors'!H93)","v":"tCO2e/t"},{"$f":"IF('Emissions Factors'!I93=\"\",\"\",'Emissions Factors'!I93)","v":1},{"$f":"IF('Emissions Factors'!J93=\"\",'Emissions Factors'!F93,'Emissions Factors'!J93)","v":"Carbon factor taken directly from the ICE V3: Cement > Pozzolanic cement > CEM IV/A - 23% cement replacement"},null,1,null,null,18,33]
[{"$f":"'Emissions Factors'!#REF!","v":{"$error":"#REF!"}},{"$f":"'Emissions Factors'!B94","v":0},{"$f":"'Emissions Factors'!C94","v":0},{"$f":"'Emissions Factors'!D94","v":"CEM IV/B - 46% cement replacement"},null,null,"Bulk Materials","Cement and binders","CEM IV/B - 46% cement replacement","Cement and bindersCEM IV/B - 46% cement replacement",{"$f":"IF('Emissions Factors'!E94=\"\",\"\",'Emissions Factors'!E94)","v":"tonnes"},{"$f":"IF('Emissions Factors'!F94=\"\",\"\",'Emissions Factors'!F94)","v":"Cement"},{"$f":"IF('Emissions Factors'!G94=\"\",\"\",'Emissions Factors'!G94)","v":0.50135429999999992},{"$f":"IF('Emissions Factors'!H94=\"\",\"\",'Emissions Factors'!H94)","v":"tCO2e/t"},{"$f":"IF('Emissions Factors'!I94=\"\",\"\",'Emissions Factors'!I94)","v":1},{"$f":"IF('Emissions Factors'!J94=\"\",'Emissions Factors'!F94,'Emissions Factors'!J94)","v":"Carbon factor taken directly from the ICE V3: Cement > Pozzolanic cement > CEM IV/B - 46% cement replacement"},null,1,null,null,18,33]
[{"$f":"'Emissions Factors'!#REF!","v":{"$error":"#REF!"}},{"$f":"'Emissions Factors'!B95","v":0},{"$f":"'Emissions Factors'!C95","v":0},{"$f":"'Emissions Factors'!D95","v":"CEM V/A - 24% GGBS and 24% cement replacement"},null,null,"Bulk Materials","Cement and binders","CEM V/A - 24% GGBS and 24% cement replacement","Cement and bindersCEM V/A - 24% GGBS and 24% cement replacement",{"$f":"IF('Emissions Factors'!E95=\"\",\"\",'Emissions Factors'!E95)","v":"tonnes"},{"$f":"IF('Emissions Factors'!F95=\"\",\"\",'Emissions Factors'!F95)","v":"Cement"},{"$f":"IF('Emissions Factors'!G95=\"\",\"\",'Emissions Factors'!G95)","v":0.48866637599999996},{"$f":"IF('Emissions Factors'!H95=\"\",\"\",'Emissions Factors'!H95)","v":"tCO2e/t"},{"$f":"IF('Emissions Factors'!I95=\"\",\"\",'Emissions Factors'!I95)","v":1},{"$f":"IF('Emissions Factors'!J95=\"\",'Emissions Factors'!F95,'Emissions Factors'!J95)","v":"Carbon factor taken directly from the ICE V3: Cement > Composite cement > CEM V/A - 24% GGBS and 24% cement replacement"},null,1,null,null,18,45]
[{"$f":"'Emissions Factors'!#REF!","v":{"$error":"#REF!"}},{"$f":"'Emissions Factors'!B96","v":0},{"$f":"'Emissions Factors'!C96","v":0},{"$f":"'Emissions Factors'!D96","v":"CEM V/B - 36% GGBS and 36% cement replacement"},null,null,"Bulk Materials","Cement and binders","CEM V/B - 36% GGBS and 36% cement replacement","Cement and bindersCEM V/B - 36% GGBS and 36% cement replacement",{"$f":"IF('Emissions Factors'!E96=\"\",\"\",'Emissions Factors'!E96)","v":"tonnes"},{"$f":"IF('Emissions Factors'!F96=\"\",\"\",'Emissions Factors'!F96)","v":"Cement"},{"$f":"IF('Emissions Factors'!G96=\"\",\"\",'Emissions Factors'!G96)","v":0.28363401450000003},{"$f":"IF('Emissions Factors'!H96=\"\",\"\",'Emissions Factors'!H96)","v":"tCO2e/t"},{"$f":"IF('Emissions Factors'!I96=\"\",\"\",'Emissions Factors'!I96)","v":1},{"$f":"IF('Emissions Factors'!J96=\"\",'Emissions Factors'!F96,'Emissions Factors'!J96)","v":"Carbon factor taken directly from the ICE V3: Cement > Composite cement > CEM V/B - 36% GGBS and 36% cement replacement"},null,1,null,null,18,45]
[{"$f":"'Emissions Factors'!#REF!","v":{"$error":"#REF!"}},{"$f":"'Emissions Factors'!B97","v":0},{"$f":"'Emissions Factors'!C97","v":"Reinforcement steel"},{"$f":"'Emissions Factors'!D97","v":"Steel bar and rod"},null,null,"Bulk Materials","Reinforcement steel","Steel bar and rod","Reinforcement steelSteel bar and rod",{"$f":"IF('Emissions Factors'!E97=\"\",\"\",'Emissions Factors'!E97)","v":"tonnes"},{"$f":"IF('Emissions Factors'!F97=\"\",\"\",'Emissions Factors'!F97)","v":"Steel"},{"$f":"IF('Emissions Factors'!G97=\"\",\"\",'Emissions Factors'!G97)","v":1.99},{"$f":"IF('Emissions Factors'!H97=\"\",\"\",'Emissions Factors'!H97)","v":"tCO2e/t"},{"$f":"IF('Emissions Factors'!I97=\"\",\"\",'Emissions Factors'!I97)","v":1},{"$f":"IF('Emissions Factors'!J97=\"\",'Emissions Factors'!F97,'Emissions Factors'!J97)","v":"Carbon factor taken directly from the ICE V3: Carbon Factors: Steel > Rebar. Please note the carbon factor is based on world average steel. If the recycled content is known, you may consult the ICE database to identify a more accurate value to enter as a custom carbon factor."},null,1,null,null,19,17]
[{"$f":"'Emissions Factors'!#REF!","v":{"$error":"#REF!"}},{"$f":"'Emissions Factors'!B98","v":0},{"$f":"'Emissions Factors'!C98","v":"Asphalt "},{"$f":"'Emissions Factors'!D98","v":"General Asphalt "},null,null,"Bulk Materials","Asphalt ","General Asphalt ","Asphalt General Asphalt ",{"$f":"IF('Emissions Factors'!E98=\"\",\"\",'Emissions Factors'!E98)","v":"tonnes"},{"$f":"IF('Emissions Factors'!F98=\"\",\"\",'Emissions Factors'!F98)","v":"Asphalt and Bitumen"},{"$f":"IF('Emissions Factors'!G98=\"\",\"\",'Emissions Factors'!G98)","v":5.5300000000000002E-2},{"$f":"IF('Emissions Factors'!H98=\"\",\"\",'Emissions Factors'!H98)","v":"tCO2e/t"},{"$f":"IF('Emissions Factors'!I98=\"\",\"\",'Emissions Factors'!I98)","v":1},{"$f":"IF('Emissions Factors'!J98=\"\",'Emissions Factors'!F98,'Emissions Factors'!J98)","v":"Carbon factor taken directly from the ICE V3: Asphalt > Bitumen binder content ranges from 3% to 7%. Value of 5.5% used here as a typical content."},null,1,null,null,8,16]
[null,{"$f":"'Emissions Factors'!B99","v":0},{"$f":"'Emissions Factors'!C99","v":0},{"$f":"'Emissions Factors'!D99","v":"Warm Mix Asphalt"},null,null,{"$f":"IF(B97=0,G96,B97)","v":"Bulk Materials"},{"$f":"IF(C97=0,H96,C97)","v":"Asphalt "},{"$f":"IF(D97=0,I96,D97)","v":"Warm Mix Asphalt"},{"$f":"H97&I97","v":"Asphalt Warm Mix Asphalt"},{"$f":"IF('Emissions Factors'!E99=\"\",\"\",'Emissions Factors'!E99)","v":"tonnes"},{"$f":"IF('Emissions Factors'!F99=\"\",\"\",'Emissions Factors'!F99)","v":"Asphalt and Bitumen"},{"$f":"IF('Emissions Factors'!G99=\"\",\"\",'Emissions Factors'!G99)","v":5.2534999999999998E-2},{"$f":"IF('Emissions Factors'!H99=\"\",\"\",'Emissions Factors'!H99)","v":"tCO2e/t"},{"$f":"IF('Emissions Factors'!I99=\"\",\"\",'Emissions Factors'!I99)","v":1},{"$f":"IF('Emissions Factors'!J99=\"\",'Emissions Factors'!F99,'Emissions Factors'!J99)","v":"Carbon factor estimated to be 5% lower than the general asphalt value. If you have a carbon factor for a specific warm asphalt product please add a customer carbon factor and provide supporting information in the ‘notes’ section of carbon tool. The carbon tool guidance provides further information on custom factors and notes."},null,1,null,null,{"$f":"LEN(H97)","v":8},{"$f":"LEN(I97)","v":16}]
[{"$f":"'Emissions Factors'!#REF!","v":{"$error":"#REF!"}},{"$f":"'Emissions Factors'!B100","v":0},{"$f":"'Emissions Factors'!C100","v":"Fill, aggregate and sand"},{"$f":"'Emissions Factors'!D100","v":"Site-won"},null,null,{"$f":"IF(B98=0,G96,B98)","v":"Bulk Materials"},{"$f":"IF(C98=0,H96,C98)","v":"Fill, aggregate and sand"},{"$f":"IF(D98=0,I96,D98)","v":"Site-won"},"Fill, aggregate and sandSite-won",{"$f":"IF('Emissions Factors'!E100=\"\",\"\",'Emissions Factors'!E100)","v":"tonnes"},{"$f":"IF('Emissions Factors'!F100=\"\",\"\",'Emissions Factors'!F100)","v":"Inert"},{"$f":"IF('Emissions Factors'!G100=\"\",\"\",'Emissions Factors'!G100)","v":0},{"$f":"IF('Emissions Factors'!H100=\"\",\"\",'Emissions Factors'!H100)","v":"tCO2e/t"},{"$f":"IF('Emissions Factors'!I100=\"\",\"\",'Emissions Factors'!I100)","v":1},{"$f":"IF('Emissions Factors'!J100=\"\",'Emissions Factors'!F100,'Emissions Factors'!J100)","v":"Embodied carbon of site won material assumed to be zero. Emissions from the movement around the site captured by fuel use."},null,0,null,null,24,8]
[{"$f":"'Emissions Factors'!#REF!","v":{"$error":"#REF!"}},{"$f":"'Emissions Factors'!B101","v":0},{"$f":"'Emissions Factors'!C101","v":0},{"$f":"'Emissions Factors'!D101","v":"General mixture"},null,null,"Bulk Materials","Fill, aggregate and sand","General mixture","Fill, aggregate and sandGeneral mixture",{"$f":"IF('Emissions Factors'!E101=\"\",\"\",'Emissions Factors'!E101)","v":"tonnes"},{"$f":"IF('Emissions Factors'!F101=\"\",\"\",'Emissions Factors'!F101)","v":"Inert"},{"$f":"IF('Emissions Factors'!G101=\"\",\"\",'Emissions Factors'!G101)","v":7.4700000000000001E-3},{"$f":"IF('Emissions Factors'!H101=\"\",\"\",'Emissions Factors'!H101)","v":"tCO2e/t"},{"$f":"IF('Emissions Factors'!I101=\"\",\"\",'Emissions Factors'!I101)","v":1},{"$f":"IF('Emissions Factors'!J101=\"\",'Emissions Factors'!F101,'Emissions Factors'!J101)","v":"Carbon factor taken directly from ICE V3: Aggregate > General UK mixture"},null,1,null,null,24,15]
[{"$f":"'Emissions Factors'!#REF!","v":{"$error":"#REF!"}},{"$f":"'Emissions Factors'!B102","v":0},{"$f":"'Emissions Factors'!C102","v":0},{"$f":"'Emissions Factors'!D102","v":"Recycled and secondary mixture"},null,null,"Bulk Materials","Fill, aggregate and sand","Recycled and secondary mixture","Fill, aggregate and sandRecycled and secondary mixture",{"$f":"IF('Emissions Factors'!E102=\"\",\"\",'Emissions Factors'!E102)","v":"tonnes"},{"$f":"IF('Emissions Factors'!F102=\"\",\"\",'Emissions Factors'!F102)","v":"Inert"},{"$f":"IF('Emissions Factors'!G102=\"\",\"\",'Emissions Factors'!G102)","v":1.4181253693490319E-2},{"$f":"IF('Emissions Factors'!H102=\"\",\"\",'Emissions Factors'!H102)","v":"tCO2e/t"},{"$f":"IF('Emissions Factors'!I102=\"\",\"\",'Emissions Factors'!I102)","v":1},{"$f":"IF('Emissions Factors'!J102=\"\",'Emissions Factors'!F102,'Emissions Factors'!J102)","v":"Carbon factor taken directly from ICE V3: Aggregate > Mixture of recycled and secondary"},null,1,null,null,24,30]
[{"$f":"'Emissions Factors'!#REF!","v":{"$error":"#REF!"}},{"$f":"'Emissions Factors'!B103","v":0},{"$f":"'Emissions Factors'!C103","v":0},{"$f":"'Emissions Factors'!D103","v":"Virgin mixture of land won and marine"},null,null,"Bulk Materials","Fill, aggregate and sand","Virgin mixture of land won and marine","Fill, aggregate and sandVirgin mixture of land won and marine",{"$f":"IF('Emissions Factors'!E103=\"\",\"\",'Emissions Factors'!E103)","v":"tonnes"},{"$f":"IF('Emissions Factors'!F103=\"\",\"\",'Emissions Factors'!F103)","v":"Inert"},{"$f":"IF('Emissions Factors'!G103=\"\",\"\",'Emissions Factors'!G103)","v":4.9277889032866068E-3},{"$f":"IF('Emissions Factors'!H103=\"\",\"\",'Emissions Factors'!H103)","v":"tCO2e/t"},{"$f":"IF('Emissions Factors'!I103=\"\",\"\",'Emissions Factors'!I103)","v":1},{"$f":"IF('Emissions Factors'!J103=\"\",'Emissions Factors'!F103,'Emissions Factors'!J103)","v":"Carbon factor taken directly from ICE V3: Aggregate > Virgin mixture of land won and marine"},null,1,null,null,24,37]
[{"$f":"'Emissions Factors'!#REF!","v":{"$error":"#REF!"}},{"$f":"'Emissions Factors'!B104","v":0},{"$f":"'Emissions Factors'!C104","v":0},{"$f":"'Emissions Factors'!D104","v":"Virgin land won resources"},null,null,"Bulk Materials","Fill, aggregate and sand","Virgin land won resources","Fill, aggregate and sandVirgin land won resources",{"$f":"IF('Emissions Factors'!E104=\"\",\"\",'Emissions Factors'!E104)","v":"tonnes"},{"$f":"IF('Emissions Factors'!F104=\"\",\"\",'Emissions Factors'!F104)","v":"Inert"},{"$f":"IF('Emissions Factors'!G104=\"\",\"\",'Emissions Factors'!G104)","v":4.3843502238805968E-3},{"$f":"IF('Emissions Factors'!H104=\"\",\"\",'Emissions Factors'!H104)","v":"tCO2e/t"},{"$f":"IF('Emissions Factors'!I104=\"\",\"\",'Emissions Factors'!I104)","v":1},{"$f":"IF('Emissions Factors'!J104=\"\",'Emissions Factors'!F104,'Emissions Factors'!J104)","v":"Carbon factor taken directly from ICE V3: Aggregate > Virgin mixture of land won resources"},null,1,null,null,24,25]
[{"$f":"'Emissions Factors'!#REF!","v":{"$error":"#REF!"}},{"$f":"'Emissions Factors'!B105","v":0},{"$f":"'Emissions Factors'!C105","v":0},{"$f":"'Emissions Factors'!D105","v":"Virgin marine resources"},null,null,"Bulk Materials","Fill, aggregate and sand","Virgin marine resources","Fill, aggregate and sandVirgin marine resources",{"$f":"IF('Emissions Factors'!E105=\"\",\"\",'Emissions Factors'!E105)","v":"tonnes"},{"$f":"IF('Emissions Factors'!F105=\"\",\"\",'Emissions Factors'!F105)","v":"Inert"},{"$f":"IF('Emissions Factors'!G105=\"\",\"\",'Emissions Factors'!G105)","v":9.0375000000000021E-3},{"$f":"IF('Emissions Factors'!H105=\"\",\"\",'Emissions Factors'!H105)","v":"tCO2e/t"},{"$f":"IF('Emissions Factors'!I105=\"\",\"\",'Emissions Factors'!I105)","v":1},{"$f":"IF('Emissions Factors'!J105=\"\",'Emissions Factors'!F105,'Emissions Factors'!J105)","v":"Carbon factor taken directly from ICE V3: Aggregate > virgin marine resources. Data uncertainty for aggregate and sand from marine sources is high due to large variations."},null,1,null,null,24,23]
[{"$f":"'Emissions Factors'!#REF!","v":{"$error":"#REF!"}},{"$f":"'Emissions Factors'!B106","v":0},{"$f":"'Emissions Factors'!C106","v":0},{"$f":"'Emissions Factors'!D106","v":"Recycled resources, no heat treatment"},null,null,"Bulk Materials","Fill, aggregate and sand","Recycled resources, no heat treatment","Fill, aggregate and sandRecycled resources, no heat treatment",{"$f":"IF('Emissions Factors'!E106=\"\",\"\",'Emissions Factors'!E106)","v":"tonnes"},{"$f":"IF('Emissions Factors'!F106=\"\",\"\",'Emissions Factors'!F106)","v":"Inert"},{"$f":"IF('Emissions Factors'!G106=\"\",\"\",'Emissions Factors'!G106)","v":6.0953116666666663E-3},{"$f":"IF('Emissions Factors'!H106=\"\",\"\",'Emissions Factors'!H106)","v":"tCO2e/t"},{"$f":"IF('Emissions Factors'!I106=\"\",\"\",'Emissions Factors'!I106)","v":1},{"$f":"IF('Emissions Factors'!J106=\"\",'Emissions Factors'!F106,'Emissions Factors'!J106)","v":"Carbon factor taken directly from ICE V3: Aggregate > recycled imported resources, no heat treatment"},null,1,null,null,24,37]
[{"$f":"'Emissions Factors'!#REF!","v":{"$error":"#REF!"}},{"$f":"'Emissions Factors'!B107","v":0},{"$f":"'Emissions Factors'!C107","v":0},{"$f":"'Emissions Factors'!D107","v":"Recycled resources, with heat treatment"},null,null,"Bulk Materials","Fill, aggregate and sand","Recycled resources, with heat treatment","Fill, aggregate and sandRecycled resources, with heat treatment",{"$f":"IF('Emissions Factors'!E107=\"\",\"\",'Emissions Factors'!E107)","v":"tonnes"},{"$f":"IF('Emissions Factors'!F107=\"\",\"\",'Emissions Factors'!F107)","v":"Inert"},{"$f":"IF('Emissions Factors'!G107=\"\",\"\",'Emissions Factors'!G107)","v":0.11877166666666666},{"$f":"IF('Emissions Factors'!H107=\"\",\"\",'Emissions Factors'!H107)","v":"tCO2e/t"},{"$f":"IF('Emissions Factors'!I107=\"\",\"\",'Emissions Factors'!I107)","v":1},{"$f":"IF('Emissions Factors'!J107=\"\",'Emissions Factors'!F107,'Emissions Factors'!J107)","v":"Carbon factor taken directly from ICE V3: Aggregate > recycled imported resources, with heat treatment"},null,1,null,null,24,39]
[{"$f":"'Emissions Factors'!#REF!","v":{"$error":"#REF!"}},{"$f":"'Emissions Factors'!B108","v":0},{"$f":"'Emissions Factors'!C108","v":0},{"$f":"'Emissions Factors'!D108","v":"Expanded clay"},null,null,"Bulk Materials","Fill, aggregate and sand","Expanded clay","Fill, aggregate and sandExpanded clay",{"$f":"IF('Emissions Factors'!E108=\"\",\"\",'Emissions Factors'!E108)","v":"tonnes"},{"$f":"IF('Emissions Factors'!F108=\"\",\"\",'Emissions Factors'!F108)","v":"Inert"},{"$f":"IF('Emissions Factors'!G108=\"\",\"\",'Emissions Factors'!G108)","v":0.393208},{"$f":"IF('Emissions Factors'!H108=\"\",\"\",'Emissions Factors'!H108)","v":"tCO2e/t"},{"$f":"IF('Emissions Factors'!I108=\"\",\"\",'Emissions Factors'!I108)","v":1},{"$f":"IF('Emissions Factors'!J108=\"\",'Emissions Factors'!F108,'Emissions Factors'!J108)","v":"Carbon factor taken directly from ICE V3: Aggregate > Expanded clay"},null,1,null,null,24,13]
[{"$f":"'Emissions Factors'!#REF!","v":{"$error":"#REF!"}},{"$f":"'Emissions Factors'!B109","v":0},{"$f":"'Emissions Factors'!C109","v":0},{"$f":"'Emissions Factors'!D109","v":"Expanded foamed glass"},null,null,"Bulk Materials","Fill, aggregate and sand","Expanded foamed glass","Fill, aggregate and sandExpanded foamed glass",{"$f":"IF('Emissions Factors'!E109=\"\",\"\",'Emissions Factors'!E109)","v":"tonnes"},{"$f":"IF('Emissions Factors'!F109=\"\",\"\",'Emissions Factors'!F109)","v":"Inert"},{"$f":"IF('Emissions Factors'!G109=\"\",\"\",'Emissions Factors'!G109)","v":0.27762999999999999},{"$f":"IF('Emissions Factors'!H109=\"\",\"\",'Emissions Factors'!H109)","v":"tCO2e/t"},{"$f":"IF('Emissions Factors'!I109=\"\",\"\",'Emissions Factors'!I109)","v":1},{"$f":"IF('Emissions Factors'!J109=\"\",'Emissions Factors'!F109,'Emissions Factors'!J109)","v":"Carbon factor taken directly from ICE V3: Aggregate > Expanded foamed glass"},null,1,null,null,24,21]
[{"$f":"'Emissions Factors'!#REF!","v":{"$error":"#REF!"}},{"$f":"'Emissions Factors'!B110","v":0},{"$f":"'Emissions Factors'!C110","v":0},{"$f":"'Emissions Factors'!D110","v":"Secondary resources"},null,null,"Bulk Materials","Fill, aggregate and sand","Secondary resources","Fill, aggregate and sandSecondary resources",{"$f":"IF('Emissions Factors'!E110=\"\",\"\",'Emissions Factors'!E110)","v":"tonnes"},{"$f":"IF('Emissions Factors'!F110=\"\",\"\",'Emissions Factors'!F110)","v":"Inert"},{"$f":"IF('Emissions Factors'!G110=\"\",\"\",'Emissions Factors'!G110)","v":6.332299999999999E-2},{"$f":"IF('Emissions Factors'!H110=\"\",\"\",'Emissions Factors'!H110)","v":"tCO2e/t"},{"$f":"IF('Emissions Factors'!I110=\"\",\"\",'Emissions Factors'!I110)","v":1},{"$f":"IF('Emissions Factors'!J110=\"\",'Emissions Factors'!F110,'Emissions Factors'!J110)","v":"Carbon factor taken directly from ICE V3: Aggregate > Secondary resources"},null,1,null,null,24,19]
[{"$f":"'Emissions Factors'!#REF!","v":{"$error":"#REF!"}},{"$f":"'Emissions Factors'!B111","v":0},{"$f":"'Emissions Factors'!C111","v":"Road salt/grit"},{"$f":"'Emissions Factors'!D111","v":"Road salt/grit"},null,null,"Bulk Materials","Road salt/grit","Road salt/grit","Road salt/gritRoad salt/grit",{"$f":"IF('Emissions Factors'!E111=\"\",\"\",'Emissions Factors'!E111)","v":"tonnes"},{"$f":"IF('Emissions Factors'!F111=\"\",\"\",'Emissions Factors'!F111)","v":"Road  Salt"},{"$f":"IF('Emissions Factors'!G111=\"\",\"\",'Emissions Factors'!G111)","v":7.0000000000000001E-3},{"$f":"IF('Emissions Factors'!H111=\"\",\"\",'Emissions Factors'!H111)","v":"tCO2/t"},{"$f":"IF('Emissions Factors'!I111=\"\",\"\",'Emissions Factors'!I111)","v":1},{"$f":"IF('Emissions Factors'!J111=\"\",'Emissions Factors'!F111,'Emissions Factors'!J111)","v":"Carbon factor taken directly from the ICE V3: Miscellaneous > Grit."},null,1,null,null,14,14]
[{"$f":"'Emissions Factors'!#REF!","v":{"$error":"#REF!"}},{"$f":"'Emissions Factors'!B112","v":"Earthworks"},{"$f":"'Emissions Factors'!C112","v":"Imported Soil "},{"$f":"'Emissions Factors'!D112","v":"General soil/top soil"},null,null,"Earthworks","Imported Soil ","General soil/top soil","Imported Soil General soil/top soil",{"$f":"IF('Emissions Factors'!E112=\"\",\"\",'Emissions Factors'!E112)","v":"tonnes"},{"$f":"IF('Emissions Factors'!F112=\"\",\"\",'Emissions Factors'!F112)","v":"Inert"},{"$f":"IF('Emissions Factors'!G112=\"\",\"\",'Emissions Factors'!G112)","v":2.4E-2},{"$f":"IF('Emissions Factors'!H112=\"\",\"\",'Emissions Factors'!H112)","v":"tCO2e/t"},{"$f":"IF('Emissions Factors'!I112=\"\",\"\",'Emissions Factors'!I112)","v":1},{"$f":"IF('Emissions Factors'!J112=\"\",'Emissions Factors'!F112,'Emissions Factors'!J112)","v":"Carbon factor taken directly from the ICE V3: Soil > General (rammed soil)"},null,1,null,null,14,21]
[{"$f":"'Emissions Factors'!#REF!","v":{"$error":"#REF!"}},{"$f":"'Emissions Factors'!B113","v":0},{"$f":"'Emissions Factors'!C113","v":0},{"$f":"'Emissions Factors'!D113","v":"Stabilised soil - Cement, Fly Ash or GGBS "},null,null,"Earthworks","Imported Soil ","Stabilised soil - Cement, Fly Ash or GGBS ","Imported Soil Stabilised soil - Cement, Fly Ash or GGBS ",{"$f":"IF('Emissions Factors'!E113=\"\",\"\",'Emissions Factors'!E113)","v":"tonnes"},{"$f":"IF('Emissions Factors'!F113=\"\",\"\",'Emissions Factors'!F113)","v":"Inert"},{"$f":"IF('Emissions Factors'!G113=\"\",\"\",'Emissions Factors'!G113)","v":5.8000000000000003E-2},{"$f":"IF('Emissions Factors'!H113=\"\",\"\",'Emissions Factors'!H113)","v":"tCO2e/t"},{"$f":"IF('Emissions Factors'!I113=\"\",\"\",'Emissions Factors'!I113)","v":1},{"$f":"IF('Emissions Factors'!J113=\"\",'Emissions Factors'!F113,'Emissions Factors'!J113)","v":"Carbon factors taken from the ICE V3: Soil > Cement stabilised soils. Average taken of all the variations in stabilised soil."},null,1,null,null,14,42]
[{"$f":"'Emissions Factors'!#REF!","v":{"$error":"#REF!"}},{"$f":"'Emissions Factors'!B114","v":0},{"$f":"'Emissions Factors'!C114","v":"Site won soil/ muck shift"},{"$f":"'Emissions Factors'!D114","v":"General soil"},null,null,"Earthworks","Site won soil/ muck shift","General soil","Site won soil/ muck shiftGeneral soil",{"$f":"IF('Emissions Factors'!E114=\"\",\"\",'Emissions Factors'!E114)","v":"tonnes"},{"$f":"IF('Emissions Factors'!F114=\"\",\"\",'Emissions Factors'!F114)","v":"Inert"},{"$f":"IF('Emissions Factors'!G114=\"\",\"\",'Emissions Factors'!G114)","v":0},{"$f":"IF('Emissions Factors'!H114=\"\",\"\",'Emissions Factors'!H114)","v":"tCO2e/t"},{"$f":"IF('Emissions Factors'!I114=\"\",\"\",'Emissions Factors'!I114)","v":1},{"$f":"IF('Emissions Factors'!J114=\"\",'Emissions Factors'!F114,'Emissions Factors'!J114)","v":"Embodied carbon of site won material assumed to be zero. Movement around site captured by fuel use."},null,0,null,null,25,12]
[{"$f":"'Emissions Factors'!#REF!","v":{"$error":"#REF!"}},{"$f":"'Emissions Factors'!B115","v":0},{"$f":"'Emissions Factors'!C115","v":"Ground stabilisation"},{"$f":"'Emissions Factors'!D115","v":"Portland CEM I cement"},null,null,"Earthworks","Ground stabilisation","Portland CEM I cement","Ground stabilisationPortland CEM I cement",{"$f":"IF('Emissions Factors'!E115=\"\",\"\",'Emissions Factors'!E115)","v":"tonnes"},{"$f":"IF('Emissions Factors'!F115=\"\",\"\",'Emissions Factors'!F115)","v":"Please include this within the bulk materials category under cement."},{"$f":"IF('Emissions Factors'!G115=\"\",\"\",'Emissions Factors'!G115)","v":""},{"$f":"IF('Emissions Factors'!H115=\"\",\"\",'Emissions Factors'!H115)","v":""},{"$f":"IF('Emissions Factors'!I115=\"\",\"\",'Emissions Factors'!I115)","v":""},{"$f":"IF('Emissions Factors'!J115=\"\",'Emissions Factors'!F115,'Emissions Factors'!J115)","v":"Please include this within the bulk materials category under cement."},null,1,null,null,20,21]
[{"$f":"'Emissions Factors'!#REF!","v":{"$error":"#REF!"}},{"$f":"'Emissions Factors'!B116","v":0},{"$f":"'Emissions Factors'!C116","v":0},{"$f":"'Emissions Factors'!D116","v":"GGBS "},null,null,"Earthworks","Ground stabilisation","GGBS ","Ground stabilisationGGBS ",{"$f":"IF('Emissions Factors'!E116=\"\",\"\",'Emissions Factors'!E116)","v":"tonnes"},{"$f":"IF('Emissions Factors'!F116=\"\",\"\",'Emissions Factors'!F116)","v":"Cement"},{"$f":"IF('Emissions Factors'!G116=\"\",\"\",'Emissions Factors'!G116)","v":8.3000000000000004E-2},{"$f":"IF('Emissions Factors'!H116=\"\",\"\",'Emissions Factors'!H116)","v":"tCO2e/t"},{"$f":"IF('Emissions Factors'!I116=\"\",\"\",'Emissions Factors'!I116)","v":1},{"$f":"IF('Emissions Factors'!J116=\"\",'Emissions Factors'!F116,'Emissions Factors'!J116)","v":"Carbon factor taken directly from the ICE V3: Miscellaneous > Slag."},null,1,null,null,20,5]
[{"$f":"'Emissions Factors'!#REF!","v":{"$error":"#REF!"}},{"$f":"'Emissions Factors'!B117","v":0},{"$f":"'Emissions Factors'!C117","v":0},{"$f":"'Emissions Factors'!D117","v":"Fly ash  "},null,null,"Earthworks","Ground stabilisation","Fly ash  ","Ground stabilisationFly ash  ",{"$f":"IF('Emissions Factors'!E117=\"\",\"\",'Emissions Factors'!E117)","v":"tonnes"},{"$f":"IF('Emissions Factors'!F117=\"\",\"\",'Emissions Factors'!F117)","v":"Cement"},{"$f":"IF('Emissions Factors'!G117=\"\",\"\",'Emissions Factors'!G117)","v":8.0000000000000002E-3},{"$f":"IF('Emissions Factors'!H117=\"\",\"\",'Emissions Factors'!H117)","v":"tCO2e/t"},{"$f":"IF('Emissions Factors'!I117=\"\",\"\",'Emissions Factors'!I117)","v":1},{"$f":"IF('Emissions Factors'!J117=\"\",'Emissions Factors'!F117,'Emissions Factors'!J117)","v":"Carbon factor taken directly from the ICE V3: Miscellaneous > Fly Ash."},null,1,null,null,20,9]
[{"$f":"'Emissions Factors'!#REF!","v":{"$error":"#REF!"}},{"$f":"'Emissions Factors'!B118","v":0},{"$f":"'Emissions Factors'!C118","v":0},{"$f":"'Emissions Factors'!D118","v":"Lime"},null,null,"Earthworks","Ground stabilisation","Lime","Ground stabilisationLime",{"$f":"IF('Emissions Factors'!E118=\"\",\"\",'Emissions Factors'!E118)","v":"tonnes"},{"$f":"IF('Emissions Factors'!F118=\"\",\"\",'Emissions Factors'!F118)","v":"Cement"},{"$f":"IF('Emissions Factors'!G118=\"\",\"\",'Emissions Factors'!G118)","v":0.78},{"$f":"IF('Emissions Factors'!H118=\"\",\"\",'Emissions Factors'!H118)","v":"tCO2e/t"},{"$f":"IF('Emissions Factors'!I118=\"\",\"\",'Emissions Factors'!I118)","v":1},{"$f":"IF('Emissions Factors'!J118=\"\",'Emissions Factors'!F118,'Emissions Factors'!J118)","v":"Carbon factor taken directly from the ICE V3: Lime > General."},null,1,null,null,20,4]
[{"$f":"'Emissions Factors'!#REF!","v":{"$error":"#REF!"}},{"$f":"'Emissions Factors'!B119","v":0},{"$f":"'Emissions Factors'!C119","v":"Geotextiles"},{"$f":"'Emissions Factors'!D119","v":"Polypropylene geotextile / matting"},null,null,"Earthworks","Geotextiles","Polypropylene geotextile / matting","GeotextilesPolypropylene geotextile / matting",{"$f":"IF('Emissions Factors'!E119=\"\",\"\",'Emissions Factors'!E119)","v":"m2"},{"$f":"IF('Emissions Factors'!F119=\"\",\"\",'Emissions Factors'!F119)","v":"Plastic"},{"$f":"IF('Emissions Factors'!G119=\"\",\"\",'Emissions Factors'!G119)","v":2.54},{"$f":"IF('Emissions Factors'!H119=\"\",\"\",'Emissions Factors'!H119)","v":"tCO2e/t"},{"$f":"IF('Emissions Factors'!I119=\"\",\"\",'Emissions Factors'!I119)","v":9.4600000000000001E-4},{"$f":"IF('Emissions Factors'!J119=\"\",'Emissions Factors'!F119,'Emissions Factors'!J119)","v":"Carbon factor taken from the ICE V3: Plastic > General Polypropylene. Conversion factor has assumed geotextile thickness is approximately 1mm. Density of polypropylene = 946 kg/m3 ."},null,1,null,null,11,34]
[{"$f":"'Emissions Factors'!#REF!","v":{"$error":"#REF!"}},{"$f":"'Emissions Factors'!B120","v":"Fencing, Barriers & Road Restraint Systems"},{"$f":"'Emissions Factors'!C120","v":"Fence"},{"$f":"'Emissions Factors'!D120","v":"Fence timber (by volume)"},null,null,"Fencing, Barriers & Road Restraint Systems","Fence","Fence timber (by volume)","FenceFence timber (by volume)",{"$f":"IF('Emissions Factors'!E120=\"\",\"\",'Emissions Factors'!E120)","v":"m3"},{"$f":"IF('Emissions Factors'!F120=\"\",\"\",'Emissions Factors'!F120)","v":"Timber"},{"$f":"IF('Emissions Factors'!G120=\"\",\"\",'Emissions Factors'!G120)","v":0.26300000000000001},{"$f":"IF('Emissions Factors'!H120=\"\",\"\",'Emissions Factors'!H120)","v":"tCO2e/t"},{"$f":"IF('Emissions Factors'!I120=\"\",\"\",'Emissions Factors'!I120)","v":0.5},{"$f":"IF('Emissions Factors'!J120=\"\",'Emissions Factors'!F120,'Emissions Factors'!J120)","v":"Carbon factor taken from the ICE V3: Timber > Softwood no carbon storage. Alternative ICE carbon factors are presented for sustainable timber which may be used where a chain of custody of timber provides sufficient justification."},null,1,null,null,5,24]
[{"$f":"'Emissions Factors'!#REF!","v":{"$error":"#REF!"}},{"$f":"'Emissions Factors'!B121","v":0},{"$f":"'Emissions Factors'!C121","v":0},{"$f":"'Emissions Factors'!D121","v":"Timber rail fence (all types, includes posts)"},null,null,"Fencing, Barriers & Road Restraint Systems","Fence","Timber rail fence (all types, includes posts)","FenceTimber rail fence (all types, includes posts)",{"$f":"IF('Emissions Factors'!E121=\"\",\"\",'Emissions Factors'!E121)","v":"metres"},{"$f":"IF('Emissions Factors'!F121=\"\",\"\",'Emissions Factors'!F121)","v":"Timber"},{"$f":"IF('Emissions Factors'!G121=\"\",\"\",'Emissions Factors'!G121)","v":0.26300000000000001},{"$f":"IF('Emissions Factors'!H121=\"\",\"\",'Emissions Factors'!H121)","v":"tCO2e/t"},{"$f":"IF('Emissions Factors'!I121=\"\",\"\",'Emissions Factors'!I121)","v":1.4283850000000001E-2},{"$f":"IF('Emissions Factors'!J121=\"\",'Emissions Factors'!F121,'Emissions Factors'!J121)","v":"Carbon factor taken from the ICE V3: Timber > Softwood no carbon storage. Alternative ICE carbon factors are presented for sustainable timber which may be used where a chain of custody of timber provides sufficient justification. Weight of fencing material per metre taken as an average from Specification for Highways Works - Volume 3 H series drawings 3 and 4 rail fencing with a calculated weight of  14.3kg per metre. Fittings and  small miscellaneous items have been omitted due their relatively small contribution to the overall carbon emissions associated with fencing."},null,1,null,null,5,45]
[{"$f":"'Emissions Factors'!#REF!","v":{"$error":"#REF!"}},{"$f":"'Emissions Factors'!B122","v":0},{"$f":"'Emissions Factors'!C122","v":0},{"$f":"'Emissions Factors'!D122","v":"Timber panels and posts"},null,null,"Fencing, Barriers & Road Restraint Systems","Fence","Timber panels and posts","FenceTimber panels and posts",{"$f":"IF('Emissions Factors'!E122=\"\",\"\",'Emissions Factors'!E122)","v":"no."},{"$f":"IF('Emissions Factors'!F122=\"\",\"\",'Emissions Factors'!F122)","v":"Timber"},{"$f":"IF('Emissions Factors'!G122=\"\",\"\",'Emissions Factors'!G122)","v":0.26300000000000001},{"$f":"IF('Emissions Factors'!H122=\"\",\"\",'Emissions Factors'!H122)","v":"tCO2e/t"},{"$f":"IF('Emissions Factors'!I122=\"\",\"\",'Emissions Factors'!I122)","v":3.5749999999999997E-2},{"$f":"IF('Emissions Factors'!J122=\"\",'Emissions Factors'!F122,'Emissions Factors'!J122)","v":"Carbon factor taken from the ICE V3: Timber > Softwood no carbon storage. Alternative ICE carbon factors are presented for sustainable timber which may be used where a chain of custody of timber provides sufficient justification. Weight of fence panel and post taken from supplier with a stated weight of 35.8kg per panel and post. Fittings and  small miscellaneous items have been omitted due their relatively small contribution to the overall carbon emissions associated with fencing."},null,1,null,null,5,23]
[{"$f":"'Emissions Factors'!#REF!","v":{"$error":"#REF!"}},{"$f":"'Emissions Factors'!B123","v":0},{"$f":"'Emissions Factors'!C123","v":0},{"$f":"'Emissions Factors'!D123","v":"Steel/wire/chain fence (includes posts)"},null,null,"Fencing, Barriers & Road Restraint Systems","Fence","Steel/wire/chain fence (includes posts)","FenceSteel/wire/chain fence (includes posts)",{"$f":"IF('Emissions Factors'!E123=\"\",\"\",'Emissions Factors'!E123)","v":"metres"},{"$f":"IF('Emissions Factors'!F123=\"\",\"\",'Emissions Factors'!F123)","v":"Steel"},{"$f":"IF('Emissions Factors'!G123=\"\",\"\",'Emissions Factors'!G123)","v":2.76},{"$f":"IF('Emissions Factors'!H123=\"\",\"\",'Emissions Factors'!H123)","v":"tCO2e/t"},{"$f":"IF('Emissions Factors'!I123=\"\",\"\",'Emissions Factors'!I123)","v":3.82E-3},{"$f":"IF('Emissions Factors'!J123=\"\",'Emissions Factors'!F123,'Emissions Factors'!J123)","v":"Carbon factor taken directly from the ICE V3: Steel >  Hot dipped galvanised steel Weight of steel per metre estimate from supplier for a 1.8m high chain link fence and steel post to be 3.8kg. Fittings and  small miscellaneous items have been omitted due their relatively small contribution to the overall carbon emissions associated with fencing."},null,1,null,null,5,39]
[{"$f":"'Emissions Factors'!#REF!","v":{"$error":"#REF!"}},{"$f":"'Emissions Factors'!B124","v":0},{"$f":"'Emissions Factors'!C124","v":"Noise Barriers"},{"$f":"'Emissions Factors'!D124","v":"Timber barrier 2m "},null,null,"Fencing, Barriers & Road Restraint Systems","Noise Barriers","Timber barrier 2m ","Noise BarriersTimber barrier 2m ",{"$f":"IF('Emissions Factors'!E124=\"\",\"\",'Emissions Factors'!E124)","v":"metres"},{"$f":"IF('Emissions Factors'!F124=\"\",\"\",'Emissions Factors'!F124)","v":"Timber"},{"$f":"IF('Emissions Factors'!G124=\"\",\"\",'Emissions Factors'!G124)","v":0.92886666666666662},{"$f":"IF('Emissions Factors'!H124=\"\",\"\",'Emissions Factors'!H124)","v":"tCO2e/t"},{"$f":"IF('Emissions Factors'!I124=\"\",\"\",'Emissions Factors'!I124)","v":0.09},{"$f":"IF('Emissions Factors'!J124=\"\",'Emissions Factors'!F124,'Emissions Factors'!J124)","v":"Carbon factor taken from the ICE V3: Timber > Softwood no carbon storage. Alternative ICE carbon factors are presented for sustainable timber which may be used where a chain of custody of timber provides sufficient justification. Weight taken to be 33kg/m2 from supplier of typical timber noise barrier. Posts are assumed to be steel I beams of 16kg per m, of 1 meter longer than the height of the barrier. Fittings and  small miscellaneous items have been omitted due their relatively small contribution to the overall carbon emissions associated with noise barriers."},null,1,null,null,14,18]
[{"$f":"'Emissions Factors'!#REF!","v":{"$error":"#REF!"}},{"$f":"'Emissions Factors'!B125","v":0},{"$f":"'Emissions Factors'!C125","v":0},{"$f":"'Emissions Factors'!D125","v":"Timber barrier 3m "},null,null,"Fencing, Barriers & Road Restraint Systems","Noise Barriers","Timber barrier 3m ","Noise BarriersTimber barrier 3m ",{"$f":"IF('Emissions Factors'!E125=\"\",\"\",'Emissions Factors'!E125)","v":"metres"},{"$f":"IF('Emissions Factors'!F125=\"\",\"\",'Emissions Factors'!F125)","v":"Timber"},{"$f":"IF('Emissions Factors'!G125=\"\",\"\",'Emissions Factors'!G125)","v":0.87295419847328237},{"$f":"IF('Emissions Factors'!H125=\"\",\"\",'Emissions Factors'!H125)","v":"tCO2e/t"},{"$f":"IF('Emissions Factors'!I125=\"\",\"\",'Emissions Factors'!I125)","v":0.13100000000000001},{"$f":"IF('Emissions Factors'!J125=\"\",'Emissions Factors'!F125,'Emissions Factors'!J125)","v":"Timber"},null,1,null,null,14,18]
[{"$f":"'Emissions Factors'!#REF!","v":{"$error":"#REF!"}},{"$f":"'Emissions Factors'!B126","v":0},{"$f":"'Emissions Factors'!C126","v":0},{"$f":"'Emissions Factors'!D126","v":"Timber barrier 4m "},null,null,"Fencing, Barriers & Road Restraint Systems","Noise Barriers","Timber barrier 4m ","Noise BarriersTimber barrier 4m ",{"$f":"IF('Emissions Factors'!E126=\"\",\"\",'Emissions Factors'!E126)","v":"metres"},{"$f":"IF('Emissions Factors'!F126=\"\",\"\",'Emissions Factors'!F126)","v":"Timber"},{"$f":"IF('Emissions Factors'!G126=\"\",\"\",'Emissions Factors'!G126)","v":0.84369767441860455},{"$f":"IF('Emissions Factors'!H126=\"\",\"\",'Emissions Factors'!H126)","v":"tCO2e/t"},{"$f":"IF('Emissions Factors'!I126=\"\",\"\",'Emissions Factors'!I126)","v":0.17200000000000001},{"$f":"IF('Emissions Factors'!J126=\"\",'Emissions Factors'!F126,'Emissions Factors'!J126)","v":"Timber"},null,1,null,null,14,18]
[{"$f":"'Emissions Factors'!#REF!","v":{"$error":"#REF!"}},{"$f":"'Emissions Factors'!B127","v":0},{"$f":"'Emissions Factors'!C127","v":0},{"$f":"'Emissions Factors'!D127","v":"Steel barrier 2m"},null,null,"Fencing, Barriers & Road Restraint Systems","Noise Barriers","Steel barrier 2m","Noise BarriersSteel barrier 2m",{"$f":"IF('Emissions Factors'!E127=\"\",\"\",'Emissions Factors'!E127)","v":"metres"},{"$f":"IF('Emissions Factors'!F127=\"\",\"\",'Emissions Factors'!F127)","v":"Steel"},{"$f":"IF('Emissions Factors'!G127=\"\",\"\",'Emissions Factors'!G127)","v":2.76},{"$f":"IF('Emissions Factors'!H127=\"\",\"\",'Emissions Factors'!H127)","v":"tCO2e/t"},{"$f":"IF('Emissions Factors'!I127=\"\",\"\",'Emissions Factors'!I127)","v":7.400000000000001E-2},{"$f":"IF('Emissions Factors'!J127=\"\",'Emissions Factors'!F127,'Emissions Factors'!J127)","v":"Carbon factor taken from the ICE V3: Steel >  Hot dipped galvanised steel. Weight taken to be 25kg/m2 from supplier of typical noise barrier. Posts are assumed steel I beams of 16kg per m, of 1 meter longer than the height of the barrier. Fittings and  small miscellaneous items have been omitted due their relatively small contribution to the overall carbon emissions associated with noise barriers."},null,1,null,null,14,16]
[{"$f":"'Emissions Factors'!#REF!","v":{"$error":"#REF!"}},{"$f":"'Emissions Factors'!B128","v":0},{"$f":"'Emissions Factors'!C128","v":0},{"$f":"'Emissions Factors'!D128","v":"Steel barrier 3m"},null,null,"Fencing, Barriers & Road Restraint Systems","Noise Barriers","Steel barrier 3m","Noise BarriersSteel barrier 3m",{"$f":"IF('Emissions Factors'!E128=\"\",\"\",'Emissions Factors'!E128)","v":"metres"},{"$f":"IF('Emissions Factors'!F128=\"\",\"\",'Emissions Factors'!F128)","v":"Steel"},{"$f":"IF('Emissions Factors'!G128=\"\",\"\",'Emissions Factors'!G128)","v":2.76},{"$f":"IF('Emissions Factors'!H128=\"\",\"\",'Emissions Factors'!H128)","v":"tCO2e/t"},{"$f":"IF('Emissions Factors'!I128=\"\",\"\",'Emissions Factors'!I128)","v":0.10700000000000001},{"$f":"IF('Emissions Factors'!J128=\"\",'Emissions Factors'!F128,'Emissions Factors'!J128)","v":"Steel"},null,1,null,null,14,16]
[{"$f":"'Emissions Factors'!#REF!","v":{"$error":"#REF!"}},{"$f":"'Emissions Factors'!B129","v":0},{"$f":"'Emissions Factors'!C129","v":0},{"$f":"'Emissions Factors'!D129","v":"Steel barrier 4m"},null,null,"Fencing, Barriers & Road Restraint Systems","Noise Barriers","Steel barrier 4m","Noise BarriersSteel barrier 4m",{"$f":"IF('Emissions Factors'!E129=\"\",\"\",'Emissions Factors'!E129)","v":"metres"},{"$f":"IF('Emissions Factors'!F129=\"\",\"\",'Emissions Factors'!F129)","v":"Steel"},{"$f":"IF('Emissions Factors'!G129=\"\",\"\",'Emissions Factors'!G129)","v":2.76},{"$f":"IF('Emissions Factors'!H129=\"\",\"\",'Emissions Factors'!H129)","v":"tCO2e/t"},{"$f":"IF('Emissions Factors'!I129=\"\",\"\",'Emissions Factors'!I129)","v":0.14000000000000001},{"$f":"IF('Emissions Factors'!J129=\"\",'Emissions Factors'!F129,'Emissions Factors'!J129)","v":"Steel"},null,1,null,null,14,16]
[{"$f":"'Emissions Factors'!#REF!","v":{"$error":"#REF!"}},{"$f":"'Emissions Factors'!B130","v":0},{"$f":"'Emissions Factors'!C130","v":0},{"$f":"'Emissions Factors'!D130","v":"Aluminium barrier 2m"},null,null,"Fencing, Barriers & Road Restraint Systems","Noise Barriers","Aluminium barrier 2m","Noise BarriersAluminium barrier 2m",{"$f":"IF('Emissions Factors'!E130=\"\",\"\",'Emissions Factors'!E130)","v":"metres"},{"$f":"IF('Emissions Factors'!F130=\"\",\"\",'Emissions Factors'!F130)","v":"Aluminium"},{"$f":"IF('Emissions Factors'!G130=\"\",\"\",'Emissions Factors'!G130)","v":5.1564516129032256},{"$f":"IF('Emissions Factors'!H130=\"\",\"\",'Emissions Factors'!H130)","v":"tCO2e/t"},{"$f":"IF('Emissions Factors'!I130=\"\",\"\",'Emissions Factors'!I130)","v":6.2E-2},{"$f":"IF('Emissions Factors'!J130=\"\",'Emissions Factors'!F130,'Emissions Factors'!J130)","v":"Carbon factor taken from the ICE V3: Aluminium > General aluminium. Weight taken to be 19kg/m2 from supplier of typical noise barrier. Posts are assumed steel I beams of 16kg per m, of 1 meter longer than the height of the barrier.  Fittings and  small miscellaneous items have been omitted due their relatively small contribution to the overall carbon emissions associated with noise barriers."},null,1,null,null,14,20]
[{"$f":"'Emissions Factors'!#REF!","v":{"$error":"#REF!"}},{"$f":"'Emissions Factors'!B131","v":0},{"$f":"'Emissions Factors'!C131","v":0},{"$f":"'Emissions Factors'!D131","v":"Aluminium barrier 3m"},null,null,"Fencing, Barriers & Road Restraint Systems","Noise Barriers","Aluminium barrier 3m","Noise BarriersAluminium barrier 3m",{"$f":"IF('Emissions Factors'!E131=\"\",\"\",'Emissions Factors'!E131)","v":"metres"},{"$f":"IF('Emissions Factors'!F131=\"\",\"\",'Emissions Factors'!F131)","v":"Aluminium"},{"$f":"IF('Emissions Factors'!G131=\"\",\"\",'Emissions Factors'!G131)","v":5.2641573033707862},{"$f":"IF('Emissions Factors'!H131=\"\",\"\",'Emissions Factors'!H131)","v":"tCO2e/t"},{"$f":"IF('Emissions Factors'!I131=\"\",\"\",'Emissions Factors'!I131)","v":8.8999999999999996E-2},{"$f":"IF('Emissions Factors'!J131=\"\",'Emissions Factors'!F131,'Emissions Factors'!J131)","v":"Aluminium"},null,1,null,null,14,20]
[{"$f":"'Emissions Factors'!#REF!","v":{"$error":"#REF!"}},{"$f":"'Emissions Factors'!B132","v":0},{"$f":"'Emissions Factors'!C132","v":0},{"$f":"'Emissions Factors'!D132","v":"Aluminium barrier 4m"},null,null,"Fencing, Barriers & Road Restraint Systems","Noise Barriers","Aluminium barrier 4m","Noise BarriersAluminium barrier 4m",{"$f":"IF('Emissions Factors'!E132=\"\",\"\",'Emissions Factors'!E132)","v":"metres"},{"$f":"IF('Emissions Factors'!F132=\"\",\"\",'Emissions Factors'!F132)","v":"Aluminium"},{"$f":"IF('Emissions Factors'!G132=\"\",\"\",'Emissions Factors'!G132)","v":5.321724137931036},{"$f":"IF('Emissions Factors'!H132=\"\",\"\",'Emissions Factors'!H132)","v":"tCO2e/t"},{"$f":"IF('Emissions Factors'!I132=\"\",\"\",'Emissions Factors'!I132)","v":0.11599999999999999},{"$f":"IF('Emissions Factors'!J132=\"\",'Emissions Factors'!F132,'Emissions Factors'!J132)","v":"Aluminium"},null,1,null,null,14,20]
[{"$f":"'Emissions Factors'!#REF!","v":{"$error":"#REF!"}},{"$f":"'Emissions Factors'!B133","v":0},{"$f":"'Emissions Factors'!C133","v":0},{"$f":"'Emissions Factors'!D133","v":"Plastic barrier 2m"},null,null,"Fencing, Barriers & Road Restraint Systems","Noise Barriers","Plastic barrier 2m","Noise BarriersPlastic barrier 2m",{"$f":"IF('Emissions Factors'!E133=\"\",\"\",'Emissions Factors'!E133)","v":"metres"},{"$f":"IF('Emissions Factors'!F133=\"\",\"\",'Emissions Factors'!F133)","v":"Plastic"},{"$f":"IF('Emissions Factors'!G133=\"\",\"\",'Emissions Factors'!G133)","v":3.1316216216216213},{"$f":"IF('Emissions Factors'!H133=\"\",\"\",'Emissions Factors'!H133)","v":"tCO2e/t"},{"$f":"IF('Emissions Factors'!I133=\"\",\"\",'Emissions Factors'!I133)","v":7.400000000000001E-2},{"$f":"IF('Emissions Factors'!J133=\"\",'Emissions Factors'!F133,'Emissions Factors'!J133)","v":"Carbon factor taken from the ICE V3: Plastic > General Plastic. Thickness taken to be 15mm from supplier of typical noise barrier. Posts are assumed steel I beams of 16kg per m, of 1 meter longer than the height of the barrier. Fittings and  small miscellaneous items have been omitted due their relatively small contribution to the overall carbon emissions associated with noise barriers."},null,1,null,null,14,18]
[{"$f":"'Emissions Factors'!#REF!","v":{"$error":"#REF!"}},{"$f":"'Emissions Factors'!B134","v":0},{"$f":"'Emissions Factors'!C134","v":0},{"$f":"'Emissions Factors'!D134","v":"Plastic barrier 3m"},null,null,"Fencing, Barriers & Road Restraint Systems","Noise Barriers","Plastic barrier 3m","Noise BarriersPlastic barrier 3m",{"$f":"IF('Emissions Factors'!E134=\"\",\"\",'Emissions Factors'!E134)","v":"metres"},{"$f":"IF('Emissions Factors'!F134=\"\",\"\",'Emissions Factors'!F134)","v":"Plastic"},{"$f":"IF('Emissions Factors'!G134=\"\",\"\",'Emissions Factors'!G134)","v":3.1455140186915886},{"$f":"IF('Emissions Factors'!H134=\"\",\"\",'Emissions Factors'!H134)","v":"tCO2e/t"},{"$f":"IF('Emissions Factors'!I134=\"\",\"\",'Emissions Factors'!I134)","v":0.10700000000000001},{"$f":"IF('Emissions Factors'!J134=\"\",'Emissions Factors'!F134,'Emissions Factors'!J134)","v":"Plastic"},null,1,null,null,14,18]
[{"$f":"'Emissions Factors'!#REF!","v":{"$error":"#REF!"}},{"$f":"'Emissions Factors'!B135","v":0},{"$f":"'Emissions Factors'!C135","v":0},{"$f":"'Emissions Factors'!D135","v":"Plastic barrier 4m"},null,null,"Fencing, Barriers & Road Restraint Systems","Noise Barriers","Plastic barrier 4m","Noise BarriersPlastic barrier 4m",{"$f":"IF('Emissions Factors'!E135=\"\",\"\",'Emissions Factors'!E135)","v":"metres"},{"$f":"IF('Emissions Factors'!F135=\"\",\"\",'Emissions Factors'!F135)","v":"Plastic"},{"$f":"IF('Emissions Factors'!G135=\"\",\"\",'Emissions Factors'!G135)","v":3.1528571428571426},{"$f":"IF('Emissions Factors'!H135=\"\",\"\",'Emissions Factors'!H135)","v":"tCO2e/t"},{"$f":"IF('Emissions Factors'!I135=\"\",\"\",'Emissions Factors'!I135)","v":0.14000000000000001},{"$f":"IF('Emissions Factors'!J135=\"\",'Emissions Factors'!F135,'Emissions Factors'!J135)","v":"Plastic"},null,1,null,null,14,18]
[{"$f":"'Emissions Factors'!#REF!","v":{"$error":"#REF!"}},{"$f":"'Emissions Factors'!B136","v":0},{"$f":"'Emissions Factors'!C136","v":"Road Restraint System/ Safety Barrier"},{"$f":"'Emissions Factors'!D136","v":"Steel RRS barrier single sided"},null,null,{"$f":"IF(B134=0,G133,B134)","v":"Fencing, Barriers & Road Restraint Systems"},{"$f":"IF(C134=0,H133,C134)","v":"Road Restraint System/ Safety Barrier"},{"$f":"IF(D134=0,I133,D134)","v":"Steel RRS barrier single sided"},{"$f":"H134&I134","v":"Road Restraint System/ Safety BarrierSteel RRS barrier single sided"},{"$f":"IF('Emissions Factors'!E136=\"\",\"\",'Emissions Factors'!E136)","v":"metres"},{"$f":"IF('Emissions Factors'!F136=\"\",\"\",'Emissions Factors'!F136)","v":"Steel"},{"$f":"IF('Emissions Factors'!G136=\"\",\"\",'Emissions Factors'!G136)","v":2.76},{"$f":"IF('Emissions Factors'!H136=\"\",\"\",'Emissions Factors'!H136)","v":"tCO2e/t"},{"$f":"IF('Emissions Factors'!I136=\"\",\"\",'Emissions Factors'!I136)","v":2.2290000000000001E-2},{"$f":"IF('Emissions Factors'!J136=\"\",'Emissions Factors'!F136,'Emissions Factors'!J136)","v":"Carbon factor taken directly from the ICE V3: Steel > Hot dip galvanised Steel. Weight of barrier taken from supplier, including W3 beam, bolts and a 2m post spacing."},null,1,null,null,37,30]
[{"$f":"'Emissions Factors'!#REF!","v":{"$error":"#REF!"}},{"$f":"'Emissions Factors'!B137","v":0},{"$f":"'Emissions Factors'!C137","v":0},{"$f":"'Emissions Factors'!D137","v":"Steel RRS barrier double sided"},null,null,"Fencing, Barriers & Road Restraint Systems","Road Restraint System/ Safety Barrier","Steel RRS barrier double sided","Road Restraint System/ Safety BarrierSteel RRS barrier double sided",{"$f":"IF('Emissions Factors'!E137=\"\",\"\",'Emissions Factors'!E137)","v":"metres"},{"$f":"IF('Emissions Factors'!F137=\"\",\"\",'Emissions Factors'!F137)","v":"Steel"},{"$f":"IF('Emissions Factors'!G137=\"\",\"\",'Emissions Factors'!G137)","v":2.76},{"$f":"IF('Emissions Factors'!H137=\"\",\"\",'Emissions Factors'!H137)","v":"tCO2e/t"},{"$f":"IF('Emissions Factors'!I137=\"\",\"\",'Emissions Factors'!I137)","v":3.5540000000000002E-2},{"$f":"IF('Emissions Factors'!J137=\"\",'Emissions Factors'!F137,'Emissions Factors'!J137)","v":"Carbon factor taken directly from the ICE V3: Steel > Hot dip galvanised Steel. Weight of barrier taken from supplier, including beam, posts and bolts."},null,1,null,null,37,30]
[{"$f":"'Emissions Factors'!#REF!","v":{"$error":"#REF!"}},{"$f":"'Emissions Factors'!B138","v":0},{"$f":"'Emissions Factors'!C138","v":0},{"$f":"'Emissions Factors'!D138","v":"Pre-cast concrete step barrier"},null,null,"Fencing, Barriers & Road Restraint Systems","Road Restraint System/ Safety Barrier","Pre-cast concrete step barrier","Road Restraint System/ Safety BarrierPre-cast concrete step barrier",{"$f":"IF('Emissions Factors'!E138=\"\",\"\",'Emissions Factors'!E138)","v":"metres"},{"$f":"IF('Emissions Factors'!F138=\"\",\"\",'Emissions Factors'!F138)","v":"Concrete"},{"$f":"IF('Emissions Factors'!G138=\"\",\"\",'Emissions Factors'!G138)","v":0.249},{"$f":"IF('Emissions Factors'!H138=\"\",\"\",'Emissions Factors'!H138)","v":"tCO2e/t"},{"$f":"IF('Emissions Factors'!I138=\"\",\"\",'Emissions Factors'!I138)","v":1.2},{"$f":"IF('Emissions Factors'!J138=\"\",'Emissions Factors'!F138,'Emissions Factors'!J138)","v":"Carbon factor taken from the ICE V3: Concrete > Precast concrete beams and columns - steel reinforced with 100kg world average steel per m3. Volume of concrete step barrier taken to be 0.5m3 per metre with density of 2.4 tonnes per m3."},null,1,null,null,37,30]
[{"$f":"'Emissions Factors'!#REF!","v":{"$error":"#REF!"}},{"$f":"'Emissions Factors'!B139","v":0},{"$f":"'Emissions Factors'!C139","v":0},{"$f":"'Emissions Factors'!D139","v":"In-situ concrete step barrier"},null,null,"Fencing, Barriers & Road Restraint Systems","Road Restraint System/ Safety Barrier","In-situ concrete step barrier","Road Restraint System/ Safety BarrierIn-situ concrete step barrier",{"$f":"IF('Emissions Factors'!E139=\"\",\"\",'Emissions Factors'!E139)","v":"metres"},{"$f":"IF('Emissions Factors'!F139=\"\",\"\",'Emissions Factors'!F139)","v":"Please include this within the bulk materials category under concrete."},{"$f":"IF('Emissions Factors'!G139=\"\",\"\",'Emissions Factors'!G139)","v":""},{"$f":"IF('Emissions Factors'!H139=\"\",\"\",'Emissions Factors'!H139)","v":""},{"$f":"IF('Emissions Factors'!I139=\"\",\"\",'Emissions Factors'!I139)","v":""},{"$f":"IF('Emissions Factors'!J139=\"\",'Emissions Factors'!F139,'Emissions Factors'!J139)","v":"Please include this within the bulk materials category under concrete."},null,1,null,null,37,29]
[{"$f":"'Emissions Factors'!#REF!","v":{"$error":"#REF!"}},{"$f":"'Emissions Factors'!B140","v":0},{"$f":"'Emissions Factors'!C140","v":"Paint or timber treatment"},{"$f":"'Emissions Factors'!D140","v":"Solvent based paint"},null,null,"Fencing, Barriers & Road Restraint Systems","Paint or timber treatment","Solvent based paint","Paint or timber treatmentSolvent based paint",{"$f":"IF('Emissions Factors'!E140=\"\",\"\",'Emissions Factors'!E140)","v":"Litres"},{"$f":"IF('Emissions Factors'!F140=\"\",\"\",'Emissions Factors'!F140)","v":"Paint"},{"$f":"IF('Emissions Factors'!G140=\"\",\"\",'Emissions Factors'!G140)","v":2.54},{"$f":"IF('Emissions Factors'!H140=\"\",\"\",'Emissions Factors'!H140)","v":"tCO2e/t"},{"$f":"IF('Emissions Factors'!I140=\"\",\"\",'Emissions Factors'!I140)","v":1.1999999999999999E-3},{"$f":"IF('Emissions Factors'!J140=\"\",'Emissions Factors'!F140,'Emissions Factors'!J140)","v":"Carbon factor taken from ICE V3: Paint > Solvent borne. Conversion factor calculated from density of paint, 1.2kg/l."},null,1,null,null,{"$f":"LEN(H138)","v":25},{"$f":"LEN(I138)","v":19}]
[{"$f":"'Emissions Factors'!#REF!","v":{"$error":"#REF!"}},{"$f":"'Emissions Factors'!B141","v":0},{"$f":"'Emissions Factors'!C141","v":0},{"$f":"'Emissions Factors'!D141","v":"Water based paint"},null,null,"Fencing, Barriers & Road Restraint Systems","Paint or timber treatment","Water based paint","Paint or timber treatmentWater based paint",{"$f":"IF('Emissions Factors'!E141=\"\",\"\",'Emissions Factors'!E141)","v":"Litres"},{"$f":"IF('Emissions Factors'!F141=\"\",\"\",'Emissions Factors'!F141)","v":"Paint"},{"$f":"IF('Emissions Factors'!G141=\"\",\"\",'Emissions Factors'!G141)","v":3.76},{"$f":"IF('Emissions Factors'!H141=\"\",\"\",'Emissions Factors'!H141)","v":"tCO2e/t"},{"$f":"IF('Emissions Factors'!I141=\"\",\"\",'Emissions Factors'!I141)","v":1.1999999999999999E-3},{"$f":"IF('Emissions Factors'!J141=\"\",'Emissions Factors'!F141,'Emissions Factors'!J141)","v":"Carbon factor taken from ICE V3: Paint > Solvent borne.  Conversion factor calculated from density of paint, 1.2kg/l."},null,1,null,null,25,17]
[{"$f":"'Emissions Factors'!#REF!","v":{"$error":"#REF!"}},{"$f":"'Emissions Factors'!B142","v":"Drainage"},{"$f":"'Emissions Factors'!C142","v":"Plastic pipework (HDPE)"},{"$f":"'Emissions Factors'!D142","v":"150mm diameter"},null,null,"Drainage","Plastic pipework (HDPE)","150mm diameter","Plastic pipework (HDPE)150mm diameter",{"$f":"IF('Emissions Factors'!E142=\"\",\"\",'Emissions Factors'!E142)","v":"metres"},{"$f":"IF('Emissions Factors'!F142=\"\",\"\",'Emissions Factors'!F142)","v":"Plastic"},{"$f":"IF('Emissions Factors'!G142=\"\",\"\",'Emissions Factors'!G142)","v":2.52},{"$f":"IF('Emissions Factors'!H142=\"\",\"\",'Emissions Factors'!H142)","v":"tCO2e/t"},{"$f":"IF('Emissions Factors'!I142=\"\",\"\",'Emissions Factors'!I142)","v":2.3616922773361266E-3},{"$f":"IF('Emissions Factors'!J142=\"\",'Emissions Factors'!F142,'Emissions Factors'!J142)","v":"Carbon factor taken directly from the ICE V3: Plastic > HDPE Pipe. Conversion factor calculated from approximate 150mm pipe wall thickness of 5mm and HDPE density 0.97 t/m3."},null,1,null,null,23,14]
[{"$f":"'Emissions Factors'!#REF!","v":{"$error":"#REF!"}},{"$f":"'Emissions Factors'!B143","v":0},{"$f":"'Emissions Factors'!C143","v":0},{"$f":"'Emissions Factors'!D143","v":"225mm diameter"},null,null,"Drainage","Plastic pipework (HDPE)","225mm diameter","Plastic pipework (HDPE)225mm diameter",{"$f":"IF('Emissions Factors'!E143=\"\",\"\",'Emissions Factors'!E143)","v":"metres"},{"$f":"IF('Emissions Factors'!F143=\"\",\"\",'Emissions Factors'!F143)","v":"Plastic"},{"$f":"IF('Emissions Factors'!G143=\"\",\"\",'Emissions Factors'!G143)","v":2.52},{"$f":"IF('Emissions Factors'!H143=\"\",\"\",'Emissions Factors'!H143)","v":"tCO2e/t"},{"$f":"IF('Emissions Factors'!I143=\"\",\"\",'Emissions Factors'!I143)","v":4.2236199953391926E-3},{"$f":"IF('Emissions Factors'!J143=\"\",'Emissions Factors'!F143,'Emissions Factors'!J143)","v":"Carbon factor taken directly from the ICE V3: Plastic > HDPE Pipe. Conversion factor calculated from approximate 225mm pipe wall thickness of 6mm and HDPE density 0.97 t/m3."},null,1,null,null,23,14]
[{"$f":"'Emissions Factors'!#REF!","v":{"$error":"#REF!"}},{"$f":"'Emissions Factors'!B144","v":0},{"$f":"'Emissions Factors'!C144","v":0},{"$f":"'Emissions Factors'!D144","v":"300mm diameter"},null,null,"Drainage","Plastic pipework (HDPE)","300mm diameter","Plastic pipework (HDPE)300mm diameter",{"$f":"IF('Emissions Factors'!E144=\"\",\"\",'Emissions Factors'!E144)","v":"metres"},{"$f":"IF('Emissions Factors'!F144=\"\",\"\",'Emissions Factors'!F144)","v":"Plastic"},{"$f":"IF('Emissions Factors'!G144=\"\",\"\",'Emissions Factors'!G144)","v":2.52},{"$f":"IF('Emissions Factors'!H144=\"\",\"\",'Emissions Factors'!H144)","v":"tCO2e/t"},{"$f":"IF('Emissions Factors'!I144=\"\",\"\",'Emissions Factors'!I144)","v":7.5086577694918914E-3},{"$f":"IF('Emissions Factors'!J144=\"\",'Emissions Factors'!F144,'Emissions Factors'!J144)","v":"Carbon factor taken directly from the ICE V3: Plastic > HDPE Pipe. Conversion factor calculated from approximate 300mm pipe wall thickness of 8mm and HDPE density 0.97 t/m3."},null,1,null,null,23,14]
[{"$f":"'Emissions Factors'!#REF!","v":{"$error":"#REF!"}},{"$f":"'Emissions Factors'!B145","v":0},{"$f":"'Emissions Factors'!C145","v":0},{"$f":"'Emissions Factors'!D145","v":"450mm diameter"},null,null,"Drainage","Plastic pipework (HDPE)","450mm diameter","Plastic pipework (HDPE)450mm diameter",{"$f":"IF('Emissions Factors'!E145=\"\",\"\",'Emissions Factors'!E145)","v":"metres"},{"$f":"IF('Emissions Factors'!F145=\"\",\"\",'Emissions Factors'!F145)","v":"Plastic"},{"$f":"IF('Emissions Factors'!G145=\"\",\"\",'Emissions Factors'!G145)","v":2.52},{"$f":"IF('Emissions Factors'!H145=\"\",\"\",'Emissions Factors'!H145)","v":"tCO2e/t"},{"$f":"IF('Emissions Factors'!I145=\"\",\"\",'Emissions Factors'!I145)","v":1.1165471618270428E-2},{"$f":"IF('Emissions Factors'!J145=\"\",'Emissions Factors'!F145,'Emissions Factors'!J145)","v":"Carbon factor taken directly from the ICE V3: Plastic > HDPE Pipe. Conversion factor calculated from approximate 450mm pipe wall thickness of 8mm and HDPE density 0.97 t/m3."},null,1,null,null,23,14]
[{"$f":"'Emissions Factors'!#REF!","v":{"$error":"#REF!"}},{"$f":"'Emissions Factors'!B146","v":0},{"$f":"'Emissions Factors'!C146","v":0},{"$f":"'Emissions Factors'!D146","v":"600mm diameter"},null,null,"Drainage","Plastic pipework (HDPE)","600mm diameter","Plastic pipework (HDPE)600mm diameter",{"$f":"IF('Emissions Factors'!E146=\"\",\"\",'Emissions Factors'!E146)","v":"metres"},{"$f":"IF('Emissions Factors'!F146=\"\",\"\",'Emissions Factors'!F146)","v":"Plastic"},{"$f":"IF('Emissions Factors'!G146=\"\",\"\",'Emissions Factors'!G146)","v":2.52},{"$f":"IF('Emissions Factors'!H146=\"\",\"\",'Emissions Factors'!H146)","v":"tCO2e/t"},{"$f":"IF('Emissions Factors'!I146=\"\",\"\",'Emissions Factors'!I146)","v":2.0481204898033695E-2},{"$f":"IF('Emissions Factors'!J146=\"\",'Emissions Factors'!F146,'Emissions Factors'!J146)","v":"Carbon factor taken directly from the ICE V3: Plastic > HDPE Pipe. Conversion factor calculated from approximate 600mm pipe wall thickness of 11mm and HDPE density 0.97 t/m3."},null,1,null,null,23,14]
[{"$f":"'Emissions Factors'!#REF!","v":{"$error":"#REF!"}},{"$f":"'Emissions Factors'!B147","v":0},{"$f":"'Emissions Factors'!C147","v":0},{"$f":"'Emissions Factors'!D147","v":"900mm diameter"},null,null,"Drainage","Plastic pipework (HDPE)","900mm diameter","Plastic pipework (HDPE)900mm diameter",{"$f":"IF('Emissions Factors'!E147=\"\",\"\",'Emissions Factors'!E147)","v":"metres"},{"$f":"IF('Emissions Factors'!F147=\"\",\"\",'Emissions Factors'!F147)","v":"Plastic"},{"$f":"IF('Emissions Factors'!G147=\"\",\"\",'Emissions Factors'!G147)","v":2.52},{"$f":"IF('Emissions Factors'!H147=\"\",\"\",'Emissions Factors'!H147)","v":"tCO2e/t"},{"$f":"IF('Emissions Factors'!I147=\"\",\"\",'Emissions Factors'!I147)","v":4.4661886473081711E-2},{"$f":"IF('Emissions Factors'!J147=\"\",'Emissions Factors'!F147,'Emissions Factors'!J147)","v":"Carbon factor taken directly from the ICE V3: Plastic > HDPE Pipe. Conversion factor calculated from approximate 900mm pipe wall thickness of 16mm and HDPE density 0.97 t/m3."},null,1,null,null,23,14]
[{"$f":"'Emissions Factors'!#REF!","v":{"$error":"#REF!"}},{"$f":"'Emissions Factors'!B148","v":0},{"$f":"'Emissions Factors'!C148","v":0},{"$f":"'Emissions Factors'!D148","v":"1200mm diameter"},null,null,"Drainage","Plastic pipework (HDPE)","1200mm diameter","Plastic pipework (HDPE)1200mm diameter",{"$f":"IF('Emissions Factors'!E148=\"\",\"\",'Emissions Factors'!E148)","v":"metres"},{"$f":"IF('Emissions Factors'!F148=\"\",\"\",'Emissions Factors'!F148)","v":"Plastic"},{"$f":"IF('Emissions Factors'!G148=\"\",\"\",'Emissions Factors'!G148)","v":2.52},{"$f":"IF('Emissions Factors'!H148=\"\",\"\",'Emissions Factors'!H148)","v":"tCO2e/t"},{"$f":"IF('Emissions Factors'!I148=\"\",\"\",'Emissions Factors'!I148)","v":7.4355214925163171E-2},{"$f":"IF('Emissions Factors'!J148=\"\",'Emissions Factors'!F148,'Emissions Factors'!J148)","v":"Carbon factor taken directly from the ICE V3: Plastic > HDPE Pipe. Conversion factor calculated from approximate 1200mm pipe wall thickness of 20mm and HDPE density of 0.97 t/m3."},null,1,null,null,23,15]
[{"$f":"'Emissions Factors'!#REF!","v":{"$error":"#REF!"}},{"$f":"'Emissions Factors'!B149","v":0},{"$f":"'Emissions Factors'!C149","v":0},{"$f":"'Emissions Factors'!D149","v":"1500mm diameter"},null,null,"Drainage","Plastic pipework (HDPE)","1500mm diameter","Plastic pipework (HDPE)1500mm diameter",{"$f":"IF('Emissions Factors'!E149=\"\",\"\",'Emissions Factors'!E149)","v":"metres"},{"$f":"IF('Emissions Factors'!F149=\"\",\"\",'Emissions Factors'!F149)","v":"Plastic"},{"$f":"IF('Emissions Factors'!G149=\"\",\"\",'Emissions Factors'!G149)","v":2.52},{"$f":"IF('Emissions Factors'!H149=\"\",\"\",'Emissions Factors'!H149)","v":"tCO2e/t"},{"$f":"IF('Emissions Factors'!I149=\"\",\"\",'Emissions Factors'!I149)","v":0.11618002332056755},{"$f":"IF('Emissions Factors'!J149=\"\",'Emissions Factors'!F149,'Emissions Factors'!J149)","v":"Carbon factor taken directly from the ICE V3: Plastic > HDPE Pipe. Conversion factor calculated from approximate 1500mm pipe wall thickness of 25mm and HDPE density of 0.97 t/m3."},null,1,null,null,23,15]
[{"$f":"'Emissions Factors'!#REF!","v":{"$error":"#REF!"}},{"$f":"'Emissions Factors'!B150","v":0},{"$f":"'Emissions Factors'!C150","v":0},{"$f":"'Emissions Factors'!D150","v":"1800mm diameter"},null,null,"Drainage","Plastic pipework (HDPE)","1800mm diameter","Plastic pipework (HDPE)1800mm diameter",{"$f":"IF('Emissions Factors'!E150=\"\",\"\",'Emissions Factors'!E150)","v":"metres"},{"$f":"IF('Emissions Factors'!F150=\"\",\"\",'Emissions Factors'!F150)","v":"Plastic"},{"$f":"IF('Emissions Factors'!G150=\"\",\"\",'Emissions Factors'!G150)","v":2.52},{"$f":"IF('Emissions Factors'!H150=\"\",\"\",'Emissions Factors'!H150)","v":"tCO2e/t"},{"$f":"IF('Emissions Factors'!I150=\"\",\"\",'Emissions Factors'!I150)","v":0.16729923358161752},{"$f":"IF('Emissions Factors'!J150=\"\",'Emissions Factors'!F150,'Emissions Factors'!J150)","v":"Carbon factor taken directly from the ICE V3: Plastic > HDPE Pipe. Conversion factor calculated from approximate 1800mm pipe wall thickness of 30mm and HDPE density of 0.97 t/m3."},null,1,null,null,23,15]
[{"$f":"'Emissions Factors'!#REF!","v":{"$error":"#REF!"}},{"$f":"'Emissions Factors'!B151","v":0},{"$f":"'Emissions Factors'!C151","v":"Plastic pipework (PVC)"},{"$f":"'Emissions Factors'!D151","v":"150mm diameter"},null,null,"Drainage","Plastic pipework (PVC)","150mm diameter","Plastic pipework (PVC)150mm diameter",{"$f":"IF('Emissions Factors'!E151=\"\",\"\",'Emissions Factors'!E151)","v":"metres"},{"$f":"IF('Emissions Factors'!F151=\"\",\"\",'Emissions Factors'!F151)","v":"Plastic"},{"$f":"IF('Emissions Factors'!G151=\"\",\"\",'Emissions Factors'!G151)","v":3.23},{"$f":"IF('Emissions Factors'!H151=\"\",\"\",'Emissions Factors'!H151)","v":"tCO2e/t"},{"$f":"IF('Emissions Factors'!I151=\"\",\"\",'Emissions Factors'!I151)","v":3.1651545984917161E-3},{"$f":"IF('Emissions Factors'!J151=\"\",'Emissions Factors'!F151,'Emissions Factors'!J151)","v":"Carbon factor taken directly from the ICE V3: Plastic > PVC Pipe. Conversion factor calculated from approximate 150mm pipe wall thickness of 5mm and PVC density of 1.3 t/m3."},null,1,null,null,22,14]
[{"$f":"'Emissions Factors'!#REF!","v":{"$error":"#REF!"}},{"$f":"'Emissions Factors'!B152","v":0},{"$f":"'Emissions Factors'!C152","v":0},{"$f":"'Emissions Factors'!D152","v":"225mm diameter"},null,null,"Drainage","Plastic pipework (PVC)","225mm diameter","Plastic pipework (PVC)225mm diameter",{"$f":"IF('Emissions Factors'!E152=\"\",\"\",'Emissions Factors'!E152)","v":"metres"},{"$f":"IF('Emissions Factors'!F152=\"\",\"\",'Emissions Factors'!F152)","v":"Plastic"},{"$f":"IF('Emissions Factors'!G152=\"\",\"\",'Emissions Factors'!G152)","v":3.23},{"$f":"IF('Emissions Factors'!H152=\"\",\"\",'Emissions Factors'!H152)","v":"tCO2e/t"},{"$f":"IF('Emissions Factors'!I152=\"\",\"\",'Emissions Factors'!I152)","v":5.6605216432380938E-3},{"$f":"IF('Emissions Factors'!J152=\"\",'Emissions Factors'!F152,'Emissions Factors'!J152)","v":"Carbon factor taken directly from the ICE V3: Plastic > PVC Pipe. Conversion factor calculated from approximate 225mm pipe wall thickness of 6mm and PVC density of 1.3 t/m3."},null,1,null,null,22,14]
[{"$f":"'Emissions Factors'!#REF!","v":{"$error":"#REF!"}},{"$f":"'Emissions Factors'!B153","v":0},{"$f":"'Emissions Factors'!C153","v":0},{"$f":"'Emissions Factors'!D153","v":"300mm diameter"},null,null,"Drainage","Plastic pipework (PVC)","300mm diameter","Plastic pipework (PVC)300mm diameter",{"$f":"IF('Emissions Factors'!E153=\"\",\"\",'Emissions Factors'!E153)","v":"metres"},{"$f":"IF('Emissions Factors'!F153=\"\",\"\",'Emissions Factors'!F153)","v":"Plastic"},{"$f":"IF('Emissions Factors'!G153=\"\",\"\",'Emissions Factors'!G153)","v":3.23},{"$f":"IF('Emissions Factors'!H153=\"\",\"\",'Emissions Factors'!H153)","v":"tCO2e/t"},{"$f":"IF('Emissions Factors'!I153=\"\",\"\",'Emissions Factors'!I153)","v":1.0063149587978824E-2},{"$f":"IF('Emissions Factors'!J153=\"\",'Emissions Factors'!F153,'Emissions Factors'!J153)","v":"Carbon factor taken directly from the ICE V3: Plastic > PVC Pipe. Conversion factor calculated from approximate 300mm pipe wall thickness of 8mm and PVC density of 1.3 t/m3."},null,1,null,null,22,14]
[{"$f":"'Emissions Factors'!#REF!","v":{"$error":"#REF!"}},{"$f":"'Emissions Factors'!B154","v":0},{"$f":"'Emissions Factors'!C154","v":0},{"$f":"'Emissions Factors'!D154","v":"450mm diameter"},null,null,"Drainage","Plastic pipework (PVC)","450mm diameter","Plastic pipework (PVC)450mm diameter",{"$f":"IF('Emissions Factors'!E154=\"\",\"\",'Emissions Factors'!E154)","v":"metres"},{"$f":"IF('Emissions Factors'!F154=\"\",\"\",'Emissions Factors'!F154)","v":"Plastic"},{"$f":"IF('Emissions Factors'!G154=\"\",\"\",'Emissions Factors'!G154)","v":3.23},{"$f":"IF('Emissions Factors'!H154=\"\",\"\",'Emissions Factors'!H154)","v":"tCO2e/t"},{"$f":"IF('Emissions Factors'!I154=\"\",\"\",'Emissions Factors'!I154)","v":1.4964034127578924E-2},{"$f":"IF('Emissions Factors'!J154=\"\",'Emissions Factors'!F154,'Emissions Factors'!J154)","v":"Carbon factor taken directly from the ICE V3: Plastic > PVC Pipe. Conversion factor calculated from approximate 450mm pipe wall thickness of 8mm and PVC density of 1.3 t/m3."},null,1,null,null,22,14]
[{"$f":"'Emissions Factors'!#REF!","v":{"$error":"#REF!"}},{"$f":"'Emissions Factors'!B155","v":0},{"$f":"'Emissions Factors'!C155","v":0},{"$f":"'Emissions Factors'!D155","v":"600mm diameter"},null,null,"Drainage","Plastic pipework (PVC)","600mm diameter","Plastic pipework (PVC)600mm diameter",{"$f":"IF('Emissions Factors'!E155=\"\",\"\",'Emissions Factors'!E155)","v":"metres"},{"$f":"IF('Emissions Factors'!F155=\"\",\"\",'Emissions Factors'!F155)","v":"Plastic"},{"$f":"IF('Emissions Factors'!G155=\"\",\"\",'Emissions Factors'!G155)","v":3.23},{"$f":"IF('Emissions Factors'!H155=\"\",\"\",'Emissions Factors'!H155)","v":"tCO2e/t"},{"$f":"IF('Emissions Factors'!I155=\"\",\"\",'Emissions Factors'!I155)","v":2.7449037492210105E-2},{"$f":"IF('Emissions Factors'!J155=\"\",'Emissions Factors'!F155,'Emissions Factors'!J155)","v":"Carbon factor taken directly from the ICE V3: Plastic > PVC Pipe. Conversion factor calculated from approximate 600mm pipe wall thickness of 11mm and PVC density of 1.3 t/m3."},null,1,null,null,22,14]
[{"$f":"'Emissions Factors'!#REF!","v":{"$error":"#REF!"}},{"$f":"'Emissions Factors'!B156","v":0},{"$f":"'Emissions Factors'!C156","v":0},{"$f":"'Emissions Factors'!D156","v":"900mm diameter"},null,null,"Drainage","Plastic pipework (PVC)","900mm diameter","Plastic pipework (PVC)900mm diameter",{"$f":"IF('Emissions Factors'!E156=\"\",\"\",'Emissions Factors'!E156)","v":"metres"},{"$f":"IF('Emissions Factors'!F156=\"\",\"\",'Emissions Factors'!F156)","v":"Plastic"},{"$f":"IF('Emissions Factors'!G156=\"\",\"\",'Emissions Factors'!G156)","v":3.23},{"$f":"IF('Emissions Factors'!H156=\"\",\"\",'Emissions Factors'!H156)","v":"tCO2e/t"},{"$f":"IF('Emissions Factors'!I156=\"\",\"\",'Emissions Factors'!I156)","v":5.9856136510315697E-2},{"$f":"IF('Emissions Factors'!J156=\"\",'Emissions Factors'!F156,'Emissions Factors'!J156)","v":"Carbon factor taken directly from the ICE V3: Plastic > PVC Pipe. Conversion factor calculated from approximate 900mm pipe wall thickness of 16mm and PVC density of 1.3 t/m3."},null,1,null,null,22,14]
[{"$f":"'Emissions Factors'!#REF!","v":{"$error":"#REF!"}},{"$f":"'Emissions Factors'!B157","v":0},{"$f":"'Emissions Factors'!C157","v":0},{"$f":"'Emissions Factors'!D157","v":"1200mm diameter"},null,null,"Drainage","Plastic pipework (PVC)","1200mm diameter","Plastic pipework (PVC)1200mm diameter",{"$f":"IF('Emissions Factors'!E157=\"\",\"\",'Emissions Factors'!E157)","v":"metres"},{"$f":"IF('Emissions Factors'!F157=\"\",\"\",'Emissions Factors'!F157)","v":"Plastic"},{"$f":"IF('Emissions Factors'!G157=\"\",\"\",'Emissions Factors'!G157)","v":3.23},{"$f":"IF('Emissions Factors'!H157=\"\",\"\",'Emissions Factors'!H157)","v":"tCO2e/t"},{"$f":"IF('Emissions Factors'!I157=\"\",\"\",'Emissions Factors'!I157)","v":9.9651318971868172E-2},{"$f":"IF('Emissions Factors'!J157=\"\",'Emissions Factors'!F157,'Emissions Factors'!J157)","v":"Carbon factor taken directly from the ICE V3: Plastic > PVC Pipe. Conversion factor calculated from approximate 1200mm pipe wall thickness of 20mm and PVC density of 1.3 t/m3."},null,1,null,null,22,15]
[{"$f":"'Emissions Factors'!#REF!","v":{"$error":"#REF!"}},{"$f":"'Emissions Factors'!B158","v":0},{"$f":"'Emissions Factors'!C158","v":0},{"$f":"'Emissions Factors'!D158","v":"1500mm diameter"},null,null,"Drainage","Plastic pipework (PVC)","1500mm diameter","Plastic pipework (PVC)1500mm diameter",{"$f":"IF('Emissions Factors'!E158=\"\",\"\",'Emissions Factors'!E158)","v":"metres"},{"$f":"IF('Emissions Factors'!F158=\"\",\"\",'Emissions Factors'!F158)","v":"Plastic"},{"$f":"IF('Emissions Factors'!G158=\"\",\"\",'Emissions Factors'!G158)","v":3.23},{"$f":"IF('Emissions Factors'!H158=\"\",\"\",'Emissions Factors'!H158)","v":"tCO2e/t"},{"$f":"IF('Emissions Factors'!I158=\"\",\"\",'Emissions Factors'!I158)","v":0.15570518589354415},{"$f":"IF('Emissions Factors'!J158=\"\",'Emissions Factors'!F158,'Emissions Factors'!J158)","v":"Carbon factor taken directly from the ICE V3: Plastic > PVC Pipe. Conversion factor calculated from approximate 1500mm pipe wall thickness of 25mm and PVC density of 1.3 t/m3."},null,1,null,null,22,15]
[{"$f":"'Emissions Factors'!#REF!","v":{"$error":"#REF!"}},{"$f":"'Emissions Factors'!B159","v":0},{"$f":"'Emissions Factors'!C159","v":0},{"$f":"'Emissions Factors'!D159","v":"1800mm diameter"},null,null,"Drainage","Plastic pipework (PVC)","1800mm diameter","Plastic pipework (PVC)1800mm diameter",{"$f":"IF('Emissions Factors'!E159=\"\",\"\",'Emissions Factors'!E159)","v":"metres"},{"$f":"IF('Emissions Factors'!F159=\"\",\"\",'Emissions Factors'!F159)","v":"Plastic"},{"$f":"IF('Emissions Factors'!G159=\"\",\"\",'Emissions Factors'!G159)","v":3.23},{"$f":"IF('Emissions Factors'!H159=\"\",\"\",'Emissions Factors'!H159)","v":"tCO2e/t"},{"$f":"IF('Emissions Factors'!I159=\"\",\"\",'Emissions Factors'!I159)","v":0.22421546768670392},{"$f":"IF('Emissions Factors'!J159=\"\",'Emissions Factors'!F159,'Emissions Factors'!J159)","v":"Carbon factor taken directly from the ICE V3: Plastic > PVC Pipe. Conversion factor calculated from approximate 1800mm pipe wall thickness of 30mm and PVC density of 1.3 t/m3."},null,1,null,null,22,15]
[{"$f":"'Emissions Factors'!#REF!","v":{"$error":"#REF!"}},{"$f":"'Emissions Factors'!B160","v":0},{"$f":"'Emissions Factors'!C160","v":"Plastic pipework (Polypropylene)"},{"$f":"'Emissions Factors'!D160","v":"150mm diameter"},null,null,"Drainage","Plastic pipework (Polypropylene)","150mm diameter","Plastic pipework (Polypropylene)150mm diameter",{"$f":"IF('Emissions Factors'!E160=\"\",\"\",'Emissions Factors'!E160)","v":"metres"},{"$f":"IF('Emissions Factors'!F160=\"\",\"\",'Emissions Factors'!F160)","v":"Plastic"},{"$f":"IF('Emissions Factors'!G160=\"\",\"\",'Emissions Factors'!G160)","v":4.49},{"$f":"IF('Emissions Factors'!H160=\"\",\"\",'Emissions Factors'!H160)","v":"tCO2e/t"},{"$f":"IF('Emissions Factors'!I160=\"\",\"\",'Emissions Factors'!I160)","v":2.3032586539793562E-3},{"$f":"IF('Emissions Factors'!J160=\"\",'Emissions Factors'!F160,'Emissions Factors'!J160)","v":"Carbon factor taken directly from the ICE V3: Plastic > Injection moulded polypropylene. Conversion factor calculated from approximate 150mm pipe wall thickness of 5mm and PP density of 0.946 t/m3."},null,1,null,null,32,14]
[{"$f":"'Emissions Factors'!#REF!","v":{"$error":"#REF!"}},{"$f":"'Emissions Factors'!B161","v":0},{"$f":"'Emissions Factors'!C161","v":0},{"$f":"'Emissions Factors'!D161","v":"225mm diameter"},null,null,"Drainage","Plastic pipework (Polypropylene)","225mm diameter","Plastic pipework (Polypropylene)225mm diameter",{"$f":"IF('Emissions Factors'!E161=\"\",\"\",'Emissions Factors'!E161)","v":"metres"},{"$f":"IF('Emissions Factors'!F161=\"\",\"\",'Emissions Factors'!F161)","v":"Plastic"},{"$f":"IF('Emissions Factors'!G161=\"\",\"\",'Emissions Factors'!G161)","v":4.49},{"$f":"IF('Emissions Factors'!H161=\"\",\"\",'Emissions Factors'!H161)","v":"tCO2e/t"},{"$f":"IF('Emissions Factors'!I161=\"\",\"\",'Emissions Factors'!I161)","v":4.1191180573101815E-3},{"$f":"IF('Emissions Factors'!J161=\"\",'Emissions Factors'!F161,'Emissions Factors'!J161)","v":"Carbon factor taken directly from the ICE V3: Plastic > Injection moulded polypropylene. Conversion factor calculated from approximate 225mm pipe wall thickness of 6mm and PP density of 0.946 t/m3."},null,1,null,null,32,14]
[{"$f":"'Emissions Factors'!#REF!","v":{"$error":"#REF!"}},{"$f":"'Emissions Factors'!B162","v":0},{"$f":"'Emissions Factors'!C162","v":0},{"$f":"'Emissions Factors'!D162","v":"300mm diameter"},null,null,"Drainage","Plastic pipework (Polypropylene)","300mm diameter","Plastic pipework (Polypropylene)300mm diameter",{"$f":"IF('Emissions Factors'!E162=\"\",\"\",'Emissions Factors'!E162)","v":"metres"},{"$f":"IF('Emissions Factors'!F162=\"\",\"\",'Emissions Factors'!F162)","v":"Plastic"},{"$f":"IF('Emissions Factors'!G162=\"\",\"\",'Emissions Factors'!G162)","v":4.49},{"$f":"IF('Emissions Factors'!H162=\"\",\"\",'Emissions Factors'!H162)","v":"tCO2e/t"},{"$f":"IF('Emissions Factors'!I162=\"\",\"\",'Emissions Factors'!I162)","v":7.3228765463292057E-3},{"$f":"IF('Emissions Factors'!J162=\"\",'Emissions Factors'!F162,'Emissions Factors'!J162)","v":"Carbon factor taken directly from the ICE V3: Plastic > Injection moulded polypropylene. Conversion factor calculated from approximate 300mm pipe wall thickness of 8mm and PP density of 0.946 t/m3."},null,1,null,null,32,14]
[{"$f":"'Emissions Factors'!#REF!","v":{"$error":"#REF!"}},{"$f":"'Emissions Factors'!B163","v":0},{"$f":"'Emissions Factors'!C163","v":0},{"$f":"'Emissions Factors'!D163","v":"450mm diameter"},null,null,"Drainage","Plastic pipework (Polypropylene)","450mm diameter","Plastic pipework (Polypropylene)450mm diameter",{"$f":"IF('Emissions Factors'!E163=\"\",\"\",'Emissions Factors'!E163)","v":"metres"},{"$f":"IF('Emissions Factors'!F163=\"\",\"\",'Emissions Factors'!F163)","v":"Plastic"},{"$f":"IF('Emissions Factors'!G163=\"\",\"\",'Emissions Factors'!G163)","v":4.49},{"$f":"IF('Emissions Factors'!H163=\"\",\"\",'Emissions Factors'!H163)","v":"tCO2e/t"},{"$f":"IF('Emissions Factors'!I163=\"\",\"\",'Emissions Factors'!I163)","v":1.0889212526684355E-2},{"$f":"IF('Emissions Factors'!J163=\"\",'Emissions Factors'!F163,'Emissions Factors'!J163)","v":"Carbon factor taken directly from the ICE V3: Plastic > Injection moulded polypropylene. Conversion factor calculated from approximate 450mm pipe wall thickness of 8mm and PP density of 0.946 t/m3."},null,1,null,null,32,14]
[{"$f":"'Emissions Factors'!#REF!","v":{"$error":"#REF!"}},{"$f":"'Emissions Factors'!B164","v":0},{"$f":"'Emissions Factors'!C164","v":0},{"$f":"'Emissions Factors'!D164","v":"600mm diameter"},null,null,"Drainage","Plastic pipework (Polypropylene)","600mm diameter","Plastic pipework (Polypropylene)600mm diameter",{"$f":"IF('Emissions Factors'!E164=\"\",\"\",'Emissions Factors'!E164)","v":"metres"},{"$f":"IF('Emissions Factors'!F164=\"\",\"\",'Emissions Factors'!F164)","v":"Plastic"},{"$f":"IF('Emissions Factors'!G164=\"\",\"\",'Emissions Factors'!G164)","v":4.49},{"$f":"IF('Emissions Factors'!H164=\"\",\"\",'Emissions Factors'!H164)","v":"tCO2e/t"},{"$f":"IF('Emissions Factors'!I164=\"\",\"\",'Emissions Factors'!I164)","v":1.9974453436639044E-2},{"$f":"IF('Emissions Factors'!J164=\"\",'Emissions Factors'!F164,'Emissions Factors'!J164)","v":"Carbon factor taken directly from the ICE V3: Plastic > Injection moulded polypropylene. Conversion factor calculated from approximate 600mm pipe wall thickness of 11mm and PP density of 0.946 t/m3."},null,1,null,null,32,14]
[{"$f":"'Emissions Factors'!#REF!","v":{"$error":"#REF!"}},{"$f":"'Emissions Factors'!B165","v":0},{"$f":"'Emissions Factors'!C165","v":0},{"$f":"'Emissions Factors'!D165","v":"900mm diameter"},null,null,"Drainage","Plastic pipework (Polypropylene)","900mm diameter","Plastic pipework (Polypropylene)900mm diameter",{"$f":"IF('Emissions Factors'!E165=\"\",\"\",'Emissions Factors'!E165)","v":"metres"},{"$f":"IF('Emissions Factors'!F165=\"\",\"\",'Emissions Factors'!F165)","v":"Plastic"},{"$f":"IF('Emissions Factors'!G165=\"\",\"\",'Emissions Factors'!G165)","v":4.49},{"$f":"IF('Emissions Factors'!H165=\"\",\"\",'Emissions Factors'!H165)","v":"tCO2e/t"},{"$f":"IF('Emissions Factors'!I165=\"\",\"\",'Emissions Factors'!I165)","v":4.3556850106737419E-2},{"$f":"IF('Emissions Factors'!J165=\"\",'Emissions Factors'!F165,'Emissions Factors'!J165)","v":"Carbon factor taken directly from the ICE V3: Plastic > Injection moulded polypropylene. Conversion factor calculated from approximate 900mm pipe wall thickness of 16mm and PP density of 0.946 t/m3."},null,1,null,null,32,14]
[{"$f":"'Emissions Factors'!#REF!","v":{"$error":"#REF!"}},{"$f":"'Emissions Factors'!B166","v":0},{"$f":"'Emissions Factors'!C166","v":0},{"$f":"'Emissions Factors'!D166","v":"1200mm diameter"},null,null,"Drainage","Plastic pipework (Polypropylene)","1200mm diameter","Plastic pipework (Polypropylene)1200mm diameter",{"$f":"IF('Emissions Factors'!E166=\"\",\"\",'Emissions Factors'!E166)","v":"metres"},{"$f":"IF('Emissions Factors'!F166=\"\",\"\",'Emissions Factors'!F166)","v":"Plastic"},{"$f":"IF('Emissions Factors'!G166=\"\",\"\",'Emissions Factors'!G166)","v":4.49},{"$f":"IF('Emissions Factors'!H166=\"\",\"\",'Emissions Factors'!H166)","v":"tCO2e/t"},{"$f":"IF('Emissions Factors'!I166=\"\",\"\",'Emissions Factors'!I166)","v":7.2515498267220979E-2},{"$f":"IF('Emissions Factors'!J166=\"\",'Emissions Factors'!F166,'Emissions Factors'!J166)","v":"Carbon factor taken directly from the ICE V3: Plastic > Injection moulded polypropylene. Conversion factor calculated from approximate 1200mm pipe wall thickness of 20mm and PP density of 0.946 t/m3."},null,1,null,null,32,15]
[{"$f":"'Emissions Factors'!#REF!","v":{"$error":"#REF!"}},{"$f":"'Emissions Factors'!B167","v":0},{"$f":"'Emissions Factors'!C167","v":0},{"$f":"'Emissions Factors'!D167","v":"1500mm diameter"},null,null,"Drainage","Plastic pipework (Polypropylene)","1500mm diameter","Plastic pipework (Polypropylene)1500mm diameter",{"$f":"IF('Emissions Factors'!E167=\"\",\"\",'Emissions Factors'!E167)","v":"metres"},{"$f":"IF('Emissions Factors'!F167=\"\",\"\",'Emissions Factors'!F167)","v":"Plastic"},{"$f":"IF('Emissions Factors'!G167=\"\",\"\",'Emissions Factors'!G167)","v":4.49},{"$f":"IF('Emissions Factors'!H167=\"\",\"\",'Emissions Factors'!H167)","v":"tCO2e/t"},{"$f":"IF('Emissions Factors'!I167=\"\",\"\",'Emissions Factors'!I167)","v":0.11330546604253289},{"$f":"IF('Emissions Factors'!J167=\"\",'Emissions Factors'!F167,'Emissions Factors'!J167)","v":"Carbon factor taken directly from the ICE V3: Plastic > Injection moulded polypropylene. Conversion factor calculated from approximate 1500mm pipe wall thickness of 25mm and PP density of 0.946 t/m3."},null,1,null,null,32,15]
[{"$f":"'Emissions Factors'!#REF!","v":{"$error":"#REF!"}},{"$f":"'Emissions Factors'!B168","v":0},{"$f":"'Emissions Factors'!C168","v":0},{"$f":"'Emissions Factors'!D168","v":"1800mm diameter"},null,null,"Drainage","Plastic pipework (Polypropylene)","1800mm diameter","Plastic pipework (Polypropylene)1800mm diameter",{"$f":"IF('Emissions Factors'!E168=\"\",\"\",'Emissions Factors'!E168)","v":"metres"},{"$f":"IF('Emissions Factors'!F168=\"\",\"\",'Emissions Factors'!F168)","v":"Plastic"},{"$f":"IF('Emissions Factors'!G168=\"\",\"\",'Emissions Factors'!G168)","v":4.49},{"$f":"IF('Emissions Factors'!H168=\"\",\"\",'Emissions Factors'!H168)","v":"tCO2e/t"},{"$f":"IF('Emissions Factors'!I168=\"\",\"\",'Emissions Factors'!I168)","v":0.16315987110124761},{"$f":"IF('Emissions Factors'!J168=\"\",'Emissions Factors'!F168,'Emissions Factors'!J168)","v":"Carbon factor taken directly from the ICE V3: Plastic > Injection moulded polypropylene. Conversion factor calculated from approximate 1800mm pipe wall thickness of 30mm and PP density of 0.946 t/m3."},null,1,null,null,32,15]
[{"$f":"'Emissions Factors'!#REF!","v":{"$error":"#REF!"}},{"$f":"'Emissions Factors'!B169","v":0},{"$f":"'Emissions Factors'!C169","v":"Vitrified clay pipework"},{"$f":"'Emissions Factors'!D169","v":"150mm diameter"},null,null,"Drainage","Vitrified clay pipework","150mm diameter","Vitrified clay pipework150mm diameter",{"$f":"IF('Emissions Factors'!E169=\"\",\"\",'Emissions Factors'!E169)","v":"metres"},{"$f":"IF('Emissions Factors'!F169=\"\",\"\",'Emissions Factors'!F169)","v":"Inert"},{"$f":"IF('Emissions Factors'!G169=\"\",\"\",'Emissions Factors'!G169)","v":0.5},{"$f":"IF('Emissions Factors'!H169=\"\",\"\",'Emissions Factors'!H169)","v":"tCO2e/t"},{"$f":"IF('Emissions Factors'!I169=\"\",\"\",'Emissions Factors'!I169)","v":1.7500000000000002E-2},{"$f":"IF('Emissions Factors'!J169=\"\",'Emissions Factors'!F169,'Emissions Factors'!J169)","v":"Carbon factor taken directly from the ICE V3: Clay > Pipes 200-300mm. Conversion factor based on typical unit mass estimate from Hepworth Drainage."},null,1,null,null,23,14]
[{"$f":"'Emissions Factors'!#REF!","v":{"$error":"#REF!"}},{"$f":"'Emissions Factors'!B170","v":0},{"$f":"'Emissions Factors'!C170","v":0},{"$f":"'Emissions Factors'!D170","v":"225mm diameter"},null,null,"Drainage","Vitrified clay pipework","225mm diameter","Vitrified clay pipework225mm diameter",{"$f":"IF('Emissions Factors'!E170=\"\",\"\",'Emissions Factors'!E170)","v":"metres"},{"$f":"IF('Emissions Factors'!F170=\"\",\"\",'Emissions Factors'!F170)","v":"Inert"},{"$f":"IF('Emissions Factors'!G170=\"\",\"\",'Emissions Factors'!G170)","v":0.5},{"$f":"IF('Emissions Factors'!H170=\"\",\"\",'Emissions Factors'!H170)","v":"tCO2e/t"},{"$f":"IF('Emissions Factors'!I170=\"\",\"\",'Emissions Factors'!I170)","v":3.4000000000000002E-2},{"$f":"IF('Emissions Factors'!J170=\"\",'Emissions Factors'!F170,'Emissions Factors'!J170)","v":"Carbon factor taken directly from the ICE V3: Clay > Pipes 200-300mm. Conversion factor based on typical unit mass estimate from Hepworth Drainage."},null,1,null,null,23,14]
[{"$f":"'Emissions Factors'!#REF!","v":{"$error":"#REF!"}},{"$f":"'Emissions Factors'!B171","v":0},{"$f":"'Emissions Factors'!C171","v":0},{"$f":"'Emissions Factors'!D171","v":"300mm diameter"},null,null,"Drainage","Vitrified clay pipework","300mm diameter","Vitrified clay pipework300mm diameter",{"$f":"IF('Emissions Factors'!E171=\"\",\"\",'Emissions Factors'!E171)","v":"metres"},{"$f":"IF('Emissions Factors'!F171=\"\",\"\",'Emissions Factors'!F171)","v":"Inert"},{"$f":"IF('Emissions Factors'!G171=\"\",\"\",'Emissions Factors'!G171)","v":0.5},{"$f":"IF('Emissions Factors'!H171=\"\",\"\",'Emissions Factors'!H171)","v":"tCO2e/t"},{"$f":"IF('Emissions Factors'!I171=\"\",\"\",'Emissions Factors'!I171)","v":7.2999999999999995E-2},{"$f":"IF('Emissions Factors'!J171=\"\",'Emissions Factors'!F171,'Emissions Factors'!J171)","v":"Carbon factor taken directly from the ICE V3: Clay > Pipes 200-300mm. Conversion factor based on typical unit mass estimate from Hepworth Drainage."},null,1,null,null,23,14]
[{"$f":"'Emissions Factors'!#REF!","v":{"$error":"#REF!"}},{"$f":"'Emissions Factors'!B172","v":0},{"$f":"'Emissions Factors'!C172","v":"Precast concrete circular pipework"},{"$f":"'Emissions Factors'!D172","v":"225mm diameter"},null,null,"Drainage","Precast concrete circular pipework","225mm diameter","Precast concrete circular pipework225mm diameter",{"$f":"IF('Emissions Factors'!E172=\"\",\"\",'Emissions Factors'!E172)","v":"metres"},{"$f":"IF('Emissions Factors'!F172=\"\",\"\",'Emissions Factors'!F172)","v":"Concrete"},{"$f":"IF('Emissions Factors'!G172=\"\",\"\",'Emissions Factors'!G172)","v":0.14599999999999999},{"$f":"IF('Emissions Factors'!H172=\"\",\"\",'Emissions Factors'!H172)","v":"tCO2e/t"},{"$f":"IF('Emissions Factors'!I172=\"\",\"\",'Emissions Factors'!I172)","v":8.7999999999999995E-2},{"$f":"IF('Emissions Factors'!J172=\"\",'Emissions Factors'!F172,'Emissions Factors'!J172)","v":"Carbon factor taken directly from the ICE V3: Concrete > Precast concrete pipe, DN600 unreinforced per kg. Conversion factor based on precast unit mass estimation from supplier."},null,1,null,null,34,14]
[{"$f":"'Emissions Factors'!#REF!","v":{"$error":"#REF!"}},{"$f":"'Emissions Factors'!B173","v":0},{"$f":"'Emissions Factors'!C173","v":0},{"$f":"'Emissions Factors'!D173","v":"300mm diameter"},null,null,"Drainage","Precast concrete circular pipework","300mm diameter","Precast concrete circular pipework300mm diameter",{"$f":"IF('Emissions Factors'!E173=\"\",\"\",'Emissions Factors'!E173)","v":"metres"},{"$f":"IF('Emissions Factors'!F173=\"\",\"\",'Emissions Factors'!F173)","v":"Concrete"},{"$f":"IF('Emissions Factors'!G173=\"\",\"\",'Emissions Factors'!G173)","v":0.14599999999999999},{"$f":"IF('Emissions Factors'!H173=\"\",\"\",'Emissions Factors'!H173)","v":"tCO2e/t"},{"$f":"IF('Emissions Factors'!I173=\"\",\"\",'Emissions Factors'!I173)","v":0.128},{"$f":"IF('Emissions Factors'!J173=\"\",'Emissions Factors'!F173,'Emissions Factors'!J173)","v":"Carbon factor taken directly from the ICE V3: Concrete > Precast concrete pipe, DN600 unreinforced per kg. Conversion factor based on precast unit mass estimation from supplier."},null,1,null,null,34,14]
[{"$f":"'Emissions Factors'!#REF!","v":{"$error":"#REF!"}},{"$f":"'Emissions Factors'!B174","v":0},{"$f":"'Emissions Factors'!C174","v":0},{"$f":"'Emissions Factors'!D174","v":"450mm diameter"},null,null,"Drainage","Precast concrete circular pipework","450mm diameter","Precast concrete circular pipework450mm diameter",{"$f":"IF('Emissions Factors'!E174=\"\",\"\",'Emissions Factors'!E174)","v":"metres"},{"$f":"IF('Emissions Factors'!F174=\"\",\"\",'Emissions Factors'!F174)","v":"Concrete"},{"$f":"IF('Emissions Factors'!G174=\"\",\"\",'Emissions Factors'!G174)","v":0.14599999999999999},{"$f":"IF('Emissions Factors'!H174=\"\",\"\",'Emissions Factors'!H174)","v":"tCO2e/t"},{"$f":"IF('Emissions Factors'!I174=\"\",\"\",'Emissions Factors'!I174)","v":0.28799999999999998},{"$f":"IF('Emissions Factors'!J174=\"\",'Emissions Factors'!F174,'Emissions Factors'!J174)","v":"Carbon factor taken directly from the ICE V3: Concrete > Precast concrete pipe, DN600 unreinforced per kg. Conversion factor based on precast unit mass estimation from supplier."},null,1,null,null,34,14]
[{"$f":"'Emissions Factors'!#REF!","v":{"$error":"#REF!"}},{"$f":"'Emissions Factors'!B175","v":0},{"$f":"'Emissions Factors'!C175","v":0},{"$f":"'Emissions Factors'!D175","v":"600mm diameter"},null,null,"Drainage","Precast concrete circular pipework","600mm diameter","Precast concrete circular pipework600mm diameter",{"$f":"IF('Emissions Factors'!E175=\"\",\"\",'Emissions Factors'!E175)","v":"metres"},{"$f":"IF('Emissions Factors'!F175=\"\",\"\",'Emissions Factors'!F175)","v":"Concrete"},{"$f":"IF('Emissions Factors'!G175=\"\",\"\",'Emissions Factors'!G175)","v":0.14599999999999999},{"$f":"IF('Emissions Factors'!H175=\"\",\"\",'Emissions Factors'!H175)","v":"tCO2e/t"},{"$f":"IF('Emissions Factors'!I175=\"\",\"\",'Emissions Factors'!I175)","v":0.48799999999999999},{"$f":"IF('Emissions Factors'!J175=\"\",'Emissions Factors'!F175,'Emissions Factors'!J175)","v":"Carbon factor taken directly from the ICE V3: Concrete > Precast concrete pipe, DN600 unreinforced per kg. Conversion factor based on precast unit mass estimation from supplier."},null,1,null,null,34,14]
[{"$f":"'Emissions Factors'!#REF!","v":{"$error":"#REF!"}},{"$f":"'Emissions Factors'!B176","v":0},{"$f":"'Emissions Factors'!C176","v":0},{"$f":"'Emissions Factors'!D176","v":"900mm diameter"},null,null,"Drainage","Precast concrete circular pipework","900mm diameter","Precast concrete circular pipework900mm diameter",{"$f":"IF('Emissions Factors'!E176=\"\",\"\",'Emissions Factors'!E176)","v":"metres"},{"$f":"IF('Emissions Factors'!F176=\"\",\"\",'Emissions Factors'!F176)","v":"Concrete"},{"$f":"IF('Emissions Factors'!G176=\"\",\"\",'Emissions Factors'!G176)","v":0.14599999999999999},{"$f":"IF('Emissions Factors'!H176=\"\",\"\",'Emissions Factors'!H176)","v":"tCO2e/t"},{"$f":"IF('Emissions Factors'!I176=\"\",\"\",'Emissions Factors'!I176)","v":0.88800000000000001},{"$f":"IF('Emissions Factors'!J176=\"\",'Emissions Factors'!F176,'Emissions Factors'!J176)","v":"Carbon factor taken directly from the ICE V3: Concrete > Precast concrete pipe, DN600 unreinforced per kg. Conversion factor based on precast unit mass estimation from supplier."},null,1,null,null,34,14]
[{"$f":"'Emissions Factors'!#REF!","v":{"$error":"#REF!"}},{"$f":"'Emissions Factors'!B177","v":0},{"$f":"'Emissions Factors'!C177","v":0},{"$f":"'Emissions Factors'!D177","v":"1200mm diameter"},null,null,"Drainage","Precast concrete circular pipework","1200mm diameter","Precast concrete circular pipework1200mm diameter",{"$f":"IF('Emissions Factors'!E177=\"\",\"\",'Emissions Factors'!E177)","v":"metres"},{"$f":"IF('Emissions Factors'!F177=\"\",\"\",'Emissions Factors'!F177)","v":"Concrete"},{"$f":"IF('Emissions Factors'!G177=\"\",\"\",'Emissions Factors'!G177)","v":0.14599999999999999},{"$f":"IF('Emissions Factors'!H177=\"\",\"\",'Emissions Factors'!H177)","v":"tCO2e/t"},{"$f":"IF('Emissions Factors'!I177=\"\",\"\",'Emissions Factors'!I177)","v":1.4039999999999999},{"$f":"IF('Emissions Factors'!J177=\"\",'Emissions Factors'!F177,'Emissions Factors'!J177)","v":"Carbon factor taken directly from the ICE V3: Concrete > Precast concrete pipe, DN600 unreinforced per kg. Conversion factor based on precast unit mass estimation from supplier."},null,1,null,null,34,15]
[{"$f":"'Emissions Factors'!#REF!","v":{"$error":"#REF!"}},{"$f":"'Emissions Factors'!B178","v":0},{"$f":"'Emissions Factors'!C178","v":0},{"$f":"'Emissions Factors'!D178","v":"1500mm diameter"},null,null,"Drainage","Precast concrete circular pipework","1500mm diameter","Precast concrete circular pipework1500mm diameter",{"$f":"IF('Emissions Factors'!E178=\"\",\"\",'Emissions Factors'!E178)","v":"metres"},{"$f":"IF('Emissions Factors'!F178=\"\",\"\",'Emissions Factors'!F178)","v":"Concrete"},{"$f":"IF('Emissions Factors'!G178=\"\",\"\",'Emissions Factors'!G178)","v":0.14599999999999999},{"$f":"IF('Emissions Factors'!H178=\"\",\"\",'Emissions Factors'!H178)","v":"tCO2e/t"},{"$f":"IF('Emissions Factors'!I178=\"\",\"\",'Emissions Factors'!I178)","v":1.796},{"$f":"IF('Emissions Factors'!J178=\"\",'Emissions Factors'!F178,'Emissions Factors'!J178)","v":"Carbon factor taken directly from the ICE V3: Concrete > Precast concrete pipe, DN600 unreinforced per kg. Conversion factor based on precast unit mass estimation from supplier."},null,1,null,null,34,15]
[{"$f":"'Emissions Factors'!#REF!","v":{"$error":"#REF!"}},{"$f":"'Emissions Factors'!B179","v":0},{"$f":"'Emissions Factors'!C179","v":0},{"$f":"'Emissions Factors'!D179","v":"1800mm diameter"},null,null,"Drainage","Precast concrete circular pipework","1800mm diameter","Precast concrete circular pipework1800mm diameter",{"$f":"IF('Emissions Factors'!E179=\"\",\"\",'Emissions Factors'!E179)","v":"metres"},{"$f":"IF('Emissions Factors'!F179=\"\",\"\",'Emissions Factors'!F179)","v":"Concrete"},{"$f":"IF('Emissions Factors'!G179=\"\",\"\",'Emissions Factors'!G179)","v":0.14599999999999999},{"$f":"IF('Emissions Factors'!H179=\"\",\"\",'Emissions Factors'!H179)","v":"tCO2e/t"},{"$f":"IF('Emissions Factors'!I179=\"\",\"\",'Emissions Factors'!I179)","v":2.86},{"$f":"IF('Emissions Factors'!J179=\"\",'Emissions Factors'!F179,'Emissions Factors'!J179)","v":"Carbon factor taken directly from the ICE V3: Concrete > Precast concrete pipe, DN600 unreinforced per kg. Conversion factor based on precast unit mass estimation from supplier."},null,1,null,null,34,15]
[{"$f":"'Emissions Factors'!#REF!","v":{"$error":"#REF!"}},{"$f":"'Emissions Factors'!B180","v":0},{"$f":"'Emissions Factors'!C180","v":0},{"$f":"'Emissions Factors'!D180","v":"2100mm diameter"},null,null,"Drainage","Precast concrete circular pipework","2100mm diameter","Precast concrete circular pipework2100mm diameter",{"$f":"IF('Emissions Factors'!E180=\"\",\"\",'Emissions Factors'!E180)","v":"metres"},{"$f":"IF('Emissions Factors'!F180=\"\",\"\",'Emissions Factors'!F180)","v":"Concrete"},{"$f":"IF('Emissions Factors'!G180=\"\",\"\",'Emissions Factors'!G180)","v":0.14599999999999999},{"$f":"IF('Emissions Factors'!H180=\"\",\"\",'Emissions Factors'!H180)","v":"tCO2e/t"},{"$f":"IF('Emissions Factors'!I180=\"\",\"\",'Emissions Factors'!I180)","v":3.448},{"$f":"IF('Emissions Factors'!J180=\"\",'Emissions Factors'!F180,'Emissions Factors'!J180)","v":"Carbon factor taken directly from the ICE V3: Concrete > Precast concrete pipe, DN600 unreinforced per kg. Conversion factor based on precast unit mass estimation from supplier."},null,1,null,null,34,15]
[{"$f":"'Emissions Factors'!#REF!","v":{"$error":"#REF!"}},{"$f":"'Emissions Factors'!B181","v":0},{"$f":"'Emissions Factors'!C181","v":0},{"$f":"'Emissions Factors'!D181","v":"2400mm diameter"},null,null,"Drainage","Precast concrete circular pipework","2400mm diameter","Precast concrete circular pipework2400mm diameter",{"$f":"IF('Emissions Factors'!E181=\"\",\"\",'Emissions Factors'!E181)","v":"metres"},{"$f":"IF('Emissions Factors'!F181=\"\",\"\",'Emissions Factors'!F181)","v":"Concrete"},{"$f":"IF('Emissions Factors'!G181=\"\",\"\",'Emissions Factors'!G181)","v":0.14599999999999999},{"$f":"IF('Emissions Factors'!H181=\"\",\"\",'Emissions Factors'!H181)","v":"tCO2e/t"},{"$f":"IF('Emissions Factors'!I181=\"\",\"\",'Emissions Factors'!I181)","v":3.8730000000000002},{"$f":"IF('Emissions Factors'!J181=\"\",'Emissions Factors'!F181,'Emissions Factors'!J181)","v":"Carbon factor taken directly from the ICE V3: Concrete > Precast concrete pipe, DN600 unreinforced per kg. Conversion factor based on precast unit mass estimation from supplier."},null,1,null,null,34,15]
[{"$f":"'Emissions Factors'!#REF!","v":{"$error":"#REF!"}},{"$f":"'Emissions Factors'!B182","v":0},{"$f":"'Emissions Factors'!C182","v":"Precast concrete box culvert"},{"$f":"'Emissions Factors'!D182","v":"Precast concrete"},null,null,"Drainage","Precast concrete box culvert","Precast concrete","Precast concrete box culvertPrecast concrete",{"$f":"IF('Emissions Factors'!E182=\"\",\"\",'Emissions Factors'!E182)","v":"metres"},{"$f":"IF('Emissions Factors'!F182=\"\",\"\",'Emissions Factors'!F182)","v":"Please include this within the civil structures category under pre-cast concrete."},{"$f":"IF('Emissions Factors'!G182=\"\",\"\",'Emissions Factors'!G182)","v":""},{"$f":"IF('Emissions Factors'!H182=\"\",\"\",'Emissions Factors'!H182)","v":""},{"$f":"IF('Emissions Factors'!I182=\"\",\"\",'Emissions Factors'!I182)","v":""},{"$f":"IF('Emissions Factors'!J182=\"\",'Emissions Factors'!F182,'Emissions Factors'!J182)","v":"Please include this within the civil structures category under pre-cast concrete."},null,1,null,null,28,16]
[{"$f":"'Emissions Factors'!#REF!","v":{"$error":"#REF!"}},{"$f":"'Emissions Factors'!B183","v":0},{"$f":"'Emissions Factors'!C183","v":"Steel pipework"},{"$f":"'Emissions Factors'!D183","v":"300mm diameter"},null,null,"Drainage","Steel pipework","300mm diameter","Steel pipework300mm diameter",{"$f":"IF('Emissions Factors'!E183=\"\",\"\",'Emissions Factors'!E183)","v":"metres"},{"$f":"IF('Emissions Factors'!F183=\"\",\"\",'Emissions Factors'!F183)","v":"Steel"},{"$f":"IF('Emissions Factors'!G183=\"\",\"\",'Emissions Factors'!G183)","v":3.02},{"$f":"IF('Emissions Factors'!H183=\"\",\"\",'Emissions Factors'!H183)","v":"tCO2e/t"},{"$f":"IF('Emissions Factors'!I183=\"\",\"\",'Emissions Factors'!I183)","v":1.4E-2},{"$f":"IF('Emissions Factors'!J183=\"\",'Emissions Factors'!F183,'Emissions Factors'!J183)","v":"Carbon factor taken directly from the ICE V3: World average Steel > UO Pipe. Conversion factor based on indicative unit mass from supplier."},null,1,null,null,14,14]
[{"$f":"'Emissions Factors'!#REF!","v":{"$error":"#REF!"}},{"$f":"'Emissions Factors'!B184","v":0},{"$f":"'Emissions Factors'!C184","v":0},{"$f":"'Emissions Factors'!D184","v":"450mm diameter"},null,null,"Drainage","Steel pipework","450mm diameter","Steel pipework450mm diameter",{"$f":"IF('Emissions Factors'!E184=\"\",\"\",'Emissions Factors'!E184)","v":"metres"},{"$f":"IF('Emissions Factors'!F184=\"\",\"\",'Emissions Factors'!F184)","v":"Steel"},{"$f":"IF('Emissions Factors'!G184=\"\",\"\",'Emissions Factors'!G184)","v":3.02},{"$f":"IF('Emissions Factors'!H184=\"\",\"\",'Emissions Factors'!H184)","v":"tCO2e/t"},{"$f":"IF('Emissions Factors'!I184=\"\",\"\",'Emissions Factors'!I184)","v":2.1000000000000001E-2},{"$f":"IF('Emissions Factors'!J184=\"\",'Emissions Factors'!F184,'Emissions Factors'!J184)","v":"Carbon factor taken directly from the ICE V3: World average Steel > UO Pipe. Conversion factor based on indicative unit mass from supplier."},null,1,null,null,14,14]
[{"$f":"'Emissions Factors'!#REF!","v":{"$error":"#REF!"}},{"$f":"'Emissions Factors'!B185","v":0},{"$f":"'Emissions Factors'!C185","v":0},{"$f":"'Emissions Factors'!D185","v":"600mm diameter"},null,null,"Drainage","Steel pipework","600mm diameter","Steel pipework600mm diameter",{"$f":"IF('Emissions Factors'!E185=\"\",\"\",'Emissions Factors'!E185)","v":"metres"},{"$f":"IF('Emissions Factors'!F185=\"\",\"\",'Emissions Factors'!F185)","v":"Steel"},{"$f":"IF('Emissions Factors'!G185=\"\",\"\",'Emissions Factors'!G185)","v":3.02},{"$f":"IF('Emissions Factors'!H185=\"\",\"\",'Emissions Factors'!H185)","v":"tCO2e/t"},{"$f":"IF('Emissions Factors'!I185=\"\",\"\",'Emissions Factors'!I185)","v":3.2000000000000001E-2},{"$f":"IF('Emissions Factors'!J185=\"\",'Emissions Factors'!F185,'Emissions Factors'!J185)","v":"Carbon factor taken directly from the ICE V3: World average Steel > UO Pipe. Conversion factor based on indicative unit mass from supplier."},null,1,null,null,14,14]
[{"$f":"'Emissions Factors'!#REF!","v":{"$error":"#REF!"}},{"$f":"'Emissions Factors'!B186","v":0},{"$f":"'Emissions Factors'!C186","v":0},{"$f":"'Emissions Factors'!D186","v":"900mm diameter"},null,null,"Drainage","Steel pipework","900mm diameter","Steel pipework900mm diameter",{"$f":"IF('Emissions Factors'!E186=\"\",\"\",'Emissions Factors'!E186)","v":"metres"},{"$f":"IF('Emissions Factors'!F186=\"\",\"\",'Emissions Factors'!F186)","v":"Steel"},{"$f":"IF('Emissions Factors'!G186=\"\",\"\",'Emissions Factors'!G186)","v":3.02},{"$f":"IF('Emissions Factors'!H186=\"\",\"\",'Emissions Factors'!H186)","v":"tCO2e/t"},{"$f":"IF('Emissions Factors'!I186=\"\",\"\",'Emissions Factors'!I186)","v":6.6000000000000003E-2},{"$f":"IF('Emissions Factors'!J186=\"\",'Emissions Factors'!F186,'Emissions Factors'!J186)","v":"Carbon factor taken directly from the ICE V3: World average Steel > UO Pipe. Conversion factor based on indicative unit mass from supplier."},null,1,null,null,14,14]
[{"$f":"'Emissions Factors'!#REF!","v":{"$error":"#REF!"}},{"$f":"'Emissions Factors'!B187","v":0},{"$f":"'Emissions Factors'!C187","v":0},{"$f":"'Emissions Factors'!D187","v":"1200mm diameter"},null,null,"Drainage","Steel pipework","1200mm diameter","Steel pipework1200mm diameter",{"$f":"IF('Emissions Factors'!E187=\"\",\"\",'Emissions Factors'!E187)","v":"metres"},{"$f":"IF('Emissions Factors'!F187=\"\",\"\",'Emissions Factors'!F187)","v":"Steel"},{"$f":"IF('Emissions Factors'!G187=\"\",\"\",'Emissions Factors'!G187)","v":3.02},{"$f":"IF('Emissions Factors'!H187=\"\",\"\",'Emissions Factors'!H187)","v":"tCO2e/t"},{"$f":"IF('Emissions Factors'!I187=\"\",\"\",'Emissions Factors'!I187)","v":8.8999999999999996E-2},{"$f":"IF('Emissions Factors'!J187=\"\",'Emissions Factors'!F187,'Emissions Factors'!J187)","v":"Carbon factor taken directly from the ICE V3: World average Steel > UO Pipe. Conversion factor based on indicative unit mass from supplier."},null,1,null,null,14,15]
[{"$f":"'Emissions Factors'!#REF!","v":{"$error":"#REF!"}},{"$f":"'Emissions Factors'!B188","v":0},{"$f":"'Emissions Factors'!C188","v":0},{"$f":"'Emissions Factors'!D188","v":"1500mm diameter"},null,null,"Drainage","Steel pipework","1500mm diameter","Steel pipework1500mm diameter",{"$f":"IF('Emissions Factors'!E188=\"\",\"\",'Emissions Factors'!E188)","v":"metres"},{"$f":"IF('Emissions Factors'!F188=\"\",\"\",'Emissions Factors'!F188)","v":"Steel"},{"$f":"IF('Emissions Factors'!G188=\"\",\"\",'Emissions Factors'!G188)","v":3.02},{"$f":"IF('Emissions Factors'!H188=\"\",\"\",'Emissions Factors'!H188)","v":"tCO2e/t"},{"$f":"IF('Emissions Factors'!I188=\"\",\"\",'Emissions Factors'!I188)","v":0.113},{"$f":"IF('Emissions Factors'!J188=\"\",'Emissions Factors'!F188,'Emissions Factors'!J188)","v":"Carbon factor taken directly from the ICE V3: World average Steel > UO Pipe. Conversion factor based on indicative unit mass from supplier."},null,1,null,null,14,15]
[{"$f":"'Emissions Factors'!#REF!","v":{"$error":"#REF!"}},{"$f":"'Emissions Factors'!B189","v":0},{"$f":"'Emissions Factors'!C189","v":0},{"$f":"'Emissions Factors'!D189","v":"1800mm diameter"},null,null,"Drainage","Steel pipework","1800mm diameter","Steel pipework1800mm diameter",{"$f":"IF('Emissions Factors'!E189=\"\",\"\",'Emissions Factors'!E189)","v":"metres"},{"$f":"IF('Emissions Factors'!F189=\"\",\"\",'Emissions Factors'!F189)","v":"Steel"},{"$f":"IF('Emissions Factors'!G189=\"\",\"\",'Emissions Factors'!G189)","v":3.02},{"$f":"IF('Emissions Factors'!H189=\"\",\"\",'Emissions Factors'!H189)","v":"tCO2e/t"},{"$f":"IF('Emissions Factors'!I189=\"\",\"\",'Emissions Factors'!I189)","v":0.13500000000000001},{"$f":"IF('Emissions Factors'!J189=\"\",'Emissions Factors'!F189,'Emissions Factors'!J189)","v":"Carbon factor taken directly from the ICE V3: World average Steel > UO Pipe. Conversion factor based on indicative unit mass from supplier."},null,1,null,null,14,15]
[{"$f":"'Emissions Factors'!#REF!","v":{"$error":"#REF!"}},{"$f":"'Emissions Factors'!B190","v":0},{"$f":"'Emissions Factors'!C190","v":0},{"$f":"'Emissions Factors'!D190","v":"2400mm diameter"},null,null,"Drainage","Steel pipework","2400mm diameter","Steel pipework2400mm diameter",{"$f":"IF('Emissions Factors'!E190=\"\",\"\",'Emissions Factors'!E190)","v":"metres"},{"$f":"IF('Emissions Factors'!F190=\"\",\"\",'Emissions Factors'!F190)","v":"Steel"},{"$f":"IF('Emissions Factors'!G190=\"\",\"\",'Emissions Factors'!G190)","v":3.02},{"$f":"IF('Emissions Factors'!H190=\"\",\"\",'Emissions Factors'!H190)","v":"tCO2e/t"},{"$f":"IF('Emissions Factors'!I190=\"\",\"\",'Emissions Factors'!I190)","v":0.17899999999999999},{"$f":"IF('Emissions Factors'!J190=\"\",'Emissions Factors'!F190,'Emissions Factors'!J190)","v":"Carbon factor taken directly from the ICE V3: World average Steel > UO Pipe. Conversion factor based on indicative unit mass from supplier."},null,1,null,null,14,15]
[{"$f":"'Emissions Factors'!#REF!","v":{"$error":"#REF!"}},{"$f":"'Emissions Factors'!B191","v":0},{"$f":"'Emissions Factors'!C191","v":0},{"$f":"'Emissions Factors'!D191","v":"3000mm diameter"},null,null,"Drainage","Steel pipework","3000mm diameter","Steel pipework3000mm diameter",{"$f":"IF('Emissions Factors'!E191=\"\",\"\",'Emissions Factors'!E191)","v":"metres"},{"$f":"IF('Emissions Factors'!F191=\"\",\"\",'Emissions Factors'!F191)","v":"Steel"},{"$f":"IF('Emissions Factors'!G191=\"\",\"\",'Emissions Factors'!G191)","v":3.02},{"$f":"IF('Emissions Factors'!H191=\"\",\"\",'Emissions Factors'!H191)","v":"tCO2e/t"},{"$f":"IF('Emissions Factors'!I191=\"\",\"\",'Emissions Factors'!I191)","v":0.28799999999999998},{"$f":"IF('Emissions Factors'!J191=\"\",'Emissions Factors'!F191,'Emissions Factors'!J191)","v":"Carbon factor taken directly from the ICE V3: World average Steel > UO Pipe. Conversion factor based on indicative unit mass from supplier."},null,1,null,null,14,15]
[{"$f":"'Emissions Factors'!#REF!","v":{"$error":"#REF!"}},{"$f":"'Emissions Factors'!B192","v":0},{"$f":"'Emissions Factors'!C192","v":0},{"$f":"'Emissions Factors'!D192","v":"3600mm diameter"},null,null,"Drainage","Steel pipework","3600mm diameter","Steel pipework3600mm diameter",{"$f":"IF('Emissions Factors'!E192=\"\",\"\",'Emissions Factors'!E192)","v":"metres"},{"$f":"IF('Emissions Factors'!F192=\"\",\"\",'Emissions Factors'!F192)","v":"Steel"},{"$f":"IF('Emissions Factors'!G192=\"\",\"\",'Emissions Factors'!G192)","v":3.02},{"$f":"IF('Emissions Factors'!H192=\"\",\"\",'Emissions Factors'!H192)","v":"tCO2e/t"},{"$f":"IF('Emissions Factors'!I192=\"\",\"\",'Emissions Factors'!I192)","v":0.371},{"$f":"IF('Emissions Factors'!J192=\"\",'Emissions Factors'!F192,'Emissions Factors'!J192)","v":"Carbon factor taken directly from the ICE V3: World average Steel > UO Pipe. Conversion factor based on indicative unit mass from supplier."},null,1,null,null,14,15]
[{"$f":"'Emissions Factors'!#REF!","v":{"$error":"#REF!"}},{"$f":"'Emissions Factors'!B193","v":0},{"$f":"'Emissions Factors'!C193","v":"Glass reinforced plastic GRP (Fibreglass) pipework"},{"$f":"'Emissions Factors'!D193","v":"150mm diameter"},null,null,"Drainage","Glass reinforced plastic GRP (Fibreglass) pipework","150mm diameter","Glass reinforced plastic GRP (Fibreglass) pipework150mm diameter",{"$f":"IF('Emissions Factors'!E193=\"\",\"\",'Emissions Factors'!E193)","v":"metres"},{"$f":"IF('Emissions Factors'!F193=\"\",\"\",'Emissions Factors'!F193)","v":"Plastic"},{"$f":"IF('Emissions Factors'!G193=\"\",\"\",'Emissions Factors'!G193)","v":8.1},{"$f":"IF('Emissions Factors'!H193=\"\",\"\",'Emissions Factors'!H193)","v":"tCO2/t"},{"$f":"IF('Emissions Factors'!I193=\"\",\"\",'Emissions Factors'!I193)","v":4.0000000000000001E-3},{"$f":"IF('Emissions Factors'!J193=\"\",'Emissions Factors'!F193,'Emissions Factors'!J193)","v":"Carbon factor taken directly from the ICE V3: Miscellaneous > GRP. Conversion factor calculated from typical GRP pipe unit mass from supplier."},null,1,null,null,50,14]
[{"$f":"'Emissions Factors'!#REF!","v":{"$error":"#REF!"}},{"$f":"'Emissions Factors'!B194","v":0},{"$f":"'Emissions Factors'!C194","v":0},{"$f":"'Emissions Factors'!D194","v":"225mm diameter"},null,null,"Drainage","Glass reinforced plastic GRP (Fibreglass) pipework","225mm diameter","Glass reinforced plastic GRP (Fibreglass) pipework225mm diameter",{"$f":"IF('Emissions Factors'!E194=\"\",\"\",'Emissions Factors'!E194)","v":"metres"},{"$f":"IF('Emissions Factors'!F194=\"\",\"\",'Emissions Factors'!F194)","v":"Plastic"},{"$f":"IF('Emissions Factors'!G194=\"\",\"\",'Emissions Factors'!G194)","v":8.1},{"$f":"IF('Emissions Factors'!H194=\"\",\"\",'Emissions Factors'!H194)","v":"tCO2/t"},{"$f":"IF('Emissions Factors'!I194=\"\",\"\",'Emissions Factors'!I194)","v":6.0000000000000001E-3},{"$f":"IF('Emissions Factors'!J194=\"\",'Emissions Factors'!F194,'Emissions Factors'!J194)","v":"Carbon factor taken directly from the ICE V3: Miscellaneous > GRP. Conversion factor calculated from typical GRP pipe unit mass from supplier."},null,1,null,null,50,14]
[{"$f":"'Emissions Factors'!#REF!","v":{"$error":"#REF!"}},{"$f":"'Emissions Factors'!B195","v":0},{"$f":"'Emissions Factors'!C195","v":0},{"$f":"'Emissions Factors'!D195","v":"300mm diameter"},null,null,"Drainage","Glass reinforced plastic GRP (Fibreglass) pipework","300mm diameter","Glass reinforced plastic GRP (Fibreglass) pipework300mm diameter",{"$f":"IF('Emissions Factors'!E195=\"\",\"\",'Emissions Factors'!E195)","v":"metres"},{"$f":"IF('Emissions Factors'!F195=\"\",\"\",'Emissions Factors'!F195)","v":"Plastic"},{"$f":"IF('Emissions Factors'!G195=\"\",\"\",'Emissions Factors'!G195)","v":8.1},{"$f":"IF('Emissions Factors'!H195=\"\",\"\",'Emissions Factors'!H195)","v":"tCO2/t"},{"$f":"IF('Emissions Factors'!I195=\"\",\"\",'Emissions Factors'!I195)","v":8.0000000000000002E-3},{"$f":"IF('Emissions Factors'!J195=\"\",'Emissions Factors'!F195,'Emissions Factors'!J195)","v":"Carbon factor taken directly from the ICE V3: Miscellaneous > GRP. Conversion factor calculated from typical GRP pipe unit mass from supplier."},null,1,null,null,50,14]
[{"$f":"'Emissions Factors'!#REF!","v":{"$error":"#REF!"}},{"$f":"'Emissions Factors'!B196","v":0},{"$f":"'Emissions Factors'!C196","v":0},{"$f":"'Emissions Factors'!D196","v":"450mm diameter"},null,null,"Drainage","Glass reinforced plastic GRP (Fibreglass) pipework","450mm diameter","Glass reinforced plastic GRP (Fibreglass) pipework450mm diameter",{"$f":"IF('Emissions Factors'!E196=\"\",\"\",'Emissions Factors'!E196)","v":"metres"},{"$f":"IF('Emissions Factors'!F196=\"\",\"\",'Emissions Factors'!F196)","v":"Plastic"},{"$f":"IF('Emissions Factors'!G196=\"\",\"\",'Emissions Factors'!G196)","v":8.1},{"$f":"IF('Emissions Factors'!H196=\"\",\"\",'Emissions Factors'!H196)","v":"tCO2/t"},{"$f":"IF('Emissions Factors'!I196=\"\",\"\",'Emissions Factors'!I196)","v":1.4E-2},{"$f":"IF('Emissions Factors'!J196=\"\",'Emissions Factors'!F196,'Emissions Factors'!J196)","v":"Carbon factor taken directly from the ICE V3: Miscellaneous > GRP. Conversion factor calculated from typical GRP pipe unit mass from supplier."},null,1,null,null,50,14]
[{"$f":"'Emissions Factors'!#REF!","v":{"$error":"#REF!"}},{"$f":"'Emissions Factors'!B197","v":0},{"$f":"'Emissions Factors'!C197","v":0},{"$f":"'Emissions Factors'!D197","v":"600mm diameter"},null,null,"Drainage","Glass reinforced plastic GRP (Fibreglass) pipework","600mm diameter","Glass reinforced plastic GRP (Fibreglass) pipework600mm diameter",{"$f":"IF('Emissions Factors'!E197=\"\",\"\",'Emissions Factors'!E197)","v":"metres"},{"$f":"IF('Emissions Factors'!F197=\"\",\"\",'Emissions Factors'!F197)","v":"Plastic"},{"$f":"IF('Emissions Factors'!G197=\"\",\"\",'Emissions Factors'!G197)","v":8.1},{"$f":"IF('Emissions Factors'!H197=\"\",\"\",'Emissions Factors'!H197)","v":"tCO2/t"},{"$f":"IF('Emissions Factors'!I197=\"\",\"\",'Emissions Factors'!I197)","v":2.3E-2},{"$f":"IF('Emissions Factors'!J197=\"\",'Emissions Factors'!F197,'Emissions Factors'!J197)","v":"Carbon factor taken directly from the ICE V3: Miscellaneous > GRP. Conversion factor calculated from typical GRP pipe unit mass from supplier."},null,1,null,null,50,14]
[{"$f":"'Emissions Factors'!#REF!","v":{"$error":"#REF!"}},{"$f":"'Emissions Factors'!B198","v":0},{"$f":"'Emissions Factors'!C198","v":0},{"$f":"'Emissions Factors'!D198","v":"900mm diameter"},null,null,"Drainage","Glass reinforced plastic GRP (Fibreglass) pipework","900mm diameter","Glass reinforced plastic GRP (Fibreglass) pipework900mm diameter",{"$f":"IF('Emissions Factors'!E198=\"\",\"\",'Emissions Factors'!E198)","v":"metres"},{"$f":"IF('Emissions Factors'!F198=\"\",\"\",'Emissions Factors'!F198)","v":"Plastic"},{"$f":"IF('Emissions Factors'!G198=\"\",\"\",'Emissions Factors'!G198)","v":8.1},{"$f":"IF('Emissions Factors'!H198=\"\",\"\",'Emissions Factors'!H198)","v":"tCO2/t"},{"$f":"IF('Emissions Factors'!I198=\"\",\"\",'Emissions Factors'!I198)","v":0.05},{"$f":"IF('Emissions Factors'!J198=\"\",'Emissions Factors'!F198,'Emissions Factors'!J198)","v":"Carbon factor taken directly from the ICE V3: Miscellaneous > GRP. Conversion factor calculated from typical GRP pipe unit mass from supplier."},null,1,null,null,50,14]
[{"$f":"'Emissions Factors'!#REF!","v":{"$error":"#REF!"}},{"$f":"'Emissions Factors'!B199","v":0},{"$f":"'Emissions Factors'!C199","v":0},{"$f":"'Emissions Factors'!D199","v":"1200mm diameter"},null,null,"Drainage","Glass reinforced plastic GRP (Fibreglass) pipework","1200mm diameter","Glass reinforced plastic GRP (Fibreglass) pipework1200mm diameter",{"$f":"IF('Emissions Factors'!E199=\"\",\"\",'Emissions Factors'!E199)","v":"metres"},{"$f":"IF('Emissions Factors'!F199=\"\",\"\",'Emissions Factors'!F199)","v":"Plastic"},{"$f":"IF('Emissions Factors'!G199=\"\",\"\",'Emissions Factors'!G199)","v":8.1},{"$f":"IF('Emissions Factors'!H199=\"\",\"\",'Emissions Factors'!H199)","v":"tCO2/t"},{"$f":"IF('Emissions Factors'!I199=\"\",\"\",'Emissions Factors'!I199)","v":8.5999999999999993E-2},{"$f":"IF('Emissions Factors'!J199=\"\",'Emissions Factors'!F199,'Emissions Factors'!J199)","v":"Carbon factor taken directly from the ICE V3: Miscellaneous > GRP. Conversion factor calculated from typical GRP pipe unit mass from supplier."},null,1,null,null,50,15]
[{"$f":"'Emissions Factors'!#REF!","v":{"$error":"#REF!"}},{"$f":"'Emissions Factors'!B200","v":0},{"$f":"'Emissions Factors'!C200","v":0},{"$f":"'Emissions Factors'!D200","v":"1500mm diameter"},null,null,{"$f":"IF(B198=0,G197,B198)","v":"Drainage"},{"$f":"IF(C198=0,H197,C198)","v":"Glass reinforced plastic GRP (Fibreglass) pipework"},{"$f":"IF(D198=0,I197,D198)","v":"1500mm diameter"},{"$f":"H198&I198","v":"Glass reinforced plastic GRP (Fibreglass) pipework1500mm diameter"},{"$f":"IF('Emissions Factors'!E200=\"\",\"\",'Emissions Factors'!E200)","v":"metres"},{"$f":"IF('Emissions Factors'!F200=\"\",\"\",'Emissions Factors'!F200)","v":"Plastic"},{"$f":"IF('Emissions Factors'!G200=\"\",\"\",'Emissions Factors'!G200)","v":8.1},{"$f":"IF('Emissions Factors'!H200=\"\",\"\",'Emissions Factors'!H200)","v":"tCO2/t"},{"$f":"IF('Emissions Factors'!I200=\"\",\"\",'Emissions Factors'!I200)","v":0.13200000000000001},{"$f":"IF('Emissions Factors'!J200=\"\",'Emissions Factors'!F200,'Emissions Factors'!J200)","v":"Carbon factor taken directly from the ICE V3: Miscellaneous > GRP. Conversion factor calculated from typical GRP pipe unit mass from supplier."},null,1,null,null,50,15]
[{"$f":"'Emissions Factors'!#REF!","v":{"$error":"#REF!"}},{"$f":"'Emissions Factors'!B201","v":0},{"$f":"'Emissions Factors'!C201","v":0},{"$f":"'Emissions Factors'!D201","v":"1800mm diameter"},null,null,"Drainage","Glass reinforced plastic GRP (Fibreglass) pipework","1800mm diameter","Glass reinforced plastic GRP (Fibreglass) pipework1800mm diameter",{"$f":"IF('Emissions Factors'!E201=\"\",\"\",'Emissions Factors'!E201)","v":"metres"},{"$f":"IF('Emissions Factors'!F201=\"\",\"\",'Emissions Factors'!F201)","v":"Plastic"},{"$f":"IF('Emissions Factors'!G201=\"\",\"\",'Emissions Factors'!G201)","v":8.1},{"$f":"IF('Emissions Factors'!H201=\"\",\"\",'Emissions Factors'!H201)","v":"tCO2/t"},{"$f":"IF('Emissions Factors'!I201=\"\",\"\",'Emissions Factors'!I201)","v":0.188},{"$f":"IF('Emissions Factors'!J201=\"\",'Emissions Factors'!F201,'Emissions Factors'!J201)","v":"Carbon factor taken directly from the ICE V3: Miscellaneous > GRP. Conversion factor calculated from typical GRP pipe unit mass from supplier."},null,1,null,null,50,15]
[{"$f":"'Emissions Factors'!#REF!","v":{"$error":"#REF!"}},{"$f":"'Emissions Factors'!B202","v":0},{"$f":"'Emissions Factors'!C202","v":0},{"$f":"'Emissions Factors'!D202","v":"2400mm diameter"},null,null,"Drainage","Glass reinforced plastic GRP (Fibreglass) pipework","2400mm diameter","Glass reinforced plastic GRP (Fibreglass) pipework2400mm diameter",{"$f":"IF('Emissions Factors'!E202=\"\",\"\",'Emissions Factors'!E202)","v":"metres"},{"$f":"IF('Emissions Factors'!F202=\"\",\"\",'Emissions Factors'!F202)","v":"Plastic"},{"$f":"IF('Emissions Factors'!G202=\"\",\"\",'Emissions Factors'!G202)","v":8.1},{"$f":"IF('Emissions Factors'!H202=\"\",\"\",'Emissions Factors'!H202)","v":"tCO2/t"},{"$f":"IF('Emissions Factors'!I202=\"\",\"\",'Emissions Factors'!I202)","v":0.32900000000000001},{"$f":"IF('Emissions Factors'!J202=\"\",'Emissions Factors'!F202,'Emissions Factors'!J202)","v":"Carbon factor taken directly from the ICE V3: Miscellaneous > GRP. Conversion factor calculated from typical GRP pipe unit mass from supplier."},null,1,null,null,50,15]
[{"$f":"'Emissions Factors'!#REF!","v":{"$error":"#REF!"}},{"$f":"'Emissions Factors'!B203","v":0},{"$f":"'Emissions Factors'!C203","v":"Iron pipework"},{"$f":"'Emissions Factors'!D203","v":"150mm diameter"},null,null,"Drainage","Iron pipework","150mm diameter","Iron pipework150mm diameter",{"$f":"IF('Emissions Factors'!E203=\"\",\"\",'Emissions Factors'!E203)","v":"metres"},{"$f":"IF('Emissions Factors'!F203=\"\",\"\",'Emissions Factors'!F203)","v":"Steel"},{"$f":"IF('Emissions Factors'!G203=\"\",\"\",'Emissions Factors'!G203)","v":2.0299999999999998},{"$f":"IF('Emissions Factors'!H203=\"\",\"\",'Emissions Factors'!H203)","v":"tCO2e/t"},{"$f":"IF('Emissions Factors'!I203=\"\",\"\",'Emissions Factors'!I203)","v":1.406E-2},{"$f":"IF('Emissions Factors'!J203=\"\",'Emissions Factors'!F203,'Emissions Factors'!J203)","v":"Carbon factor taken directly from the ICE V3: Iron > General."},null,1,null,null,13,14]
[{"$f":"'Emissions Factors'!#REF!","v":{"$error":"#REF!"}},{"$f":"'Emissions Factors'!B204","v":0},{"$f":"'Emissions Factors'!C204","v":0},{"$f":"'Emissions Factors'!D204","v":"300mm diameter"},null,null,"Drainage","Iron pipework","300mm diameter","Iron pipework300mm diameter",{"$f":"IF('Emissions Factors'!E204=\"\",\"\",'Emissions Factors'!E204)","v":"metres"},{"$f":"IF('Emissions Factors'!F204=\"\",\"\",'Emissions Factors'!F204)","v":"Steel"},{"$f":"IF('Emissions Factors'!G204=\"\",\"\",'Emissions Factors'!G204)","v":2.0299999999999998},{"$f":"IF('Emissions Factors'!H204=\"\",\"\",'Emissions Factors'!H204)","v":"tCO2e/t"},{"$f":"IF('Emissions Factors'!I204=\"\",\"\",'Emissions Factors'!I204)","v":4.3229999999999998E-2},{"$f":"IF('Emissions Factors'!J204=\"\",'Emissions Factors'!F204,'Emissions Factors'!J204)","v":"Carbon factor taken directly from the ICE V3: Iron > General."},null,1,null,null,{"$f":"LEN(H202)","v":13},{"$f":"LEN(I202)","v":14}]
[{"$f":"'Emissions Factors'!#REF!","v":{"$error":"#REF!"}},{"$f":"'Emissions Factors'!B205","v":0},{"$f":"'Emissions Factors'!C205","v":0},{"$f":"'Emissions Factors'!D205","v":"400mm diameter"},null,null,"Drainage","Iron pipework","400mm diameter","Iron pipework400mm diameter",{"$f":"IF('Emissions Factors'!E205=\"\",\"\",'Emissions Factors'!E205)","v":"metres"},{"$f":"IF('Emissions Factors'!F205=\"\",\"\",'Emissions Factors'!F205)","v":"Steel"},{"$f":"IF('Emissions Factors'!G205=\"\",\"\",'Emissions Factors'!G205)","v":2.0299999999999998},{"$f":"IF('Emissions Factors'!H205=\"\",\"\",'Emissions Factors'!H205)","v":"tCO2e/t"},{"$f":"IF('Emissions Factors'!I205=\"\",\"\",'Emissions Factors'!I205)","v":0.06},{"$f":"IF('Emissions Factors'!J205=\"\",'Emissions Factors'!F205,'Emissions Factors'!J205)","v":"Carbon factor taken directly from the ICE V3: Iron > General."},null,1,null,null,13,14]
[{"$f":"'Emissions Factors'!#REF!","v":{"$error":"#REF!"}},{"$f":"'Emissions Factors'!B206","v":0},{"$f":"'Emissions Factors'!C206","v":"Brick manholes and inspection chambers"},{"$f":"'Emissions Factors'!D206","v":"Brick (includes mortar)"},null,null,"Drainage","Brick manholes and inspection chambers","Brick (includes mortar)","Brick manholes and inspection chambersBrick (includes mortar)",{"$f":"IF('Emissions Factors'!E206=\"\",\"\",'Emissions Factors'!E206)","v":"no."},{"$f":"IF('Emissions Factors'!F206=\"\",\"\",'Emissions Factors'!F206)","v":"Brick and Blockwork"},{"$f":"IF('Emissions Factors'!G206=\"\",\"\",'Emissions Factors'!G206)","v":0.20526105940346864},{"$f":"IF('Emissions Factors'!H206=\"\",\"\",'Emissions Factors'!H206)","v":"tCO2e/t"},{"$f":"IF('Emissions Factors'!I206=\"\",\"\",'Emissions Factors'!I206)","v":2.5834349999999998E-3},{"$f":"IF('Emissions Factors'!J206=\"\",'Emissions Factors'!F206,'Emissions Factors'!J206)","v":"Carbon factor taken directly from the ICE V3: Brick > General. Assumed weight of brick is 2.13kg and 10mm of mortar."},null,1,null,null,38,23]
[{"$f":"'Emissions Factors'!#REF!","v":{"$error":"#REF!"}},{"$f":"'Emissions Factors'!B207","v":0},{"$f":"'Emissions Factors'!C207","v":"In-situ concrete manholes and inspection chambers"},{"$f":"'Emissions Factors'!D207","v":"In-situ concrete"},null,null,"Drainage","In-situ concrete manholes and inspection chambers","In-situ concrete","In-situ concrete manholes and inspection chambersIn-situ concrete",{"$f":"IF('Emissions Factors'!E207=\"\",\"\",'Emissions Factors'!E207)","v":""},{"$f":"IF('Emissions Factors'!F207=\"\",\"\",'Emissions Factors'!F207)","v":"Please include this within the bulk materials category under concrete."},{"$f":"IF('Emissions Factors'!G207=\"\",\"\",'Emissions Factors'!G207)","v":""},{"$f":"IF('Emissions Factors'!H207=\"\",\"\",'Emissions Factors'!H207)","v":""},{"$f":"IF('Emissions Factors'!I207=\"\",\"\",'Emissions Factors'!I207)","v":""},{"$f":"IF('Emissions Factors'!J207=\"\",'Emissions Factors'!F207,'Emissions Factors'!J207)","v":"Please include this within the bulk materials category under concrete."},null,1,null,null,49,16]
[{"$f":"'Emissions Factors'!#REF!","v":{"$error":"#REF!"}},{"$f":"'Emissions Factors'!B208","v":0},{"$f":"'Emissions Factors'!C208","v":"Precast concrete manholes"},{"$f":"'Emissions Factors'!D208","v":"900mm diameter, up to 3m depth"},null,null,"Drainage","Precast concrete manholes","900mm diameter, up to 3m depth","Precast concrete manholes900mm diameter, up to 3m depth",{"$f":"IF('Emissions Factors'!E208=\"\",\"\",'Emissions Factors'!E208)","v":"no."},{"$f":"IF('Emissions Factors'!F208=\"\",\"\",'Emissions Factors'!F208)","v":"Concrete"},{"$f":"IF('Emissions Factors'!G208=\"\",\"\",'Emissions Factors'!G208)","v":0.27797943444730078},{"$f":"IF('Emissions Factors'!H208=\"\",\"\",'Emissions Factors'!H208)","v":"tCO2e/t"},{"$f":"IF('Emissions Factors'!I208=\"\",\"\",'Emissions Factors'!I208)","v":1.9450000000000001},{"$f":"IF('Emissions Factors'!J208=\"\",'Emissions Factors'!F208,'Emissions Factors'!J208)","v":"Carbon factor uses ICE V3: Concrete > Precast RC40/50 with average UK additions. and ICE V3: Iron > General for covers. Factor presented is weighted average based on relative estimated mass of precast concrete and ductile iron cover and frame. Conversion factor based on indicative unit mass from supplier for concrete shafts and cover slabs, assumed max. depth for category, and indicative unit mass for iron cover and frame from supplier."},null,1,null,null,25,30]
[{"$f":"'Emissions Factors'!#REF!","v":{"$error":"#REF!"}},{"$f":"'Emissions Factors'!B209","v":0},{"$f":"'Emissions Factors'!C209","v":0},{"$f":"'Emissions Factors'!D209","v":"900mm diameter, 3m - 6m depth"},null,null,"Drainage","Precast concrete manholes","900mm diameter, 3m - 6m depth","Precast concrete manholes900mm diameter, 3m - 6m depth",{"$f":"IF('Emissions Factors'!E209=\"\",\"\",'Emissions Factors'!E209)","v":"no."},{"$f":"IF('Emissions Factors'!F209=\"\",\"\",'Emissions Factors'!F209)","v":"Concrete"},{"$f":"IF('Emissions Factors'!G209=\"\",\"\",'Emissions Factors'!G209)","v":0.23300990099009897},{"$f":"IF('Emissions Factors'!H209=\"\",\"\",'Emissions Factors'!H209)","v":"tCO2e/t"},{"$f":"IF('Emissions Factors'!I209=\"\",\"\",'Emissions Factors'!I209)","v":3.5350000000000001},{"$f":"IF('Emissions Factors'!J209=\"\",'Emissions Factors'!F209,'Emissions Factors'!J209)","v":"Carbon factor uses ICE V3: Concrete > Precast RC40/50 with average UK additions. and ICE V3: Iron > General for covers. Factor presented is weighted average based on relative estimated mass of precast concrete and ductile iron cover and frame. Conversion factor based on indicative unit mass from supplier for concrete shafts and cover slabs, assumed max. depth for category, and indicative unit mass for iron cover and frame from supplier."},null,1,null,null,25,29]
[{"$f":"'Emissions Factors'!#REF!","v":{"$error":"#REF!"}},{"$f":"'Emissions Factors'!B210","v":0},{"$f":"'Emissions Factors'!C210","v":0},{"$f":"'Emissions Factors'!D210","v":"1050mm diameter, up to 3m depth"},null,null,"Drainage","Precast concrete manholes","1050mm diameter, up to 3m depth","Precast concrete manholes1050mm diameter, up to 3m depth",{"$f":"IF('Emissions Factors'!E210=\"\",\"\",'Emissions Factors'!E210)","v":"no."},{"$f":"IF('Emissions Factors'!F210=\"\",\"\",'Emissions Factors'!F210)","v":"Concrete"},{"$f":"IF('Emissions Factors'!G210=\"\",\"\",'Emissions Factors'!G210)","v":0.25578399999999996},{"$f":"IF('Emissions Factors'!H210=\"\",\"\",'Emissions Factors'!H210)","v":"tCO2e/t"},{"$f":"IF('Emissions Factors'!I210=\"\",\"\",'Emissions Factors'!I210)","v":2.5},{"$f":"IF('Emissions Factors'!J210=\"\",'Emissions Factors'!F210,'Emissions Factors'!J210)","v":"Carbon factor uses ICE V3: Concrete > Precast RC40/50 with average UK additions. and ICE V3: Iron > General for covers. Factor presented is weighted average based on relative estimated mass of precast concrete and ductile iron cover and frame. Conversion factor based on indicative unit mass from supplier for concrete shafts and cover slabs, assumed max. depth for category, and indicative unit mass for iron cover and frame from supplier."},null,1,null,null,25,31]
[{"$f":"'Emissions Factors'!#REF!","v":{"$error":"#REF!"}},{"$f":"'Emissions Factors'!B211","v":0},{"$f":"'Emissions Factors'!C211","v":0},{"$f":"'Emissions Factors'!D211","v":"1050mm diameter, 3m - 6m depth"},null,null,"Drainage","Precast concrete manholes","1050mm diameter, 3m - 6m depth","Precast concrete manholes1050mm diameter, 3m - 6m depth",{"$f":"IF('Emissions Factors'!E211=\"\",\"\",'Emissions Factors'!E211)","v":"no."},{"$f":"IF('Emissions Factors'!F211=\"\",\"\",'Emissions Factors'!F211)","v":"Concrete"},{"$f":"IF('Emissions Factors'!G211=\"\",\"\",'Emissions Factors'!G211)","v":0.22},{"$f":"IF('Emissions Factors'!H211=\"\",\"\",'Emissions Factors'!H211)","v":"tCO2e/t"},{"$f":"IF('Emissions Factors'!I211=\"\",\"\",'Emissions Factors'!I211)","v":4.63},{"$f":"IF('Emissions Factors'!J211=\"\",'Emissions Factors'!F211,'Emissions Factors'!J211)","v":"Carbon factor uses ICE V3: Concrete > Precast RC40/50 with average UK additions. and ICE V3: Iron > General for covers. Factor presented is weighted average based on relative estimated mass of precast concrete and ductile iron cover and frame. Conversion factor based on indicative unit mass from supplier for concrete shafts and cover slabs, assumed max. depth for category, and indicative unit mass for iron cover and frame from supplier."},null,1,null,null,25,30]
[{"$f":"'Emissions Factors'!#REF!","v":{"$error":"#REF!"}},{"$f":"'Emissions Factors'!B212","v":0},{"$f":"'Emissions Factors'!C212","v":0},{"$f":"'Emissions Factors'!D212","v":"1200mm diameter, up to 3m depth"},null,null,"Drainage","Precast concrete manholes","1200mm diameter, up to 3m depth","Precast concrete manholes1200mm diameter, up to 3m depth",{"$f":"IF('Emissions Factors'!E212=\"\",\"\",'Emissions Factors'!E212)","v":"no."},{"$f":"IF('Emissions Factors'!F212=\"\",\"\",'Emissions Factors'!F212)","v":"Concrete"},{"$f":"IF('Emissions Factors'!G212=\"\",\"\",'Emissions Factors'!G212)","v":0.23839130434782607},{"$f":"IF('Emissions Factors'!H212=\"\",\"\",'Emissions Factors'!H212)","v":"tCO2e/t"},{"$f":"IF('Emissions Factors'!I212=\"\",\"\",'Emissions Factors'!I212)","v":3.22},{"$f":"IF('Emissions Factors'!J212=\"\",'Emissions Factors'!F212,'Emissions Factors'!J212)","v":"Carbon factor uses ICE V3: Concrete > Precast RC40/50 with average UK additions. and ICE V3: Iron > General for covers. Factor presented is weighted average based on relative estimated mass of precast concrete and ductile iron cover and frame. Conversion factor based on indicative unit mass from supplier for concrete shafts and cover slabs, assumed max. depth for category, and indicative unit mass for iron cover and frame from supplier."},null,1,null,null,25,31]
[{"$f":"'Emissions Factors'!#REF!","v":{"$error":"#REF!"}},{"$f":"'Emissions Factors'!B213","v":0},{"$f":"'Emissions Factors'!C213","v":0},{"$f":"'Emissions Factors'!D213","v":"1200mm diameter, 3m - 6m depth"},null,null,"Drainage","Precast concrete manholes","1200mm diameter, 3m - 6m depth","Precast concrete manholes1200mm diameter, 3m - 6m depth",{"$f":"IF('Emissions Factors'!E213=\"\",\"\",'Emissions Factors'!E213)","v":"no."},{"$f":"IF('Emissions Factors'!F213=\"\",\"\",'Emissions Factors'!F213)","v":"Concrete"},{"$f":"IF('Emissions Factors'!G213=\"\",\"\",'Emissions Factors'!G213)","v":0.21068235294117643},{"$f":"IF('Emissions Factors'!H213=\"\",\"\",'Emissions Factors'!H213)","v":"tCO2e/t"},{"$f":"IF('Emissions Factors'!I213=\"\",\"\",'Emissions Factors'!I213)","v":5.95},{"$f":"IF('Emissions Factors'!J213=\"\",'Emissions Factors'!F213,'Emissions Factors'!J213)","v":"Carbon factor uses ICE V3: Concrete > Precast RC40/50 with average UK additions. and ICE V3: Iron > General for covers. Factor presented is weighted average based on relative estimated mass of precast concrete and ductile iron cover and frame. Conversion factor based on indicative unit mass from supplier for concrete shafts and cover slabs, assumed max. depth for category, and indicative unit mass for iron cover and frame from supplier."},null,1,null,null,25,30]
[{"$f":"'Emissions Factors'!#REF!","v":{"$error":"#REF!"}},{"$f":"'Emissions Factors'!B214","v":0},{"$f":"'Emissions Factors'!C214","v":0},{"$f":"'Emissions Factors'!D214","v":"1500mm diameter, up to 3m depth"},null,null,"Drainage","Precast concrete manholes","1500mm diameter, up to 3m depth","Precast concrete manholes1500mm diameter, up to 3m depth",{"$f":"IF('Emissions Factors'!E214=\"\",\"\",'Emissions Factors'!E214)","v":"no."},{"$f":"IF('Emissions Factors'!F214=\"\",\"\",'Emissions Factors'!F214)","v":"Concrete"},{"$f":"IF('Emissions Factors'!G214=\"\",\"\",'Emissions Factors'!G214)","v":0.21760488798370667},{"$f":"IF('Emissions Factors'!H214=\"\",\"\",'Emissions Factors'!H214)","v":"tCO2e/t"},{"$f":"IF('Emissions Factors'!I214=\"\",\"\",'Emissions Factors'!I214)","v":4.91},{"$f":"IF('Emissions Factors'!J214=\"\",'Emissions Factors'!F214,'Emissions Factors'!J214)","v":"Carbon factor uses ICE V3: Concrete > Precast RC40/50 with average UK additions. and ICE V3: Iron > General for covers. Factor presented is weighted average based on relative estimated mass of precast concrete and ductile iron cover and frame. Conversion factor based on indicative unit mass from supplier for concrete shafts and cover slabs, assumed max. depth for category, and indicative unit mass for iron cover and frame from supplier."},null,1,null,null,25,31]
[{"$f":"'Emissions Factors'!#REF!","v":{"$error":"#REF!"}},{"$f":"'Emissions Factors'!B215","v":0},{"$f":"'Emissions Factors'!C215","v":0},{"$f":"'Emissions Factors'!D215","v":"1500mm diameter, 3m - 6m depth"},null,null,"Drainage","Precast concrete manholes","1500mm diameter, 3m - 6m depth","Precast concrete manholes1500mm diameter, 3m - 6m depth",{"$f":"IF('Emissions Factors'!E215=\"\",\"\",'Emissions Factors'!E215)","v":"no."},{"$f":"IF('Emissions Factors'!F215=\"\",\"\",'Emissions Factors'!F215)","v":"Concrete"},{"$f":"IF('Emissions Factors'!G215=\"\",\"\",'Emissions Factors'!G215)","v":0.19984943820224718},{"$f":"IF('Emissions Factors'!H215=\"\",\"\",'Emissions Factors'!H215)","v":"tCO2e/t"},{"$f":"IF('Emissions Factors'!I215=\"\",\"\",'Emissions Factors'!I215)","v":8.9},{"$f":"IF('Emissions Factors'!J215=\"\",'Emissions Factors'!F215,'Emissions Factors'!J215)","v":"Carbon factor uses ICE V3: Concrete > Precast RC40/50 with average UK additions. and ICE V3: Iron > General for covers. Factor presented is weighted average based on relative estimated mass of precast concrete and ductile iron cover and frame. Conversion factor based on indicative unit mass from supplier for concrete shafts and cover slabs, assumed max. depth for category, and indicative unit mass for iron cover and frame from supplier."},null,1,null,null,25,30]
[{"$f":"'Emissions Factors'!#REF!","v":{"$error":"#REF!"}},{"$f":"'Emissions Factors'!B216","v":0},{"$f":"'Emissions Factors'!C216","v":0},{"$f":"'Emissions Factors'!D216","v":"1800mm diameter, up to 3m depth"},null,null,"Drainage","Precast concrete manholes","1800mm diameter, up to 3m depth","Precast concrete manholes1800mm diameter, up to 3m depth",{"$f":"IF('Emissions Factors'!E216=\"\",\"\",'Emissions Factors'!E216)","v":"no."},{"$f":"IF('Emissions Factors'!F216=\"\",\"\",'Emissions Factors'!F216)","v":"Concrete"},{"$f":"IF('Emissions Factors'!G216=\"\",\"\",'Emissions Factors'!G216)","v":0.20737462235649545},{"$f":"IF('Emissions Factors'!H216=\"\",\"\",'Emissions Factors'!H216)","v":"tCO2e/t"},{"$f":"IF('Emissions Factors'!I216=\"\",\"\",'Emissions Factors'!I216)","v":6.62},{"$f":"IF('Emissions Factors'!J216=\"\",'Emissions Factors'!F216,'Emissions Factors'!J216)","v":"Carbon factor uses ICE V3: Concrete > Precast RC40/50 with average UK additions. and ICE V3: Iron > General for covers. Factor presented is weighted average based on relative estimated mass of precast concrete and ductile iron cover and frame. Conversion factor based on indicative unit mass from supplier for concrete shafts and cover slabs, assumed max. depth for category, and indicative unit mass for iron cover and frame from supplier."},null,1,null,null,25,31]
[{"$f":"'Emissions Factors'!#REF!","v":{"$error":"#REF!"}},{"$f":"'Emissions Factors'!B217","v":0},{"$f":"'Emissions Factors'!C217","v":0},{"$f":"'Emissions Factors'!D217","v":"1800mm diameter, 3m - 6m depth"},null,null,"Drainage","Precast concrete manholes","1800mm diameter, 3m - 6m depth","Precast concrete manholes1800mm diameter, 3m - 6m depth",{"$f":"IF('Emissions Factors'!E217=\"\",\"\",'Emissions Factors'!E217)","v":"no."},{"$f":"IF('Emissions Factors'!F217=\"\",\"\",'Emissions Factors'!F217)","v":"Concrete"},{"$f":"IF('Emissions Factors'!G217=\"\",\"\",'Emissions Factors'!G217)","v":0.19434117647058824},{"$f":"IF('Emissions Factors'!H217=\"\",\"\",'Emissions Factors'!H217)","v":"tCO2e/t"},{"$f":"IF('Emissions Factors'!I217=\"\",\"\",'Emissions Factors'!I217)","v":11.9},{"$f":"IF('Emissions Factors'!J217=\"\",'Emissions Factors'!F217,'Emissions Factors'!J217)","v":"Carbon factor uses ICE V3: Concrete > Precast RC40/50 with average UK additions. and ICE V3: Iron > General for covers. Factor presented is weighted average based on relative estimated mass of precast concrete and ductile iron cover and frame. Conversion factor based on indicative unit mass from supplier for concrete shafts and cover slabs, assumed max. depth for category, and indicative unit mass for iron cover and frame from supplier."},null,1,null,null,25,30]
[{"$f":"'Emissions Factors'!#REF!","v":{"$error":"#REF!"}},{"$f":"'Emissions Factors'!B218","v":0},{"$f":"'Emissions Factors'!C218","v":0},{"$f":"'Emissions Factors'!D218","v":"2400mm diameter, up to 3m depth"},null,null,"Drainage","Precast concrete manholes","2400mm diameter, up to 3m depth","Precast concrete manholes2400mm diameter, up to 3m depth",{"$f":"IF('Emissions Factors'!E218=\"\",\"\",'Emissions Factors'!E218)","v":"no."},{"$f":"IF('Emissions Factors'!F218=\"\",\"\",'Emissions Factors'!F218)","v":"Concrete"},{"$f":"IF('Emissions Factors'!G218=\"\",\"\",'Emissions Factors'!G218)","v":0.19612301957129544},{"$f":"IF('Emissions Factors'!H218=\"\",\"\",'Emissions Factors'!H218)","v":"tCO2e/t"},{"$f":"IF('Emissions Factors'!I218=\"\",\"\",'Emissions Factors'!I218)","v":10.73},{"$f":"IF('Emissions Factors'!J218=\"\",'Emissions Factors'!F218,'Emissions Factors'!J218)","v":"Carbon factor uses ICE V3: Concrete > Precast RC40/50 with average UK additions. and ICE V3: Iron > General for covers. Factor presented is weighted average based on relative estimated mass of precast concrete and ductile iron cover and frame. Conversion factor based on indicative unit mass from supplier for concrete shafts and cover slabs, assumed max. depth for category, and indicative unit mass for iron cover and frame from supplier."},null,1,null,null,25,31]
[{"$f":"'Emissions Factors'!#REF!","v":{"$error":"#REF!"}},{"$f":"'Emissions Factors'!B219","v":0},{"$f":"'Emissions Factors'!C219","v":0},{"$f":"'Emissions Factors'!D219","v":"2400mm diameter, 3m - 6m depth"},null,null,"Drainage","Precast concrete manholes","2400mm diameter, 3m - 6m depth","Precast concrete manholes2400mm diameter, 3m - 6m depth",{"$f":"IF('Emissions Factors'!E219=\"\",\"\",'Emissions Factors'!E219)","v":"no."},{"$f":"IF('Emissions Factors'!F219=\"\",\"\",'Emissions Factors'!F219)","v":"Concrete"},{"$f":"IF('Emissions Factors'!G219=\"\",\"\",'Emissions Factors'!G219)","v":0.18826174142480212},{"$f":"IF('Emissions Factors'!H219=\"\",\"\",'Emissions Factors'!H219)","v":"tCO2e/t"},{"$f":"IF('Emissions Factors'!I219=\"\",\"\",'Emissions Factors'!I219)","v":18.95},{"$f":"IF('Emissions Factors'!J219=\"\",'Emissions Factors'!F219,'Emissions Factors'!J219)","v":"Carbon factor uses ICE V3: Concrete > Precast RC40/50 with average UK additions. and ICE V3: Iron > General for covers. Factor presented is weighted average based on relative estimated mass of precast concrete and ductile iron cover and frame. Conversion factor based on indicative unit mass from supplier for concrete shafts and cover slabs, assumed max. depth for category, and indicative unit mass for iron cover and frame from supplier."},null,1,null,null,25,30]
[{"$f":"'Emissions Factors'!#REF!","v":{"$error":"#REF!"}},{"$f":"'Emissions Factors'!B220","v":0},{"$f":"'Emissions Factors'!C220","v":0},{"$f":"'Emissions Factors'!D220","v":"3000mm diameter, up to 3m depth"},null,null,"Drainage","Precast concrete manholes","3000mm diameter, up to 3m depth","Precast concrete manholes3000mm diameter, up to 3m depth",{"$f":"IF('Emissions Factors'!E220=\"\",\"\",'Emissions Factors'!E220)","v":"no."},{"$f":"IF('Emissions Factors'!F220=\"\",\"\",'Emissions Factors'!F220)","v":"Concrete"},{"$f":"IF('Emissions Factors'!G220=\"\",\"\",'Emissions Factors'!G220)","v":0.18933216783216783},{"$f":"IF('Emissions Factors'!H220=\"\",\"\",'Emissions Factors'!H220)","v":"tCO2e/t"},{"$f":"IF('Emissions Factors'!I220=\"\",\"\",'Emissions Factors'!I220)","v":17.16},{"$f":"IF('Emissions Factors'!J220=\"\",'Emissions Factors'!F220,'Emissions Factors'!J220)","v":"Carbon factor uses ICE V3: Concrete > Precast RC40/50 with average UK additions. and ICE V3: Iron > General for covers. Factor presented is weighted average based on relative estimated mass of precast concrete and ductile iron cover and frame. Conversion factor based on indicative unit mass from supplier for concrete shafts and cover slabs, assumed max. depth for category, and indicative unit mass for iron cover and frame from supplier."},null,1,null,null,25,31]
[{"$f":"'Emissions Factors'!#REF!","v":{"$error":"#REF!"}},{"$f":"'Emissions Factors'!B221","v":0},{"$f":"'Emissions Factors'!C221","v":0},{"$f":"'Emissions Factors'!D221","v":"3000mm diameter, 3m - 6m depth"},null,null,"Drainage","Precast concrete manholes","3000mm diameter, 3m - 6m depth","Precast concrete manholes3000mm diameter, 3m - 6m depth",{"$f":"IF('Emissions Factors'!E221=\"\",\"\",'Emissions Factors'!E221)","v":"no."},{"$f":"IF('Emissions Factors'!F221=\"\",\"\",'Emissions Factors'!F221)","v":"Concrete"},{"$f":"IF('Emissions Factors'!G221=\"\",\"\",'Emissions Factors'!G221)","v":0.18457403651115617},{"$f":"IF('Emissions Factors'!H221=\"\",\"\",'Emissions Factors'!H221)","v":"tCO2e/t"},{"$f":"IF('Emissions Factors'!I221=\"\",\"\",'Emissions Factors'!I221)","v":29.58},{"$f":"IF('Emissions Factors'!J221=\"\",'Emissions Factors'!F221,'Emissions Factors'!J221)","v":"Carbon factor uses ICE V3: Concrete > Precast RC40/50 with average UK additions. and ICE V3: Iron > General for covers. Factor presented is weighted average based on relative estimated mass of precast concrete and ductile iron cover and frame. Conversion factor based on indicative unit mass from supplier for concrete shafts and cover slabs, assumed max. depth for category, and indicative unit mass for iron cover and frame from supplier."},null,1,null,null,25,30]
[{"$f":"'Emissions Factors'!#REF!","v":{"$error":"#REF!"}},{"$f":"'Emissions Factors'!B222","v":0},{"$f":"'Emissions Factors'!C222","v":0},{"$f":"'Emissions Factors'!D222","v":"4000 diameter, up to 3m depth"},null,null,"Drainage","Precast concrete manholes","4000 diameter, up to 3m depth","Precast concrete manholes4000 diameter, up to 3m depth",{"$f":"IF('Emissions Factors'!E222=\"\",\"\",'Emissions Factors'!E222)","v":"no."},{"$f":"IF('Emissions Factors'!F222=\"\",\"\",'Emissions Factors'!F222)","v":"Concrete"},{"$f":"IF('Emissions Factors'!G222=\"\",\"\",'Emissions Factors'!G222)","v":0.18465503080082132},{"$f":"IF('Emissions Factors'!H222=\"\",\"\",'Emissions Factors'!H222)","v":"tCO2e/t"},{"$f":"IF('Emissions Factors'!I222=\"\",\"\",'Emissions Factors'!I222)","v":29.22},{"$f":"IF('Emissions Factors'!J222=\"\",'Emissions Factors'!F222,'Emissions Factors'!J222)","v":"Carbon factor uses ICE V3: Concrete > Precast RC40/50 with average UK additions. and ICE V3: Iron > General for covers. Factor presented is weighted average based on relative estimated mass of precast concrete and ductile iron cover and frame. Conversion factor based on indicative unit mass from supplier for concrete shafts and cover slabs, assumed max. depth for category, and indicative unit mass for iron cover and frame from supplier."},null,1,null,null,25,29]
[{"$f":"'Emissions Factors'!#REF!","v":{"$error":"#REF!"}},{"$f":"'Emissions Factors'!B223","v":0},{"$f":"'Emissions Factors'!C223","v":0},{"$f":"'Emissions Factors'!D223","v":"4000 diameter, 3m - 6m depth"},null,null,"Drainage","Precast concrete manholes","4000 diameter, 3m - 6m depth","Precast concrete manholes4000 diameter, 3m - 6m depth",{"$f":"IF('Emissions Factors'!E223=\"\",\"\",'Emissions Factors'!E223)","v":"no."},{"$f":"IF('Emissions Factors'!F223=\"\",\"\",'Emissions Factors'!F223)","v":"Concrete"},{"$f":"IF('Emissions Factors'!G223=\"\",\"\",'Emissions Factors'!G223)","v":0.18202608695652175},{"$f":"IF('Emissions Factors'!H223=\"\",\"\",'Emissions Factors'!H223)","v":"tCO2e/t"},{"$f":"IF('Emissions Factors'!I223=\"\",\"\",'Emissions Factors'!I223)","v":48.3},{"$f":"IF('Emissions Factors'!J223=\"\",'Emissions Factors'!F223,'Emissions Factors'!J223)","v":"Carbon factor uses ICE V3: Concrete > Precast RC40/50 with average UK additions. and ICE V3: Iron > General for covers. Factor presented is weighted average based on relative estimated mass of precast concrete and ductile iron cover and frame. Conversion factor based on indicative unit mass from supplier for concrete shafts and cover slabs, assumed max. depth for category, and indicative unit mass for iron cover and frame from supplier."},null,1,null,null,25,28]
[{"$f":"'Emissions Factors'!#REF!","v":{"$error":"#REF!"}},{"$f":"'Emissions Factors'!B224","v":0},{"$f":"'Emissions Factors'!C224","v":"Precast concrete inspection chambers"},{"$f":"'Emissions Factors'!D224","v":"600mm diameter, up to 1.2m depth"},null,null,"Drainage","Precast concrete inspection chambers","600mm diameter, up to 1.2m depth","Precast concrete inspection chambers600mm diameter, up to 1.2m depth",{"$f":"IF('Emissions Factors'!E224=\"\",\"\",'Emissions Factors'!E224)","v":"no."},{"$f":"IF('Emissions Factors'!F224=\"\",\"\",'Emissions Factors'!F224)","v":"Concrete"},{"$f":"IF('Emissions Factors'!G224=\"\",\"\",'Emissions Factors'!G224)","v":0.27975824175824177},{"$f":"IF('Emissions Factors'!H224=\"\",\"\",'Emissions Factors'!H224)","v":"tCO2e/t"},{"$f":"IF('Emissions Factors'!I224=\"\",\"\",'Emissions Factors'!I224)","v":0.36399999999999999},{"$f":"IF('Emissions Factors'!J224=\"\",'Emissions Factors'!F224,'Emissions Factors'!J224)","v":"Carbon factor taken directly from the ICE V3: Concrete > 40/50mpa + precast factor. Factor presented is weighted average based on relative estimated mass of precast concrete and ductile iron cover and frame. Conversion factor based on indicative unit mass from supplier for concrete house inspection chambers."},null,1,null,null,36,32]
[{"$f":"'Emissions Factors'!#REF!","v":{"$error":"#REF!"}},{"$f":"'Emissions Factors'!B225","v":0},{"$f":"'Emissions Factors'!C225","v":0},{"$f":"'Emissions Factors'!D225","v":"750mm diameter, up to 1.2m depth"},null,null,"Drainage","Precast concrete inspection chambers","750mm diameter, up to 1.2m depth","Precast concrete inspection chambers750mm diameter, up to 1.2m depth",{"$f":"IF('Emissions Factors'!E225=\"\",\"\",'Emissions Factors'!E225)","v":"no."},{"$f":"IF('Emissions Factors'!F225=\"\",\"\",'Emissions Factors'!F225)","v":"Concrete"},{"$f":"IF('Emissions Factors'!G225=\"\",\"\",'Emissions Factors'!G225)","v":0.24461870503597125},{"$f":"IF('Emissions Factors'!H225=\"\",\"\",'Emissions Factors'!H225)","v":"tCO2e/t"},{"$f":"IF('Emissions Factors'!I225=\"\",\"\",'Emissions Factors'!I225)","v":0.55600000000000005},{"$f":"IF('Emissions Factors'!J225=\"\",'Emissions Factors'!F225,'Emissions Factors'!J225)","v":"Carbon factor taken directly from the ICE V3: Concrete > 40/50mpa + precast factor. Factor presented is weighted average based on relative estimated mass of precast concrete and ductile iron cover and frame. Conversion factor based on indicative unit mass from supplier for concrete house inspection chambers."},null,1,null,null,36,32]
[{"$f":"'Emissions Factors'!#REF!","v":{"$error":"#REF!"}},{"$f":"'Emissions Factors'!B226","v":0},{"$f":"'Emissions Factors'!C226","v":0},{"$f":"'Emissions Factors'!D226","v":"1000mm diameter, 1.2m - 3m depth"},null,null,"Drainage","Precast concrete inspection chambers","1000mm diameter, 1.2m - 3m depth","Precast concrete inspection chambers1000mm diameter, 1.2m - 3m depth",{"$f":"IF('Emissions Factors'!E226=\"\",\"\",'Emissions Factors'!E226)","v":"no."},{"$f":"IF('Emissions Factors'!F226=\"\",\"\",'Emissions Factors'!F226)","v":"Concrete"},{"$f":"IF('Emissions Factors'!G226=\"\",\"\",'Emissions Factors'!G226)","v":0.19912949229891613},{"$f":"IF('Emissions Factors'!H226=\"\",\"\",'Emissions Factors'!H226)","v":"tCO2e/t"},{"$f":"IF('Emissions Factors'!I226=\"\",\"\",'Emissions Factors'!I226)","v":1.7530000000000001},{"$f":"IF('Emissions Factors'!J226=\"\",'Emissions Factors'!F226,'Emissions Factors'!J226)","v":"Carbon factor taken directly from the ICE V3: Concrete > 40/50mpa + precast factor. Factor presented is weighted average based on relative estimated mass of precast concrete and ductile iron cover and frame. Conversion factor based on indicative unit mass from supplier for concrete house inspection chambers."},null,1,null,null,36,32]
[{"$f":"'Emissions Factors'!#REF!","v":{"$error":"#REF!"}},{"$f":"'Emissions Factors'!B227","v":0},{"$f":"'Emissions Factors'!C227","v":"Plastic inspection chambers"},{"$f":"'Emissions Factors'!D227","v":"450mm diameter, up to 1.2m depth"},null,null,"Drainage","Plastic inspection chambers","450mm diameter, up to 1.2m depth","Plastic inspection chambers450mm diameter, up to 1.2m depth",{"$f":"IF('Emissions Factors'!E227=\"\",\"\",'Emissions Factors'!E227)","v":"no."},{"$f":"IF('Emissions Factors'!F227=\"\",\"\",'Emissions Factors'!F227)","v":"Steel"},{"$f":"IF('Emissions Factors'!G227=\"\",\"\",'Emissions Factors'!G227)","v":3.0663888888888886},{"$f":"IF('Emissions Factors'!H227=\"\",\"\",'Emissions Factors'!H227)","v":"tCO2e/t"},{"$f":"IF('Emissions Factors'!I227=\"\",\"\",'Emissions Factors'!I227)","v":3.456E-2},{"$f":"IF('Emissions Factors'!J227=\"\",'Emissions Factors'!F227,'Emissions Factors'!J227)","v":"Carbon factor uses ICE V3: Plastic > Polypropylene for plastic module and ICE V3: Iron > General for covers and frames. Factor presented is weighted average based on estimated relative masses of plastic pot and ductile iron cover and frame. Conversion factor based on indicative unit masses for plastic chamber from supplier and ductile iron cover and frame from supplier. Concrete elements for cover and frame support are assumed to be cast in-situ and thus included in bulk materials category; concrete elements here are excluded."},null,1,null,null,27,32]
[{"$f":"'Emissions Factors'!#REF!","v":{"$error":"#REF!"}},{"$f":"'Emissions Factors'!B228","v":0},{"$f":"'Emissions Factors'!C228","v":0},{"$f":"'Emissions Factors'!D228","v":"600mm diameter, up to 1.2m depth"},null,null,"Drainage","Plastic inspection chambers","600mm diameter, up to 1.2m depth","Plastic inspection chambers600mm diameter, up to 1.2m depth",{"$f":"IF('Emissions Factors'!E228=\"\",\"\",'Emissions Factors'!E228)","v":"no."},{"$f":"IF('Emissions Factors'!F228=\"\",\"\",'Emissions Factors'!F228)","v":"Plastic"},{"$f":"IF('Emissions Factors'!G228=\"\",\"\",'Emissions Factors'!G228)","v":4.2296825396825399},{"$f":"IF('Emissions Factors'!H228=\"\",\"\",'Emissions Factors'!H228)","v":"tCO2e/t"},{"$f":"IF('Emissions Factors'!I228=\"\",\"\",'Emissions Factors'!I228)","v":0.189},{"$f":"IF('Emissions Factors'!J228=\"\",'Emissions Factors'!F228,'Emissions Factors'!J228)","v":"Carbon factor uses ICE V3: Plastic > Polypropylene for plastic module and ICE V3: Iron > General for covers and frames. Factor presented is weighted average based on estimated relative masses of plastic pot and ductile iron cover and frame. Conversion factor based on estimated unit masses for plastic chamber based on technical specs from supplier and ductile iron cover and frame from supplier. Concrete elements for cover and frame support are assumed to be cast in-situ and thus included in bulk materials category; concrete elements here are excluded."},null,1,null,null,27,32]
[{"$f":"'Emissions Factors'!#REF!","v":{"$error":"#REF!"}},{"$f":"'Emissions Factors'!B229","v":0},{"$f":"'Emissions Factors'!C229","v":0},{"$f":"'Emissions Factors'!D229","v":"600mm diameter, 1.2m - 3m depth"},null,null,"Drainage","Plastic inspection chambers","600mm diameter, 1.2m - 3m depth","Plastic inspection chambers600mm diameter, 1.2m - 3m depth",{"$f":"IF('Emissions Factors'!E229=\"\",\"\",'Emissions Factors'!E229)","v":"no."},{"$f":"IF('Emissions Factors'!F229=\"\",\"\",'Emissions Factors'!F229)","v":"Plastic"},{"$f":"IF('Emissions Factors'!G229=\"\",\"\",'Emissions Factors'!G229)","v":4.3389407430150442},{"$f":"IF('Emissions Factors'!H229=\"\",\"\",'Emissions Factors'!H229)","v":"tCO2e/t"},{"$f":"IF('Emissions Factors'!I229=\"\",\"\",'Emissions Factors'!I229)","v":0.32569999999999999},{"$f":"IF('Emissions Factors'!J229=\"\",'Emissions Factors'!F229,'Emissions Factors'!J229)","v":"Carbon factor uses ICE V3: Plastic > Polypropylene for plastic module and ICE V3: Iron > General for covers and frames. Factor presented is weighted average based on estimated relative masses of plastic pot and ductile iron cover and frame. Conversion factor based on estimated unit masses for plastic chamber based on technical specs from supplier and ductile iron cover and frame from supplier. Concrete elements for cover and frame support are assumed to be cast in-situ and thus included in bulk materials category; concrete elements here are excluded."},null,1,null,null,27,31]
[{"$f":"'Emissions Factors'!#REF!","v":{"$error":"#REF!"}},{"$f":"'Emissions Factors'!B230","v":0},{"$f":"'Emissions Factors'!C230","v":"Gullies"},{"$f":"'Emissions Factors'!D230","v":"Plastic gully pots - PVC"},null,null,"Drainage","Gullies","Plastic gully pots - PVC","GulliesPlastic gully pots - PVC",{"$f":"IF('Emissions Factors'!E230=\"\",\"\",'Emissions Factors'!E230)","v":"no."},{"$f":"IF('Emissions Factors'!F230=\"\",\"\",'Emissions Factors'!F230)","v":"Plastic"},{"$f":"IF('Emissions Factors'!G230=\"\",\"\",'Emissions Factors'!G230)","v":2.5952830188679243},{"$f":"IF('Emissions Factors'!H230=\"\",\"\",'Emissions Factors'!H230)","v":"tCO2e/t"},{"$f":"IF('Emissions Factors'!I230=\"\",\"\",'Emissions Factors'!I230)","v":2.12E-2},{"$f":"IF('Emissions Factors'!J230=\"\",'Emissions Factors'!F230,'Emissions Factors'!J230)","v":"Carbon factor uses ICE V3: Plastic > PVC Injection Moulding for plastic pot and ICE V3: Iron > General for covers. Factor presented is weighted average based on relative estimated mass of plastic pot and ductile iron cover and frame. Conversion factor based on indicative plastic volume in gully pot DN150 and 300mm depth, PVC density of approximately 1.3t/m3, and indicative unit mass for DN150 grating from supplier."},null,1,null,null,7,24]
[{"$f":"'Emissions Factors'!#REF!","v":{"$error":"#REF!"}},{"$f":"'Emissions Factors'!B231","v":0},{"$f":"'Emissions Factors'!C231","v":0},{"$f":"'Emissions Factors'!D231","v":"Plastic gully pots - PE"},null,null,"Drainage","Gullies","Plastic gully pots - PE","GulliesPlastic gully pots - PE",{"$f":"IF('Emissions Factors'!E231=\"\",\"\",'Emissions Factors'!E231)","v":"no."},{"$f":"IF('Emissions Factors'!F231=\"\",\"\",'Emissions Factors'!F231)","v":"Plastic"},{"$f":"IF('Emissions Factors'!G231=\"\",\"\",'Emissions Factors'!G231)","v":2.2959808612440189},{"$f":"IF('Emissions Factors'!H231=\"\",\"\",'Emissions Factors'!H231)","v":"tCO2e/t"},{"$f":"IF('Emissions Factors'!I231=\"\",\"\",'Emissions Factors'!I231)","v":2.0899999999999998E-2},{"$f":"IF('Emissions Factors'!J231=\"\",'Emissions Factors'!F231,'Emissions Factors'!J231)","v":"Carbon factor uses ICE V3: Plastic > Polyethylene for plastic pot and ICE V3: Iron > General for covers. Factor presented is weighted average based on relative estimated mass of plastic pot and ductile iron cover and frame. Conversion factor based on indicative plastic volume in gully pot DN150 and 300mm depth, HDPE density of approximately 0.97t/m3, and indicative unit mass for DN150 grating from supplier."},null,1,null,null,7,23]
[{"$f":"'Emissions Factors'!#REF!","v":{"$error":"#REF!"}},{"$f":"'Emissions Factors'!B232","v":0},{"$f":"'Emissions Factors'!C232","v":0},{"$f":"'Emissions Factors'!D232","v":"Plastic gully pots - PP"},null,null,"Drainage","Gullies","Plastic gully pots - PP","GulliesPlastic gully pots - PP",{"$f":"IF('Emissions Factors'!E232=\"\",\"\",'Emissions Factors'!E232)","v":"no."},{"$f":"IF('Emissions Factors'!F232=\"\",\"\",'Emissions Factors'!F232)","v":"Plastic"},{"$f":"IF('Emissions Factors'!G232=\"\",\"\",'Emissions Factors'!G232)","v":3.3129665071770336},{"$f":"IF('Emissions Factors'!H232=\"\",\"\",'Emissions Factors'!H232)","v":"tCO2e/t"},{"$f":"IF('Emissions Factors'!I232=\"\",\"\",'Emissions Factors'!I232)","v":2.0899999999999998E-2},{"$f":"IF('Emissions Factors'!J232=\"\",'Emissions Factors'!F232,'Emissions Factors'!J232)","v":"Carbon factor uses ICE V3: Plastic > Polypropylene Injection Moulding for plastic pot and ICE V3: Iron > General for covers. Factor presented is weighted average based on relative estimated mass of plastic pot and ductile iron cover and frame. Conversion factor based on indicative plastic volume in gully pot DN150 and 300mm depth, PP density of approximately 0.946t/m3, and indicative unit mass for DN150 grating from supplier."},null,1,null,null,7,23]
[{"$f":"'Emissions Factors'!#REF!","v":{"$error":"#REF!"}},{"$f":"'Emissions Factors'!B233","v":0},{"$f":"'Emissions Factors'!C233","v":0},{"$f":"'Emissions Factors'!D233","v":"Precast concrete gully pots (heavy duty)"},null,null,"Drainage","Gullies","Precast concrete gully pots (heavy duty)","GulliesPrecast concrete gully pots (heavy duty)",{"$f":"IF('Emissions Factors'!E233=\"\",\"\",'Emissions Factors'!E233)","v":"no."},{"$f":"IF('Emissions Factors'!F233=\"\",\"\",'Emissions Factors'!F233)","v":"Concrete"},{"$f":"IF('Emissions Factors'!G233=\"\",\"\",'Emissions Factors'!G233)","v":0.18847311827956986},{"$f":"IF('Emissions Factors'!H233=\"\",\"\",'Emissions Factors'!H233)","v":"tCO2e/t"},{"$f":"IF('Emissions Factors'!I233=\"\",\"\",'Emissions Factors'!I233)","v":0.46500000000000002},{"$f":"IF('Emissions Factors'!J233=\"\",'Emissions Factors'!F233,'Emissions Factors'!J233)","v":"Carbon factor uses ICE V3: Concrete > 40/50mpa + precast factor for precast concrete and ICE V3: Iron > General for covers. Factor presented is weighted average based on relative estimated mass of precast concrete and ductile iron cover and frame. Conversion factor based on indicative unit mass from supplier for typical concrete gully pot DN450 and 900mm depth and suitable cover slab, and indicative unit mass for iron cover and frame from supplier."},null,1,null,null,7,40]
[{"$f":"'Emissions Factors'!#REF!","v":{"$error":"#REF!"}},{"$f":"'Emissions Factors'!B234","v":0},{"$f":"'Emissions Factors'!C234","v":"Channel & slot drains"},{"$f":"'Emissions Factors'!D234","v":"Plastic (Polypropylene) channel (light duty)"},null,null,"Drainage","Channel & slot drains","Plastic (Polypropylene) channel (light duty)","Channel & slot drainsPlastic (Polypropylene) channel (light duty)",{"$f":"IF('Emissions Factors'!E234=\"\",\"\",'Emissions Factors'!E234)","v":"metres"},{"$f":"IF('Emissions Factors'!F234=\"\",\"\",'Emissions Factors'!F234)","v":"Steel"},{"$f":"IF('Emissions Factors'!G234=\"\",\"\",'Emissions Factors'!G234)","v":3.371818181818182},{"$f":"IF('Emissions Factors'!H234=\"\",\"\",'Emissions Factors'!H234)","v":"tCO2e/t"},{"$f":"IF('Emissions Factors'!I234=\"\",\"\",'Emissions Factors'!I234)","v":2.1999999999999999E-2},{"$f":"IF('Emissions Factors'!J234=\"\",'Emissions Factors'!F234,'Emissions Factors'!J234)","v":"Carbon factor uses ICE V3: Plastic > Polypropylene Injection Moulding for plastic channel and ICE V3: Iron > General for channel gratings. Factor presented is weighted average based on relative estimated mass of plastic and ductile iron. Conversion factor based on indicative unit mass from supplier for light duty polypropylene 150mm channel, and indicative unit mass for C250 rated ductile iron grating from supplier."},null,1,null,null,21,44]
[{"$f":"'Emissions Factors'!#REF!","v":{"$error":"#REF!"}},{"$f":"'Emissions Factors'!B235","v":0},{"$f":"'Emissions Factors'!C235","v":0},{"$f":"'Emissions Factors'!D235","v":"Precast concrete channel (heavy duty)"},null,null,"Drainage","Channel & slot drains","Precast concrete channel (heavy duty)","Channel & slot drainsPrecast concrete channel (heavy duty)",{"$f":"IF('Emissions Factors'!E235=\"\",\"\",'Emissions Factors'!E235)","v":"metres"},{"$f":"IF('Emissions Factors'!F235=\"\",\"\",'Emissions Factors'!F235)","v":"Concrete"},{"$f":"IF('Emissions Factors'!G235=\"\",\"\",'Emissions Factors'!G235)","v":0.30146666666666666},{"$f":"IF('Emissions Factors'!H235=\"\",\"\",'Emissions Factors'!H235)","v":"tCO2e/t"},{"$f":"IF('Emissions Factors'!I235=\"\",\"\",'Emissions Factors'!I235)","v":0.15},{"$f":"IF('Emissions Factors'!J235=\"\",'Emissions Factors'!F235,'Emissions Factors'!J235)","v":"Carbon factor uses ICE V3: Precast RC40/50 with average UK additions and ICE V3: Iron > General for channel gratings. Factor presented is weighted average based on relative estimated mass of precast concrete and ductile iron. Conversion factor estimated based on technical specs from ACO for heavy duty 200mm channel, and indicative unit mass for D400 rated ductile iron grating from supplier."},null,1,null,null,21,37]
[{"$f":"'Emissions Factors'!#REF!","v":{"$error":"#REF!"}},{"$f":"'Emissions Factors'!B236","v":0},{"$f":"'Emissions Factors'!C236","v":"Headwalls"},{"$f":"'Emissions Factors'!D236","v":"Brick (includes mortar)"},null,null,"Drainage","Headwalls","Brick (includes mortar)","HeadwallsBrick (includes mortar)",{"$f":"IF('Emissions Factors'!E236=\"\",\"\",'Emissions Factors'!E236)","v":"no."},{"$f":"IF('Emissions Factors'!F236=\"\",\"\",'Emissions Factors'!F236)","v":"Brick and Blockwork"},{"$f":"IF('Emissions Factors'!G236=\"\",\"\",'Emissions Factors'!G236)","v":0.20526105940346864},{"$f":"IF('Emissions Factors'!H236=\"\",\"\",'Emissions Factors'!H236)","v":"tCO2e/t"},{"$f":"IF('Emissions Factors'!I236=\"\",\"\",'Emissions Factors'!I236)","v":2.5834349999999998E-3},{"$f":"IF('Emissions Factors'!J236=\"\",'Emissions Factors'!F236,'Emissions Factors'!J236)","v":"Carbon factor taken directly from the ICE V3: Brick > General. Assumed weight of brick is 2.13kg and 10mm of mortar."},null,1,null,null,9,23]
[{"$f":"'Emissions Factors'!#REF!","v":{"$error":"#REF!"}},{"$f":"'Emissions Factors'!B237","v":0},{"$f":"'Emissions Factors'!C237","v":0},{"$f":"'Emissions Factors'!D237","v":"In-situ reinforced concrete"},null,null,"Drainage","Headwalls","In-situ reinforced concrete","HeadwallsIn-situ reinforced concrete",{"$f":"IF('Emissions Factors'!E237=\"\",\"\",'Emissions Factors'!E237)","v":""},{"$f":"IF('Emissions Factors'!F237=\"\",\"\",'Emissions Factors'!F237)","v":"Please include this within the bulk materials category."},{"$f":"IF('Emissions Factors'!G237=\"\",\"\",'Emissions Factors'!G237)","v":""},{"$f":"IF('Emissions Factors'!H237=\"\",\"\",'Emissions Factors'!H237)","v":""},{"$f":"IF('Emissions Factors'!I237=\"\",\"\",'Emissions Factors'!I237)","v":""},{"$f":"IF('Emissions Factors'!J237=\"\",'Emissions Factors'!F237,'Emissions Factors'!J237)","v":"Please include this within the bulk materials category."},null,1,null,null,9,27]
[{"$f":"'Emissions Factors'!#REF!","v":{"$error":"#REF!"}},{"$f":"'Emissions Factors'!B238","v":0},{"$f":"'Emissions Factors'!C238","v":"Petrol interceptor"},{"$f":"'Emissions Factors'!D238","v":"Plastic (Polyethylene)"},null,null,"Drainage","Petrol interceptor","Plastic (Polyethylene)","Petrol interceptorPlastic (Polyethylene)",{"$f":"IF('Emissions Factors'!E238=\"\",\"\",'Emissions Factors'!E238)","v":"no."},{"$f":"IF('Emissions Factors'!F238=\"\",\"\",'Emissions Factors'!F238)","v":"Plastic"},{"$f":"IF('Emissions Factors'!G238=\"\",\"\",'Emissions Factors'!G238)","v":2.54},{"$f":"IF('Emissions Factors'!H238=\"\",\"\",'Emissions Factors'!H238)","v":"tCO2e/t"},{"$f":"IF('Emissions Factors'!I238=\"\",\"\",'Emissions Factors'!I238)","v":0.5},{"$f":"IF('Emissions Factors'!J238=\"\",'Emissions Factors'!F238,'Emissions Factors'!J238)","v":"Carbon factor taken directly from the ICE V3: Plastic > polyethylene. Weight of petrol interceptor taken to be 0.5 tonnes based on supplier information for a 52l/s bypass interceptor."},null,1,null,null,18,22]
[{"$f":"'Emissions Factors'!#REF!","v":{"$error":"#REF!"}},{"$f":"'Emissions Factors'!B239","v":0},{"$f":"'Emissions Factors'!C239","v":0},{"$f":"'Emissions Factors'!D239","v":"Glass reinforced plastic GRP (Fiberglass)"},null,null,"Drainage","Petrol interceptor","Glass reinforced plastic GRP (Fiberglass)","Petrol interceptorGlass reinforced plastic GRP (Fiberglass)",{"$f":"IF('Emissions Factors'!E239=\"\",\"\",'Emissions Factors'!E239)","v":"no."},{"$f":"IF('Emissions Factors'!F239=\"\",\"\",'Emissions Factors'!F239)","v":"Plastic"},{"$f":"IF('Emissions Factors'!G239=\"\",\"\",'Emissions Factors'!G239)","v":8.1},{"$f":"IF('Emissions Factors'!H239=\"\",\"\",'Emissions Factors'!H239)","v":"tCO2e/t"},{"$f":"IF('Emissions Factors'!I239=\"\",\"\",'Emissions Factors'!I239)","v":0.5},{"$f":"IF('Emissions Factors'!J239=\"\",'Emissions Factors'!F239,'Emissions Factors'!J239)","v":"Carbon factor taken directly from the ICE V3: Miscellaneous > GRP. Weight of petrol interceptor taken to be 0.5 tonnes based on supplier information for a 52 l/s bypass interceptor."},null,1,null,null,18,41]
[{"$f":"'Emissions Factors'!#REF!","v":{"$error":"#REF!"}},{"$f":"'Emissions Factors'!B240","v":0},{"$f":"'Emissions Factors'!C240","v":"Damp proof course and impermeable membrane"},{"$f":"'Emissions Factors'!D240","v":"Polyethylene membrane"},null,null,"Drainage","Damp proof course and impermeable membrane","Polyethylene membrane","Damp proof course and impermeable membranePolyethylene membrane",{"$f":"IF('Emissions Factors'!E240=\"\",\"\",'Emissions Factors'!E240)","v":"m2"},{"$f":"IF('Emissions Factors'!F240=\"\",\"\",'Emissions Factors'!F240)","v":"Plastic"},{"$f":"IF('Emissions Factors'!G240=\"\",\"\",'Emissions Factors'!G240)","v":2.54},{"$f":"IF('Emissions Factors'!H240=\"\",\"\",'Emissions Factors'!H240)","v":"tCO2e/t"},{"$f":"IF('Emissions Factors'!I240=\"\",\"\",'Emissions Factors'!I240)","v":9.5E-4},{"$f":"IF('Emissions Factors'!J240=\"\",'Emissions Factors'!F240,'Emissions Factors'!J240)","v":"Carbon factor taken from the ICE V3: Plastic > Polyethylene. Conversion factor has assumed membrane thickness is approximately 1mm. General PE value given. Density of PE = 950 kg/m3 used."},null,1,null,null,42,21]
[{"$f":"'Emissions Factors'!#REF!","v":{"$error":"#REF!"}},{"$f":"'Emissions Factors'!B241","v":"Road Pavements"},{"$f":"'Emissions Factors'!C241","v":"Bitumen / surface treatment"},{"$f":"'Emissions Factors'!D241","v":"Straight-run bitumen"},null,null,"Road Pavements","Bitumen / surface treatment","Straight-run bitumen","Bitumen / surface treatmentStraight-run bitumen",{"$f":"IF('Emissions Factors'!E241=\"\",\"\",'Emissions Factors'!E241)","v":"tonnes"},{"$f":"IF('Emissions Factors'!F241=\"\",\"\",'Emissions Factors'!F241)","v":"Asphalt and bitumen"},{"$f":"IF('Emissions Factors'!G241=\"\",\"\",'Emissions Factors'!G241)","v":0.191},{"$f":"IF('Emissions Factors'!H241=\"\",\"\",'Emissions Factors'!H241)","v":"tCO2e/t"},{"$f":"IF('Emissions Factors'!I241=\"\",\"\",'Emissions Factors'!I241)","v":1},{"$f":"IF('Emissions Factors'!J241=\"\",'Emissions Factors'!F241,'Emissions Factors'!J241)","v":"Carbon factor taken directly from the ICE V3: Bitumen > Straight-run bitumen."},null,1,null,null,27,20]
[null,{"$f":"'Emissions Factors'!B242","v":0},{"$f":"'Emissions Factors'!C242","v":0},{"$f":"'Emissions Factors'!D242","v":"Bitumen emulsion"},null,null,{"$f":"IF(B240=0,G239,B240)","v":"Road Pavements"},{"$f":"IF(C240=0,H239,C240)","v":"Bitumen / surface treatment"},{"$f":"IF(D240=0,I239,D240)","v":"Bitumen emulsion"},{"$f":"H240&I240","v":"Bitumen / surface treatmentBitumen emulsion"},{"$f":"IF('Emissions Factors'!E242=\"\",\"\",'Emissions Factors'!E242)","v":"tonnes"},{"$f":"IF('Emissions Factors'!F242=\"\",\"\",'Emissions Factors'!F242)","v":"Asphalt and bitumen"},{"$f":"IF('Emissions Factors'!G242=\"\",\"\",'Emissions Factors'!G242)","v":0.222},{"$f":"IF('Emissions Factors'!H242=\"\",\"\",'Emissions Factors'!H242)","v":"tCO2e/t"},{"$f":"IF('Emissions Factors'!I242=\"\",\"\",'Emissions Factors'!I242)","v":1},{"$f":"IF('Emissions Factors'!J242=\"\",'Emissions Factors'!F242,'Emissions Factors'!J242)","v":"Carbon factor taken directly from the ICE V3: Bitumen > Bitumen emulsion. Include only the weight of set bitumen not water. "},null,1,null,null,{"$f":"LEN(H240)","v":27},{"$f":"LEN(I240)","v":16}]
[null,{"$f":"'Emissions Factors'!B243","v":0},{"$f":"'Emissions Factors'!C243","v":0},{"$f":"'Emissions Factors'!D243","v":"RAP (recycled asphalt pavement)"},null,null,"Road Pavements","Bitumen / surface treatment","RAP (recycled asphalt pavement)","Bitumen / surface treatmentRAP (recycled asphalt pavement)",{"$f":"IF('Emissions Factors'!E243=\"\",\"\",'Emissions Factors'!E243)","v":"tonnes"},{"$f":"IF('Emissions Factors'!F243=\"\",\"\",'Emissions Factors'!F243)","v":"Asphalt and bitumen"},{"$f":"IF('Emissions Factors'!G243=\"\",\"\",'Emissions Factors'!G243)","v":0},{"$f":"IF('Emissions Factors'!H243=\"\",\"\",'Emissions Factors'!H243)","v":"tCO2e/t"},{"$f":"IF('Emissions Factors'!I243=\"\",\"\",'Emissions Factors'!I243)","v":1},{"$f":"IF('Emissions Factors'!J243=\"\",'Emissions Factors'!F243,'Emissions Factors'!J243)","v":"Carbon factor assumed to be zero for site won material. Additives or energy use to be recorded separately. "},null,1,null,null,27,31]
[{"$f":"'Emissions Factors'!#REF!","v":{"$error":"#REF!"}},{"$f":"'Emissions Factors'!B244","v":0},{"$f":"'Emissions Factors'!C244","v":0},{"$f":"'Emissions Factors'!D244","v":"High friction surfacing"},null,null,{"$f":"IF(B242=0,G239,B242)","v":"Road Pavements"},{"$f":"IF(C242=0,H239,C242)","v":"Bitumen / surface treatment"},{"$f":"IF(D242=0,I239,D242)","v":"High friction surfacing"},"Bitumen / surface treatmentHigh friction surfacing",{"$f":"IF('Emissions Factors'!E244=\"\",\"\",'Emissions Factors'!E244)","v":"tonnes"},{"$f":"IF('Emissions Factors'!F244=\"\",\"\",'Emissions Factors'!F244)","v":"Plastic"},{"$f":"IF('Emissions Factors'!G244=\"\",\"\",'Emissions Factors'!G244)","v":5.7},{"$f":"IF('Emissions Factors'!H244=\"\",\"\",'Emissions Factors'!H244)","v":"tCO2/t"},{"$f":"IF('Emissions Factors'!I244=\"\",\"\",'Emissions Factors'!I244)","v":1},{"$f":"IF('Emissions Factors'!J244=\"\",'Emissions Factors'!F244,'Emissions Factors'!J244)","v":"Carbon factor taken directly from ICE V3: Sealants and adhesives > Epoxide resin. Note the carbon factor is for CO2 only and not CO2e."},null,1,null,null,27,23]
[{"$f":"'Emissions Factors'!#REF!","v":{"$error":"#REF!"}},{"$f":"'Emissions Factors'!B245","v":0},{"$f":"'Emissions Factors'!C245","v":"Kerb"},{"$f":"'Emissions Factors'!D245","v":"Pre-cast concrete 125x150mm"},null,null,"Road Pavements","Kerb","Pre-cast concrete 125x150mm","KerbPre-cast concrete 125x150mm",{"$f":"IF('Emissions Factors'!E245=\"\",\"\",'Emissions Factors'!E245)","v":"metres"},{"$f":"IF('Emissions Factors'!F245=\"\",\"\",'Emissions Factors'!F245)","v":"Concrete"},{"$f":"IF('Emissions Factors'!G245=\"\",\"\",'Emissions Factors'!G245)","v":0.13200000000000001},{"$f":"IF('Emissions Factors'!H245=\"\",\"\",'Emissions Factors'!H245)","v":"tCO2e/t"},{"$f":"IF('Emissions Factors'!I245=\"\",\"\",'Emissions Factors'!I245)","v":4.3099999999999999E-2},{"$f":"IF('Emissions Factors'!J245=\"\",'Emissions Factors'!F245,'Emissions Factors'!J245)","v":"Carbon factor taken directly from the ICE V3: Concrete > Precast concrete paving (Blocks, Slabs, Channels and Kerbs). Dimensions of kerbs taken from supplier."},null,1,null,null,4,27]
[{"$f":"'Emissions Factors'!#REF!","v":{"$error":"#REF!"}},{"$f":"'Emissions Factors'!B246","v":0},{"$f":"'Emissions Factors'!C246","v":0},{"$f":"'Emissions Factors'!D246","v":"Pre-cast concrete 125x255mm"},null,null,"Road Pavements","Kerb","Pre-cast concrete 125x255mm","KerbPre-cast concrete 125x255mm",{"$f":"IF('Emissions Factors'!E246=\"\",\"\",'Emissions Factors'!E246)","v":"metres"},{"$f":"IF('Emissions Factors'!F246=\"\",\"\",'Emissions Factors'!F246)","v":"Concrete"},{"$f":"IF('Emissions Factors'!G246=\"\",\"\",'Emissions Factors'!G246)","v":0.13200000000000001},{"$f":"IF('Emissions Factors'!H246=\"\",\"\",'Emissions Factors'!H246)","v":"tCO2e/t"},{"$f":"IF('Emissions Factors'!I246=\"\",\"\",'Emissions Factors'!I246)","v":7.3300000000000004E-2},{"$f":"IF('Emissions Factors'!J246=\"\",'Emissions Factors'!F246,'Emissions Factors'!J246)","v":"Carbon factor taken directly from the ICE V3: Concrete > Precast concrete paving (Blocks, Slabs, Channels and Kerbs). Dimensions of kerbs taken from supplier."},null,1,null,null,4,27]
[{"$f":"'Emissions Factors'!#REF!","v":{"$error":"#REF!"}},{"$f":"'Emissions Factors'!B247","v":0},{"$f":"'Emissions Factors'!C247","v":0},{"$f":"'Emissions Factors'!D247","v":"Pre-cast concrete 125x305mm"},null,null,"Road Pavements","Kerb","Pre-cast concrete 125x305mm","KerbPre-cast concrete 125x305mm",{"$f":"IF('Emissions Factors'!E247=\"\",\"\",'Emissions Factors'!E247)","v":"metres"},{"$f":"IF('Emissions Factors'!F247=\"\",\"\",'Emissions Factors'!F247)","v":"Concrete"},{"$f":"IF('Emissions Factors'!G247=\"\",\"\",'Emissions Factors'!G247)","v":0.13200000000000001},{"$f":"IF('Emissions Factors'!H247=\"\",\"\",'Emissions Factors'!H247)","v":"tCO2e/t"},{"$f":"IF('Emissions Factors'!I247=\"\",\"\",'Emissions Factors'!I247)","v":8.77E-2},{"$f":"IF('Emissions Factors'!J247=\"\",'Emissions Factors'!F247,'Emissions Factors'!J247)","v":"Carbon factor taken directly from the ICE V3: Concrete > Precast concrete paving (Blocks, Slabs, Channels and Kerbs). Dimensions of kerbs taken from supplier."},null,1,null,null,4,27]
[{"$f":"'Emissions Factors'!#REF!","v":{"$error":"#REF!"}},{"$f":"'Emissions Factors'!B248","v":0},{"$f":"'Emissions Factors'!C248","v":"Road markings"},{"$f":"'Emissions Factors'!D248","v":"Thermoplastic road marking"},null,null,"Road Pavements","Road markings","Thermoplastic road marking","Road markingsThermoplastic road marking",{"$f":"IF('Emissions Factors'!E248=\"\",\"\",'Emissions Factors'!E248)","v":"tonnes"},{"$f":"IF('Emissions Factors'!F248=\"\",\"\",'Emissions Factors'!F248)","v":"Plastic"},{"$f":"IF('Emissions Factors'!G248=\"\",\"\",'Emissions Factors'!G248)","v":5.7},{"$f":"IF('Emissions Factors'!H248=\"\",\"\",'Emissions Factors'!H248)","v":"tCO2/t"},{"$f":"IF('Emissions Factors'!I248=\"\",\"\",'Emissions Factors'!I248)","v":1},{"$f":"IF('Emissions Factors'!J248=\"\",'Emissions Factors'!F248,'Emissions Factors'!J248)","v":"Carbon factor taken directly from ICE V3: Sealants and adhesives > Epoxide resin."},null,1,null,null,13,26]
[{"$f":"'Emissions Factors'!#REF!","v":{"$error":"#REF!"}},{"$f":"'Emissions Factors'!B249","v":"Street Furniture & Electrical Equipment"},{"$f":"'Emissions Factors'!C249","v":"Traffic signs"},{"$f":"'Emissions Factors'!D249","v":"Aluminium "},null,null,"Street Furniture & Electrical Equipment","Traffic signs","Aluminium ","Traffic signsAluminium ",{"$f":"IF('Emissions Factors'!E249=\"\",\"\",'Emissions Factors'!E249)","v":"m2"},{"$f":"IF('Emissions Factors'!F249=\"\",\"\",'Emissions Factors'!F249)","v":"Aluminium"},{"$f":"IF('Emissions Factors'!G249=\"\",\"\",'Emissions Factors'!G249)","v":6.67},{"$f":"IF('Emissions Factors'!H249=\"\",\"\",'Emissions Factors'!H249)","v":"tCO2e/t"},{"$f":"IF('Emissions Factors'!I249=\"\",\"\",'Emissions Factors'!I249)","v":0.05},{"$f":"IF('Emissions Factors'!J249=\"\",'Emissions Factors'!F249,'Emissions Factors'!J249)","v":"Carbon factor taken directly from the ICE V3: Aluminium > Aluminium general European mix. Weight of sign taken from supplier to be approximately 50kg per m2."},null,1,null,null,13,10]
[{"$f":"'Emissions Factors'!#REF!","v":{"$error":"#REF!"}},{"$f":"'Emissions Factors'!B250","v":0},{"$f":"'Emissions Factors'!C250","v":0},{"$f":"'Emissions Factors'!D250","v":"Steel"},null,null,"Street Furniture & Electrical Equipment","Traffic signs","Steel","Traffic signsSteel",{"$f":"IF('Emissions Factors'!E250=\"\",\"\",'Emissions Factors'!E250)","v":"m2"},{"$f":"IF('Emissions Factors'!F250=\"\",\"\",'Emissions Factors'!F250)","v":"Steel"},{"$f":"IF('Emissions Factors'!G250=\"\",\"\",'Emissions Factors'!G250)","v":2.76},{"$f":"IF('Emissions Factors'!H250=\"\",\"\",'Emissions Factors'!H250)","v":"tCO2e/t"},{"$f":"IF('Emissions Factors'!I250=\"\",\"\",'Emissions Factors'!I250)","v":0.05},{"$f":"IF('Emissions Factors'!J250=\"\",'Emissions Factors'!F250,'Emissions Factors'!J250)","v":"Carbon factor taken directly from the ICE V3: World average Steel > Hot dipped galvanised steel. Weight of sign taken from supplier to be approximately 50kg per m2."},null,1,null,null,13,5]
[{"$f":"'Emissions Factors'!#REF!","v":{"$error":"#REF!"}},{"$f":"'Emissions Factors'!B251","v":0},{"$f":"'Emissions Factors'!C251","v":"Variable Message Signs (VMS) "},{"$f":"'Emissions Factors'!D251","v":"MS4 Sign"},null,null,"Street Furniture & Electrical Equipment","Variable Message Signs (VMS) ","MS4 Sign","Variable Message Signs (VMS) MS4 Sign",{"$f":"IF('Emissions Factors'!E251=\"\",\"\",'Emissions Factors'!E251)","v":"no."},{"$f":"IF('Emissions Factors'!F251=\"\",\"\",'Emissions Factors'!F251)","v":"Electrical Equipment"},{"$f":"IF('Emissions Factors'!G251=\"\",\"\",'Emissions Factors'!G251)","v":4.3230000000000004},{"$f":"IF('Emissions Factors'!H251=\"\",\"\",'Emissions Factors'!H251)","v":"tCO2e/t"},{"$f":"IF('Emissions Factors'!I251=\"\",\"\",'Emissions Factors'!I251)","v":0.72499999999999998},{"$f":"IF('Emissions Factors'!J251=\"\",'Emissions Factors'!F251,'Emissions Factors'!J251)","v":"Carbon factor taken for ICE V3: Aluminium > Aluminium general. Copper >EU tube and sheet and Plastic > General Plastic. Supplier gives VMS MS4 to be 725kg. Assumed relative proportions are, 40% aluminium, 50% plastic and 10% copper."},null,1,null,null,29,8]
[{"$f":"'Emissions Factors'!#REF!","v":{"$error":"#REF!"}},{"$f":"'Emissions Factors'!B252","v":0},{"$f":"'Emissions Factors'!C252","v":0},{"$f":"'Emissions Factors'!D252","v":"AMI (advanced motorway indicator)"},null,null,"Street Furniture & Electrical Equipment","Variable Message Signs (VMS) ","AMI (advanced motorway indicator)","Variable Message Signs (VMS) AMI (advanced motorway indicator)",{"$f":"IF('Emissions Factors'!E252=\"\",\"\",'Emissions Factors'!E252)","v":"no."},{"$f":"IF('Emissions Factors'!F252=\"\",\"\",'Emissions Factors'!F252)","v":"Electrical Equipment"},{"$f":"IF('Emissions Factors'!G252=\"\",\"\",'Emissions Factors'!G252)","v":4.3230000000000004},{"$f":"IF('Emissions Factors'!H252=\"\",\"\",'Emissions Factors'!H252)","v":"tCO2e/t"},{"$f":"IF('Emissions Factors'!I252=\"\",\"\",'Emissions Factors'!I252)","v":9.9999999999999992E-2},{"$f":"IF('Emissions Factors'!J252=\"\",'Emissions Factors'!F252,'Emissions Factors'!J252)","v":"Carbon factor taken for ICE V3: Aluminium > general aluminium. Copper >EU tube and sheet and Plastic > General Plastic. Supplier gives AMI VMS to be 100kg. Assumed relative proportions are, 40% aluminium, 50% plastic and 10% copper."},null,1,null,null,29,33]
[{"$f":"'Emissions Factors'!#REF!","v":{"$error":"#REF!"}},{"$f":"'Emissions Factors'!B253","v":0},{"$f":"'Emissions Factors'!C253","v":"Road lighting and columns"},{"$f":"'Emissions Factors'!D253","v":"LED light"},null,null,"Street Furniture & Electrical Equipment","Road lighting and columns","LED light","Road lighting and columnsLED light",{"$f":"IF('Emissions Factors'!E253=\"\",\"\",'Emissions Factors'!E253)","v":"no."},{"$f":"IF('Emissions Factors'!F253=\"\",\"\",'Emissions Factors'!F253)","v":"Aluminium"},{"$f":"IF('Emissions Factors'!G253=\"\",\"\",'Emissions Factors'!G253)","v":6.67},{"$f":"IF('Emissions Factors'!H253=\"\",\"\",'Emissions Factors'!H253)","v":"tCO2e/t"},{"$f":"IF('Emissions Factors'!I253=\"\",\"\",'Emissions Factors'!I253)","v":1.2E-2},{"$f":"IF('Emissions Factors'!J253=\"\",'Emissions Factors'!F253,'Emissions Factors'!J253)","v":"Carbon factor taken from the ICE V3: Aluminium > General aluminium  general European mix. Supplier of highway LED lights gives a standard weight of 12kg."},null,1,null,null,25,9]
[{"$f":"'Emissions Factors'!#REF!","v":{"$error":"#REF!"}},{"$f":"'Emissions Factors'!B254","v":0},{"$f":"'Emissions Factors'!C254","v":0},{"$f":"'Emissions Factors'!D254","v":"Steel columns 8m"},null,null,"Street Furniture & Electrical Equipment","Road lighting and columns","Steel columns 8m","Road lighting and columnsSteel columns 8m",{"$f":"IF('Emissions Factors'!E254=\"\",\"\",'Emissions Factors'!E254)","v":"no."},{"$f":"IF('Emissions Factors'!F254=\"\",\"\",'Emissions Factors'!F254)","v":"Steel"},{"$f":"IF('Emissions Factors'!G254=\"\",\"\",'Emissions Factors'!G254)","v":2.76},{"$f":"IF('Emissions Factors'!H254=\"\",\"\",'Emissions Factors'!H254)","v":"tCO2e/t"},{"$f":"IF('Emissions Factors'!I254=\"\",\"\",'Emissions Factors'!I254)","v":0.13200000000000001},{"$f":"IF('Emissions Factors'!J254=\"\",'Emissions Factors'!F254,'Emissions Factors'!J254)","v":"Carbon factor taken from the ICE V3: World average Steel >  Hot dipped galvanised steel. The weight of a 8m steel column plus double lighting bracket is taken from a supplier to be 132kg."},null,1,null,null,25,16]
[{"$f":"'Emissions Factors'!#REF!","v":{"$error":"#REF!"}},{"$f":"'Emissions Factors'!B255","v":0},{"$f":"'Emissions Factors'!C255","v":0},{"$f":"'Emissions Factors'!D255","v":"Steel columns 10m"},null,null,"Street Furniture & Electrical Equipment","Road lighting and columns","Steel columns 10m","Road lighting and columnsSteel columns 10m",{"$f":"IF('Emissions Factors'!E255=\"\",\"\",'Emissions Factors'!E255)","v":"no."},{"$f":"IF('Emissions Factors'!F255=\"\",\"\",'Emissions Factors'!F255)","v":"Steel"},{"$f":"IF('Emissions Factors'!G255=\"\",\"\",'Emissions Factors'!G255)","v":2.76},{"$f":"IF('Emissions Factors'!H255=\"\",\"\",'Emissions Factors'!H255)","v":"tCO2e/t"},{"$f":"IF('Emissions Factors'!I255=\"\",\"\",'Emissions Factors'!I255)","v":0.189},{"$f":"IF('Emissions Factors'!J255=\"\",'Emissions Factors'!F255,'Emissions Factors'!J255)","v":"Carbon factor taken from the ICE V3: World average Steel >  Hot dipped galvanised steel. The weight of a 10m steel column plus double lighting bracket is taken from a supplier to be 189kg."},null,1,null,null,25,17]
[{"$f":"'Emissions Factors'!#REF!","v":{"$error":"#REF!"}},{"$f":"'Emissions Factors'!B256","v":0},{"$f":"'Emissions Factors'!C256","v":0},{"$f":"'Emissions Factors'!D256","v":"Steel columns 12m"},null,null,"Street Furniture & Electrical Equipment","Road lighting and columns","Steel columns 12m","Road lighting and columnsSteel columns 12m",{"$f":"IF('Emissions Factors'!E256=\"\",\"\",'Emissions Factors'!E256)","v":"no."},{"$f":"IF('Emissions Factors'!F256=\"\",\"\",'Emissions Factors'!F256)","v":"Steel"},{"$f":"IF('Emissions Factors'!G256=\"\",\"\",'Emissions Factors'!G256)","v":2.76},{"$f":"IF('Emissions Factors'!H256=\"\",\"\",'Emissions Factors'!H256)","v":"tCO2e/t"},{"$f":"IF('Emissions Factors'!I256=\"\",\"\",'Emissions Factors'!I256)","v":0.28799999999999998},{"$f":"IF('Emissions Factors'!J256=\"\",'Emissions Factors'!F256,'Emissions Factors'!J256)","v":"Carbon factor taken from the ICE V3: World average Steel >  Hot dipped galvanised steel. The weight of a 12m steel column plus double lighting bracket is taken from a supplier to be 288kg."},null,1,null,null,25,17]
[{"$f":"'Emissions Factors'!#REF!","v":{"$error":"#REF!"}},{"$f":"'Emissions Factors'!B257","v":0},{"$f":"'Emissions Factors'!C257","v":0},{"$f":"'Emissions Factors'!D257","v":"Aluminium columns 8m"},null,null,"Street Furniture & Electrical Equipment","Road lighting and columns","Aluminium columns 8m","Road lighting and columnsAluminium columns 8m",{"$f":"IF('Emissions Factors'!E257=\"\",\"\",'Emissions Factors'!E257)","v":"no."},{"$f":"IF('Emissions Factors'!F257=\"\",\"\",'Emissions Factors'!F257)","v":"Aluminium"},{"$f":"IF('Emissions Factors'!G257=\"\",\"\",'Emissions Factors'!G257)","v":6.67},{"$f":"IF('Emissions Factors'!H257=\"\",\"\",'Emissions Factors'!H257)","v":"tCO2e/t"},{"$f":"IF('Emissions Factors'!I257=\"\",\"\",'Emissions Factors'!I257)","v":0.1},{"$f":"IF('Emissions Factors'!J257=\"\",'Emissions Factors'!F257,'Emissions Factors'!J257)","v":"Carbon factor taken from the ICE V3: Aluminium > Aluminium general  European mix. The weight of a 8m aluminium column plus double lighting bracket is taken from a supplier to be 100kg."},null,1,null,null,25,20]
[{"$f":"'Emissions Factors'!#REF!","v":{"$error":"#REF!"}},{"$f":"'Emissions Factors'!B258","v":0},{"$f":"'Emissions Factors'!C258","v":0},{"$f":"'Emissions Factors'!D258","v":"Aluminium columns 10m"},null,null,"Street Furniture & Electrical Equipment","Road lighting and columns","Aluminium columns 10m","Road lighting and columnsAluminium columns 10m",{"$f":"IF('Emissions Factors'!E258=\"\",\"\",'Emissions Factors'!E258)","v":"no."},{"$f":"IF('Emissions Factors'!F258=\"\",\"\",'Emissions Factors'!F258)","v":"Aluminium"},{"$f":"IF('Emissions Factors'!G258=\"\",\"\",'Emissions Factors'!G258)","v":6.67},{"$f":"IF('Emissions Factors'!H258=\"\",\"\",'Emissions Factors'!H258)","v":"tCO2e/t"},{"$f":"IF('Emissions Factors'!I258=\"\",\"\",'Emissions Factors'!I258)","v":0.14199999999999999},{"$f":"IF('Emissions Factors'!J258=\"\",'Emissions Factors'!F258,'Emissions Factors'!J258)","v":"Carbon factor taken from the ICE V3: Aluminium > Aluminium general  European mix. The weight of a 10m aluminium column plus double lighting bracket is taken from a supplier to be 142kg."},null,1,null,null,25,21]
[{"$f":"'Emissions Factors'!#REF!","v":{"$error":"#REF!"}},{"$f":"'Emissions Factors'!B259","v":0},{"$f":"'Emissions Factors'!C259","v":0},{"$f":"'Emissions Factors'!D259","v":"Aluminium columns 12m"},null,null,"Street Furniture & Electrical Equipment","Road lighting and columns","Aluminium columns 12m","Road lighting and columnsAluminium columns 12m",{"$f":"IF('Emissions Factors'!E259=\"\",\"\",'Emissions Factors'!E259)","v":"no."},{"$f":"IF('Emissions Factors'!F259=\"\",\"\",'Emissions Factors'!F259)","v":"Aluminium"},{"$f":"IF('Emissions Factors'!G259=\"\",\"\",'Emissions Factors'!G259)","v":6.67},{"$f":"IF('Emissions Factors'!H259=\"\",\"\",'Emissions Factors'!H259)","v":"tCO2e/t"},{"$f":"IF('Emissions Factors'!I259=\"\",\"\",'Emissions Factors'!I259)","v":0.20499999999999999},{"$f":"IF('Emissions Factors'!J259=\"\",'Emissions Factors'!F259,'Emissions Factors'!J259)","v":"Carbon factor taken from the ICE V3: Aluminium > Aluminium general European mix. The weight of a 12m aluminium column plus double lighting bracket is taken from a supplier to be 205kg."},null,1,null,null,25,21]
[{"$f":"'Emissions Factors'!#REF!","v":{"$error":"#REF!"}},{"$f":"'Emissions Factors'!B260","v":0},{"$f":"'Emissions Factors'!C260","v":"Cable"},{"$f":"'Emissions Factors'!D260","v":"Armoured cable / Power cable"},null,null,"Street Furniture & Electrical Equipment","Cable","Armoured cable / Power cable","CableArmoured cable / Power cable",{"$f":"IF('Emissions Factors'!E260=\"\",\"\",'Emissions Factors'!E260)","v":"metres"},{"$f":"IF('Emissions Factors'!F260=\"\",\"\",'Emissions Factors'!F260)","v":"Electrical Equipment"},{"$f":"IF('Emissions Factors'!G260=\"\",\"\",'Emissions Factors'!G260)","v":1.86},{"$f":"IF('Emissions Factors'!H260=\"\",\"\",'Emissions Factors'!H260)","v":"tCO2e/t"},{"$f":"IF('Emissions Factors'!I260=\"\",\"\",'Emissions Factors'!I260)","v":7.3999999999999999E-4},{"$f":"IF('Emissions Factors'!J260=\"\",'Emissions Factors'!F260,'Emissions Factors'!J260)","v":"Carbon factor taken from ICE V3: Copper > EU tube and sheet, Steel > wire rod and plastic > general plastic. Weight of medium copper armoured power cable taken from supplier to be 0.74kg per meter. Weight of copper , steel and plastic assumed to be equal."},null,1,null,null,5,28]
[{"$f":"'Emissions Factors'!#REF!","v":{"$error":"#REF!"}},{"$f":"'Emissions Factors'!B261","v":0},{"$f":"'Emissions Factors'!C261","v":0},{"$f":"'Emissions Factors'!D261","v":"Miscellaneous cable"},null,null,"Street Furniture & Electrical Equipment","Cable","Miscellaneous cable","CableMiscellaneous cable",{"$f":"IF('Emissions Factors'!E261=\"\",\"\",'Emissions Factors'!E261)","v":"metres"},{"$f":"IF('Emissions Factors'!F261=\"\",\"\",'Emissions Factors'!F261)","v":"Electrical Equipment"},{"$f":"IF('Emissions Factors'!G261=\"\",\"\",'Emissions Factors'!G261)","v":1.86},{"$f":"IF('Emissions Factors'!H261=\"\",\"\",'Emissions Factors'!H261)","v":"tCO2e/t"},{"$f":"IF('Emissions Factors'!I261=\"\",\"\",'Emissions Factors'!I261)","v":4.2499999999999998E-4},{"$f":"IF('Emissions Factors'!J261=\"\",'Emissions Factors'!F261,'Emissions Factors'!J261)","v":"Carbon factor taken from ICE V3: Copper > EU tube and sheet, Steel > wire rod and plastic > general plastic. Weight of medium copper armoured power cable taken from supplier to be 0.425kg per meter. Weight of copper , steel and plastic assumed to be equal."},null,1,null,null,5,19]
[{"$f":"'Emissions Factors'!#REF!","v":{"$error":"#REF!"}},{"$f":"'Emissions Factors'!B262","v":0},{"$f":"'Emissions Factors'!C262","v":"Plastic cable ducting"},{"$f":"'Emissions Factors'!D262","v":"50mm diameter "},null,null,"Street Furniture & Electrical Equipment","Plastic cable ducting","50mm diameter ","Plastic cable ducting50mm diameter ",{"$f":"IF('Emissions Factors'!E262=\"\",\"\",'Emissions Factors'!E262)","v":"metres"},{"$f":"IF('Emissions Factors'!F262=\"\",\"\",'Emissions Factors'!F262)","v":"Plastic"},{"$f":"IF('Emissions Factors'!G262=\"\",\"\",'Emissions Factors'!G262)","v":2.52},{"$f":"IF('Emissions Factors'!H262=\"\",\"\",'Emissions Factors'!H262)","v":"tCO2e/t"},{"$f":"IF('Emissions Factors'!I262=\"\",\"\",'Emissions Factors'!I262)","v":3.9996401471015068E-4},{"$f":"IF('Emissions Factors'!J262=\"\",'Emissions Factors'!F262,'Emissions Factors'!J262)","v":"Carbon factor taken directly from the ICE V3: Plastic > HDPE Pipe. Conversion factor calculated from approximate 50mm pipe wall thickness of 5mm and HDPE density 0.97 t/m3."},null,1,null,null,21,14]
[{"$f":"'Emissions Factors'!#REF!","v":{"$error":"#REF!"}},{"$f":"'Emissions Factors'!B263","v":0},{"$f":"'Emissions Factors'!C263","v":0},{"$f":"'Emissions Factors'!D263","v":"150mm diameter"},null,null,"Street Furniture & Electrical Equipment","Plastic cable ducting","150mm diameter","Plastic cable ducting150mm diameter",{"$f":"IF('Emissions Factors'!E263=\"\",\"\",'Emissions Factors'!E263)","v":"metres"},{"$f":"IF('Emissions Factors'!F263=\"\",\"\",'Emissions Factors'!F263)","v":"Plastic"},{"$f":"IF('Emissions Factors'!G263=\"\",\"\",'Emissions Factors'!G263)","v":2.52},{"$f":"IF('Emissions Factors'!H263=\"\",\"\",'Emissions Factors'!H263)","v":"tCO2e/t"},{"$f":"IF('Emissions Factors'!I263=\"\",\"\",'Emissions Factors'!I263)","v":2.3616922773361266E-3},{"$f":"IF('Emissions Factors'!J263=\"\",'Emissions Factors'!F263,'Emissions Factors'!J263)","v":"Carbon factor taken directly from the ICE V3: Plastic > HDPE Pipe. Conversion factor calculated from approximate 150mm pipe wall thickness of 5mm and HDPE density 0.97 t/m3."},null,1,null,null,21,14]
[{"$f":"'Emissions Factors'!A6","v":0},{"$f":"'Emissions Factors'!B264","v":0},{"$f":"'Emissions Factors'!C264","v":"Cabinets"},{"$f":"'Emissions Factors'!D264","v":"Average roadside cabinet type"},null,null,"Street Furniture & Electrical Equipment","Cabinets","Average roadside cabinet type","CabinetsAverage roadside cabinet type",{"$f":"IF('Emissions Factors'!E264=\"\",\"\",'Emissions Factors'!E264)","v":"no."},{"$f":"IF('Emissions Factors'!F264=\"\",\"\",'Emissions Factors'!F264)","v":"Steel"},{"$f":"IF('Emissions Factors'!G264=\"\",\"\",'Emissions Factors'!G264)","v":2.76},{"$f":"IF('Emissions Factors'!H264=\"\",\"\",'Emissions Factors'!H264)","v":"tCO2e/t"},{"$f":"IF('Emissions Factors'!I264=\"\",\"\",'Emissions Factors'!I264)","v":0.2},{"$f":"IF('Emissions Factors'!J264=\"\",'Emissions Factors'!F264,'Emissions Factors'!J264)","v":"Carbon factor taken from the ICE V3: Steel > Hot dipped galvanised steel. Weight of a 609 type cabinet taken from supplier to be an average cabinet of approximately 200kg."},null,1,null,null,{"$f":"LEN(H262)","v":8},{"$f":"LEN(I262)","v":29}]
[{"$f":"'Emissions Factors'!A7","v":0},{"$f":"'Emissions Factors'!B265","v":0},{"$f":"'Emissions Factors'!C265","v":"Cameras"},{"$f":"'Emissions Factors'!D265","v":"Hard shoulder camera and steel pole"},null,null,"Street Furniture & Electrical Equipment","Cameras","Hard shoulder camera and steel pole","CamerasHard shoulder camera and steel pole",{"$f":"IF('Emissions Factors'!E265=\"\",\"\",'Emissions Factors'!E265)","v":"no."},{"$f":"IF('Emissions Factors'!F265=\"\",\"\",'Emissions Factors'!F265)","v":"Steel"},{"$f":"IF('Emissions Factors'!G265=\"\",\"\",'Emissions Factors'!G265)","v":2.76},{"$f":"IF('Emissions Factors'!H265=\"\",\"\",'Emissions Factors'!H265)","v":"tCO2e/t"},{"$f":"IF('Emissions Factors'!I265=\"\",\"\",'Emissions Factors'!I265)","v":1.0960000000000001},{"$f":"IF('Emissions Factors'!J265=\"\",'Emissions Factors'!F265,'Emissions Factors'!J265)","v":"Carbon factor taken from the ICE V3: Steel > Hot dipped galvanised steel. The weight of a 12m steel column plus camera bracket is taken from a supplier to be 1.096t."},null,1,null,null,7,35]
[{"$f":"'Emissions Factors'!A8","v":0},{"$f":"'Emissions Factors'!B266","v":0},{"$f":"'Emissions Factors'!C266","v":0},{"$f":"'Emissions Factors'!D266","v":"Camera unit"},null,null,{"$f":"IF(B264=0,G263,B264)","v":"Street Furniture & Electrical Equipment"},{"$f":"IF(C264=0,H263,C264)","v":"Cameras"},{"$f":"IF(D264=0,I263,D264)","v":"Camera unit"},{"$f":"H264&I264","v":"CamerasCamera unit"},{"$f":"IF('Emissions Factors'!E266=\"\",\"\",'Emissions Factors'!E266)","v":"no."},{"$f":"IF('Emissions Factors'!F266=\"\",\"\",'Emissions Factors'!F266)","v":"Electrical Equipment"},{"$f":"IF('Emissions Factors'!G266=\"\",\"\",'Emissions Factors'!G266)","v":3.206},{"$f":"IF('Emissions Factors'!H266=\"\",\"\",'Emissions Factors'!H266)","v":"tCO2e/unit"},{"$f":"IF('Emissions Factors'!I266=\"\",\"\",'Emissions Factors'!I266)","v":2.5000000000000001E-2},{"$f":"IF('Emissions Factors'!J266=\"\",'Emissions Factors'!F266,'Emissions Factors'!J266)","v":"Carbon factor taken directly from the ICE V3: Plastic > General plastic, Steel; > wire rod. Weight of camera taken from supplier to be 25kg. Assumed main constituent materials to be 90% plastic and 10% steel."},null,1,null,null,7,11]
[{"$f":"'Emissions Factors'!A9","v":0},{"$f":"'Emissions Factors'!B267","v":0},{"$f":"'Emissions Factors'!C267","v":"Marker posts/signs"},{"$f":"'Emissions Factors'!D267","v":"Aluminium marker sign"},null,null,"Street Furniture & Electrical Equipment","Marker posts/signs","Aluminium marker sign","Marker posts/signsAluminium marker sign",{"$f":"IF('Emissions Factors'!E267=\"\",\"\",'Emissions Factors'!E267)","v":"no."},{"$f":"IF('Emissions Factors'!F267=\"\",\"\",'Emissions Factors'!F267)","v":"Aluminium"},{"$f":"IF('Emissions Factors'!G267=\"\",\"\",'Emissions Factors'!G267)","v":6.67},{"$f":"IF('Emissions Factors'!H267=\"\",\"\",'Emissions Factors'!H267)","v":"tCO2e/t"},{"$f":"IF('Emissions Factors'!I267=\"\",\"\",'Emissions Factors'!I267)","v":0.01},{"$f":"IF('Emissions Factors'!J267=\"\",'Emissions Factors'!F267,'Emissions Factors'!J267)","v":"Carbon factor taken directly from the ICE V3: Aluminium > Aluminium general European mix. Weight of sign taken from supplier to be 10kg."},null,1,null,null,18,21]
[{"$f":"'Emissions Factors'!A10","v":0},{"$f":"'Emissions Factors'!B268","v":0},{"$f":"'Emissions Factors'!C268","v":0},{"$f":"'Emissions Factors'!D268","v":"Plastic marker post"},null,null,"Street Furniture & Electrical Equipment","Marker posts/signs","Plastic marker post","Marker posts/signsPlastic marker post",{"$f":"IF('Emissions Factors'!E268=\"\",\"\",'Emissions Factors'!E268)","v":"no."},{"$f":"IF('Emissions Factors'!F268=\"\",\"\",'Emissions Factors'!F268)","v":"Plastic"},{"$f":"IF('Emissions Factors'!G268=\"\",\"\",'Emissions Factors'!G268)","v":3.31},{"$f":"IF('Emissions Factors'!H268=\"\",\"\",'Emissions Factors'!H268)","v":"tCO2e/unit"},{"$f":"IF('Emissions Factors'!I268=\"\",\"\",'Emissions Factors'!I268)","v":1.63E-4},{"$f":"IF('Emissions Factors'!J268=\"\",'Emissions Factors'!F268,'Emissions Factors'!J268)","v":"Carbon factor taken directly from the ICE V3: Plastic > General plastic. Weight of  plastic per distance marker taken from Specification for Highways Works - Volume 3 E series drawings to be 163 grams."},null,1,null,null,18,19]
[{"$f":"'Emissions Factors'!A11","v":0},{"$f":"'Emissions Factors'!B269","v":0},{"$f":"'Emissions Factors'!C269","v":"Road Studs"},{"$f":"'Emissions Factors'!D269","v":"Any type"},null,null,"Street Furniture & Electrical Equipment","Road Studs","Any type","Road StudsAny type",{"$f":"IF('Emissions Factors'!E269=\"\",\"\",'Emissions Factors'!E269)","v":"no."},{"$f":"IF('Emissions Factors'!F269=\"\",\"\",'Emissions Factors'!F269)","v":"Plastic"},{"$f":"IF('Emissions Factors'!G269=\"\",\"\",'Emissions Factors'!G269)","v":3.31},{"$f":"IF('Emissions Factors'!H269=\"\",\"\",'Emissions Factors'!H269)","v":"tCO2e/unit"},{"$f":"IF('Emissions Factors'!I269=\"\",\"\",'Emissions Factors'!I269)","v":5.0000000000000002E-5},{"$f":"IF('Emissions Factors'!J269=\"\",'Emissions Factors'!F269,'Emissions Factors'!J269)","v":"carbon factor taken directly from the ICE V3: Plastic > General plastic. Weight of road stud taken as an average of multiple road stud designs from suppliers."},null,1,null,null,10,8]
[{"$f":"'Emissions Factors'!A12","v":0},{"$f":"'Emissions Factors'!B270","v":0},{"$f":"'Emissions Factors'!C270","v":"Handrail"},{"$f":"'Emissions Factors'!D270","v":"Galvanised steel"},null,null,"Street Furniture & Electrical Equipment","Handrail","Galvanised steel","HandrailGalvanised steel",{"$f":"IF('Emissions Factors'!E270=\"\",\"\",'Emissions Factors'!E270)","v":"tonnes"},{"$f":"IF('Emissions Factors'!F270=\"\",\"\",'Emissions Factors'!F270)","v":"Steel"},{"$f":"IF('Emissions Factors'!G270=\"\",\"\",'Emissions Factors'!G270)","v":2.76},{"$f":"IF('Emissions Factors'!H270=\"\",\"\",'Emissions Factors'!H270)","v":"tCO2e/t"},{"$f":"IF('Emissions Factors'!I270=\"\",\"\",'Emissions Factors'!I270)","v":1},{"$f":"IF('Emissions Factors'!J270=\"\",'Emissions Factors'!F270,'Emissions Factors'!J270)","v":"Carbon factor taken directly from the ICE V3: Steel > Hot dipped galvanised steel."},null,1,null,null,8,16]
[{"$f":"'Emissions Factors'!A13","v":0},{"$f":"'Emissions Factors'!B271","v":"Civils Structures & Retaining Walls"},{"$f":"'Emissions Factors'!C271","v":"Formwork / Shuttering"},{"$f":"'Emissions Factors'!D271","v":"Plywood"},null,null,"Civils Structures & Retaining Walls","Formwork / Shuttering","Plywood","Formwork / ShutteringPlywood",{"$f":"IF('Emissions Factors'!E271=\"\",\"\",'Emissions Factors'!E271)","v":"m3"},{"$f":"IF('Emissions Factors'!F271=\"\",\"\",'Emissions Factors'!F271)","v":"Timber"},{"$f":"IF('Emissions Factors'!G271=\"\",\"\",'Emissions Factors'!G271)","v":0.68100000000000005},{"$f":"IF('Emissions Factors'!H271=\"\",\"\",'Emissions Factors'!H271)","v":"tCO2e/t"},{"$f":"IF('Emissions Factors'!I271=\"\",\"\",'Emissions Factors'!I271)","v":0.54},{"$f":"IF('Emissions Factors'!J271=\"\",'Emissions Factors'!F271,'Emissions Factors'!J271)","v":"Carbon factor taken directly from the ICE V3: Timber > Plywood."},null,1,null,null,21,7]
[{"$f":"'Emissions Factors'!A14","v":0},{"$f":"'Emissions Factors'!B272","v":0},{"$f":"'Emissions Factors'!C272","v":0},{"$f":"'Emissions Factors'!D272","v":"Softwood"},null,null,"Civils Structures & Retaining Walls","Formwork / Shuttering","Softwood","Formwork / ShutteringSoftwood",{"$f":"IF('Emissions Factors'!E272=\"\",\"\",'Emissions Factors'!E272)","v":"m3"},{"$f":"IF('Emissions Factors'!F272=\"\",\"\",'Emissions Factors'!F272)","v":"Timber"},{"$f":"IF('Emissions Factors'!G272=\"\",\"\",'Emissions Factors'!G272)","v":0.26300000000000001},{"$f":"IF('Emissions Factors'!H272=\"\",\"\",'Emissions Factors'!H272)","v":"tCO2e/t"},{"$f":"IF('Emissions Factors'!I272=\"\",\"\",'Emissions Factors'!I272)","v":0.5},{"$f":"IF('Emissions Factors'!J272=\"\",'Emissions Factors'!F272,'Emissions Factors'!J272)","v":"Carbon factor taken directly from the ICE V3: Timber > Softwood no carbon storage. Alternative ICE carbon factors are presented for sustainable timber which may be used where a chain of custody of timber provides sufficient justification."},null,1,null,null,21,8]
[{"$f":"'Emissions Factors'!A15","v":0},{"$f":"'Emissions Factors'!B273","v":0},{"$f":"'Emissions Factors'!C273","v":0},{"$f":"'Emissions Factors'!D273","v":"Particle board"},null,null,"Civils Structures & Retaining Walls","Formwork / Shuttering","Particle board","Formwork / ShutteringParticle board",{"$f":"IF('Emissions Factors'!E273=\"\",\"\",'Emissions Factors'!E273)","v":"m3"},{"$f":"IF('Emissions Factors'!F273=\"\",\"\",'Emissions Factors'!F273)","v":"Timber"},{"$f":"IF('Emissions Factors'!G273=\"\",\"\",'Emissions Factors'!G273)","v":0.66400000000000003},{"$f":"IF('Emissions Factors'!H273=\"\",\"\",'Emissions Factors'!H273)","v":"tCO2e/t"},{"$f":"IF('Emissions Factors'!I273=\"\",\"\",'Emissions Factors'!I273)","v":0.75},{"$f":"IF('Emissions Factors'!J273=\"\",'Emissions Factors'!F273,'Emissions Factors'!J273)","v":"Carbon factor taken directly from the ICE V3: Timber > Particle board ."},null,1,null,null,21,14]
[{"$f":"'Emissions Factors'!A16","v":0},{"$f":"'Emissions Factors'!B274","v":0},{"$f":"'Emissions Factors'!C274","v":0},{"$f":"'Emissions Factors'!D274","v":"Plastic formwork (disposable)"},null,null,"Civils Structures & Retaining Walls","Formwork / Shuttering","Plastic formwork (disposable)","Formwork / ShutteringPlastic formwork (disposable)",{"$f":"IF('Emissions Factors'!E274=\"\",\"\",'Emissions Factors'!E274)","v":"tonnes"},{"$f":"IF('Emissions Factors'!F274=\"\",\"\",'Emissions Factors'!F274)","v":"Plastic"},{"$f":"IF('Emissions Factors'!G274=\"\",\"\",'Emissions Factors'!G274)","v":2.52},{"$f":"IF('Emissions Factors'!H274=\"\",\"\",'Emissions Factors'!H274)","v":"tCO2e/t"},{"$f":"IF('Emissions Factors'!I274=\"\",\"\",'Emissions Factors'!I274)","v":1},{"$f":"IF('Emissions Factors'!J274=\"\",'Emissions Factors'!F274,'Emissions Factors'!J274)","v":"Carbon factor taken directly from the ICE V3: Plastic > HDPE Pipe."},null,1,null,null,21,29]
[{"$f":"'Emissions Factors'!A17","v":0},{"$f":"'Emissions Factors'!B275","v":0},{"$f":"'Emissions Factors'!C275","v":"Piling"},{"$f":"'Emissions Factors'!D275","v":"Steel piles"},null,null,"Civils Structures & Retaining Walls","Piling","Steel piles","PilingSteel piles",{"$f":"IF('Emissions Factors'!E275=\"\",\"\",'Emissions Factors'!E275)","v":"tonnes"},{"$f":"IF('Emissions Factors'!F275=\"\",\"\",'Emissions Factors'!F275)","v":"Steel"},{"$f":"IF('Emissions Factors'!G275=\"\",\"\",'Emissions Factors'!G275)","v":2.76},{"$f":"IF('Emissions Factors'!H275=\"\",\"\",'Emissions Factors'!H275)","v":"tCO2e/t"},{"$f":"IF('Emissions Factors'!I275=\"\",\"\",'Emissions Factors'!I275)","v":1},{"$f":"IF('Emissions Factors'!J275=\"\",'Emissions Factors'!F275,'Emissions Factors'!J275)","v":"Carbon factor taken directly from the ICE V3: Steel > Hot dipped galvanised steel."},null,1,null,null,6,11]
[{"$f":"'Emissions Factors'!A18","v":0},{"$f":"'Emissions Factors'!B276","v":0},{"$f":"'Emissions Factors'!C276","v":0},{"$f":"'Emissions Factors'!D276","v":"Pre-cast concrete piles "},null,null,"Civils Structures & Retaining Walls","Piling","Pre-cast concrete piles ","PilingPre-cast concrete piles ",{"$f":"IF('Emissions Factors'!E276=\"\",\"\",'Emissions Factors'!E276)","v":"tonnes"},{"$f":"IF('Emissions Factors'!F276=\"\",\"\",'Emissions Factors'!F276)","v":"Concrete"},{"$f":"IF('Emissions Factors'!G276=\"\",\"\",'Emissions Factors'!G276)","v":0.249},{"$f":"IF('Emissions Factors'!H276=\"\",\"\",'Emissions Factors'!H276)","v":"tCO2e/t"},{"$f":"IF('Emissions Factors'!I276=\"\",\"\",'Emissions Factors'!I276)","v":1},{"$f":"IF('Emissions Factors'!J276=\"\",'Emissions Factors'!F276,'Emissions Factors'!J276)","v":"Carbon factor taken directly from the ICE V3: Concrete > Precast concrete beams and columns - steel reinforced with 100kg world average steel per m3."},null,1,null,null,6,24]
[{"$f":"'Emissions Factors'!A19","v":0},{"$f":"'Emissions Factors'!B277","v":0},{"$f":"'Emissions Factors'!C277","v":0},{"$f":"'Emissions Factors'!D277","v":"In-situ concrete piles"},null,null,"Civils Structures & Retaining Walls","Piling","In-situ concrete piles","PilingIn-situ concrete piles",{"$f":"IF('Emissions Factors'!E277=\"\",\"\",'Emissions Factors'!E277)","v":"tonnes"},{"$f":"IF('Emissions Factors'!F277=\"\",\"\",'Emissions Factors'!F277)","v":"Please include this within the bulk materials category under concrete."},{"$f":"IF('Emissions Factors'!G277=\"\",\"\",'Emissions Factors'!G277)","v":""},{"$f":"IF('Emissions Factors'!H277=\"\",\"\",'Emissions Factors'!H277)","v":""},{"$f":"IF('Emissions Factors'!I277=\"\",\"\",'Emissions Factors'!I277)","v":""},{"$f":"IF('Emissions Factors'!J277=\"\",'Emissions Factors'!F277,'Emissions Factors'!J277)","v":"Please include this within the bulk materials category under concrete."},null,1,null,null,6,22]
[{"$f":"'Emissions Factors'!A20","v":0},{"$f":"'Emissions Factors'!B278","v":0},{"$f":"'Emissions Factors'!C278","v":"Retaining walls"},{"$f":"'Emissions Factors'!D278","v":"Steel sheet piles"},null,null,"Civils Structures & Retaining Walls","Retaining walls","Steel sheet piles","Retaining wallsSteel sheet piles",{"$f":"IF('Emissions Factors'!E278=\"\",\"\",'Emissions Factors'!E278)","v":"tonnes"},{"$f":"IF('Emissions Factors'!F278=\"\",\"\",'Emissions Factors'!F278)","v":"Steel"},{"$f":"IF('Emissions Factors'!G278=\"\",\"\",'Emissions Factors'!G278)","v":2.76},{"$f":"IF('Emissions Factors'!H278=\"\",\"\",'Emissions Factors'!H278)","v":"tCO2e/t"},{"$f":"IF('Emissions Factors'!I278=\"\",\"\",'Emissions Factors'!I278)","v":1},{"$f":"IF('Emissions Factors'!J278=\"\",'Emissions Factors'!F278,'Emissions Factors'!J278)","v":"Carbon factor taken directly from the ICE V3: Steel > Hot dipped galvanised steel."},null,1,null,null,15,17]
[{"$f":"'Emissions Factors'!A21","v":0},{"$f":"'Emissions Factors'!B279","v":0},{"$f":"'Emissions Factors'!C279","v":0},{"$f":"'Emissions Factors'!D279","v":"Plastic sheet piles"},null,null,"Civils Structures & Retaining Walls","Retaining walls","Plastic sheet piles","Retaining wallsPlastic sheet piles",{"$f":"IF('Emissions Factors'!E279=\"\",\"\",'Emissions Factors'!E279)","v":"tonnes"},{"$f":"IF('Emissions Factors'!F279=\"\",\"\",'Emissions Factors'!F279)","v":"Plastic"},{"$f":"IF('Emissions Factors'!G279=\"\",\"\",'Emissions Factors'!G279)","v":3.1},{"$f":"IF('Emissions Factors'!H279=\"\",\"\",'Emissions Factors'!H279)","v":"tCO2e/t"},{"$f":"IF('Emissions Factors'!I279=\"\",\"\",'Emissions Factors'!I279)","v":1},{"$f":"IF('Emissions Factors'!J279=\"\",'Emissions Factors'!F279,'Emissions Factors'!J279)","v":"Carbon factor taken directly from the ICE V3: Plastic > PVC."},null,1,null,null,15,19]
[{"$f":"'Emissions Factors'!A22","v":0},{"$f":"'Emissions Factors'!B280","v":0},{"$f":"'Emissions Factors'!C280","v":0},{"$f":"'Emissions Factors'!D280","v":"Gabion wall (stone and wire mesh)"},null,null,"Civils Structures & Retaining Walls","Retaining walls","Gabion wall (stone and wire mesh)","Retaining wallsGabion wall (stone and wire mesh)",{"$f":"IF('Emissions Factors'!E280=\"\",\"\",'Emissions Factors'!E280)","v":"tonnes"},{"$f":"IF('Emissions Factors'!F280=\"\",\"\",'Emissions Factors'!F280)","v":"Inert"},{"$f":"IF('Emissions Factors'!G280=\"\",\"\",'Emissions Factors'!G280)","v":8.5553339980059831E-2},{"$f":"IF('Emissions Factors'!H280=\"\",\"\",'Emissions Factors'!H280)","v":"tCO2e/t"},{"$f":"IF('Emissions Factors'!I280=\"\",\"\",'Emissions Factors'!I280)","v":1.0029999999999999},{"$f":"IF('Emissions Factors'!J280=\"\",'Emissions Factors'!F280,'Emissions Factors'!J280)","v":"Carbon factor taken from the ICE V3: Stone > General. It has been assumed there is 3kg of steel per tonne of stone."},null,1,{"$f":"IF('Emissions Factors'!M22=\"\",\"\",'Emissions Factors'!M22)","v":""},null,15,33]
[null,{"$f":"'Emissions Factors'!B281","v":0},{"$f":"'Emissions Factors'!C281","v":"Gantries"},{"$f":"'Emissions Factors'!D281","v":"‘Bendy Pole’ MS4"},null,null,"Civils Structures & Retaining Walls","Gantries","‘Bendy Pole’ MS4","Gantries‘Bendy Pole’ MS4",{"$f":"IF('Emissions Factors'!E281=\"\",\"\",'Emissions Factors'!E281)","v":"no."},{"$f":"IF('Emissions Factors'!F281=\"\",\"\",'Emissions Factors'!F281)","v":"Steel"},{"$f":"IF('Emissions Factors'!G281=\"\",\"\",'Emissions Factors'!G281)","v":2.76},{"$f":"IF('Emissions Factors'!H281=\"\",\"\",'Emissions Factors'!H281)","v":"tCO2e/t"},{"$f":"IF('Emissions Factors'!I281=\"\",\"\",'Emissions Factors'!I281)","v":5},{"$f":"IF('Emissions Factors'!J281=\"\",'Emissions Factors'!F281,'Emissions Factors'!J281)","v":"Carbon factor taken from the ICE V3: Steel > Hot dipped galvanised steel. Average weight taken from gantry fabricator to be 5 tonnes."},null,1,{"$f":"IF('Emissions Factors'!M23=\"\",\"\",'Emissions Factors'!M23)","v":""},null,8,16]
[null,{"$f":"'Emissions Factors'!B282","v":0},{"$f":"'Emissions Factors'!C282","v":0},{"$f":"'Emissions Factors'!D282","v":"9m ‘Flagpole’ MS4"},null,null,"Civils Structures & Retaining Walls","Gantries","9m ‘Flagpole’ MS4","Gantries9m ‘Flagpole’ MS4",{"$f":"IF('Emissions Factors'!E282=\"\",\"\",'Emissions Factors'!E282)","v":"no."},{"$f":"IF('Emissions Factors'!F282=\"\",\"\",'Emissions Factors'!F282)","v":"Steel"},{"$f":"IF('Emissions Factors'!G282=\"\",\"\",'Emissions Factors'!G282)","v":2.76},{"$f":"IF('Emissions Factors'!H282=\"\",\"\",'Emissions Factors'!H282)","v":"tCO2e/t"},{"$f":"IF('Emissions Factors'!I282=\"\",\"\",'Emissions Factors'!I282)","v":8},{"$f":"IF('Emissions Factors'!J282=\"\",'Emissions Factors'!F282,'Emissions Factors'!J282)","v":"Carbon factor taken from the ICE V3: Steel > Hot dipped galvanised steel. Average weight taken from gantry fabricator to be 8 tonnes."},null,1,{"$f":"IF('Emissions Factors'!M24=\"\",\"\",'Emissions Factors'!M24)","v":""},null,8,17]
[null,{"$f":"'Emissions Factors'!B283","v":0},{"$f":"'Emissions Factors'!C283","v":0},{"$f":"'Emissions Factors'!D283","v":"14m ADS Tubular Cantilever"},null,null,"Civils Structures & Retaining Walls","Gantries","14m ADS Tubular Cantilever","Gantries14m ADS Tubular Cantilever",{"$f":"IF('Emissions Factors'!E283=\"\",\"\",'Emissions Factors'!E283)","v":"no."},{"$f":"IF('Emissions Factors'!F283=\"\",\"\",'Emissions Factors'!F283)","v":"Steel"},{"$f":"IF('Emissions Factors'!G283=\"\",\"\",'Emissions Factors'!G283)","v":2.76},{"$f":"IF('Emissions Factors'!H283=\"\",\"\",'Emissions Factors'!H283)","v":"tCO2e/t"},{"$f":"IF('Emissions Factors'!I283=\"\",\"\",'Emissions Factors'!I283)","v":11.5},{"$f":"IF('Emissions Factors'!J283=\"\",'Emissions Factors'!F283,'Emissions Factors'!J283)","v":"Carbon factor taken from the ICE V3: Steel > Hot dipped galvanised steel. Average weight taken from gantry fabricator to be 11.5 tonnes."},null,1,null,null,8,26]
[null,{"$f":"'Emissions Factors'!B284","v":0},{"$f":"'Emissions Factors'!C284","v":0},{"$f":"'Emissions Factors'!D284","v":"19m Sign/Signal Cantilever"},null,null,"Civils Structures & Retaining Walls","Gantries","19m Sign/Signal Cantilever","Gantries19m Sign/Signal Cantilever",{"$f":"IF('Emissions Factors'!E284=\"\",\"\",'Emissions Factors'!E284)","v":"no."},{"$f":"IF('Emissions Factors'!F284=\"\",\"\",'Emissions Factors'!F284)","v":"Steel"},{"$f":"IF('Emissions Factors'!G284=\"\",\"\",'Emissions Factors'!G284)","v":2.76},{"$f":"IF('Emissions Factors'!H284=\"\",\"\",'Emissions Factors'!H284)","v":"tCO2e/t"},{"$f":"IF('Emissions Factors'!I284=\"\",\"\",'Emissions Factors'!I284)","v":21.5},{"$f":"IF('Emissions Factors'!J284=\"\",'Emissions Factors'!F284,'Emissions Factors'!J284)","v":"Carbon factor taken from the ICE V3: Steel > Hot dipped galvanised steel. Average weight taken from gantry fabricator to be 21.5 tonnes."},null,1,null,null,8,26]
[null,{"$f":"'Emissions Factors'!B285","v":0},{"$f":"'Emissions Factors'!C285","v":0},{"$f":"'Emissions Factors'!D285","v":"Up to 33m Portal"},null,null,"Civils Structures & Retaining Walls","Gantries","Up to 33m Portal","GantriesUp to 33m Portal",{"$f":"IF('Emissions Factors'!E285=\"\",\"\",'Emissions Factors'!E285)","v":"no."},{"$f":"IF('Emissions Factors'!F285=\"\",\"\",'Emissions Factors'!F285)","v":"Steel"},{"$f":"IF('Emissions Factors'!G285=\"\",\"\",'Emissions Factors'!G285)","v":2.76},{"$f":"IF('Emissions Factors'!H285=\"\",\"\",'Emissions Factors'!H285)","v":"tCO2e/t"},{"$f":"IF('Emissions Factors'!I285=\"\",\"\",'Emissions Factors'!I285)","v":22},{"$f":"IF('Emissions Factors'!J285=\"\",'Emissions Factors'!F285,'Emissions Factors'!J285)","v":"Carbon factor taken from the ICE V3: Steel > Hot dipped galvanised steel. Average weight taken from gantry fabricator to be 22 tonnes."},null,1,null,null,8,16]
[null,{"$f":"'Emissions Factors'!B286","v":0},{"$f":"'Emissions Factors'!C286","v":0},{"$f":"'Emissions Factors'!D286","v":"33m to 45m Portal"},null,null,"Civils Structures & Retaining Walls","Gantries","33m to 45m Portal","Gantries33m to 45m Portal",{"$f":"IF('Emissions Factors'!E286=\"\",\"\",'Emissions Factors'!E286)","v":"no."},{"$f":"IF('Emissions Factors'!F286=\"\",\"\",'Emissions Factors'!F286)","v":"Steel"},{"$f":"IF('Emissions Factors'!G286=\"\",\"\",'Emissions Factors'!G286)","v":2.76},{"$f":"IF('Emissions Factors'!H286=\"\",\"\",'Emissions Factors'!H286)","v":"tCO2e/t"},{"$f":"IF('Emissions Factors'!I286=\"\",\"\",'Emissions Factors'!I286)","v":25},{"$f":"IF('Emissions Factors'!J286=\"\",'Emissions Factors'!F286,'Emissions Factors'!J286)","v":"Carbon factor taken from the ICE V3: Steel > Hot dipped galvanised steel. Average weight taken from gantry fabricator to be 25 tonnes."},null,1,null,null,{"$f":"LEN(H284)","v":8},{"$f":"LEN(I284)","v":17}]
[null,{"$f":"'Emissions Factors'!B287","v":0},{"$f":"'Emissions Factors'!C287","v":0},{"$f":"'Emissions Factors'!D287","v":"45m to 57m Portal"},null,null,"Civils Structures & Retaining Walls","Gantries","45m to 57m Portal","Gantries45m to 57m Portal",{"$f":"IF('Emissions Factors'!E287=\"\",\"\",'Emissions Factors'!E287)","v":"no."},{"$f":"IF('Emissions Factors'!F287=\"\",\"\",'Emissions Factors'!F287)","v":"Steel"},{"$f":"IF('Emissions Factors'!G287=\"\",\"\",'Emissions Factors'!G287)","v":2.76},{"$f":"IF('Emissions Factors'!H287=\"\",\"\",'Emissions Factors'!H287)","v":"tCO2e/t"},{"$f":"IF('Emissions Factors'!I287=\"\",\"\",'Emissions Factors'!I287)","v":40},{"$f":"IF('Emissions Factors'!J287=\"\",'Emissions Factors'!F287,'Emissions Factors'!J287)","v":"Carbon factor taken from the ICE V3: Steel > Hot dipped galvanised steel. Average weight taken from gantry fabricator to be 40 tonnes."},null,1,null,null,8,17]
[null,{"$f":"'Emissions Factors'!B288","v":0},{"$f":"'Emissions Factors'!C288","v":0},{"$f":"'Emissions Factors'!D288","v":"57m plus Portal"},null,null,"Civils Structures & Retaining Walls","Gantries","57m plus Portal","Gantries57m plus Portal",{"$f":"IF('Emissions Factors'!E288=\"\",\"\",'Emissions Factors'!E288)","v":"no."},{"$f":"IF('Emissions Factors'!F288=\"\",\"\",'Emissions Factors'!F288)","v":"Steel"},{"$f":"IF('Emissions Factors'!G288=\"\",\"\",'Emissions Factors'!G288)","v":2.76},{"$f":"IF('Emissions Factors'!H288=\"\",\"\",'Emissions Factors'!H288)","v":"tCO2e/t"},{"$f":"IF('Emissions Factors'!I288=\"\",\"\",'Emissions Factors'!I288)","v":85},{"$f":"IF('Emissions Factors'!J288=\"\",'Emissions Factors'!F288,'Emissions Factors'!J288)","v":"Carbon factor taken from the ICE V3: Steel > Hot dipped galvanised steel. Average weight taken from gantry fabricator to be 85 tonnes."},null,1,null,null,8,15]
[null,{"$f":"'Emissions Factors'!B289","v":0},{"$f":"'Emissions Factors'!C289","v":"Paint"},{"$f":"'Emissions Factors'!D289","v":"General paint"},null,null,{"$f":"IF(B287=0,G286,B287)","v":"Civils Structures & Retaining Walls"},{"$f":"IF(C287=0,H286,C287)","v":"Paint"},{"$f":"IF(D287=0,I286,D287)","v":"General paint"},{"$f":"H287&I287","v":"PaintGeneral paint"},{"$f":"IF('Emissions Factors'!E289=\"\",\"\",'Emissions Factors'!E289)","v":"Litres"},{"$f":"IF('Emissions Factors'!F289=\"\",\"\",'Emissions Factors'!F289)","v":"Paint"},{"$f":"IF('Emissions Factors'!G289=\"\",\"\",'Emissions Factors'!G289)","v":3.76},{"$f":"IF('Emissions Factors'!H289=\"\",\"\",'Emissions Factors'!H289)","v":"tCO2e/t"},{"$f":"IF('Emissions Factors'!I289=\"\",\"\",'Emissions Factors'!I289)","v":1.1999999999999999E-3},{"$f":"IF('Emissions Factors'!J289=\"\",'Emissions Factors'!F289,'Emissions Factors'!J289)","v":"Carbon factor taken from ICE V3: Paint > Solvent borne.  Conversion factor calculated from density of paint, 1.2kg/l."},null,2,null,null,{"$f":"LEN(H287)","v":5},{"$f":"LEN(I287)","v":13}]
[null,{"$f":"'Emissions Factors'!B290","v":0},{"$f":"'Emissions Factors'!C290","v":"Steelwork"},{"$f":"'Emissions Factors'!D290","v":"General steel"},null,null,"Civils Structures & Retaining Walls","Steelwork","General steel","SteelworkGeneral steel",{"$f":"IF('Emissions Factors'!E290=\"\",\"\",'Emissions Factors'!E290)","v":"tonnes"},{"$f":"IF('Emissions Factors'!F290=\"\",\"\",'Emissions Factors'!F290)","v":"Steel"},{"$f":"IF('Emissions Factors'!G290=\"\",\"\",'Emissions Factors'!G290)","v":1.55},{"$f":"IF('Emissions Factors'!H290=\"\",\"\",'Emissions Factors'!H290)","v":"tCO2e/t"},{"$f":"IF('Emissions Factors'!I290=\"\",\"\",'Emissions Factors'!I290)","v":1},{"$f":"IF('Emissions Factors'!J290=\"\",'Emissions Factors'!F290,'Emissions Factors'!J290)","v":"Carbon factor taken directly from the ICE V3: Steel > Steel section."},null,1,null,null,9,13]
[null,{"$f":"'Emissions Factors'!B291","v":0},{"$f":"'Emissions Factors'!C291","v":0},{"$f":"'Emissions Factors'!D291","v":"Galvanised steel"},null,null,"Civils Structures & Retaining Walls","Steelwork","Galvanised steel","SteelworkGalvanised steel",{"$f":"IF('Emissions Factors'!E291=\"\",\"\",'Emissions Factors'!E291)","v":"tonnes"},{"$f":"IF('Emissions Factors'!F291=\"\",\"\",'Emissions Factors'!F291)","v":"Steel"},{"$f":"IF('Emissions Factors'!G291=\"\",\"\",'Emissions Factors'!G291)","v":2.76},{"$f":"IF('Emissions Factors'!H291=\"\",\"\",'Emissions Factors'!H291)","v":"tCO2e/t"},{"$f":"IF('Emissions Factors'!I291=\"\",\"\",'Emissions Factors'!I291)","v":1},{"$f":"IF('Emissions Factors'!J291=\"\",'Emissions Factors'!F291,'Emissions Factors'!J291)","v":"Carbon factor taken directly from the ICE V3: Steel > Hot dipped galvanised steel."},null,1,null,null,9,16]
[null,{"$f":"'Emissions Factors'!B292","v":0},{"$f":"'Emissions Factors'!C292","v":"Pre-cast Concrete"},{"$f":"'Emissions Factors'!D292","v":"General concrete"},null,null,"Civils Structures & Retaining Walls","Pre-cast Concrete","General concrete","Pre-cast ConcreteGeneral concrete",{"$f":"IF('Emissions Factors'!E292=\"\",\"\",'Emissions Factors'!E292)","v":"tonnes"},{"$f":"IF('Emissions Factors'!F292=\"\",\"\",'Emissions Factors'!F292)","v":"Concrete"},{"$f":"IF('Emissions Factors'!G292=\"\",\"\",'Emissions Factors'!G292)","v":0.12186134453781512},{"$f":"IF('Emissions Factors'!H292=\"\",\"\",'Emissions Factors'!H292)","v":"tCO2e/t"},{"$f":"IF('Emissions Factors'!I292=\"\",\"\",'Emissions Factors'!I292)","v":1},{"$f":"IF('Emissions Factors'!J292=\"\",'Emissions Factors'!F292,'Emissions Factors'!J292)","v":"Carbon factor taken directly from the ICE V3: Concrete > Precast Concrete Model > Concrete average UK mix"},null,1,null,null,17,16]
[null,{"$f":"'Emissions Factors'!B293","v":0},{"$f":"'Emissions Factors'!C293","v":0},{"$f":"'Emissions Factors'!D293","v":"High strength concrete "},null,null,"Civils Structures & Retaining Walls","Pre-cast Concrete","High strength concrete ","Pre-cast ConcreteHigh strength concrete ",{"$f":"IF('Emissions Factors'!E293=\"\",\"\",'Emissions Factors'!E293)","v":"tonnes"},{"$f":"IF('Emissions Factors'!F293=\"\",\"\",'Emissions Factors'!F293)","v":"Concrete"},{"$f":"IF('Emissions Factors'!G293=\"\",\"\",'Emissions Factors'!G293)","v":0.19078928332132999},{"$f":"IF('Emissions Factors'!H293=\"\",\"\",'Emissions Factors'!H293)","v":"tCO2e/t"},{"$f":"IF('Emissions Factors'!I293=\"\",\"\",'Emissions Factors'!I293)","v":1},{"$f":"IF('Emissions Factors'!J293=\"\",'Emissions Factors'!F293,'Emissions Factors'!J293)","v":"Carbon factor taken directly from the ICE V3: Concrete > Precast Concrete Model >  RC40/50 with CEM I Cement"},null,1,null,null,17,23]
[null,{"$f":"'Emissions Factors'!B294","v":0},{"$f":"'Emissions Factors'!C294","v":"Bricks and blockwork"},{"$f":"'Emissions Factors'!D294","v":"Concrete blocks (includes mortar)"},null,null,"Civils Structures & Retaining Walls","Bricks and blockwork","Concrete blocks (includes mortar)","Bricks and blockworkConcrete blocks (includes mortar)",{"$f":"IF('Emissions Factors'!E294=\"\",\"\",'Emissions Factors'!E294)","v":"no."},{"$f":"IF('Emissions Factors'!F294=\"\",\"\",'Emissions Factors'!F294)","v":"Brick and Blockwork"},{"$f":"IF('Emissions Factors'!G294=\"\",\"\",'Emissions Factors'!G294)","v":0.102719718527867},{"$f":"IF('Emissions Factors'!H294=\"\",\"\",'Emissions Factors'!H294)","v":"tCO2e/t"},{"$f":"IF('Emissions Factors'!I294=\"\",\"\",'Emissions Factors'!I294)","v":1.6797400000000001E-2},{"$f":"IF('Emissions Factors'!J294=\"\",'Emissions Factors'!F294,'Emissions Factors'!J294)","v":"Carbon factors taken from the ICE V3: Average of concrete block types. Assumed weight of block is 15kg and 10mm of mortar."},null,1,null,null,20,33]
[null,{"$f":"'Emissions Factors'!B295","v":0},{"$f":"'Emissions Factors'!C295","v":0},{"$f":"'Emissions Factors'!D295","v":"Standard bricks (includes mortar)"},null,null,"Civils Structures & Retaining Walls","Bricks and blockwork","Standard bricks (includes mortar)","Bricks and blockworkStandard bricks (includes mortar)",{"$f":"IF('Emissions Factors'!E295=\"\",\"\",'Emissions Factors'!E295)","v":"no."},{"$f":"IF('Emissions Factors'!F295=\"\",\"\",'Emissions Factors'!F295)","v":"Brick and Blockwork"},{"$f":"IF('Emissions Factors'!G295=\"\",\"\",'Emissions Factors'!G295)","v":0.20526105940346864},{"$f":"IF('Emissions Factors'!H295=\"\",\"\",'Emissions Factors'!H295)","v":"tCO2e/t"},{"$f":"IF('Emissions Factors'!I295=\"\",\"\",'Emissions Factors'!I295)","v":2.5834349999999998E-3},{"$f":"IF('Emissions Factors'!J295=\"\",'Emissions Factors'!F295,'Emissions Factors'!J295)","v":"Carbon factor taken directly from the ICE V3: Brick > General. Assumed weight of brick is 2.13kg and 10mm of mortar."},null,1,null,null,20,33]
[null,{"$f":"'Emissions Factors'!B296","v":0},{"$f":"'Emissions Factors'!C296","v":"Decorative stone"},{"$f":"'Emissions Factors'!D296","v":"General stone"},null,null,"Civils Structures & Retaining Walls","Decorative stone","General stone","Decorative stoneGeneral stone",{"$f":"IF('Emissions Factors'!E296=\"\",\"\",'Emissions Factors'!E296)","v":"tonnes"},{"$f":"IF('Emissions Factors'!F296=\"\",\"\",'Emissions Factors'!F296)","v":"Inert"},{"$f":"IF('Emissions Factors'!G296=\"\",\"\",'Emissions Factors'!G296)","v":7.9000000000000001E-2},{"$f":"IF('Emissions Factors'!H296=\"\",\"\",'Emissions Factors'!H296)","v":"tCO2e/t"},{"$f":"IF('Emissions Factors'!I296=\"\",\"\",'Emissions Factors'!I296)","v":1},{"$f":"IF('Emissions Factors'!J296=\"\",'Emissions Factors'!F296,'Emissions Factors'!J296)","v":"Carbon factor taken directly from the ICE V3: Stone > General."},null,1,null,null,16,13]
[null,{"$f":"'Emissions Factors'!B297","v":"Fuel, Energy & Water"},{"$f":"'Emissions Factors'!C297","v":"Site offices, site vehicles and plant energy "},{"$f":"'Emissions Factors'!D297","v":"Electricity"},null,null,"Fuel, Energy & Water","Site offices, site vehicles and plant energy ","Electricity","Site offices, site vehicles and plant energy Electricity",{"$f":"IF('Emissions Factors'!E297=\"\",\"\",'Emissions Factors'!E297)","v":"kWh"},{"$f":"IF('Emissions Factors'!F297=\"\",\"\",'Emissions Factors'!F297)","v":"Energy and Fuel"},{"$f":"IF('Emissions Factors'!G297=\"\",\"\",'Emissions Factors'!G297)","v":0.20707428859060401},{"$f":"IF('Emissions Factors'!H297=\"\",\"\",'Emissions Factors'!H297)","v":"kgCO2e/kWh"},{"$f":"IF('Emissions Factors'!I297=\"\",\"\",'Emissions Factors'!I297)","v":1E-3},{"$f":"IF('Emissions Factors'!J297=\"\",'Emissions Factors'!F297,'Emissions Factors'!J297)","v":"Carbon factor taken directly from Government Carbon Factors 2023. UK electricity."},null,0,null,null,45,11]
[null,{"$f":"'Emissions Factors'!B298","v":0},{"$f":"'Emissions Factors'!C298","v":0},{"$f":"'Emissions Factors'!D298","v":"Gas "},null,null,"Fuel, Energy & Water","Site offices, site vehicles and plant energy ","Gas ","Site offices, site vehicles and plant energy Gas ",{"$f":"IF('Emissions Factors'!E298=\"\",\"\",'Emissions Factors'!E298)","v":"kWh"},{"$f":"IF('Emissions Factors'!F298=\"\",\"\",'Emissions Factors'!F298)","v":"Energy and Fuel"},{"$f":"IF('Emissions Factors'!G298=\"\",\"\",'Emissions Factors'!G298)","v":0.18292892617449666},{"$f":"IF('Emissions Factors'!H298=\"\",\"\",'Emissions Factors'!H298)","v":"kgCO2e/kWh"},{"$f":"IF('Emissions Factors'!I298=\"\",\"\",'Emissions Factors'!I298)","v":1E-3},{"$f":"IF('Emissions Factors'!J298=\"\",'Emissions Factors'!F298,'Emissions Factors'!J298)","v":"Carbon factor taken directly from Government Carbon Factors 2023. Fuel > Natural Gas > Gross CV. Includes all well to tank emissions."},null,0,null,null,45,4]
[null,{"$f":"'Emissions Factors'!B299","v":0},{"$f":"'Emissions Factors'!C299","v":0},{"$f":"'Emissions Factors'!D299","v":"Bottled Gas"},null,null,"Fuel, Energy & Water","Site offices, site vehicles and plant energy ","Bottled Gas","Site offices, site vehicles and plant energy Bottled Gas",{"$f":"IF('Emissions Factors'!E299=\"\",\"\",'Emissions Factors'!E299)","v":"kg"},{"$f":"IF('Emissions Factors'!F299=\"\",\"\",'Emissions Factors'!F299)","v":"Energy and Fuel"},{"$f":"IF('Emissions Factors'!G299=\"\",\"\",'Emissions Factors'!G299)","v":0.18322852617449664},{"$f":"IF('Emissions Factors'!H299=\"\",\"\",'Emissions Factors'!H299)","v":"kgCO2e/t"},{"$f":"IF('Emissions Factors'!I299=\"\",\"\",'Emissions Factors'!I299)","v":1E-3},{"$f":"IF('Emissions Factors'!J299=\"\",'Emissions Factors'!F299,'Emissions Factors'!J299)","v":"Carbon factor taken directly from Government Carbon Factors 2023. Fuel > Other petroleum Gas. Includes all well to tank emissions."},null,1,null,null,45,11]
[null,{"$f":"'Emissions Factors'!B300","v":0},{"$f":"'Emissions Factors'!C300","v":0},{"$f":"'Emissions Factors'!D300","v":"Gas Oil (red diesel)"},null,null,"Fuel, Energy & Water","Site offices, site vehicles and plant energy ","Gas Oil (red diesel)","Site offices, site vehicles and plant energy Gas Oil (red diesel)",{"$f":"IF('Emissions Factors'!E300=\"\",\"\",'Emissions Factors'!E300)","v":"Litres"},{"$f":"IF('Emissions Factors'!F300=\"\",\"\",'Emissions Factors'!F300)","v":"Energy and Fuel"},{"$f":"IF('Emissions Factors'!G300=\"\",\"\",'Emissions Factors'!G300)","v":2.7554089785234899},{"$f":"IF('Emissions Factors'!H300=\"\",\"\",'Emissions Factors'!H300)","v":"kgCO2e/l"},{"$f":"IF('Emissions Factors'!I300=\"\",\"\",'Emissions Factors'!I300)","v":1E-3},{"$f":"IF('Emissions Factors'!J300=\"\",'Emissions Factors'!F300,'Emissions Factors'!J300)","v":"Carbon factor taken from Government Carbon Factors 2023. Fuel > Gas Oil. Includes all well to tank emissions."},null,1,null,null,45,20]
[null,{"$f":"'Emissions Factors'!B301","v":0},{"$f":"'Emissions Factors'!C301","v":0},{"$f":"'Emissions Factors'!D301","v":"Petrol"},null,null,"Fuel, Energy & Water","Site offices, site vehicles and plant energy ","Petrol","Site offices, site vehicles and plant energy Petrol",{"$f":"IF('Emissions Factors'!E301=\"\",\"\",'Emissions Factors'!E301)","v":"Litres"},{"$f":"IF('Emissions Factors'!F301=\"\",\"\",'Emissions Factors'!F301)","v":"Energy and Fuel"},{"$f":"IF('Emissions Factors'!G301=\"\",\"\",'Emissions Factors'!G301)","v":2.0974731275167788},{"$f":"IF('Emissions Factors'!H301=\"\",\"\",'Emissions Factors'!H301)","v":"kgCO2e/l"},{"$f":"IF('Emissions Factors'!I301=\"\",\"\",'Emissions Factors'!I301)","v":1E-3},{"$f":"IF('Emissions Factors'!J301=\"\",'Emissions Factors'!F301,'Emissions Factors'!J301)","v":"Carbon factor taken from Government Carbon Factors 2023. Fuel > Petrol (average blend). Includes all well to tank emissions."},null,1,null,null,45,6]
[null,{"$f":"'Emissions Factors'!B302","v":0},{"$f":"'Emissions Factors'!C302","v":0},{"$f":"'Emissions Factors'!D302","v":"Diesel"},null,null,"Fuel, Energy & Water","Site offices, site vehicles and plant energy ","Diesel","Site offices, site vehicles and plant energy Diesel",{"$f":"IF('Emissions Factors'!E302=\"\",\"\",'Emissions Factors'!E302)","v":"Litres"},{"$f":"IF('Emissions Factors'!F302=\"\",\"\",'Emissions Factors'!F302)","v":"Energy and Fuel"},{"$f":"IF('Emissions Factors'!G302=\"\",\"\",'Emissions Factors'!G302)","v":2.5120638845637586},{"$f":"IF('Emissions Factors'!H302=\"\",\"\",'Emissions Factors'!H302)","v":"kgCO2e/l"},{"$f":"IF('Emissions Factors'!I302=\"\",\"\",'Emissions Factors'!I302)","v":1E-3},{"$f":"IF('Emissions Factors'!J302=\"\",'Emissions Factors'!F302,'Emissions Factors'!J302)","v":"Carbon factor taken from Government Carbon Factors 2023. Fuel > Diesel (average blend). Includes all well to tank emissions."},null,1,null,null,45,6]
[null,{"$f":"'Emissions Factors'!B303","v":0},{"$f":"'Emissions Factors'!C303","v":0},{"$f":"'Emissions Factors'!D303","v":"Biodiesel"},null,null,"Fuel, Energy & Water","Site offices, site vehicles and plant energy ","Biodiesel","Site offices, site vehicles and plant energy Biodiesel",{"$f":"IF('Emissions Factors'!E303=\"\",\"\",'Emissions Factors'!E303)","v":"Litres"},{"$f":"IF('Emissions Factors'!F303=\"\",\"\",'Emissions Factors'!F303)","v":"Energy and Fuel"},{"$f":"IF('Emissions Factors'!G303=\"\",\"\",'Emissions Factors'!G303)","v":0.16750999999999999},{"$f":"IF('Emissions Factors'!H303=\"\",\"\",'Emissions Factors'!H303)","v":"kgCO2e/l"},{"$f":"IF('Emissions Factors'!I303=\"\",\"\",'Emissions Factors'!I303)","v":1E-3},{"$f":"IF('Emissions Factors'!J303=\"\",'Emissions Factors'!F303,'Emissions Factors'!J303)","v":"Carbon factor taken from Government Carbon Factors 2023. Bioenergy > Biodiesel. Includes all well to tank emissions. Biogenic content of biofuels is classed as out of scopes."},null,1,null,null,45,9]
[null,{"$f":"'Emissions Factors'!B304","v":0},{"$f":"'Emissions Factors'!C304","v":0},{"$f":"'Emissions Factors'!D304","v":"Biodiesel HVO"},null,null,{"$f":"IF(B302=0,G301,B302)","v":"Fuel, Energy & Water"},{"$f":"IF(C302=0,H301,C302)","v":"Site offices, site vehicles and plant energy "},{"$f":"IF(D302=0,I301,D302)","v":"Biodiesel HVO"},{"$f":"H302&I302","v":"Site offices, site vehicles and plant energy Biodiesel HVO"},{"$f":"IF('Emissions Factors'!E304=\"\",\"\",'Emissions Factors'!E304)","v":"Litres"},{"$f":"IF('Emissions Factors'!F304=\"\",\"\",'Emissions Factors'!F304)","v":"Energy and Fuel"},{"$f":"IF('Emissions Factors'!G304=\"\",\"\",'Emissions Factors'!G304)","v":3.5580000000000001E-2},{"$f":"IF('Emissions Factors'!H304=\"\",\"\",'Emissions Factors'!H304)","v":"kgCO2e/l"},{"$f":"IF('Emissions Factors'!I304=\"\",\"\",'Emissions Factors'!I304)","v":1E-3},{"$f":"IF('Emissions Factors'!J304=\"\",'Emissions Factors'!F304,'Emissions Factors'!J304)","v":"Carbon factor taken from Government Carbon Factors 2023. Bioenergy > Biodiesel HVO. Includes all well to tank emissions. Biogenic content of biofuels is classed as out of scopes."},null,1,null,null,45,13]
[null,{"$f":"'Emissions Factors'!B305","v":0},{"$f":"'Emissions Factors'!C305","v":0},{"$f":"'Emissions Factors'!D305","v":"Bioethanol"},null,null,"Fuel, Energy & Water","Site offices, site vehicles and plant energy ","Bioethanol","Site offices, site vehicles and plant energy Bioethanol",{"$f":"IF('Emissions Factors'!E305=\"\",\"\",'Emissions Factors'!E305)","v":"Litres"},{"$f":"IF('Emissions Factors'!F305=\"\",\"\",'Emissions Factors'!F305)","v":"Energy and Fuel"},{"$f":"IF('Emissions Factors'!G305=\"\",\"\",'Emissions Factors'!G305)","v":9.0100000000000006E-3},{"$f":"IF('Emissions Factors'!H305=\"\",\"\",'Emissions Factors'!H305)","v":"kgCO2e/l"},{"$f":"IF('Emissions Factors'!I305=\"\",\"\",'Emissions Factors'!I305)","v":1E-3},{"$f":"IF('Emissions Factors'!J305=\"\",'Emissions Factors'!F305,'Emissions Factors'!J305)","v":"Carbon factor taken from Government Carbon Factors 2023. Bioenergy > Bioethanol. Includes all well to tank emissions. Biogenic content of biofuels is classed as out of scopes."},null,1,null,null,45,10]
[null,{"$f":"'Emissions Factors'!B306","v":0},{"$f":"'Emissions Factors'!C306","v":0},{"$f":"'Emissions Factors'!D306","v":"Biopropane (bioLPG)"},null,null,"Fuel, Energy & Water","Site offices, site vehicles and plant energy ","Biopropane (bioLPG)","Site offices, site vehicles and plant energy Biopropane (bioLPG)",{"$f":"IF('Emissions Factors'!E306=\"\",\"\",'Emissions Factors'!E306)","v":"Litres"},{"$f":"IF('Emissions Factors'!F306=\"\",\"\",'Emissions Factors'!F306)","v":"Energy and Fuel"},{"$f":"IF('Emissions Factors'!G306=\"\",\"\",'Emissions Factors'!G306)","v":2.14E-3},{"$f":"IF('Emissions Factors'!H306=\"\",\"\",'Emissions Factors'!H306)","v":"kgCO2e/l"},{"$f":"IF('Emissions Factors'!I306=\"\",\"\",'Emissions Factors'!I306)","v":1E-3},{"$f":"IF('Emissions Factors'!J306=\"\",'Emissions Factors'!F306,'Emissions Factors'!J306)","v":"Carbon factor taken from Government Carbon Factors 2023. Bioenergy > Biopropane. Includes all well to tank emissions. Biogenic content of biofuels is classed as out of scopes."},null,1,null,null,45,19]
[null,{"$f":"'Emissions Factors'!B307","v":0},{"$f":"'Emissions Factors'!C307","v":0},{"$f":"'Emissions Factors'!D307","v":"Biomethane (compressed)"},null,null,"Fuel, Energy & Water","Site offices, site vehicles and plant energy ","Biomethane (compressed)","Site offices, site vehicles and plant energy Biomethane (compressed)",{"$f":"IF('Emissions Factors'!E307=\"\",\"\",'Emissions Factors'!E307)","v":"kg"},{"$f":"IF('Emissions Factors'!F307=\"\",\"\",'Emissions Factors'!F307)","v":"Energy and Fuel"},{"$f":"IF('Emissions Factors'!G307=\"\",\"\",'Emissions Factors'!G307)","v":5.2100000000000002E-3},{"$f":"IF('Emissions Factors'!H307=\"\",\"\",'Emissions Factors'!H307)","v":"kgCO2e/kg"},{"$f":"IF('Emissions Factors'!I307=\"\",\"\",'Emissions Factors'!I307)","v":1E-3},{"$f":"IF('Emissions Factors'!J307=\"\",'Emissions Factors'!F307,'Emissions Factors'!J307)","v":"Carbon factor taken from Government Carbon Factors 2023. Bioenergy > Biomethane (compressed). Includes all well to tank emissions. Biogenic content of biofuels is classed as out of scopes."},null,1,null,null,45,23]
[null,{"$f":"'Emissions Factors'!B308","v":0},{"$f":"'Emissions Factors'!C308","v":0},{"$f":"'Emissions Factors'!D308","v":"Biomethane (liquified)"},null,null,"Fuel, Energy & Water","Site offices, site vehicles and plant energy ","Biomethane (liquified)","Site offices, site vehicles and plant energy Biomethane (liquified)",{"$f":"IF('Emissions Factors'!E308=\"\",\"\",'Emissions Factors'!E308)","v":"kg"},{"$f":"IF('Emissions Factors'!F308=\"\",\"\",'Emissions Factors'!F308)","v":"Energy and Fuel"},{"$f":"IF('Emissions Factors'!G308=\"\",\"\",'Emissions Factors'!G308)","v":5.3400000000000001E-3},{"$f":"IF('Emissions Factors'!H308=\"\",\"\",'Emissions Factors'!H308)","v":"kgCO2e/kg"},{"$f":"IF('Emissions Factors'!I308=\"\",\"\",'Emissions Factors'!I308)","v":1E-3},{"$f":"IF('Emissions Factors'!J308=\"\",'Emissions Factors'!F308,'Emissions Factors'!J308)","v":"Carbon factor taken from Government Carbon Factors 2023. Bioenergy > Biomethane (liquified). Includes all well to tank emissions. Biogenic content of biofuels is classed as out of scopes."},null,1,null,null,45,22]
[null,{"$f":"'Emissions Factors'!B309","v":0},{"$f":"'Emissions Factors'!C309","v":0},{"$f":"'Emissions Factors'!D309","v":"Biomethanol "},null,null,"Fuel, Energy & Water","Site offices, site vehicles and plant energy ","Biomethanol ","Site offices, site vehicles and plant energy Biomethanol ",{"$f":"IF('Emissions Factors'!E309=\"\",\"\",'Emissions Factors'!E309)","v":"Litres"},{"$f":"IF('Emissions Factors'!F309=\"\",\"\",'Emissions Factors'!F309)","v":"Energy and Fuel"},{"$f":"IF('Emissions Factors'!G309=\"\",\"\",'Emissions Factors'!G309)","v":6.6899999999999998E-3},{"$f":"IF('Emissions Factors'!H309=\"\",\"\",'Emissions Factors'!H309)","v":"kgCO2e/l"},{"$f":"IF('Emissions Factors'!I309=\"\",\"\",'Emissions Factors'!I309)","v":1E-3},{"$f":"IF('Emissions Factors'!J309=\"\",'Emissions Factors'!F309,'Emissions Factors'!J309)","v":"Carbon factor taken from Government Carbon Factors 2023. Bioenergy > Biomethanol. Includes all well to tank emissions. Biogenic content of biofuels is classed as out of scopes."},null,1,null,null,45,12]
[null,{"$f":"'Emissions Factors'!B310","v":0},{"$f":"'Emissions Factors'!C310","v":0},{"$f":"'Emissions Factors'!D310","v":"Fuel Oil "},null,null,{"$f":"IF(B308=0,G301,B308)","v":"Fuel, Energy & Water"},{"$f":"IF(C308=0,H301,C308)","v":"Site offices, site vehicles and plant energy "},{"$f":"IF(D308=0,I301,D308)","v":"Fuel Oil "},"Site offices, site vehicles and plant energy Fuel Oil ",{"$f":"IF('Emissions Factors'!E310=\"\",\"\",'Emissions Factors'!E310)","v":"Litres"},{"$f":"IF('Emissions Factors'!F310=\"\",\"\",'Emissions Factors'!F310)","v":"Energy and Fuel"},{"$f":"IF('Emissions Factors'!G310=\"\",\"\",'Emissions Factors'!G310)","v":3.1749249825503401},{"$f":"IF('Emissions Factors'!H310=\"\",\"\",'Emissions Factors'!H310)","v":"kgCO2e/l"},{"$f":"IF('Emissions Factors'!I310=\"\",\"\",'Emissions Factors'!I310)","v":1E-3},{"$f":"IF('Emissions Factors'!J310=\"\",'Emissions Factors'!F310,'Emissions Factors'!J310)","v":"Carbon factor taken from Government Carbon Factors 2023. Fuel > Fuel Oil.  Includes all well to tank emissions."},null,1,null,null,45,9]
[null,{"$f":"'Emissions Factors'!B311","v":0},{"$f":"'Emissions Factors'!C311","v":0},{"$f":"'Emissions Factors'!D311","v":"Burning Oil / Kerosene"},null,null,"Fuel, Energy & Water","Site offices, site vehicles and plant energy ","Burning Oil / Kerosene","Site offices, site vehicles and plant energy Burning Oil / Kerosene",{"$f":"IF('Emissions Factors'!E311=\"\",\"\",'Emissions Factors'!E311)","v":"Litres"},{"$f":"IF('Emissions Factors'!F311=\"\",\"\",'Emissions Factors'!F311)","v":"Energy and Fuel"},{"$f":"IF('Emissions Factors'!G311=\"\",\"\",'Emissions Factors'!G311)","v":2.5401558563758391},{"$f":"IF('Emissions Factors'!H311=\"\",\"\",'Emissions Factors'!H311)","v":"kgCO2e/l"},{"$f":"IF('Emissions Factors'!I311=\"\",\"\",'Emissions Factors'!I311)","v":1E-3},{"$f":"IF('Emissions Factors'!J311=\"\",'Emissions Factors'!F311,'Emissions Factors'!J311)","v":"Carbon factor taken from Government Carbon Factors 2023. Fuel > Burning Oil.  Includes all well to tank emissions."},null,1,null,null,45,22]
[null,{"$f":"'Emissions Factors'!B312","v":0},{"$f":"'Emissions Factors'!C312","v":"Water"},{"$f":"'Emissions Factors'!D312","v":"Mains "},null,null,"Fuel, Energy & Water","Water","Mains ","WaterMains ",{"$f":"IF('Emissions Factors'!E312=\"\",\"\",'Emissions Factors'!E312)","v":"Litres"},{"$f":"IF('Emissions Factors'!F312=\"\",\"\",'Emissions Factors'!F312)","v":"Energy and Fuel"},{"$f":"IF('Emissions Factors'!G312=\"\",\"\",'Emissions Factors'!G312)","v":1.7668454657901399E-4},{"$f":"IF('Emissions Factors'!H312=\"\",\"\",'Emissions Factors'!H312)","v":"kgCO2e/l"},{"$f":"IF('Emissions Factors'!I312=\"\",\"\",'Emissions Factors'!I312)","v":1E-3},{"$f":"IF('Emissions Factors'!J312=\"\",'Emissions Factors'!F312,'Emissions Factors'!J312)","v":"Carbon factor taken directly from Government Carbon Factors 2023 > Mains water."},null,0,null,null,5,6]
[null,{"$f":"'Emissions Factors'!B313","v":0},{"$f":"'Emissions Factors'!C313","v":0},{"$f":"'Emissions Factors'!D313","v":"Abstracted"},null,null,"Fuel, Energy & Water","Water","Abstracted","WaterAbstracted",{"$f":"IF('Emissions Factors'!E313=\"\",\"\",'Emissions Factors'!E313)","v":"Litres"},{"$f":"IF('Emissions Factors'!F313=\"\",\"\",'Emissions Factors'!F313)","v":"Energy and Fuel"},{"$f":"IF('Emissions Factors'!G313=\"\",\"\",'Emissions Factors'!G313)","v":0},{"$f":"IF('Emissions Factors'!H313=\"\",\"\",'Emissions Factors'!H313)","v":"kgCO2e/l"},{"$f":"IF('Emissions Factors'!I313=\"\",\"\",'Emissions Factors'!I313)","v":1},{"$f":"IF('Emissions Factors'!J313=\"\",'Emissions Factors'!F313,'Emissions Factors'!J313)","v":"Embodied carbon of site abstracted water assumed to be zero. Movement around site captured by fuel use."},null,0,null,null,5,10]
[null,{"$f":"'Emissions Factors'!B314","v":0},{"$f":"'Emissions Factors'!C314","v":0},{"$f":"'Emissions Factors'!D314","v":"Transported (Tanker)"},null,null,"Fuel, Energy & Water","Water","Transported (Tanker)","WaterTransported (Tanker)",{"$f":"IF('Emissions Factors'!E314=\"\",\"\",'Emissions Factors'!E314)","v":"Litres"},{"$f":"IF('Emissions Factors'!F314=\"\",\"\",'Emissions Factors'!F314)","v":"Energy and Fuel"},{"$f":"IF('Emissions Factors'!G314=\"\",\"\",'Emissions Factors'!G314)","v":1.7668454657901399E-4},{"$f":"IF('Emissions Factors'!H314=\"\",\"\",'Emissions Factors'!H314)","v":"kgCO2e/l"},{"$f":"IF('Emissions Factors'!I314=\"\",\"\",'Emissions Factors'!I314)","v":1E-3},{"$f":"IF('Emissions Factors'!J314=\"\",'Emissions Factors'!F314,'Emissions Factors'!J314)","v":"Carbon factor taken directly from Government Carbon Factors 2023 > Mains water."},null,1,null,null,5,20]
[null,{"$f":"'Emissions Factors'!B315","v":"Business and employee transport"},{"$f":"'Emissions Factors'!C315","v":"Business travel  "},{"$f":"'Emissions Factors'!D315","v":"Private vehicle (any type)"},null,null,"Business and employee transport","Business travel  ","Private vehicle (any type)","Business travel  Private vehicle (any type)",{"$f":"IF('Emissions Factors'!E315=\"\",\"\",'Emissions Factors'!E315)","v":"km"},{"$f":"IF('Emissions Factors'!F315=\"\",\"\",'Emissions Factors'!F315)","v":"Transport"},{"$f":"IF('Emissions Factors'!G315=\"\",\"\",'Emissions Factors'!G315)","v":0.16663858791946309},{"$f":"IF('Emissions Factors'!H315=\"\",\"\",'Emissions Factors'!H315)","v":"kgCO2e/km"},{"$f":"IF('Emissions Factors'!I315=\"\",\"\",'Emissions Factors'!I315)","v":1E-3},{"$f":"IF('Emissions Factors'!J315=\"\",'Emissions Factors'!F315,'Emissions Factors'!J315)","v":"Carbon factor of unknown average car emissions from Government Carbon Factors 2023. Conversion factor for kg into tonnes."},null,0,null,null,17,26]
[null,{"$f":"'Emissions Factors'!B316","v":0},{"$f":"'Emissions Factors'!C316","v":0},{"$f":"'Emissions Factors'!D316","v":"Bus/coach"},null,null,"Business and employee transport","Business travel  ","Bus/coach","Business travel  Bus/coach",{"$f":"IF('Emissions Factors'!E316=\"\",\"\",'Emissions Factors'!E316)","v":"km"},{"$f":"IF('Emissions Factors'!F316=\"\",\"\",'Emissions Factors'!F316)","v":"Transport"},{"$f":"IF('Emissions Factors'!G316=\"\",\"\",'Emissions Factors'!G316)","v":0.10215039463087248},{"$f":"IF('Emissions Factors'!H316=\"\",\"\",'Emissions Factors'!H316)","v":"kgCO2e/km"},{"$f":"IF('Emissions Factors'!I316=\"\",\"\",'Emissions Factors'!I316)","v":1E-3},{"$f":"IF('Emissions Factors'!J316=\"\",'Emissions Factors'!F316,'Emissions Factors'!J316)","v":"Carbon factor taken directly from Government Carbon Factors 2023. Business Travel > Average Bus. Conversion factor for kg into tonnes."},null,0,null,null,17,9]
[null,{"$f":"'Emissions Factors'!B317","v":0},{"$f":"'Emissions Factors'!C317","v":0},{"$f":"'Emissions Factors'!D317","v":"Train "},null,null,"Business and employee transport","Business travel  ","Train ","Business travel  Train ",{"$f":"IF('Emissions Factors'!E317=\"\",\"\",'Emissions Factors'!E317)","v":"km"},{"$f":"IF('Emissions Factors'!F317=\"\",\"\",'Emissions Factors'!F317)","v":"Transport"},{"$f":"IF('Emissions Factors'!G317=\"\",\"\",'Emissions Factors'!G317)","v":3.5462963758389261E-2},{"$f":"IF('Emissions Factors'!H317=\"\",\"\",'Emissions Factors'!H317)","v":"kgCO2e/km"},{"$f":"IF('Emissions Factors'!I317=\"\",\"\",'Emissions Factors'!I317)","v":1E-3},{"$f":"IF('Emissions Factors'!J317=\"\",'Emissions Factors'!F317,'Emissions Factors'!J317)","v":"Carbon factor taken directly from Government Carbon Factors 2023. Business Travel > National rail. Conversion factor for kg into tonnes."},null,0,null,null,17,6]
[null,{"$f":"'Emissions Factors'!B318","v":0},{"$f":"'Emissions Factors'!C318","v":"Employee commuting"},{"$f":"'Emissions Factors'!D318","v":"Private vehicle (any type)"},null,null,"Business and employee transport","Employee commuting","Private vehicle (any type)","Employee commutingPrivate vehicle (any type)",{"$f":"IF('Emissions Factors'!E318=\"\",\"\",'Emissions Factors'!E318)","v":"km"},{"$f":"IF('Emissions Factors'!F318=\"\",\"\",'Emissions Factors'!F318)","v":"Transport"},{"$f":"IF('Emissions Factors'!G318=\"\",\"\",'Emissions Factors'!G318)","v":0.16686699999999999},{"$f":"IF('Emissions Factors'!H318=\"\",\"\",'Emissions Factors'!H318)","v":"kgCO2e/km"},{"$f":"IF('Emissions Factors'!I318=\"\",\"\",'Emissions Factors'!I318)","v":1E-3},{"$f":"IF('Emissions Factors'!J318=\"\",'Emissions Factors'!F318,'Emissions Factors'!J318)","v":"Carbon factor is an average of the diesel and petrol average car emissions from Government Carbon Factors 2023. Conversion factor for kg into tonnes."},null,0,null,null,18,26]
[null,{"$f":"'Emissions Factors'!B319","v":0},{"$f":"'Emissions Factors'!C319","v":0},{"$f":"'Emissions Factors'!D319","v":"Bus/coach"},null,null,"Business and employee transport","Employee commuting","Bus/coach","Employee commutingBus/coach",{"$f":"IF('Emissions Factors'!E319=\"\",\"\",'Emissions Factors'!E319)","v":"km"},{"$f":"IF('Emissions Factors'!F319=\"\",\"\",'Emissions Factors'!F319)","v":"Transport"},{"$f":"IF('Emissions Factors'!G319=\"\",\"\",'Emissions Factors'!G319)","v":0.10215039463087248},{"$f":"IF('Emissions Factors'!H319=\"\",\"\",'Emissions Factors'!H319)","v":"kgCO2e/km"},{"$f":"IF('Emissions Factors'!I319=\"\",\"\",'Emissions Factors'!I319)","v":1E-3},{"$f":"IF('Emissions Factors'!J319=\"\",'Emissions Factors'!F319,'Emissions Factors'!J319)","v":"Carbon factor taken directly from Government Carbon Factors 2023. Business Travel > Average Bus. Conversion factor for kg into tonnes."},null,0,null,null,18,9]
[null,{"$f":"'Emissions Factors'!B320","v":0},{"$f":"'Emissions Factors'!C320","v":0},{"$f":"'Emissions Factors'!D320","v":"Train "},null,null,"Business and employee transport","Employee commuting","Train ","Employee commutingTrain ",{"$f":"IF('Emissions Factors'!E320=\"\",\"\",'Emissions Factors'!E320)","v":"km"},{"$f":"IF('Emissions Factors'!F320=\"\",\"\",'Emissions Factors'!F320)","v":"Transport"},{"$f":"IF('Emissions Factors'!G320=\"\",\"\",'Emissions Factors'!G320)","v":3.5462963758389261E-2},{"$f":"IF('Emissions Factors'!H320=\"\",\"\",'Emissions Factors'!H320)","v":"kgCO2e/km"},{"$f":"IF('Emissions Factors'!I320=\"\",\"\",'Emissions Factors'!I320)","v":1E-3},{"$f":"IF('Emissions Factors'!J320=\"\",'Emissions Factors'!F320,'Emissions Factors'!J320)","v":"Carbon factor taken directly from Government Carbon Factors 2023. Business Travel > National rail. Conversion factor for kg into tonnes."},null,0,null,null,18,6]
[null,{"$f":"'Emissions Factors'!B321","v":0},{"$f":"'Emissions Factors'!C321","v":"Other transport"},{"$f":"'Emissions Factors'!D321","v":"HGV (diesel, 0% laden)"},null,null,{"$f":"IF(B319=0,G318,B319)","v":"Business and employee transport"},{"$f":"IF(C319=0,H318,C319)","v":"Other transport"},{"$f":"IF(D319=0,I318,D319)","v":"HGV (diesel, 0% laden)"},{"$f":"H319&I319","v":"Other transportHGV (diesel, 0% laden)"},{"$f":"IF('Emissions Factors'!E321=\"\",\"\",'Emissions Factors'!E321)","v":"km"},{"$f":"IF('Emissions Factors'!F321=\"\",\"\",'Emissions Factors'!F321)","v":"Transport"},{"$f":"IF('Emissions Factors'!G321=\"\",\"\",'Emissions Factors'!G321)","v":0.64257847785234889},{"$f":"IF('Emissions Factors'!H321=\"\",\"\",'Emissions Factors'!H321)","v":"kgCO2e/km"},{"$f":"IF('Emissions Factors'!I321=\"\",\"\",'Emissions Factors'!I321)","v":1E-3},{"$f":"IF('Emissions Factors'!J321=\"\",'Emissions Factors'!F321,'Emissions Factors'!J321)","v":"Carbon factor taken directly from Government Carbon Factors 2023: Freighting goods > All HGVs > 0% Laden"},null,0,null,null,{"$f":"LEN(H319)","v":15},{"$f":"LEN(I319)","v":22}]
[null,{"$f":"'Emissions Factors'!B322","v":0},{"$f":"'Emissions Factors'!C322","v":0},{"$f":"'Emissions Factors'!D322","v":"HGV (diesel, average laden)"},null,null,"Business and employee transport","Other transport","HGV (diesel, average laden)","Other transportHGV (diesel, average laden)",{"$f":"IF('Emissions Factors'!E322=\"\",\"\",'Emissions Factors'!E322)","v":"km"},{"$f":"IF('Emissions Factors'!F322=\"\",\"\",'Emissions Factors'!F322)","v":"Transport"},{"$f":"IF('Emissions Factors'!G322=\"\",\"\",'Emissions Factors'!G322)","v":0.87204847785234896},{"$f":"IF('Emissions Factors'!H322=\"\",\"\",'Emissions Factors'!H322)","v":"kgCO2e/km"},{"$f":"IF('Emissions Factors'!I322=\"\",\"\",'Emissions Factors'!I322)","v":1E-3},{"$f":"IF('Emissions Factors'!J322=\"\",'Emissions Factors'!F322,'Emissions Factors'!J322)","v":"Carbon factor taken directly from Government Carbon Factors 2023: Freighting goods > All HGVs > Average Laden"},null,0,null,null,15,27]
[null,{"$f":"'Emissions Factors'!B323","v":0},{"$f":"'Emissions Factors'!C323","v":0},{"$f":"'Emissions Factors'!D323","v":"Van (average)"},null,null,"Business and employee transport","Other transport","Van (average)","Other transportVan (average)",{"$f":"IF('Emissions Factors'!E323=\"\",\"\",'Emissions Factors'!E323)","v":"km"},{"$f":"IF('Emissions Factors'!F323=\"\",\"\",'Emissions Factors'!F323)","v":"Transport"},{"$f":"IF('Emissions Factors'!G323=\"\",\"\",'Emissions Factors'!G323)","v":0.23128402684563801},{"$f":"IF('Emissions Factors'!H323=\"\",\"\",'Emissions Factors'!H323)","v":"kgCO2e/km"},{"$f":"IF('Emissions Factors'!I323=\"\",\"\",'Emissions Factors'!I323)","v":1E-3},{"$f":"IF('Emissions Factors'!J323=\"\",'Emissions Factors'!F323,'Emissions Factors'!J323)","v":"Carbon factor taken directly from Government Carbon Factors 2023: Freighting goods > Vans > Average Unknown"},null,0,null,null,15,13]
[null,{"$f":"'Emissions Factors'!B324","v":0},{"$f":"'Emissions Factors'!C324","v":0},{"$f":"'Emissions Factors'!D324","v":"Van (electric)"},null,null,"Business and employee transport","Other transport","Van (electric)","Other transportVan (electric)",{"$f":"IF('Emissions Factors'!E324=\"\",\"\",'Emissions Factors'!E324)","v":"km"},{"$f":"IF('Emissions Factors'!F324=\"\",\"\",'Emissions Factors'!F324)","v":"Transport"},{"$f":"IF('Emissions Factors'!G324=\"\",\"\",'Emissions Factors'!G324)","v":7.3455241610738256E-2},{"$f":"IF('Emissions Factors'!H324=\"\",\"\",'Emissions Factors'!H324)","v":"kgCO2e/km"},{"$f":"IF('Emissions Factors'!I324=\"\",\"\",'Emissions Factors'!I324)","v":1E-3},{"$f":"IF('Emissions Factors'!J324=\"\",'Emissions Factors'!F324,'Emissions Factors'!J324)","v":"Carbon factor taken directly from Government Carbon Factors 2023: Freighting goods > Vans > Average Battery Electric"},null,0,null,null,15,14]
[null,{"$f":"'Emissions Factors'!B325","v":0},{"$f":"'Emissions Factors'!C325","v":0},{"$f":"'Emissions Factors'!D325","v":"Car (average)"},null,null,{"$f":"IF(B323=0,G322,B323)","v":"Business and employee transport"},{"$f":"IF(C323=0,H322,C323)","v":"Other transport"},{"$f":"IF(D323=0,I322,D323)","v":"Car (average)"},"Other transportCar (average)",{"$f":"IF('Emissions Factors'!E325=\"\",\"\",'Emissions Factors'!E325)","v":"km"},{"$f":"IF('Emissions Factors'!F325=\"\",\"\",'Emissions Factors'!F325)","v":"Transport"},{"$f":"IF('Emissions Factors'!G325=\"\",\"\",'Emissions Factors'!G325)","v":0.16663858791946309},{"$f":"IF('Emissions Factors'!H325=\"\",\"\",'Emissions Factors'!H325)","v":"kgCO2e/km"},{"$f":"IF('Emissions Factors'!I325=\"\",\"\",'Emissions Factors'!I325)","v":1E-3},{"$f":"IF('Emissions Factors'!J325=\"\",'Emissions Factors'!F325,'Emissions Factors'!J325)","v":"Carbon factor taken directly from Government Carbon Factors 2023: Business Travel > Cars > Average Unknown"},null,0,null,null,15,13]
[null,{"$f":"'Emissions Factors'!B326","v":0},{"$f":"'Emissions Factors'!C326","v":0},{"$f":"'Emissions Factors'!D326","v":"Car (electric)"},null,null,{"$f":"IF(B324=0,G323,B324)","v":"Business and employee transport"},{"$f":"IF(C324=0,H323,C324)","v":"Other transport"},{"$f":"IF(D324=0,I323,D324)","v":"Car (electric)"},{"$f":"H324&I324","v":"Other transportCar (electric)"},{"$f":"IF('Emissions Factors'!E326=\"\",\"\",'Emissions Factors'!E326)","v":"km"},{"$f":"IF('Emissions Factors'!F326=\"\",\"\",'Emissions Factors'!F326)","v":"Transport"},{"$f":"IF('Emissions Factors'!G326=\"\",\"\",'Emissions Factors'!G326)","v":5.4796441610738253E-2},{"$f":"IF('Emissions Factors'!H326=\"\",\"\",'Emissions Factors'!H326)","v":"kgCO2e/km"},{"$f":"IF('Emissions Factors'!I326=\"\",\"\",'Emissions Factors'!I326)","v":1E-3},{"$f":"IF('Emissions Factors'!J326=\"\",'Emissions Factors'!F326,'Emissions Factors'!J326)","v":"Carbon factor taken directly from Government Carbon Factors 2023: Business Travel > Cars > Average Battery Electric"},null,0,null,null,{"$f":"LEN(H324)","v":15},{"$f":"LEN(I324)","v":14}]
[null,{"$f":"'Emissions Factors'!B327","v":0},{"$f":"'Emissions Factors'!C327","v":0},{"$f":"'Emissions Factors'!D327","v":"Car (plug in hybrid electric)"},null,null,"Business and employee transport","Other transport","Car (plug in hybrid electric)","Other transportCar (plug in hybrid electric)",{"$f":"IF('Emissions Factors'!E327=\"\",\"\",'Emissions Factors'!E327)","v":"km"},{"$f":"IF('Emissions Factors'!F327=\"\",\"\",'Emissions Factors'!F327)","v":"Transport"},{"$f":"IF('Emissions Factors'!G327=\"\",\"\",'Emissions Factors'!G327)","v":9.3916412080536915E-2},{"$f":"IF('Emissions Factors'!H327=\"\",\"\",'Emissions Factors'!H327)","v":"kgCO2e/km"},{"$f":"IF('Emissions Factors'!I327=\"\",\"\",'Emissions Factors'!I327)","v":1E-3},{"$f":"IF('Emissions Factors'!J327=\"\",'Emissions Factors'!F327,'Emissions Factors'!J327)","v":"Carbon factor taken directly from Government Carbon Factors 2023: Business Travel > Cars > Plug-in Hybrid Electric Vehicle"},null,0,null,null,15,29]
[null,{"$f":"'Emissions Factors'!B328","v":0},{"$f":"'Emissions Factors'!C328","v":0},{"$f":"'Emissions Factors'!D328","v":"Car (hybrid)"},null,null,{"$f":"IF(B326=0,G323,B326)","v":"Business and employee transport"},{"$f":"IF(C326=0,H323,C326)","v":"Other transport"},{"$f":"IF(D326=0,I323,D326)","v":"Car (hybrid)"},"Other transportCar (hybrid)",{"$f":"IF('Emissions Factors'!E328=\"\",\"\",'Emissions Factors'!E328)","v":"km"},{"$f":"IF('Emissions Factors'!F328=\"\",\"\",'Emissions Factors'!F328)","v":"Transport"},{"$f":"IF('Emissions Factors'!G328=\"\",\"\",'Emissions Factors'!G328)","v":0.11897858791946307},{"$f":"IF('Emissions Factors'!H328=\"\",\"\",'Emissions Factors'!H328)","v":"kgCO2e/km"},{"$f":"IF('Emissions Factors'!I328=\"\",\"\",'Emissions Factors'!I328)","v":1E-3},{"$f":"IF('Emissions Factors'!J328=\"\",'Emissions Factors'!F328,'Emissions Factors'!J328)","v":"Carbon factor taken directly from Government Carbon Factors 2023: Business Travel > Cars > Hybrid"},null,0,null,null,15,12]
[null,{"$f":"'Emissions Factors'!B329","v":"Waste"},{"$f":"'Emissions Factors'!C329","v":"Mixed construction & demolition waste"},{"$f":"'Emissions Factors'!D329","v":"Recycled"},null,null,{"$f":"IF(B327=0,G318,B327)","v":"Waste"},{"$f":"IF(C327=0,H318,C327)","v":"Mixed construction & demolition waste"},{"$f":"IF(D327=0,I318,D327)","v":"Recycled"},"Mixed construction & demolition wasteRecycled",{"$f":"IF('Emissions Factors'!E329=\"\",\"\",'Emissions Factors'!E329)","v":"tonnes"},{"$f":"IF('Emissions Factors'!F329=\"\",\"\",'Emissions Factors'!F329)","v":"Waste"},{"$f":"IF('Emissions Factors'!G329=\"\",\"\",'Emissions Factors'!G329)","v":9.8499999999999998E-4},{"$f":"IF('Emissions Factors'!H329=\"\",\"\",'Emissions Factors'!H329)","v":"tCO2e/t"},{"$f":"IF('Emissions Factors'!I329=\"\",\"\",'Emissions Factors'!I329)","v":1},{"$f":"IF('Emissions Factors'!J329=\"\",'Emissions Factors'!F329,'Emissions Factors'!J329)","v":"Carbon factor taken directly from Government Carbon Factors 2023: Waste disposal > Average Construction"},null,0,null,null,37,8]
[null,{"$f":"'Emissions Factors'!B330","v":0},{"$f":"'Emissions Factors'!C330","v":0},{"$f":"'Emissions Factors'!D330","v":"Incineration (with energy recovery)"},null,null,"Waste","Mixed construction & demolition waste","Incineration (with energy recovery)","Mixed construction & demolition wasteIncineration (with energy recovery)",{"$f":"IF('Emissions Factors'!E330=\"\",\"\",'Emissions Factors'!E330)","v":"tonnes"},{"$f":"IF('Emissions Factors'!F330=\"\",\"\",'Emissions Factors'!F330)","v":"Waste"},{"$f":"IF('Emissions Factors'!G330=\"\",\"\",'Emissions Factors'!G330)","v":2.1280807236876299E-2},{"$f":"IF('Emissions Factors'!H330=\"\",\"\",'Emissions Factors'!H330)","v":"tCO2e/t"},{"$f":"IF('Emissions Factors'!I330=\"\",\"\",'Emissions Factors'!I330)","v":1},{"$f":"IF('Emissions Factors'!J330=\"\",'Emissions Factors'!F330,'Emissions Factors'!J330)","v":"Carbon factor taken directly from Government Carbon Factors 2023: Waste disposal > Average of all construction wastes"},null,0,null,null,37,35]
[null,{"$f":"'Emissions Factors'!B331","v":0},{"$f":"'Emissions Factors'!C331","v":0},{"$f":"'Emissions Factors'!D331","v":"Landfill"},null,null,"Waste","Mixed construction & demolition waste","Landfill","Mixed construction & demolition wasteLandfill",{"$f":"IF('Emissions Factors'!E331=\"\",\"\",'Emissions Factors'!E331)","v":"tonnes"},{"$f":"IF('Emissions Factors'!F331=\"\",\"\",'Emissions Factors'!F331)","v":"Waste"},{"$f":"IF('Emissions Factors'!G331=\"\",\"\",'Emissions Factors'!G331)","v":0.10299999999999999},{"$f":"IF('Emissions Factors'!H331=\"\",\"\",'Emissions Factors'!H331)","v":"tCO2e/t"},{"$f":"IF('Emissions Factors'!I331=\"\",\"\",'Emissions Factors'!I331)","v":1},{"$f":"IF('Emissions Factors'!J331=\"\",'Emissions Factors'!F331,'Emissions Factors'!J331)","v":"Carbon factor taken directly from Government Carbon Factors 2023: Waste disposal > Average of all construction wastes"},null,0,null,null,37,8]
[null,{"$f":"'Emissions Factors'!B332","v":0},{"$f":"'Emissions Factors'!C332","v":"General Office Waste"},{"$f":"'Emissions Factors'!D332","v":"Recycled"},null,null,"Waste","General Office Waste","Recycled","General Office WasteRecycled",{"$f":"IF('Emissions Factors'!E332=\"\",\"\",'Emissions Factors'!E332)","v":"tonnes"},{"$f":"IF('Emissions Factors'!F332=\"\",\"\",'Emissions Factors'!F332)","v":"Waste"},{"$f":"IF('Emissions Factors'!G332=\"\",\"\",'Emissions Factors'!G332)","v":2.128080723687633E-2},{"$f":"IF('Emissions Factors'!H332=\"\",\"\",'Emissions Factors'!H332)","v":"tCO2e/t"},{"$f":"IF('Emissions Factors'!I332=\"\",\"\",'Emissions Factors'!I332)","v":1},{"$f":"IF('Emissions Factors'!J332=\"\",'Emissions Factors'!F332,'Emissions Factors'!J332)","v":"Carbon factor taken directly from Government Carbon Factors 2023: Waste disposal > Refuse > Commercial and industrial."},null,0,null,null,20,8]
[null,{"$f":"'Emissions Factors'!B333","v":0},{"$f":"'Emissions Factors'!C333","v":0},{"$f":"'Emissions Factors'!D333","v":"Incineration (with energy recovery)"},null,null,"Waste","General Office Waste","Incineration (with energy recovery)","General Office WasteIncineration (with energy recovery)",{"$f":"IF('Emissions Factors'!E333=\"\",\"\",'Emissions Factors'!E333)","v":"tonnes"},{"$f":"IF('Emissions Factors'!F333=\"\",\"\",'Emissions Factors'!F333)","v":"Waste"},{"$f":"IF('Emissions Factors'!G333=\"\",\"\",'Emissions Factors'!G333)","v":2.128080723687633E-2},{"$f":"IF('Emissions Factors'!H333=\"\",\"\",'Emissions Factors'!H333)","v":"tCO2e/t"},{"$f":"IF('Emissions Factors'!I333=\"\",\"\",'Emissions Factors'!I333)","v":1},{"$f":"IF('Emissions Factors'!J333=\"\",'Emissions Factors'!F333,'Emissions Factors'!J333)","v":"Carbon factor taken directly from Government Carbon Factors 2023: Waste disposal > Refuse > Commercial and industrial."},null,0,null,null,20,35]
[null,{"$f":"'Emissions Factors'!B334","v":0},{"$f":"'Emissions Factors'!C334","v":0},{"$f":"'Emissions Factors'!D334","v":"Landfill"},null,null,"Waste","General Office Waste","Landfill","General Office WasteLandfill",{"$f":"IF('Emissions Factors'!E334=\"\",\"\",'Emissions Factors'!E334)","v":"tonnes"},{"$f":"IF('Emissions Factors'!F334=\"\",\"\",'Emissions Factors'!F334)","v":"Waste"},{"$f":"IF('Emissions Factors'!G334=\"\",\"\",'Emissions Factors'!G334)","v":0.52033499999999999},{"$f":"IF('Emissions Factors'!H334=\"\",\"\",'Emissions Factors'!H334)","v":"tCO2e/t"},{"$f":"IF('Emissions Factors'!I334=\"\",\"\",'Emissions Factors'!I334)","v":1},{"$f":"IF('Emissions Factors'!J334=\"\",'Emissions Factors'!F334,'Emissions Factors'!J334)","v":"Carbon factor taken directly from Government Carbon Factors 2023: Waste disposal > Refuse > Commercial and industrial."},null,0,null,null,20,8]
[null,{"$f":"'Emissions Factors'!B335","v":0},{"$f":"'Emissions Factors'!C335","v":"Organic waste"},{"$f":"'Emissions Factors'!D335","v":"Incineration (with energy recovery)"},null,null,"Waste","Organic waste","Incineration (with energy recovery)","Organic wasteIncineration (with energy recovery)",{"$f":"IF('Emissions Factors'!E335=\"\",\"\",'Emissions Factors'!E335)","v":"tonnes"},{"$f":"IF('Emissions Factors'!F335=\"\",\"\",'Emissions Factors'!F335)","v":"Waste"},{"$f":"IF('Emissions Factors'!G335=\"\",\"\",'Emissions Factors'!G335)","v":2.128080723687633E-2},{"$f":"IF('Emissions Factors'!H335=\"\",\"\",'Emissions Factors'!H335)","v":"tCO2e/t"},{"$f":"IF('Emissions Factors'!I335=\"\",\"\",'Emissions Factors'!I335)","v":1},{"$f":"IF('Emissions Factors'!J335=\"\",'Emissions Factors'!F335,'Emissions Factors'!J335)","v":"Carbon factor taken directly from Government Carbon Factors 2023: Waste disposal > Organic garden waste > combustion."},null,0,null,null,13,35]
[null,{"$f":"'Emissions Factors'!B336","v":0},{"$f":"'Emissions Factors'!C336","v":0},{"$f":"'Emissions Factors'!D336","v":"Composting"},null,null,"Waste","Organic waste","Composting","Organic wasteComposting",{"$f":"IF('Emissions Factors'!E336=\"\",\"\",'Emissions Factors'!E336)","v":"tonnes"},{"$f":"IF('Emissions Factors'!F336=\"\",\"\",'Emissions Factors'!F336)","v":"Waste"},{"$f":"IF('Emissions Factors'!G336=\"\",\"\",'Emissions Factors'!G336)","v":8.9124217106289986E-3},{"$f":"IF('Emissions Factors'!H336=\"\",\"\",'Emissions Factors'!H336)","v":"tCO2e/t"},{"$f":"IF('Emissions Factors'!I336=\"\",\"\",'Emissions Factors'!I336)","v":1},{"$f":"IF('Emissions Factors'!J336=\"\",'Emissions Factors'!F336,'Emissions Factors'!J336)","v":"Carbon factor taken directly from Government Carbon Factors 2023: Waste disposal > Organic garden waste > composting."},null,0,null,null,13,10]
[null,{"$f":"'Emissions Factors'!B337","v":0},{"$f":"'Emissions Factors'!C337","v":0},{"$f":"'Emissions Factors'!D337","v":"Landfill"},null,null,"Waste","Organic waste","Landfill","Organic wasteLandfill",{"$f":"IF('Emissions Factors'!E337=\"\",\"\",'Emissions Factors'!E337)","v":"tonnes"},{"$f":"IF('Emissions Factors'!F337=\"\",\"\",'Emissions Factors'!F337)","v":"Waste"},{"$f":"IF('Emissions Factors'!G337=\"\",\"\",'Emissions Factors'!G337)","v":0.64660659082531513},{"$f":"IF('Emissions Factors'!H337=\"\",\"\",'Emissions Factors'!H337)","v":"tCO2e/t"},{"$f":"IF('Emissions Factors'!I337=\"\",\"\",'Emissions Factors'!I337)","v":1},{"$f":"IF('Emissions Factors'!J337=\"\",'Emissions Factors'!F337,'Emissions Factors'!J337)","v":"Carbon factor taken directly from Government Carbon Factors 2023: Waste disposal > Organic garden waste > Landfill."},null,0,null,null,13,8]
[null,{"$f":"'Emissions Factors'!B338","v":0},{"$f":"'Emissions Factors'!C338","v":"Plastic "},{"$f":"'Emissions Factors'!D338","v":"Recycled"},null,null,"Waste","Plastic ","Recycled","Plastic Recycled",{"$f":"IF('Emissions Factors'!E338=\"\",\"\",'Emissions Factors'!E338)","v":"tonnes"},{"$f":"IF('Emissions Factors'!F338=\"\",\"\",'Emissions Factors'!F338)","v":"Waste"},{"$f":"IF('Emissions Factors'!G338=\"\",\"\",'Emissions Factors'!G338)","v":2.128080723687633E-2},{"$f":"IF('Emissions Factors'!H338=\"\",\"\",'Emissions Factors'!H338)","v":"tCO2e/t"},{"$f":"IF('Emissions Factors'!I338=\"\",\"\",'Emissions Factors'!I338)","v":1},{"$f":"IF('Emissions Factors'!J338=\"\",'Emissions Factors'!F338,'Emissions Factors'!J338)","v":"Carbon factor taken directly from Government Carbon Factors 2023. Waste disposal > Plastic > Average plastic"},null,0,null,null,8,8]
[null,{"$f":"'Emissions Factors'!B339","v":0},{"$f":"'Emissions Factors'!C339","v":0},{"$f":"'Emissions Factors'!D339","v":"Incineration (with energy recovery)"},null,null,"Waste","Plastic ","Incineration (with energy recovery)","Plastic Incineration (with energy recovery)",{"$f":"IF('Emissions Factors'!E339=\"\",\"\",'Emissions Factors'!E339)","v":"tonnes"},{"$f":"IF('Emissions Factors'!F339=\"\",\"\",'Emissions Factors'!F339)","v":"Waste"},{"$f":"IF('Emissions Factors'!G339=\"\",\"\",'Emissions Factors'!G339)","v":2.128080723687633E-2},{"$f":"IF('Emissions Factors'!H339=\"\",\"\",'Emissions Factors'!H339)","v":"tCO2e/t"},{"$f":"IF('Emissions Factors'!I339=\"\",\"\",'Emissions Factors'!I339)","v":1},{"$f":"IF('Emissions Factors'!J339=\"\",'Emissions Factors'!F339,'Emissions Factors'!J339)","v":"Carbon factor taken directly from Government Carbon Factors 2023. Waste disposal > Plastic > Average plastic"},null,0,null,null,8,35]
[null,{"$f":"'Emissions Factors'!B340","v":0},{"$f":"'Emissions Factors'!C340","v":0},{"$f":"'Emissions Factors'!D340","v":"Landfill"},null,null,"Waste","Plastic ","Landfill","Plastic Landfill",{"$f":"IF('Emissions Factors'!E340=\"\",\"\",'Emissions Factors'!E340)","v":"tonnes"},{"$f":"IF('Emissions Factors'!F340=\"\",\"\",'Emissions Factors'!F340)","v":"Waste"},{"$f":"IF('Emissions Factors'!G340=\"\",\"\",'Emissions Factors'!G340)","v":8.8841301316268644E-3},{"$f":"IF('Emissions Factors'!H340=\"\",\"\",'Emissions Factors'!H340)","v":"tCO2e/t"},{"$f":"IF('Emissions Factors'!I340=\"\",\"\",'Emissions Factors'!I340)","v":1},{"$f":"IF('Emissions Factors'!J340=\"\",'Emissions Factors'!F340,'Emissions Factors'!J340)","v":"Carbon factor taken directly from Government Carbon Factors 2023. Waste disposal > Plastic > Average plastic"},null,0,null,null,8,8]
[null,{"$f":"'Emissions Factors'!B341","v":0},{"$f":"'Emissions Factors'!C341","v":"Glass"},{"$f":"'Emissions Factors'!D341","v":"Recycled"},null,null,"Waste","Glass","Recycled","GlassRecycled",{"$f":"IF('Emissions Factors'!E341=\"\",\"\",'Emissions Factors'!E341)","v":"tonnes"},{"$f":"IF('Emissions Factors'!F341=\"\",\"\",'Emissions Factors'!F341)","v":"Waste"},{"$f":"IF('Emissions Factors'!G341=\"\",\"\",'Emissions Factors'!G341)","v":2.128080723687633E-2},{"$f":"IF('Emissions Factors'!H341=\"\",\"\",'Emissions Factors'!H341)","v":"tCO2e/t"},{"$f":"IF('Emissions Factors'!I341=\"\",\"\",'Emissions Factors'!I341)","v":1},{"$f":"IF('Emissions Factors'!J341=\"\",'Emissions Factors'!F341,'Emissions Factors'!J341)","v":"Carbon factor taken directly from Government Carbon Factors 2023. Waste disposal > Other > Glass"},null,0,null,null,5,8]
[null,{"$f":"'Emissions Factors'!B342","v":0},{"$f":"'Emissions Factors'!C342","v":0},{"$f":"'Emissions Factors'!D342","v":"Incineration (with energy recovery)"},null,null,"Waste","Glass","Incineration (with energy recovery)","GlassIncineration (with energy recovery)",{"$f":"IF('Emissions Factors'!E342=\"\",\"\",'Emissions Factors'!E342)","v":"tonnes"},{"$f":"IF('Emissions Factors'!F342=\"\",\"\",'Emissions Factors'!F342)","v":"Waste"},{"$f":"IF('Emissions Factors'!G342=\"\",\"\",'Emissions Factors'!G342)","v":2.128080723687633E-2},{"$f":"IF('Emissions Factors'!H342=\"\",\"\",'Emissions Factors'!H342)","v":"tCO2e/t"},{"$f":"IF('Emissions Factors'!I342=\"\",\"\",'Emissions Factors'!I342)","v":1},{"$f":"IF('Emissions Factors'!J342=\"\",'Emissions Factors'!F342,'Emissions Factors'!J342)","v":"Carbon factor taken directly from Government Carbon Factors 2023. Waste disposal > Other > Glass"},null,0,null,null,5,35]
[null,{"$f":"'Emissions Factors'!B343","v":0},{"$f":"'Emissions Factors'!C343","v":0},{"$f":"'Emissions Factors'!D343","v":"Landfill"},null,null,"Waste","Glass","Landfill","GlassLandfill",{"$f":"IF('Emissions Factors'!E343=\"\",\"\",'Emissions Factors'!E343)","v":"tonnes"},{"$f":"IF('Emissions Factors'!F343=\"\",\"\",'Emissions Factors'!F343)","v":"Waste"},{"$f":"IF('Emissions Factors'!G343=\"\",\"\",'Emissions Factors'!G343)","v":8.8841301316268644E-3},{"$f":"IF('Emissions Factors'!H343=\"\",\"\",'Emissions Factors'!H343)","v":"tCO2e/t"},{"$f":"IF('Emissions Factors'!I343=\"\",\"\",'Emissions Factors'!I343)","v":1},{"$f":"IF('Emissions Factors'!J343=\"\",'Emissions Factors'!F343,'Emissions Factors'!J343)","v":"Carbon factor taken directly from Government Carbon Factors 2023. Waste disposal > Other > Glass"},null,0,null,null,5,8]
[null,{"$f":"'Emissions Factors'!B344","v":0},{"$f":"'Emissions Factors'!C344","v":"Concrete, brick, tiles and ceramics"},{"$f":"'Emissions Factors'!D344","v":"Recycled"},null,null,{"$f":"IF(B342=0,G341,B342)","v":"Waste"},{"$f":"IF(C342=0,H341,C342)","v":"Concrete, brick, tiles and ceramics"},{"$f":"IF(D342=0,I341,D342)","v":"Recycled"},{"$f":"H342&I342","v":"Concrete, brick, tiles and ceramicsRecycled"},{"$f":"IF('Emissions Factors'!E344=\"\",\"\",'Emissions Factors'!E344)","v":"tonnes"},{"$f":"IF('Emissions Factors'!F344=\"\",\"\",'Emissions Factors'!F344)","v":"Waste"},{"$f":"IF('Emissions Factors'!G344=\"\",\"\",'Emissions Factors'!G344)","v":9.8491172324161069E-4},{"$f":"IF('Emissions Factors'!H344=\"\",\"\",'Emissions Factors'!H344)","v":"tCO2e/t"},{"$f":"IF('Emissions Factors'!I344=\"\",\"\",'Emissions Factors'!I344)","v":1},{"$f":"IF('Emissions Factors'!J344=\"\",'Emissions Factors'!F344,'Emissions Factors'!J344)","v":"Carbon factor taken directly from Government Carbon Factors 2023. Waste disposal > Construction > Concrete / Brick"},null,0,null,null,35,8]
[null,{"$f":"'Emissions Factors'!B345","v":0},{"$f":"'Emissions Factors'!C345","v":0},{"$f":"'Emissions Factors'!D345","v":"Reuse off site"},null,null,"Waste","Concrete, brick, tiles and ceramics","Reuse off site","Concrete, brick, tiles and ceramicsReuse off site",{"$f":"IF('Emissions Factors'!E345=\"\",\"\",'Emissions Factors'!E345)","v":"tonnes"},{"$f":"IF('Emissions Factors'!F345=\"\",\"\",'Emissions Factors'!F345)","v":"Waste"},{"$f":"IF('Emissions Factors'!G345=\"\",\"\",'Emissions Factors'!G345)","v":0},{"$f":"IF('Emissions Factors'!H345=\"\",\"\",'Emissions Factors'!H345)","v":"tCO2e/t"},{"$f":"IF('Emissions Factors'!I345=\"\",\"\",'Emissions Factors'!I345)","v":1},{"$f":"IF('Emissions Factors'!J345=\"\",'Emissions Factors'!F345,'Emissions Factors'!J345)","v":"The carbon emissions factor is zero and no direct carbon emissions will be accounted for. Transport emissions should still be captured."},null,1,null,null,35,14]
[null,{"$f":"'Emissions Factors'!B346","v":0},{"$f":"'Emissions Factors'!C346","v":0},{"$f":"'Emissions Factors'!D346","v":"Landfill"},null,null,"Waste","Concrete, brick, tiles and ceramics","Landfill","Concrete, brick, tiles and ceramicsLandfill",{"$f":"IF('Emissions Factors'!E346=\"\",\"\",'Emissions Factors'!E346)","v":"tonnes"},{"$f":"IF('Emissions Factors'!F346=\"\",\"\",'Emissions Factors'!F346)","v":"Waste"},{"$f":"IF('Emissions Factors'!G346=\"\",\"\",'Emissions Factors'!G346)","v":1.2340139100536914E-3},{"$f":"IF('Emissions Factors'!H346=\"\",\"\",'Emissions Factors'!H346)","v":"tCO2e/t"},{"$f":"IF('Emissions Factors'!I346=\"\",\"\",'Emissions Factors'!I346)","v":1},{"$f":"IF('Emissions Factors'!J346=\"\",'Emissions Factors'!F346,'Emissions Factors'!J346)","v":"Carbon factor taken directly from Government Carbon Factors 2023. Waste disposal > Construction > Concrete / Brick"},null,0,null,null,35,8]
[null,{"$f":"'Emissions Factors'!B347","v":0},{"$f":"'Emissions Factors'!C347","v":"Wood/Timber"},{"$f":"'Emissions Factors'!D347","v":"Recycled"},null,null,"Waste","Wood/Timber","Recycled","Wood/TimberRecycled",{"$f":"IF('Emissions Factors'!E347=\"\",\"\",'Emissions Factors'!E347)","v":"tonnes"},{"$f":"IF('Emissions Factors'!F347=\"\",\"\",'Emissions Factors'!F347)","v":"Waste"},{"$f":"IF('Emissions Factors'!G347=\"\",\"\",'Emissions Factors'!G347)","v":2.128080723687633E-2},{"$f":"IF('Emissions Factors'!H347=\"\",\"\",'Emissions Factors'!H347)","v":"tCO2e/t"},{"$f":"IF('Emissions Factors'!I347=\"\",\"\",'Emissions Factors'!I347)","v":1},{"$f":"IF('Emissions Factors'!J347=\"\",'Emissions Factors'!F347,'Emissions Factors'!J347)","v":"Carbon factor taken directly from Government Carbon Factors 2023. Waste disposal > Construction > Wood"},null,0,null,null,11,8]
[null,{"$f":"'Emissions Factors'!B348","v":0},{"$f":"'Emissions Factors'!C348","v":0},{"$f":"'Emissions Factors'!D348","v":"Reuse off site"},null,null,"Waste","Wood/Timber","Reuse off site","Wood/TimberReuse off site",{"$f":"IF('Emissions Factors'!E348=\"\",\"\",'Emissions Factors'!E348)","v":"tonnes"},{"$f":"IF('Emissions Factors'!F348=\"\",\"\",'Emissions Factors'!F348)","v":"Waste"},{"$f":"IF('Emissions Factors'!G348=\"\",\"\",'Emissions Factors'!G348)","v":0},{"$f":"IF('Emissions Factors'!H348=\"\",\"\",'Emissions Factors'!H348)","v":"tCO2e/t"},{"$f":"IF('Emissions Factors'!I348=\"\",\"\",'Emissions Factors'!I348)","v":1},{"$f":"IF('Emissions Factors'!J348=\"\",'Emissions Factors'!F348,'Emissions Factors'!J348)","v":"The carbon emissions factor is zero and no direct carbon emissions will be accounted for. Transport emissions should still be captured."},null,1,null,null,11,14]
[null,{"$f":"'Emissions Factors'!B349","v":0},{"$f":"'Emissions Factors'!C349","v":0},{"$f":"'Emissions Factors'!D349","v":"Incineration (with energy recovery)"},null,null,"Waste","Wood/Timber","Incineration (with energy recovery)","Wood/TimberIncineration (with energy recovery)",{"$f":"IF('Emissions Factors'!E349=\"\",\"\",'Emissions Factors'!E349)","v":"tonnes"},{"$f":"IF('Emissions Factors'!F349=\"\",\"\",'Emissions Factors'!F349)","v":"Waste"},{"$f":"IF('Emissions Factors'!G349=\"\",\"\",'Emissions Factors'!G349)","v":2.128080723687633E-2},{"$f":"IF('Emissions Factors'!H349=\"\",\"\",'Emissions Factors'!H349)","v":"tCO2e/t"},{"$f":"IF('Emissions Factors'!I349=\"\",\"\",'Emissions Factors'!I349)","v":1},{"$f":"IF('Emissions Factors'!J349=\"\",'Emissions Factors'!F349,'Emissions Factors'!J349)","v":"Carbon factor taken directly from Government Carbon Factors 2023. Waste disposal > Construction > Wood"},null,0,null,null,11,35]
[null,{"$f":"'Emissions Factors'!B350","v":0},{"$f":"'Emissions Factors'!C350","v":0},{"$f":"'Emissions Factors'!D350","v":"Composting"},null,null,"Waste","Wood/Timber","Composting","Wood/TimberComposting",{"$f":"IF('Emissions Factors'!E350=\"\",\"\",'Emissions Factors'!E350)","v":"tonnes"},{"$f":"IF('Emissions Factors'!F350=\"\",\"\",'Emissions Factors'!F350)","v":"Waste"},{"$f":"IF('Emissions Factors'!G350=\"\",\"\",'Emissions Factors'!G350)","v":8.9124217106289986E-3},{"$f":"IF('Emissions Factors'!H350=\"\",\"\",'Emissions Factors'!H350)","v":"tCO2e/t"},{"$f":"IF('Emissions Factors'!I350=\"\",\"\",'Emissions Factors'!I350)","v":1},{"$f":"IF('Emissions Factors'!J350=\"\",'Emissions Factors'!F350,'Emissions Factors'!J350)","v":"Carbon factor taken directly from Government Carbon Factors 2023. Waste disposal > Construction > Wood"},null,0,null,null,11,10]
[null,{"$f":"'Emissions Factors'!B351","v":0},{"$f":"'Emissions Factors'!C351","v":0},{"$f":"'Emissions Factors'!D351","v":"Landfill"},null,null,"Waste","Wood/Timber","Landfill","Wood/TimberLandfill",{"$f":"IF('Emissions Factors'!E351=\"\",\"\",'Emissions Factors'!E351)","v":"tonnes"},{"$f":"IF('Emissions Factors'!F351=\"\",\"\",'Emissions Factors'!F351)","v":"Waste"},{"$f":"IF('Emissions Factors'!G351=\"\",\"\",'Emissions Factors'!G351)","v":0.92524450083024101},{"$f":"IF('Emissions Factors'!H351=\"\",\"\",'Emissions Factors'!H351)","v":"tCO2e/t"},{"$f":"IF('Emissions Factors'!I351=\"\",\"\",'Emissions Factors'!I351)","v":1},{"$f":"IF('Emissions Factors'!J351=\"\",'Emissions Factors'!F351,'Emissions Factors'!J351)","v":"Carbon factor taken directly from Government Carbon Factors 2023. Waste disposal > Construction > Wood"},null,0,null,null,11,8]
[null,{"$f":"'Emissions Factors'!B352","v":0},{"$f":"'Emissions Factors'!C352","v":"Bituminous mixtures"},{"$f":"'Emissions Factors'!D352","v":"Recycled"},null,null,"Waste","Bituminous mixtures","Recycled","Bituminous mixturesRecycled",{"$f":"IF('Emissions Factors'!E352=\"\",\"\",'Emissions Factors'!E352)","v":"tonnes"},{"$f":"IF('Emissions Factors'!F352=\"\",\"\",'Emissions Factors'!F352)","v":"Waste"},{"$f":"IF('Emissions Factors'!G352=\"\",\"\",'Emissions Factors'!G352)","v":9.8491172324161069E-4},{"$f":"IF('Emissions Factors'!H352=\"\",\"\",'Emissions Factors'!H352)","v":"tCO2e/t"},{"$f":"IF('Emissions Factors'!I352=\"\",\"\",'Emissions Factors'!I352)","v":1},{"$f":"IF('Emissions Factors'!J352=\"\",'Emissions Factors'!F352,'Emissions Factors'!J352)","v":"Carbon factor taken directly from Government Carbon Factors 2023. Waste disposal > Construction > Asphalt"},null,0,null,null,19,8]
[null,{"$f":"'Emissions Factors'!B353","v":0},{"$f":"'Emissions Factors'!C353","v":0},{"$f":"'Emissions Factors'!D353","v":"Reuse off site"},null,null,"Waste","Bituminous mixtures","Reuse off site","Bituminous mixturesReuse off site",{"$f":"IF('Emissions Factors'!E353=\"\",\"\",'Emissions Factors'!E353)","v":"tonnes"},{"$f":"IF('Emissions Factors'!F353=\"\",\"\",'Emissions Factors'!F353)","v":"Waste"},{"$f":"IF('Emissions Factors'!G353=\"\",\"\",'Emissions Factors'!G353)","v":0},{"$f":"IF('Emissions Factors'!H353=\"\",\"\",'Emissions Factors'!H353)","v":"tCO2e/t"},{"$f":"IF('Emissions Factors'!I353=\"\",\"\",'Emissions Factors'!I353)","v":1},{"$f":"IF('Emissions Factors'!J353=\"\",'Emissions Factors'!F353,'Emissions Factors'!J353)","v":"The carbon emissions factor is zero and no direct carbon emissions will be accounted for. Transport emissions should still be captured."},null,1,null,null,19,14]
[null,{"$f":"'Emissions Factors'!B354","v":0},{"$f":"'Emissions Factors'!C354","v":0},{"$f":"'Emissions Factors'!D354","v":"Landfill"},null,null,"Waste","Bituminous mixtures","Landfill","Bituminous mixturesLandfill",{"$f":"IF('Emissions Factors'!E354=\"\",\"\",'Emissions Factors'!E354)","v":"tonnes"},{"$f":"IF('Emissions Factors'!F354=\"\",\"\",'Emissions Factors'!F354)","v":"Waste"},{"$f":"IF('Emissions Factors'!G354=\"\",\"\",'Emissions Factors'!G354)","v":1.2340139100536914E-3},{"$f":"IF('Emissions Factors'!H354=\"\",\"\",'Emissions Factors'!H354)","v":"tCO2e/t"},{"$f":"IF('Emissions Factors'!I354=\"\",\"\",'Emissions Factors'!I354)","v":1},{"$f":"IF('Emissions Factors'!J354=\"\",'Emissions Factors'!F354,'Emissions Factors'!J354)","v":"Carbon factor taken directly from Government Carbon Factors 2023. Waste disposal > Construction > Asphalt"},null,0,null,null,19,8]
[null,{"$f":"'Emissions Factors'!B355","v":0},{"$f":"'Emissions Factors'!C355","v":"Mixed metals"},{"$f":"'Emissions Factors'!D355","v":"Recycled"},null,null,"Waste","Mixed metals","Recycled","Mixed metalsRecycled",{"$f":"IF('Emissions Factors'!E355=\"\",\"\",'Emissions Factors'!E355)","v":"tonnes"},{"$f":"IF('Emissions Factors'!F355=\"\",\"\",'Emissions Factors'!F355)","v":"Waste"},{"$f":"IF('Emissions Factors'!G355=\"\",\"\",'Emissions Factors'!G355)","v":2.128080723687633E-2},{"$f":"IF('Emissions Factors'!H355=\"\",\"\",'Emissions Factors'!H355)","v":"tCO2e/t"},{"$f":"IF('Emissions Factors'!I355=\"\",\"\",'Emissions Factors'!I355)","v":1},{"$f":"IF('Emissions Factors'!J355=\"\",'Emissions Factors'!F355,'Emissions Factors'!J355)","v":"Carbon factor taken directly from Government Carbon Factors 2023. Waste disposal > Metal"},null,0,null,null,12,8]
[null,{"$f":"'Emissions Factors'!B356","v":0},{"$f":"'Emissions Factors'!C356","v":0},{"$f":"'Emissions Factors'!D356","v":"Incineration (with energy recovery)"},null,null,"Waste","Mixed metals","Incineration (with energy recovery)","Mixed metalsIncineration (with energy recovery)",{"$f":"IF('Emissions Factors'!E356=\"\",\"\",'Emissions Factors'!E356)","v":"tonnes"},{"$f":"IF('Emissions Factors'!F356=\"\",\"\",'Emissions Factors'!F356)","v":"Waste"},{"$f":"IF('Emissions Factors'!G356=\"\",\"\",'Emissions Factors'!G356)","v":2.128080723687633E-2},{"$f":"IF('Emissions Factors'!H356=\"\",\"\",'Emissions Factors'!H356)","v":"tCO2e/t"},{"$f":"IF('Emissions Factors'!I356=\"\",\"\",'Emissions Factors'!I356)","v":1},{"$f":"IF('Emissions Factors'!J356=\"\",'Emissions Factors'!F356,'Emissions Factors'!J356)","v":"Carbon factor taken directly from Government Carbon Factors 2023. Waste disposal > Metal"},null,0,null,null,12,35]
[null,{"$f":"'Emissions Factors'!B357","v":0},{"$f":"'Emissions Factors'!C357","v":0},{"$f":"'Emissions Factors'!D357","v":"Landfill"},null,null,"Waste","Mixed metals","Landfill","Mixed metalsLandfill",{"$f":"IF('Emissions Factors'!E357=\"\",\"\",'Emissions Factors'!E357)","v":"tonnes"},{"$f":"IF('Emissions Factors'!F357=\"\",\"\",'Emissions Factors'!F357)","v":"Waste"},{"$f":"IF('Emissions Factors'!G357=\"\",\"\",'Emissions Factors'!G357)","v":8.8841301316268644E-3},{"$f":"IF('Emissions Factors'!H357=\"\",\"\",'Emissions Factors'!H357)","v":"tCO2e/t"},{"$f":"IF('Emissions Factors'!I357=\"\",\"\",'Emissions Factors'!I357)","v":1},{"$f":"IF('Emissions Factors'!J357=\"\",'Emissions Factors'!F357,'Emissions Factors'!J357)","v":"Carbon factor taken directly from Government Carbon Factors 2023. Waste disposal > Metal"},null,0,null,null,12,8]
[null,{"$f":"'Emissions Factors'!B358","v":0},{"$f":"'Emissions Factors'!C358","v":"WEEE"},{"$f":"'Emissions Factors'!D358","v":"Recycled"},null,null,"Waste","WEEE","Recycled","WEEERecycled",{"$f":"IF('Emissions Factors'!E358=\"\",\"\",'Emissions Factors'!E358)","v":"tonnes"},{"$f":"IF('Emissions Factors'!F358=\"\",\"\",'Emissions Factors'!F358)","v":"Waste"},{"$f":"IF('Emissions Factors'!G358=\"\",\"\",'Emissions Factors'!G358)","v":2.128080723687633E-2},{"$f":"IF('Emissions Factors'!H358=\"\",\"\",'Emissions Factors'!H358)","v":"tCO2e/t"},{"$f":"IF('Emissions Factors'!I358=\"\",\"\",'Emissions Factors'!I358)","v":1},{"$f":"IF('Emissions Factors'!J358=\"\",'Emissions Factors'!F358,'Emissions Factors'!J358)","v":"Carbon factor taken directly from Government Carbon Factors 2023. Waste disposal > Electrical Items"},null,0,null,null,4,8]
[null,{"$f":"'Emissions Factors'!B359","v":0},{"$f":"'Emissions Factors'!C359","v":0},{"$f":"'Emissions Factors'!D359","v":"Incineration (with energy recovery)"},null,null,"Waste","WEEE","Incineration (with energy recovery)","WEEEIncineration (with energy recovery)",{"$f":"IF('Emissions Factors'!E359=\"\",\"\",'Emissions Factors'!E359)","v":"tonnes"},{"$f":"IF('Emissions Factors'!F359=\"\",\"\",'Emissions Factors'!F359)","v":"Waste"},{"$f":"IF('Emissions Factors'!G359=\"\",\"\",'Emissions Factors'!G359)","v":2.128080723687633E-2},{"$f":"IF('Emissions Factors'!H359=\"\",\"\",'Emissions Factors'!H359)","v":"tCO2e/t"},{"$f":"IF('Emissions Factors'!I359=\"\",\"\",'Emissions Factors'!I359)","v":1},{"$f":"IF('Emissions Factors'!J359=\"\",'Emissions Factors'!F359,'Emissions Factors'!J359)","v":"Carbon factor taken directly from Government Carbon Factors 2023. Waste disposal > Electrical Items"},null,0,null,null,4,35]
[null,{"$f":"'Emissions Factors'!B360","v":0},{"$f":"'Emissions Factors'!C360","v":0},{"$f":"'Emissions Factors'!D360","v":"Landfill"},null,null,"Waste","WEEE","Landfill","WEEELandfill",{"$f":"IF('Emissions Factors'!E360=\"\",\"\",'Emissions Factors'!E360)","v":"tonnes"},{"$f":"IF('Emissions Factors'!F360=\"\",\"\",'Emissions Factors'!F360)","v":"Waste"},{"$f":"IF('Emissions Factors'!G360=\"\",\"\",'Emissions Factors'!G360)","v":8.8841301316268644E-3},{"$f":"IF('Emissions Factors'!H360=\"\",\"\",'Emissions Factors'!H360)","v":"tCO2e/t"},{"$f":"IF('Emissions Factors'!I360=\"\",\"\",'Emissions Factors'!I360)","v":1},{"$f":"IF('Emissions Factors'!J360=\"\",'Emissions Factors'!F360,'Emissions Factors'!J360)","v":"Carbon factor taken directly from Government Carbon Factors 2023. Waste disposal > Electrical Items"},null,0,null,null,4,8]
[null,{"$f":"'Emissions Factors'!B361","v":0},{"$f":"'Emissions Factors'!C361","v":"Paper and cardboard"},{"$f":"'Emissions Factors'!D361","v":"Recycled"},null,null,"Waste","Paper and cardboard","Recycled","Paper and cardboardRecycled",{"$f":"IF('Emissions Factors'!E361=\"\",\"\",'Emissions Factors'!E361)","v":"tonnes"},{"$f":"IF('Emissions Factors'!F361=\"\",\"\",'Emissions Factors'!F361)","v":"Waste"},{"$f":"IF('Emissions Factors'!G361=\"\",\"\",'Emissions Factors'!G361)","v":2.128080723687633E-2},{"$f":"IF('Emissions Factors'!H361=\"\",\"\",'Emissions Factors'!H361)","v":"tCO2e/t"},{"$f":"IF('Emissions Factors'!I361=\"\",\"\",'Emissions Factors'!I361)","v":1},{"$f":"IF('Emissions Factors'!J361=\"\",'Emissions Factors'!F361,'Emissions Factors'!J361)","v":"Carbon factor taken directly from Government Carbon Factors 2023. Waste disposal > Paper and Board mixed"},null,0,null,null,19,8]
[null,{"$f":"'Emissions Factors'!B362","v":0},{"$f":"'Emissions Factors'!C362","v":0},{"$f":"'Emissions Factors'!D362","v":"Incineration (with energy recovery)"},null,null,"Waste","Paper and cardboard","Incineration (with energy recovery)","Paper and cardboardIncineration (with energy recovery)",{"$f":"IF('Emissions Factors'!E362=\"\",\"\",'Emissions Factors'!E362)","v":"tonnes"},{"$f":"IF('Emissions Factors'!F362=\"\",\"\",'Emissions Factors'!F362)","v":"Waste"},{"$f":"IF('Emissions Factors'!G362=\"\",\"\",'Emissions Factors'!G362)","v":2.1280193798449608E-2},{"$f":"IF('Emissions Factors'!H362=\"\",\"\",'Emissions Factors'!H362)","v":"tCO2e/t"},{"$f":"IF('Emissions Factors'!I362=\"\",\"\",'Emissions Factors'!I362)","v":1},{"$f":"IF('Emissions Factors'!J362=\"\",'Emissions Factors'!F362,'Emissions Factors'!J362)","v":"Carbon factor taken directly from Government Carbon Factors 2023. Waste disposal > Paper and Board mixed"},null,0,null,null,19,35]
[null,{"$f":"'Emissions Factors'!B363","v":0},{"$f":"'Emissions Factors'!C363","v":0},{"$f":"'Emissions Factors'!D363","v":"Landfill"},null,null,"Waste","Paper and cardboard","Landfill","Paper and cardboardLandfill",{"$f":"IF('Emissions Factors'!E363=\"\",\"\",'Emissions Factors'!E363)","v":"tonnes"},{"$f":"IF('Emissions Factors'!F363=\"\",\"\",'Emissions Factors'!F363)","v":"Waste"},{"$f":"IF('Emissions Factors'!G363=\"\",\"\",'Emissions Factors'!G363)","v":1.1643904235903739},{"$f":"IF('Emissions Factors'!H363=\"\",\"\",'Emissions Factors'!H363)","v":"tCO2e/t"},{"$f":"IF('Emissions Factors'!I363=\"\",\"\",'Emissions Factors'!I363)","v":1},{"$f":"IF('Emissions Factors'!J363=\"\",'Emissions Factors'!F363,'Emissions Factors'!J363)","v":"Carbon factor taken directly from Government Carbon Factors 2023. Waste disposal > Paper and Board mixed"},null,0,null,null,19,8]
[null,{"$f":"'Emissions Factors'!B364","v":0},{"$f":"'Emissions Factors'!C364","v":"Aggregate and soil exported off-site"},{"$f":"'Emissions Factors'!D364","v":"Recycled"},null,null,"Waste","Aggregate and soil exported off-site","Recycled","Aggregate and soil exported off-siteRecycled",{"$f":"IF('Emissions Factors'!E364=\"\",\"\",'Emissions Factors'!E364)","v":"tonnes"},{"$f":"IF('Emissions Factors'!F364=\"\",\"\",'Emissions Factors'!F364)","v":"Waste"},{"$f":"IF('Emissions Factors'!G364=\"\",\"\",'Emissions Factors'!G364)","v":9.8491172324161069E-4},{"$f":"IF('Emissions Factors'!H364=\"\",\"\",'Emissions Factors'!H364)","v":"tCO2e/t"},{"$f":"IF('Emissions Factors'!I364=\"\",\"\",'Emissions Factors'!I364)","v":1},{"$f":"IF('Emissions Factors'!J364=\"\",'Emissions Factors'!F364,'Emissions Factors'!J364)","v":"Carbon factor taken directly from Government Carbon Factors 2023. Waste disposal > Aggregates"},null,0,null,null,{"$f":"LEN(H362)","v":36},{"$f":"LEN(I362)","v":8}]
[null,{"$f":"'Emissions Factors'!B365","v":0},{"$f":"'Emissions Factors'!C365","v":0},{"$f":"'Emissions Factors'!D365","v":"Re-use off site"},null,null,"Waste","Aggregate and soil exported off-site","Re-use off site","Aggregate and soil exported off-siteRe-use off site",{"$f":"IF('Emissions Factors'!E365=\"\",\"\",'Emissions Factors'!E365)","v":"tonnes"},{"$f":"IF('Emissions Factors'!F365=\"\",\"\",'Emissions Factors'!F365)","v":"Waste"},{"$f":"IF('Emissions Factors'!G365=\"\",\"\",'Emissions Factors'!G365)","v":0},{"$f":"IF('Emissions Factors'!H365=\"\",\"\",'Emissions Factors'!H365)","v":"tCO2e/t"},{"$f":"IF('Emissions Factors'!I365=\"\",\"\",'Emissions Factors'!I365)","v":1},{"$f":"IF('Emissions Factors'!J365=\"\",'Emissions Factors'!F365,'Emissions Factors'!J365)","v":"The carbon emissions factor is zero and no direct carbon emissions will be accounted for. Transport emissions should still be captured."},null,1,null,null,36,15]
[null,{"$f":"'Emissions Factors'!B366","v":0},{"$f":"'Emissions Factors'!C366","v":0},{"$f":"'Emissions Factors'!D366","v":"Landfill"},null,null,"Waste","Aggregate and soil exported off-site","Landfill","Aggregate and soil exported off-siteLandfill",{"$f":"IF('Emissions Factors'!E366=\"\",\"\",'Emissions Factors'!E366)","v":"tonnes"},{"$f":"IF('Emissions Factors'!F366=\"\",\"\",'Emissions Factors'!F366)","v":"Waste"},{"$f":"IF('Emissions Factors'!G366=\"\",\"\",'Emissions Factors'!G366)","v":1.2340139100536914E-3},{"$f":"IF('Emissions Factors'!H366=\"\",\"\",'Emissions Factors'!H366)","v":"tCO2e/t"},{"$f":"IF('Emissions Factors'!I366=\"\",\"\",'Emissions Factors'!I366)","v":1},{"$f":"IF('Emissions Factors'!J366=\"\",'Emissions Factors'!F366,'Emissions Factors'!J366)","v":"Carbon factor taken directly from Government Carbon Factors 2023. Waste disposal > Aggregates"},null,0,null,null,36,8]
[null,{"$f":"'Emissions Factors'!B367","v":0},{"$f":"'Emissions Factors'!C367","v":"Oil and Liquid fuel Waste"},{"$f":"'Emissions Factors'!D367","v":"Recycled"},null,null,"Waste","Oil and Liquid fuel Waste","Recycled","Oil and Liquid fuel WasteRecycled",{"$f":"IF('Emissions Factors'!E367=\"\",\"\",'Emissions Factors'!E367)","v":"tonnes"},{"$f":"IF('Emissions Factors'!F367=\"\",\"\",'Emissions Factors'!F367)","v":"Waste"},{"$f":"IF('Emissions Factors'!G367=\"\",\"\",'Emissions Factors'!G367)","v":2.128080723687633E-2},{"$f":"IF('Emissions Factors'!H367=\"\",\"\",'Emissions Factors'!H367)","v":"tCO2e/t"},{"$f":"IF('Emissions Factors'!I367=\"\",\"\",'Emissions Factors'!I367)","v":1},{"$f":"IF('Emissions Factors'!J367=\"\",'Emissions Factors'!F367,'Emissions Factors'!J367)","v":"Carbon factor taken directly from Government Carbon Factors 2023. Waste disposal > Mineral Oil > Recycled."},null,0,null,null,25,8]
[null,{"$f":"'Emissions Factors'!B368","v":0},{"$f":"'Emissions Factors'!C368","v":0},{"$f":"'Emissions Factors'!D368","v":"Incineration (with energy recovery)"},null,null,"Waste","Oil and Liquid fuel Waste","Incineration (with energy recovery)","Oil and Liquid fuel WasteIncineration (with energy recovery)",{"$f":"IF('Emissions Factors'!E368=\"\",\"\",'Emissions Factors'!E368)","v":"tonnes"},{"$f":"IF('Emissions Factors'!F368=\"\",\"\",'Emissions Factors'!F368)","v":"Waste"},{"$f":"IF('Emissions Factors'!G368=\"\",\"\",'Emissions Factors'!G368)","v":2.128080723687633E-2},{"$f":"IF('Emissions Factors'!H368=\"\",\"\",'Emissions Factors'!H368)","v":"tCO2e/t"},{"$f":"IF('Emissions Factors'!I368=\"\",\"\",'Emissions Factors'!I368)","v":1},{"$f":"IF('Emissions Factors'!J368=\"\",'Emissions Factors'!F368,'Emissions Factors'!J368)","v":"Carbon factor taken directly from Government Carbon Factors 2023. Waste disposal > Mineral Oil > Combustion"},null,0,null,null,25,35]
[null,{"$f":"'Emissions Factors'!B369","v":0},{"$f":"'Emissions Factors'!C369","v":"Hazardous waste "},{"$f":"'Emissions Factors'!D369","v":"Incineration (with energy recovery)"},null,null,"Waste","Hazardous waste ","Incineration (with energy recovery)","Hazardous waste Incineration (with energy recovery)",{"$f":"IF('Emissions Factors'!E369=\"\",\"\",'Emissions Factors'!E369)","v":"tonnes"},{"$f":"IF('Emissions Factors'!F369=\"\",\"\",'Emissions Factors'!F369)","v":"Waste"},{"$f":"IF('Emissions Factors'!G369=\"\",\"\",'Emissions Factors'!G369)","v":2.1294E-2},{"$f":"IF('Emissions Factors'!H369=\"\",\"\",'Emissions Factors'!H369)","v":"tCO2e/t"},{"$f":"IF('Emissions Factors'!I369=\"\",\"\",'Emissions Factors'!I369)","v":1},{"$f":"IF('Emissions Factors'!J369=\"\",'Emissions Factors'!F369,'Emissions Factors'!J369)","v":"Carbon factor taken directly from Government Carbon Factors 2023: Waste disposal > Average incineration factor."},null,0,null,null,16,35]
[null,{"$f":"'Emissions Factors'!B370","v":0},{"$f":"'Emissions Factors'!C370","v":0},{"$f":"'Emissions Factors'!D370","v":"Landfill"},null,null,"Waste","Hazardous waste ","Landfill","Hazardous waste Landfill",{"$f":"IF('Emissions Factors'!E370=\"\",\"\",'Emissions Factors'!E370)","v":"tonnes"},{"$f":"IF('Emissions Factors'!F370=\"\",\"\",'Emissions Factors'!F370)","v":"Waste"},{"$f":"IF('Emissions Factors'!G370=\"\",\"\",'Emissions Factors'!G370)","v":8.8832713178294571E-3},{"$f":"IF('Emissions Factors'!H370=\"\",\"\",'Emissions Factors'!H370)","v":"tCO2e/t"},{"$f":"IF('Emissions Factors'!I370=\"\",\"\",'Emissions Factors'!I370)","v":1},{"$f":"IF('Emissions Factors'!J370=\"\",'Emissions Factors'!F370,'Emissions Factors'!J370)","v":"Carbon factor taken directly from Government Carbon Factors 2023: Waste disposal > Batteries"},null,0,null,null,16,8]
[null,{"$f":"'Emissions Factors'!B371","v":0},{"$f":"'Emissions Factors'!C371","v":"Waste water"},{"$f":"'Emissions Factors'!D371","v":"Waste water treatment"},null,null,{"$f":"IF(B369=0,G368,B369)","v":"Waste"},{"$f":"IF(C369=0,H368,C369)","v":"Waste water"},{"$f":"IF(D369=0,I368,D369)","v":"Waste water treatment"},{"$f":"H369&I369","v":"Waste waterWaste water treatment"},{"$f":"IF('Emissions Factors'!E371=\"\",\"\",'Emissions Factors'!E371)","v":"Litres"},{"$f":"IF('Emissions Factors'!F371=\"\",\"\",'Emissions Factors'!F371)","v":"Energy and Fuel"},{"$f":"IF('Emissions Factors'!G371=\"\",\"\",'Emissions Factors'!G371)","v":2.0131829171065601E-4},{"$f":"IF('Emissions Factors'!H371=\"\",\"\",'Emissions Factors'!H371)","v":"kgCO2e/l"},{"$f":"IF('Emissions Factors'!I371=\"\",\"\",'Emissions Factors'!I371)","v":1E-3},{"$f":"IF('Emissions Factors'!J371=\"\",'Emissions Factors'!F371,'Emissions Factors'!J371)","v":"Carbon factor taken directly from Government Carbon Factors 2023 > Water treatment"},null,0,null,null,{"$f":"LEN(H369)","v":11},{"$f":"LEN(I369)","v":21}]
[null,{"$f":"'Emissions Factors'!B372","v":0},{"$f":"'Emissions Factors'!C372","v":"Gully Waste and road sweepings"},{"$f":"'Emissions Factors'!D372","v":"Recycled"},null,null,{"$f":"IF(B370=0,G368,B370)","v":"Waste"},{"$f":"IF(C370=0,H368,C370)","v":"Gully Waste and road sweepings"},{"$f":"IF(D370=0,I368,D370)","v":"Recycled"},"Gully Waste and road sweepingsRecycled",{"$f":"IF('Emissions Factors'!E372=\"\",\"\",'Emissions Factors'!E372)","v":"tonnes"},{"$f":"IF('Emissions Factors'!F372=\"\",\"\",'Emissions Factors'!F372)","v":"Waste"},{"$f":"IF('Emissions Factors'!G372=\"\",\"\",'Emissions Factors'!G372)","v":9.8491172324161069E-4},{"$f":"IF('Emissions Factors'!H372=\"\",\"\",'Emissions Factors'!H372)","v":"tCO2e/t"},{"$f":"IF('Emissions Factors'!I372=\"\",\"\",'Emissions Factors'!I372)","v":1},{"$f":"IF('Emissions Factors'!J372=\"\",'Emissions Factors'!F372,'Emissions Factors'!J372)","v":"Carbon factor taken directly from Government Carbon Factors 2023: Waste disposal > Average Construction"},null,0,null,null,30,8]
[null,{"$f":"'Emissions Factors'!B373","v":0},{"$f":"'Emissions Factors'!C373","v":0},{"$f":"'Emissions Factors'!D373","v":"Incineration (with energy recovery)"},null,null,"Waste","Gully Waste and road sweepings","Incineration (with energy recovery)","Gully Waste and road sweepingsIncineration (with energy recovery)",{"$f":"IF('Emissions Factors'!E373=\"\",\"\",'Emissions Factors'!E373)","v":"tonnes"},{"$f":"IF('Emissions Factors'!F373=\"\",\"\",'Emissions Factors'!F373)","v":"Waste"},{"$f":"IF('Emissions Factors'!G373=\"\",\"\",'Emissions Factors'!G373)","v":2.1280807236876299E-2},{"$f":"IF('Emissions Factors'!H373=\"\",\"\",'Emissions Factors'!H373)","v":"tCO2e/t"},{"$f":"IF('Emissions Factors'!I373=\"\",\"\",'Emissions Factors'!I373)","v":1},{"$f":"IF('Emissions Factors'!J373=\"\",'Emissions Factors'!F373,'Emissions Factors'!J373)","v":"Carbon factor taken directly from Government Carbon Factors 2023: Waste disposal > Average of all construction wastes"},null,0,null,null,30,35]
[null,{"$f":"'Emissions Factors'!B374","v":0},{"$f":"'Emissions Factors'!C374","v":0},{"$f":"'Emissions Factors'!D374","v":"Landfill"},null,null,"Waste","Gully Waste and road sweepings","Landfill","Gully Waste and road sweepingsLandfill",{"$f":"IF('Emissions Factors'!E374=\"\",\"\",'Emissions Factors'!E374)","v":"tonnes"},{"$f":"IF('Emissions Factors'!F374=\"\",\"\",'Emissions Factors'!F374)","v":"Waste"},{"$f":"IF('Emissions Factors'!G374=\"\",\"\",'Emissions Factors'!G374)","v":0.103006},{"$f":"IF('Emissions Factors'!H374=\"\",\"\",'Emissions Factors'!H374)","v":"tCO2e/t"},{"$f":"IF('Emissions Factors'!I374=\"\",\"\",'Emissions Factors'!I374)","v":1},{"$f":"IF('Emissions Factors'!J374=\"\",'Emissions Factors'!F374,'Emissions Factors'!J374)","v":"Carbon factor taken directly from Government Carbon Factors 2023: Waste disposal > Average of all construction wastes"},null,0,null,null,30,8]

{"sheet":"Dynamic dropdown","index":8,"n_rows":68,"n_cols":92,"rows_kept":68,"cut":false,"hidden":true,"merged":[[1,12,3,20]]}
[]
[]
[]
[]
[]
[]
[null,"Main Category","Sub Category 1","Sub Category 2",null,"Choose… ","Bulk Materials","Earthworks","Fencing, Barriers & Road Restraint Systems","Drainage","Road Pavements","Street Furniture & Electrical Equipment","Civils Structures & Retaining Walls","Fuel, Energy & Water","Business and Employee Transport","Waste","Ready mix concrete ","Cement and binders","Reinforcement steel","Asphalt ","Fill, aggregate and sand","Road salt/grit","Imported Soil ","Site won soil/ muck shift","Ground stabilisation","Geotextiles","Fence","Noise Barriers","Road Restraint System/ Safety Barrier","Paint or timber treatment","Plastic pipework (HDPE)","Plastic pipework (PVC)","Plastic pipework (Polypropylene)","Vitrified clay pipework","Precast concrete circular pipework","Precast concrete box culvert","Steel pipework","Glass reinforced plastic GRP (Fibreglass) pipework","Iron pipework","Brick manholes and inspection chambers","In-situ concrete manholes and inspection chambers","Precast concrete manholes","Precast concrete inspection chambers","Plastic inspection chambers","Gullies","Channel & slot drains","Headwalls","Petrol interceptor","Damp proof course and impermeable membrane","Bitumen / surface treatment","Kerb","Road markings","Traffic signs","Variable Message Signs (VMS) ","Road lighting and columns","Cable","Plastic cable ducting","Cabinets","Cameras","Marker posts/signs","Road Studs","Handrail","Formwork / Shuttering","Piling","Retaining walls","Gantries","Paint","Steelwork","Pre-cast Concrete","Bricks and blockwork","Decorative stone","Site offices, site vehicles and plant energy ","Water","Business travel  ","Employee commuting","Other transport","Mixed construction & demolition waste","General Office Waste","Organic waste","Plastic ","Glass","Concrete, brick, tiles and ceramics","Wood/Timber","Bituminous mixtures","Mixed metals","WEEE","Paper and cardboard","Aggregate and soil exported off-site","Oil and Liquid fuel Waste","Gully Waste and road sweepings","Waste water","Hazardous waste "]
[null,"Bulk Materials","Choose…","Landfill",null,"Bulk Materials","Ready mix concrete ","Imported Soil ","Fence","Plastic pipework (HDPE)","Bitumen / surface treatment","Traffic signs","Formwork / Shuttering","Site offices, site vehicles and plant energy ","Business travel  ","Mixed construction & demolition waste","General ","Average CEM I, Ordinary Portland Cement (OPC)","Steel bar and rod","General Asphalt ","Site-won","Road salt/grit","General soil/top soil","General soil","Portland CEM I cement","Polypropylene geotextile / matting","Fence timber (by volume)","Timber barrier 2m ","Steel RRS barrier single sided","Solvent based paint","150mm diameter","150mm diameter","150mm diameter","150mm diameter","225mm diameter","Precast concrete","300mm diameter","150mm diameter","150mm diameter","Brick (includes mortar)","In-situ concrete","900mm diameter, up to 3m depth","600mm diameter, up to 1.2m depth","450mm diameter, up to 1.2m depth","Plastic gully pots - PVC","Plastic (Polypropylene) channel (light duty)","Brick (includes mortar)","Plastic (Polyethylene)","Polyethylene membrane","Straight-run bitumen","Pre-cast concrete 125x150mm","Thermoplastic road marking","Aluminium ","MS4 Sign","LED light","Armoured cable / Power cable","50mm diameter ","Average roadside cabinet type","Hard shoulder camera and steel pole","Aluminium marker sign","Any type","Galvanised steel","Plywood","Steel piles","Steel sheet piles","‘Bendy Pole’ MS4","General paint","General steel","General concrete","Concrete blocks (includes mortar)","General stone","Electricity","Mains ","Private vehicle (any type)","Private vehicle (any type)","HGV (diesel, 0% laden)","Recycled","Recycled","Incineration (with energy recovery)","Recycled","Recycled","Recycled","Recycled","Recycled","Recycled","Recycled","Recycled","Recycled","Recycled","Recycled","Waste water treatment","Incineration (with energy recovery)"]
[null,"Fencing, Barriers & Road Restraint Systems","Choose…",null,null,"Earthworks","Cement and binders","Site won soil/ muck shift","Noise Barriers","Plastic pipework (PVC)","Kerb","Variable Message Signs (VMS) ","Piling","Water","Employee commuting","General Office Waste","General - C6/8 (Gen 0)","CEM II-A-S - 13% GGBs",null,"Warm Mix Asphalt","General mixture",null,"Stabilised soil - Cement, Fly Ash or GGBS ",null,"GGBS ",null,"Timber rail fence (all types, includes posts)","Timber barrier 3m ","Steel RRS barrier double sided","Water based paint","225mm diameter","225mm diameter","225mm diameter","225mm diameter","300mm diameter",null,"450mm diameter","225mm diameter","300mm diameter",null,null,"900mm diameter, 3m - 6m depth","750mm diameter, up to 1.2m depth","600mm diameter, up to 1.2m depth","Plastic gully pots - PE","Precast concrete channel (heavy duty)","In-situ reinforced concrete","Glass reinforced plastic GRP (Fiberglass)",null,"High friction surfacing","Pre-cast concrete 125x255mm",null,"Steel","AMI (advanced motorway indicator)","Steel columns 8m","Miscellaneous cable","150mm diameter",null,"Camera unit","Plastic marker post",null,null,"Softwood","Pre-cast concrete piles ","Plastic sheet piles","9m ‘Flagpole’ MS4",null,"Galvanised steel","High strength concrete ","Standard bricks (includes mortar)",null,"Gas ","Abstracted","Bus/coach","Bus/coach","HGV (diesel, average laden)","Incineration (with energy recovery)","Incineration (with energy recovery)","Composting","Incineration (with energy recovery)","Incineration (with energy recovery)","Reuse off site","Reuse off site","Reuse off site","Incineration (with energy recovery)","Incineration (with energy recovery)","Incineration (with energy recovery)","Re-use off site","Incineration (with energy recovery)","Incineration (with energy recovery)",null,"Landfill"]
[null,"Choose…","Choose…",null,null,"Fencing, Barriers & Road Restraint Systems","Reinforcement steel","Ground stabilisation","Road Restraint System/ Safety Barrier","Plastic pipework (Polypropylene)","Road markings","Road lighting and columns","Retaining walls",null,"Other transport","Organic waste","General - C8/10 (Gen 1)","CEM II/B-S - 28% GGBs",null,null,"Recycled and secondary mixture",null,null,null,"Fly ash  ",null,"Timber panels and posts","Timber barrier 4m ","Pre-cast concrete step barrier",null,"300mm diameter","300mm diameter","300mm diameter","300mm diameter","450mm diameter",null,"600mm diameter","300mm diameter","400mm diameter",null,null,"1050mm diameter, up to 3m depth","1000mm diameter, 1.2m - 3m depth","600mm diameter, 1.2m - 3m depth","Plastic gully pots - PP",null,null,null,null,"Bitumen emulsion","Pre-cast concrete 125x305mm",null,null,null,"Steel columns 10m",null,null,null,null,null,null,null,"Particle board","In-situ concrete piles","Gabion wall (stone and wire mesh)","14m ADS Tubular Cantilever",null,null,null,null,null,"Bottled Gas","Transported (Tanker)","Train ","Train ","Van (average)","Landfill","Landfill","Landfill","Landfill","Landfill","Landfill","Incineration (with energy recovery)","Landfill","Landfill","Landfill","Landfill","Landfill",null,"Landfill"]
[null,"Choose…","Choose…",null,null,"Drainage","Asphalt ","Geotextiles","Paint or timber treatment","Vitrified clay pipework",null,"Cable","Gantries",null,null,"Plastic ","General - C12/15 (Gen 2)","CEM II/A-P - 13% natural pozzolanic ash",null,null,"Virgin mixture of land won and marine",null,null,null,"Lime",null,"Steel/wire/chain fence (includes posts)","Steel barrier 2m","In-situ concrete step barrier",null,"450mm diameter","450mm diameter","450mm diameter",null,"600mm diameter",null,"900mm diameter","450mm diameter",null,null,null,"1050mm diameter, 3m - 6m depth",null,null,"Precast concrete gully pots (heavy duty)",null,null,null,null,"RAP (recycled asphalt pavement)",null,null,null,null,"Steel columns 12m",null,null,null,null,null,null,null,"Plastic formwork (disposable)",null,null,"19m Sign/Signal Cantilever",null,null,null,null,null,"Gas Oil (red diesel)",null,null,null,"Van (electric)",null,null,null,null,null,null,"Composting"]
[null,"Choose…","Choose…",null,null,"Road Pavements","Fill, aggregate and sand",null,null,"Precast concrete circular pipework",null,"Plastic cable ducting","Paint",null,null,"Glass","General - C16/20 (Gen 3)","CEM II/B-P 28% natural pozzolanic ash",null,null,"Virgin land won resources",null,null,null,null,null,null,"Steel barrier 3m",null,null,"600mm diameter","600mm diameter","600mm diameter",null,"900mm diameter",null,"1200mm diameter","600mm diameter",null,null,null,"1200mm diameter, up to 3m depth",null,null,null,null,null,null,null,null,null,null,null,null,"Aluminium columns 8m",null,null,null,null,null,null,null,null,null,null,"Up to 33m Portal",null,null,null,null,null,"Petrol",null,null,null,"Car (average)",null,null,null,null,null,null,"Landfill"]
[null,"Choose…","Choose…",null,null,"Street Furniture & Electrical Equipment","Road salt/grit",null,null,"Precast concrete box culvert",null,"Cabinets","Steelwork",null,null,"Concrete, brick, tiles and ceramics","General - C20/25 ","CEM II/A-V - 13% fly ash siliceous",null,null,"Virgin marine resources",null,null,null,null,null,null,"Steel barrier 4m",null,null,"900mm diameter","900mm diameter","900mm diameter",null,"1200mm diameter",null,"1500mm diameter","900mm diameter",null,null,null,"1200mm diameter, 3m - 6m depth",null,null,null,null,null,null,null,null,null,null,null,null,"Aluminium columns 10m",null,null,null,null,null,null,null,null,null,null,"33m to 45m Portal",null,null,null,null,null,"Diesel",null,null,null,"Car (electric)"]
[null,"Choose…","Choose…",null,null,"Civils Structures & Retaining Walls",null,null,null,"Steel pipework",null,"Cameras","Pre-cast Concrete",null,null,"Wood/Timber","General - C25/30 ","CEM II/B-V - 28% fly ash siliceous",null,null,"Recycled resources, no heat treatment",null,null,null,null,null,null,"Aluminium barrier 2m",null,null,"1200mm diameter","1200mm diameter","1200mm diameter",null,"1500mm diameter",null,"1800mm diameter","1200mm diameter",null,null,null,"1500mm diameter, up to 3m depth",null,null,null,null,null,null,null,null,null,null,null,null,"Aluminium columns 12m",null,null,null,null,null,null,null,null,null,null,"45m to 57m Portal",null,null,null,null,null,"Biodiesel",null,null,null,"Car (plug in hybrid electric)"]
[null,null,null,null,null,"Fuel, Energy & Water",null,null,null,"Glass reinforced plastic GRP (Fibreglass) pipework",null,"Marker posts/signs","Bricks and blockwork",null,null,"Bituminous mixtures","General - C28/35 ","CEM II/A-W - 13% fly ash calcareous",null,null,"Recycled resources, with heat treatment",null,null,null,null,null,null,"Aluminium barrier 3m",null,null,"1500mm diameter","1500mm diameter","1500mm diameter",null,"1800mm diameter",null,"2400mm diameter","1500mm diameter",null,null,null,"1500mm diameter, 3m - 6m depth",null,null,null,null,null,null,null,null,null,null,null,null,null,null,null,null,null,null,null,null,null,null,null,"57m plus Portal",null,null,null,null,null,"Biodiesel HVO",null,null,null,"Car (hybrid)"]
[null,null,null,null,null,"Business and Employee Transport",null,null,null,"Iron pipework",null,"Road Studs","Decorative stone",null,null,"Mixed metals","General - C32/40 ","CEM II/B-W - 28% fly ash calcareous",null,null,"Expanded clay",null,null,null,null,null,null,"Aluminium barrier 4m",null,null,"1800mm diameter","1800mm diameter","1800mm diameter",null,"2100mm diameter",null,"3000mm diameter","1800mm diameter",null,null,null,"1800mm diameter, up to 3m depth",null,null,null,null,null,null,null,null,null,null,null,null,null,null,null,null,null,null,null,null,null,null,null,null,null,null,null,null,null,"Bioethanol"]
[null,null,null,null,null,"Waste",null,null,null,"Brick manholes and inspection chambers",null,"Handrail",null,null,null,"WEEE","General - C35/45","CEM II/A-L - 13% limestone",null,null,"Expanded foamed glass",null,null,null,null,null,null,"Plastic barrier 2m",null,null,null,null,null,null,"2400mm diameter",null,"3600mm diameter","2400mm diameter",null,null,null,"1800mm diameter, 3m - 6m depth",null,null,null,null,null,null,null,null,null,null,null,null,null,null,null,null,null,null,null,null,null,null,null,null,null,null,null,null,null,"Biopropane (bioLPG)"]
[null,"Radio button output:",null,null,null,null,null,null,null,"In-situ concrete manholes and inspection chambers",null,null,null,null,null,"Paper and cardboard","General - C40/50 ","CEM II/B-L- 28% limestone",null,null,"Secondary resources",null,null,null,null,null,null,"Plastic barrier 3m",null,null,null,null,null,null,null,null,null,null,null,null,null,"2400mm diameter, up to 3m depth",null,null,null,null,null,null,null,null,null,null,null,null,null,null,null,null,null,null,null,null,null,null,null,null,null,null,null,null,null,"Biomethane (compressed)"]
[null,2,null,null,null,null,null,null,null,"Precast concrete manholes",null,null,null,null,null,"Aggregate and soil exported off-site","100% CEM I - C6/8 (Gen 0)","CEM II/A-LL - 13% limestone",null,null,null,null,null,null,null,null,null,"Plastic barrier 4m",null,null,null,null,null,null,null,null,null,null,null,null,null,"2400mm diameter, 3m - 6m depth",null,null,null,null,null,null,null,null,null,null,null,null,null,null,null,null,null,null,null,null,null,null,null,null,null,null,null,null,null,"Biomethane (liquified)"]
[null,null,null,null,null,null,null,null,null,"Precast concrete inspection chambers",null,null,null,null,null,"Oil and Liquid fuel Waste","100% CEM I - C8/10 (Gen 1)","CEM II/B-LL - 28% limestone",null,null,null,null,null,null,null,null,null,null,null,null,null,null,null,null,null,null,null,null,null,null,null,"3000mm diameter, up to 3m depth",null,null,null,null,null,null,null,null,null,null,null,null,null,null,null,null,null,null,null,null,null,null,null,null,null,null,null,null,null,"Biomethanol "]
[null,null,null,null,null,null,null,null,null,"Plastic inspection chambers",null,null,null,null,null,"Hazardous waste ","100% CEM I - C12/15 (Gen 2)","CEM II/A-M - 16% cement replacement",null,null,null,null,null,null,null,null,null,null,null,null,null,null,null,null,null,null,null,null,null,null,null,"3000mm diameter, 3m - 6m depth",null,null,null,null,null,null,null,null,null,null,null,null,null,null,null,null,null,null,null,null,null,null,null,null,null,null,null,null,null,"Fuel Oil "]
[null,null,null,null,null,null,null,null,null,"Gullies",null,null,null,null,null,"Gully Waste and road sweepings","100% CEM I - C16/20 (Gen 3)","CEM II/B-M - 28% cement replacement",null,null,null,null,null,null,null,null,null,null,null,null,null,null,null,null,null,null,null,null,null,null,null,"4000 diameter, up to 3m depth",null,null,null,null,null,null,null,null,null,null,null,null,null,null,null,null,null,null,null,null,null,null,null,null,null,null,null,null,null,"Burning Oil / Kerosene"]
[null,null,null,null,null,null,null,null,null,"Channel & slot drains",null,null,null,null,null,"Waste water","100% CEM I - C20/25 ","CEM III/A - 50.5% GGBS",null,null,null,null,null,null,null,null,null,null,null,null,null,null,null,null,null,null,null,null,null,null,null,"4000 diameter, 3m - 6m depth"]
[null,null,null,null,null,null,null,null,null,"Headwalls",null,null,null,null,null,null,"100% CEM I - C25/30 ","CEM III/B - 73% GGBS"]
[null,null,null,null,null,null,null,null,null,"Petrol interceptor",null,null,null,null,null,null,"100% CEM I - C28/35 ","CEM III/C - 88% GGBS"]
[null,null,null,null,null,null,null,null,null,"Damp proof course and impermeable membrane",null,null,null,null,null,null,"100% CEM I - C32/40 ","CEM IV/A - 23% cement replacement"]
[null,null,null,null,null,null,null,null,null,null,null,null,null,null,null,null,"100% CEM I - C35/45","CEM IV/B - 46% cement replacement"]
[null,null,null,null,null,null,null,null,null,null,null,null,null,null,null,null,"100% CEM I - C40/50 ","CEM V/A - 24% GGBS and 24% cement replacement"]
[null,null,null,null,null,null,null,null,null,null,null,null,null,null,null,null,"14% Limestone replacement - C6/8 (Gen 0)","CEM V/B - 36% GGBS and 36% cement replacement"]
[null,null,null,null,null,null,null,null,null,null,null,null,null,null,null,null,"14% Limestone replacement - C8/10 (Gen 1)"]
[null,null,null,null,null,null,null,null,null,null,null,null,null,null,null,null,"14% Limestone replacement - C12/15 (Gen 2)"]
[null,null,null,null,null,null,null,null,null,null,null,null,null,null,null,null,"14% Limestone replacement - C16/20 (Gen 3)"]
[null,null,null,null,null,null,null,null,null,null,null,null,null,null,null,null,"14% Limestone replacement - C20/25 "]
[null,null,null,null,null,null,null,null,null,null,null,null,null,null,null,null,"14% Limestone replacement - C25/30 "]
[null,null,null,null,null,null,null,null,null,null,null,null,null,null,null,null,"14% Limestone replacement - C28/35 "]
[null,null,null,null,null,null,null,null,null,null,null,null,null,null,null,null,"14% Limestone replacement - C32/40 "]
[null,null,null,null,null,null,null,null,null,null,null,null,null,null,null,null,"14% Limestone replacement - C35/45"]
[null,null,null,null,null,null,null,null,null,null,null,null,null,null,null,null,"14% Limestone replacement - C40/50 "]
[null,null,null,null,null,null,null,null,null,null,null,null,null,null,null,null,"35% natural pozzolanic ash replacement - C6/8 (Gen 0)"]
[null,null,null,null,null,null,null,null,null,null,null,null,null,null,null,null,"35% natural pozzolanic ash replacement - C8/10 (Gen 1)"]
[null,null,null,null,null,null,null,null,null,null,null,null,null,null,null,null,"35% natural pozzolanic ash replacement - C12/15 (Gen 2)"]
[null,null,null,null,null,null,null,null,null,null,null,null,null,null,null,null,"35% natural pozzolanic ash replacement - C16/20 (Gen 3)"]
[null,null,null,null,null,null,null,null,null,null,null,null,null,null,null,null,"35% natural pozzolanic ash replacement - C20/25 "]
[null,null,null,null,null,null,null,null,null,null,null,null,null,null,null,null,"35% natural pozzolanic ash replacement - C25/30 "]
[null,null,null,null,null,null,null,null,null,null,null,null,null,null,null,null,"35% natural pozzolanic ash replacement - C28/35 "]
[null,null,null,null,null,null,null,null,null,null,null,null,null,null,null,null,"35% natural pozzolanic ash replacement - C32/40 "]
[null,null,null,null,null,null,null,null,null,null,null,null,null,null,null,null,"35% natural pozzolanic ash replacement - C35/45"]
[null,null,null,null,null,null,null,null,null,null,null,null,null,null,null,null,"35% natural pozzolanic ash replacement - C40/50 "]
[null,null,null,null,null,null,null,null,null,null,null,null,null,null,null,null,"30% fly ash replacement - C6/8 (Gen 0)"]
[null,null,null,null,null,null,null,null,null,null,null,null,null,null,null,null,"30% fly ash replacement - C8/10 (Gen 1)"]
[null,null,null,null,null,null,null,null,null,null,null,null,null,null,null,null,"30% fly ash replacement - C12/15 (Gen 2)"]
[null,null,null,null,null,null,null,null,null,null,null,null,null,null,null,null,"30% fly ash replacement - C16/20 (Gen 3)"]
[null,null,null,null,null,null,null,null,null,null,null,null,null,null,null,null,"30% fly ash replacement - C20/25 "]
[null,null,null,null,null,null,null,null,null,null,null,null,null,null,null,null,"30% fly ash replacement - C25/30 "]
[null,null,null,null,null,null,null,null,null,null,null,null,null,null,null,null,"30% fly ash replacement - C28/35 "]
[null,null,null,null,null,null,null,null,null,null,null,null,null,null,null,null,"30% fly ash replacement - C32/40 "]
[null,null,null,null,null,null,null,null,null,null,null,null,null,null,null,null,"30% fly ash replacement - C35/45"]
[null,null,null,null,null,null,null,null,null,null,null,null,null,null,null,null,"30% fly ash replacement - C40/50 "]
[null,null,null,null,null,null,null,null,null,null,null,null,null,null,null,null,"25% GGBS replacement - C6/8 (Gen 0)"]
[null,null,null,null,null,null,null,null,null,null,null,null,null,null,null,null,"25% GGBS replacement - C8/10 (Gen 1)"]
[null,null,null,null,null,null,null,null,null,null,null,null,null,null,null,null,"25% GGBS replacement - C12/15 (Gen 2, ST 3)"]
[null,null,null,null,null,null,null,null,null,null,null,null,null,null,null,null,"25% GGBS replacement - C16/20 (Gen 3)"]
[null,null,null,null,null,null,null,null,null,null,null,null,null,null,null,null,"25% GGBS replacement - C20/25 "]
[null,null,null,null,null,null,null,null,null,null,null,null,null,null,null,null,"25% GGBS replacement - C25/30 "]
[null,null,null,null,null,null,null,null,null,null,null,null,null,null,null,null,"25% GGBS replacement - C28/35 "]
[null,null,null,null,null,null,null,null,null,null,null,null,null,null,null,null,"25% GGBS replacement - C32/40 "]
[null,null,null,null,null,null,null,null,null,null,null,null,null,null,null,null,"25% GGBS replacement - C35/45"]
[null,null,null,null,null,null,null,null,null,null,null,null,null,null,null,null,"25% GGBS replacement - C40/50 "]

{"sheet":"Material Density","index":9,"n_rows":39,"n_cols":5,"rows_kept":39,"cut":false,"hidden":false,"merged":[[0,28,0,30],[0,39,0,41]]}
[]
[]
[null,"Material Density Factors"]
[]
[null,"Material ","Density","Units","Source"]
[null,"Cement: general",1.5,"tonnes/m3","Bath Inventory - Version 2.0 (2011)"]
[null,"Cement: general - 25% fly ash",1.86,"tonnes/m3","Bath Inventory - Version 2.0 (2011)"]
[null,"Cement: general -  50% fly ash",1.86,"tonnes/m3","Bath Inventory - Version 2.0 (2011)"]
[null,"Cement: general -  25% blast furnace slag",1.86,"tonnes/m3","Bath Inventory - Version 2.0 (2011)"]
[null,"Cement: general - 50% blast furnace slag",1.86,"tonnes/m3","Bath Inventory - Version 2.0 (2011)"]
[null,"Fibre Cement",1.86,"tonnes/m3","Bath Inventory - Version 2.0 (2011)"]
[null,"Portland Cement (dry kiln)",1.5,"tonnes/m3","Bath Inventory - Version 2.0 (2011)"]
[null,"Portland Ash Cement",1.5,"tonnes/m3","Bath Inventory - Version 2.0 (2011)"]
[null,"Soil-Cement",1.86,"tonnes/m3","Bath Inventory - Version 2.0 (2011)"]
[null,"Copper: general",8.9,"tonnes/m3","Bath Inventory - Version 2.0 (2011)"]
[null,"Recycled Copper",8.9,"tonnes/m3","Bath Inventory - Version 2.0 (2011)"]
[null,"Steel: general",8,"tonnes/m3","Bath Inventory - Version 2.0 (2011)"]
[null,"Aluminium: general",2.7,"tonnes/m3","Bath Inventory - Version 2.0 (2011)"]
[null,"Lead: general",11.34,"t/m3","Bath Inventory - Version 2.0 (2011)"]
[null,"Standard Paint",1.2,"kg/litre","Bath Inventory - Version 2.0 (2011)"]
[null,"Mortar (cement:sand mix)",1.9,"tonnes/m3","Bath Inventory - Version 2.0 (2011)"]
[null,"Plastic (PVC)",1.4,"tonnes/m3","Bath Inventory - Version 2.0 (2011)"]
[null,"Quarried aggregate",2,"tonnes/m3","Bath Inventory - Version 2.0 (2011)"]
[null,"Recycled aggregate",2,"tonnes/m3","Bath Inventory - Version 2.0 (2011)"]
[null,"Asphalt",2.2999999999999998,"tonnes/m3","Bath Inventory - Version 2.0 (2011)"]
[null,"Bitumen",1,"tonnes/m3","Bath Inventory - Version 2.0 (2011)"]
[null,"Standard Brick",2.2999999999999998,"tonnes / 1000 bricks","Bath Inventory - Version 2.0 (2011)"]
[null,"Clay",1.9,"tonnes/m3","Bath Inventory - Version 2.0 (2011)"]
[null,"Sand",1.85,"tonnes/m3","Bath Inventory - Version 2.0 (2011)"]
[null,"Soil",1.7,"tonnes/m3","Bath Inventory - Version 2.0 (2011)"]
[null,"Stone: general",2,"tonnes/m3","Bath Inventory - Version 2.0 (2011)"]
[null,"Stone gravel/chippings",2,"tonnes/m3","Bath Inventory - Version 2.0 (2011)"]
[null,"Slate",2.7,"tonnes/m3","Bath Inventory - Version 2.0 (2011)"]
[null,"Timber: general",0.5,"tonnes/m3","Bath Inventory - Version 2.0 (2011)"]
[null,"Particle Board",0.75,"kg/m2","Bath Inventory - Version 2.0 (2011)"]
[null,"Plywood",0.54,"tonnes/m3","Bath Inventory - Version 2.0 (2011)"]
[null,"Sawn Hardwood",0.6,"tonnes/m3","Bath Inventory - Version 2.0 (2011)"]
[null,"Sawn Softwood",0.5,"tonnes/m3","Bath Inventory - Version 2.0 (2011)"]
[null,"Concrete",2.4,"tonnes/m3","Bath Inventory - Version 2.0 (2011)"]

{"sheet":"Commentary","index":10,"n_rows":6,"n_cols":4,"rows_kept":6,"cut":false,"hidden":false,"merged":[[33,0,33,18],[34,0,34,18],[35,0,35,18],[36,0,36,18],[27,0,27,18],[28,0,28,18],[29,0,29,18],[30,0,30,18],[31,0,31,18],[32,0,32,18],[26,0,26,18],[19,0,19,18],[20,0,20,18],[21,0,21,18],[22,0,22,18],[23,0,23,18],[24,0,24,18],[25,0,25,18],[6,1,18,18],[0,28,0,30],[0,39,0,41],[3,3,3,7],[3,8,3,18],[2,0,2,2],[2,3,2,18],[5,1,5,18],[4,1,4,18],[3,1,3,2]]}
[]
[]
["Commentary ",null,null,"Please pick the carbon return you would like to make note of from the drop-down list below and edit the note in the coloured cell.                                       Commentary will be exported and sent to National Highways."]
[null,"Carbon return:"]
[null,"           Action:"]
[null,"↓ Please write your commentary in the coloured cell below and click 'Save' button above after you've finished ↓"]

{"sheet":"Note records","index":11,"n_rows":1,"n_cols":2,"rows_kept":1,"cut":false,"hidden":true,"merged":[]}
["Return Name","Note"]

{"sheet":"VB Metadata","index":12,"n_rows":40,"n_cols":22,"rows_kept":40,"cut":false,"hidden":true,"merged":[]}
[null,null,null,null,null,null,null,null,null,null,null,"Contract Types",null,"HA Areas",null,null,null,null,null,"Return Frequency",null,"Carbon factor units"]
["bulk_material_or_of_which_col",2,"= meta.Range(\"B2",null,null,null,{"$f":"A2&C2&\"\"\").value\"","v":"bulk_material_or_of_which_col= meta.Range(\"B2\").value"},null,null,null,null,"Collaborative Performance Framework (CPF)",null,"Area 1 - Cornwall & Devon",null,"Construction works",null,"New Road",null,"Monthly",null,"tCO2e/t"]
["category_col",3,"= meta.Range(\"B3",null,null,null,{"$f":"A3&C3&\"\"\").value\"","v":"category_col= meta.Range(\"B3\").value"},null,null,null,null,"Complex Infrastructure Programme (CIP)",null,"Area 2 - Somerset, Avon, Wilts, Gloucs, Devon",null,"Maintenance works",null,"New Structure",null,"Quarterly",null,"tCO2e/m"]
["item_col",4,"= meta.Range(\"B4",null,null,null,"item_col= meta.Range(\"B4\").value",null,null,null,null,"Concrete: Lifecycle Extension Works",null,"Area 3 - Berks, Bucks, Dorset, Hants, Surrey, Oxon",null,null,null,"New Road and Structure",null,null,null,"tCO2e/m2"]
["type_col",5,"= meta.Range(\"B5",null,null,null,"type_col= meta.Range(\"B5\").value",null,null,null,null,"Concrete: Reconstruction",null,"Area 4 - Kent, Surrey, East Sussex, West Sussex",null,null,null,"Road Widening",null,null,null,"tCO2e/m3"]
["unit_col",6,"= meta.Range(\"B6",null,null,null,"unit_col= meta.Range(\"B6\").value",null,null,null,null,"Construction Works Framework (CWF)",null,"Area 5 - M25 (Berks, Bucks, Essex, Herts, Kent, Surrey)",null,null,null,"Smart Motorway",null,null,null,"tCO2e/no."]
["material_type_col",7,"= meta.Range(\"B7",null,null,null,"material_type_col= meta.Range(\"B7\").value",null,null,null,null,"Design Build Fund Operate (DBFO) Contract",null,"Area 6 - Essex, Cambs, Suffolk, Norfolk",null,null,null,null,null,null,null,"kgCO2e/kg"]
["this_return_quantity_col",8,"= meta.Range(\"B8",null,null,null,"this_return_quantity_col= meta.Range(\"B8\").value",null,null,null,null,"Lower Thames Crossing (LTC)",null,"Area 7 - Leics, Notts, Lincs, Derbyshire",null,null,null,null,null,null,null,"kgCO2e/l"]
["next_return_quantity_forecast_col",9,"= meta.Range(\"B9",null,null,null,"next_return_quantity_forecast_col= meta.Range(\"B9\").value",null,null,null,null,"Maintenance and Response (M&R)",null,"Area 8 - Bucks, Herts, Beds, Essex, Cambs, Northants",null,null,null,null,null,null,null,"kgCO2e/km"]
["carbon_factor_value_col",10,"= meta.Range(\"B10",null,null,null,"carbon_factor_value_col= meta.Range(\"B10\").value",null,null,null,null,"Other Contract",null,"Area 9 - Gloucs, Worcs, West Mids, Warwickshire, Staffs",null,null,null,null,null,null,null,"kgCO2e/Kwh"]
["carbon_factor_unit_col",11,"= meta.Range(\"B11",null,null,null,"carbon_factor_unit_col= meta.Range(\"B11\").value",null,null,null,null,"Pavement Delivery Framework",null,"Area 10 - Cheshire, Merseyside, Grt Manchester, South Lancs"]
["conversion_factor_col",12,"= meta.Range(\"B12",null,null,null,"conversion_factor_col= meta.Range(\"B12\").value",null,null,null,null,"Regional Delivery",null,"Area 12 - Yorkshire, North Lincs"]
["this_return_co2_col",13,"= meta.Range(\"B13",null,null,null,"this_return_co2_col= meta.Range(\"B13\").value",null,null,null,null,"Regional Delivery Programme (RDP)",null,"Area 13 - Cumbria, North Lancs"]
["methodology_col",14,"= meta.Range(\"B14",null,null,null,"methodology_col= meta.Range(\"B14\").value",null,null,null,null,"SBIM",null,"Area 14 - Northumberland, Tyne & Wear, Durham, North Yorks"]
["asssign_check_col",15,"= meta.Range(\"B15",null,null,null,"asssign_check_col= meta.Range(\"B15\").value",null,null,null,null,"Scheme Delivery Framework",null,"Other DBFO"]
["fencing_percent_col",17,"= meta.Range(\"B16",null,null,null,"fencing_percent_col= meta.Range(\"B16\").value",null,null,null,null,"Smart Motorway Alliance (SMA)",null,"Region - SW"]
["drainage_percent_col",18,"= meta.Range(\"B17",null,null,null,"drainage_percent_col= meta.Range(\"B17\").value",null,null,null,null,"Technical Assurance (TA)",null,"Region - SE"]
["road_pavements_percent_col",19,"= meta.Range(\"B18",null,null,null,"road_pavements_percent_col= meta.Range(\"B18\").value",null,null,null,null,"Technical Services",null,"Region - East"]
["civils_structures_percent_col",20,"= meta.Range(\"B19",null,null,null,"civils_structures_percent_col= meta.Range(\"B19\").value",null,null,null,null,"Technical Surveys and Testing",null,"Region - Midlands"]
["waste_percent_col",21,"= meta.Range(\"B20",null,null,null,"waste_percent_col= meta.Range(\"B20\").value",null,null,null,null,null,null,"Region - NW"]
[null,null,"= meta.Range(\"B21",null,null,null,null,null,null,null,null,null,null,"Region - NE"]
["transport_mode_col",23,"= meta.Range(\"B22",null,null,null,"transport_mode_col= meta.Range(\"B22\").value",null,null,null,null,null,null,"Super Region - South"]
["transport_distance_value_col",24,"= meta.Range(\"B23",null,null,null,"transport_distance_value_col= meta.Range(\"B23\").value",null,null,null,null,null,null,"Super Region - Central"]
["next_return_quantity_forecast_col_transport",25,"= meta.Range(\"B24",null,null,null,"next_return_quantity_forecast_col_transport= meta.Range(\"B24\").value",null,null,null,null,null,null,"Super Region - North"]
["this_return_co2_col_transport",26,"= meta.Range(\"B25",null,null,null,"this_return_co2_col_transport= meta.Range(\"B25\").value"]
[null,null,"= meta.Range(\"B26"]
["next_return_quantity_forecast_bulk_mat_col",28,"= meta.Range(\"B27",null,null,null,"next_return_quantity_forecast_bulk_mat_col= meta.Range(\"B27\").value"]
[null,null,"= meta.Range(\"B28"]
["standard_flag_col",32,"= meta.Range(\"B29","AF",null,null,"standard_flag_col= meta.Range(\"B29\").value"]
["blank_row_flag_col",33,"= meta.Range(\"B30","AG",null,null,"blank_row_flag_col= meta.Range(\"B30\").value"]
["unallocated_percent_col",16,"= meta.Range(\"B31",null,null,null,{"$f":"A31&C31&\"\"\").value\"","v":"unallocated_percent_col= meta.Range(\"B31\").value"}]
["bulk_refresh_check_flag_col",34,"= meta.Range(\"B32",null,null,null,{"$f":"A32&C32&\"\"\").value\"","v":"bulk_refresh_check_flag_col= meta.Range(\"B32\").value"}]
["clear 2nd level drop down on 1st level change - last value:",null,"Wood/Timber"]
[]
["period_col",2]
["spend_col",40]
["contents_spend_col",17]
[]
["transport_required_flag_col",34]
["sandpit_row_id_col",49,null,null,null,null,"Set meta = ActiveWorkbook.Worksheets(\"VB Metadata\")"]

{"sheet":"Sandpit","index":13,"n_rows":0,"n_cols":0,"rows_kept":0,"cut":false,"hidden":true,"merged":[]}

{"sheet":"Bulk Materials","index":14,"n_rows":144,"n_cols":50,"rows_kept":144,"cut":false,"hidden":true,"merged":[[6,3,6,13],[6,22,6,25],[0,29,0,30],[0,39,0,41],[4,10,4,11],[2,22,2,25],[6,15,6,20],[2,3,2,12],[3,23,3,24],[4,23,4,24]]}
[null,null,null,null,null,null,null,null,null,null,null,null,null,null,null,null,null,null,null,null,null,null,null,null,null,null,null,null,null,null,null,null,null,null,null,null,null,null,null,null,null,null,null,null,null,null,null,null,0]
[null,null,null,null,null,null,null,null,null,null,null,null,null,null,null,null,null,null,{"$f":"IF(SUM(O:O)>0,\"err\",\"\")","v":""},null,null,null,null,null,null,null,null,null,null,null,null,null,null,null,null,null,null,null,null,null,null,null,null,null,null,null,null,null,0]
[null,null,null,"2022 Aug   -   Bulk Materials",null,null,null,null,null,null,null,null,null,null,null,null,null,null,null,null,null,null,"Converter:",null,null,null,null,null,null,null,null,null,null,null,null,null,null,null,null,null,null,null,null,null,null,null,null,null,0,"<---DO NOT CHANGE ('return is blank' flag)"]
[null,null,null,null,null,null,null,null,null,null,null,null,null,null,null,null,null,null,null,null,null,null,"Miles","=",null,"km",null,null,null,null,null,null,null,null,null,null,null,null,null,null,null,null,null,null,null,null,null,null,"Bulk Materials"]
[null,null,null,"Add new row:          ",null,null,null,null,null,"Total CO2e",{"$f":"SUMIFS(M:M,AF:AF,\"<>3\")+SUMIFS(Z:Z,AF:AF,\"<>3\")-Z5","v":0},null,"Tonnes",null,null,null,null,null,null,null,null,null,1,"=",null,{"$f":"1.609344*W5","v":1.6093440000000001}]
[]
[null,null,null,"Material / Product",null,null,null,null,null,null,null,null,null,null,null,"Assign % of total quantity to categories",null,null,null,null,null,null,"Transport ",null,null,null,null,"Forecast",null,null,null,"row type"]
[null,null,null,"Item","Type","Unit","Material Type","This Return Quantity","Next Return Quantity Forecast","Carbon Factor Value","Carbon Factor Unit","Conver\n-sion Factor","This Return tCO2e","Methodology",null,"Not Allocated %","Fencing\n%","Drainage\n%","Road Pavements %","Civils Structures %","Waste\n%",null,"Transport mode","Transport distance value (km)","Carbon Factor (tCO2e/t.km)","This Return tCO2e",null,"Next Return Quantity Forecast",null,null,null,"std = 0 / non std = 1 / major material = 2 / of which = 3","is row populated? (based on whether standard row or not"]
["Bulk Materials",null,"Bulk Materials",null,null,{"$f":"IF(ISERROR(VLOOKUP(D9&E9,'Emissions Factors Lookup'!J4:Q400,2,FALSE)),\"\",VLOOKUP(D9&E9,'Emissions Factors Lookup'!J4:Q400,2,FALSE))","v":""},{"$f":"IF(ISERROR(VLOOKUP(D9&E9,'Emissions Factors Lookup'!J4:Q400,3,FALSE)),\"\",VLOOKUP(D9&E9,'Emissions Factors Lookup'!J4:Q400,3,FALSE))","v":""},null,null,{"$f":"IF(ISERROR(VLOOKUP(D9&E9,'Emissions Factors Lookup'!J4:Q400,4,FALSE)),\"\",VLOOKUP(D9&E9,'Emissions Factors Lookup'!J4:Q400,4,FALSE))","v":""},{"$f":"IF(ISERROR(VLOOKUP(D9&E9,'Emissions Factors Lookup'!J4:Q400,5,FALSE)),\"\",VLOOKUP(D9&E9,'Emissions Factors Lookup'!J4:Q400,5,FALSE))","v":""},{"$f":"IF(ISERROR(VLOOKUP(D9&E9,'Emissions Factors Lookup'!J4:Q400,6,FALSE)),\"\",VLOOKUP(D9&E9,'Emissions Factors Lookup'!J4:Q400,6,FALSE))","v":""},{"$f":"IF(OR((N(L9)*N(H9)*N(J9)) = 0, ISERROR(L9*H9*J9)),\"\",L9*H9*J9)","v":""},{"$f":"IF(ISERROR(VLOOKUP(D9&E9,'Emissions Factors Lookup'!J4:Q400,6,FALSE)),\"\",VLOOKUP(D9&E9,'Emissions Factors Lookup'!J4:Q400,7,FALSE)&IF(VLOOKUP(D9&E9,'Emissions Factors Lookup'!J4:Q400,8,FALSE)=\"\",\"\",\" - \"&VLOOKUP(D9&E9,'Emissions Factors Lookup'!J4:Q400,8,FALSE)))","v":""},{"$f":"IF(P9<0,1,0)","v":0},{"$f":"1-SUM(Q9:U9)","v":1},null,null,null,null,null,null,null,null,{"$f":"IF(ISBLANK(W9),\"\",((VLOOKUP(\"Laden\" & W9,'Emissions Factors Lookup'!J4:Q400,4,FALSE)*VLOOKUP(\"Laden\" &W9,'Emissions Factors Lookup'!J4:Q400,6,FALSE)) + (VLOOKUP(\"Unladen\" & W9,'Emissions Factors Lookup'!J4:Q400,4,FALSE)*VLOOKUP(\"Unladen\" &W9,'Emissions Factors Lookup'!J4:Q400,6,FALSE)))/2)","v":""},{"$f":"IF(ISBLANK(X9),\"\",(X9*H9*L9*Y9)*2)","v":""},null,null,null,null,null,0,{"$f":"IF(AF9=1,COUNTA(D9:E9,H9:L9,N9,Q9:U9,W9:Y9,AB9),COUNTA(D9:E9,H9:I9,Q9:U9,W9:X9,AB9))","v":0},{"$f":"IF(ISERROR(VLOOKUP(D9&E9,'Emissions Factors Lookup'!J4:R400,9,FALSE)),\"\",VLOOKUP(D9&E9,'Emissions Factors Lookup'!J4:R400,9,FALSE))","v":""}]
[null,null,null,null,null,null,null,null,null,null,null,null,null,null,null,null,null,null,null,null,null,null,null,null,null,null,null,null,null,null,null,null,{"$f":"IF(AF10=1,COUNTA(D10:E10,H10:L10,N10,Q10:U10,W10:Y10,AB10),COUNTA(D10:E10,H10:I10,Q10:U10,W10:X10,AB10))","v":0},{"$f":"IF(ISERROR(VLOOKUP(D10&E10,'Emissions Factors Lookup'!J4:R309,9,FALSE)),\"\",VLOOKUP(D10&E10,'Emissions Factors Lookup'!J4:R309,9,FALSE))","v":""}]
[null,null,null,null,null,null,null,null,null,null,null,null,null,null,null,null,null,null,null,null,null,null,null,null,null,null,null,null,null,null,null,null,{"$f":"IF(AF11=1,COUNTA(D11:E11,H11:L11,N11,Q11:U11,W11:Y11,AB11),COUNTA(D11:E11,H11:I11,Q11:U11,W11:X11,AB11))","v":0},{"$f":"IF(ISERROR(VLOOKUP(D11&E11,'Emissions Factors Lookup'!J4:R309,9,FALSE)),\"\",VLOOKUP(D11&E11,'Emissions Factors Lookup'!J4:R309,9,FALSE))","v":""}]
[null,null,null,null,null,null,null,null,null,null,null,null,null,null,null,null,null,null,null,null,null,null,null,null,null,null,null,null,null,null,null,null,{"$f":"IF(AF12=1,COUNTA(D12:E12,H12:L12,N12,Q12:U12,W12:Y12,AB12),COUNTA(D12:E12,H12:I12,Q12:U12,W12:X12,AB12))","v":0},{"$f":"IF(ISERROR(VLOOKUP(D12&E12,'Emissions Factors Lookup'!J4:R309,9,FALSE)),\"\",VLOOKUP(D12&E12,'Emissions Factors Lookup'!J4:R309,9,FALSE))","v":""}]
[null,null,null,null,null,null,null,null,null,null,null,null,null,null,null,null,null,null,null,null,null,null,null,null,null,null,null,null,null,null,null,null,{"$f":"IF(AF13=1,COUNTA(D13:E13,H13:L13,N13,Q13:U13,W13:Y13,AB13),COUNTA(D13:E13,H13:I13,Q13:U13,W13:Y13,AB13))","v":0}]
[null,null,null,null,null,null,null,null,null,null,null,null,null,null,null,null,null,null,null,null,null,null,null,null,null,null,null,null,null,null,null,null,0]
[null,null,null,null,null,null,null,null,null,null,null,null,null,null,null,null,null,null,null,null,null,null,null,null,null,null,null,null,null,null,null,null,0]
[null,null,null,null,null,null,null,null,null,null,null,null,null,null,null,null,null,null,null,null,null,null,null,null,null,null,null,null,null,null,null,null,0]
[null,null,null,null,null,null,null,null,null,null,null,null,null,null,null,null,null,null,null,null,null,null,null,null,null,null,null,null,null,null,null,null,0]
[null,null,null,null,null,null,null,null,null,null,null,null,null,null,null,null,null,null,null,null,null,null,null,null,null,null,null,null,null,null,null,null,0]
[null,null,null,null,null,null,null,null,null,null,null,null,null,null,null,null,null,null,null,null,null,null,null,null,null,null,null,null,null,null,null,null,0]
[null,null,null,null,null,null,null,null,null,null,null,null,null,null,null,null,null,null,null,null,null,null,null,null,null,null,null,null,null,null,null,null,0]
[null,null,null,null,null,null,null,null,null,null,null,null,null,null,null,null,null,null,null,null,null,null,null,null,null,null,null,null,null,null,null,null,0]
[null,null,null,null,null,null,null,null,null,null,null,null,null,null,null,null,null,null,null,null,null,null,null,null,null,null,null,null,null,null,null,null,0]
[null,null,null,null,null,null,null,null,null,null,null,null,null,null,null,null,null,null,null,null,null,null,null,null,null,null,null,null,null,null,null,null,0]
[null,null,null,null,null,null,null,null,null,null,null,null,null,null,null,null,null,null,null,null,null,null,null,null,null,null,null,null,null,null,null,null,0]
[null,null,null,null,null,null,null,null,null,null,null,null,null,null,null,null,null,null,null,null,null,null,null,null,null,null,null,null,null,null,null,null,0]
[null,null,null,null,null,null,null,null,null,null,null,null,null,null,null,null,null,null,null,null,null,null,null,null,null,null,null,null,null,null,null,null,0]
[null,null,null,null,null,null,null,null,null,null,null,null,null,null,null,null,null,null,null,null,null,null,null,null,null,null,null,null,null,null,null,null,0]
[null,null,null,null,null,null,null,null,null,null,null,null,null,null,null,null,null,null,null,null,null,null,null,null,null,null,null,null,null,null,null,null,0]
[null,null,null,null,null,null,null,null,null,null,null,null,null,null,null,null,null,null,null,null,null,null,null,null,null,null,null,null,null,null,null,null,0]
[null,null,null,null,null,null,null,null,null,null,null,null,null,null,null,null,null,null,null,null,null,null,null,null,null,null,null,null,null,null,null,null,0]
[null,null,null,null,null,null,null,null,null,null,null,null,null,null,null,null,null,null,null,null,null,null,null,null,null,null,null,null,null,null,null,null,0]
[null,null,null,null,null,null,null,null,null,null,null,null,null,null,null,null,null,null,null,null,null,null,null,null,null,null,null,null,null,null,null,null,0]
[null,null,null,null,null,null,null,null,null,null,null,null,null,null,null,null,null,null,null,null,null,null,null,null,null,null,null,null,null,null,null,null,0]
[null,null,null,null,null,null,null,null,null,null,null,null,null,null,null,null,null,null,null,null,null,null,null,null,null,null,null,null,null,null,null,null,0]
[null,null,null,null,null,null,null,null,null,null,null,null,null,null,null,null,null,null,null,null,null,null,null,null,null,null,null,null,null,null,null,null,{"$f":"IF(AF35=1,COUNTA(D35:E35,H35:L35,N35,Q35:U35,W35:Y35,AB35),COUNTA(D35:E35,H35:I35,Q35:U35,W35:Y35,AB35))","v":0}]
[null,null,null,null,null,null,null,null,null,null,null,null,null,null,null,null,null,null,null,null,null,null,null,null,null,null,null,null,null,null,null,null,0]
[null,null,null,null,null,null,null,null,null,null,null,null,null,null,null,null,null,null,null,null,null,null,null,null,null,null,null,null,null,null,null,null,0]
[null,null,null,null,null,null,null,null,null,null,null,null,null,null,null,null,null,null,null,null,null,null,null,null,null,null,null,null,null,null,null,null,0]
[null,null,null,null,null,null,null,null,null,null,null,null,null,null,null,null,null,null,null,null,null,null,null,null,null,null,null,null,null,null,null,null,0]
[null,null,null,null,null,null,null,null,null,null,null,null,null,null,null,null,null,null,null,null,null,null,null,null,null,null,null,null,null,null,null,null,0]
[null,null,null,null,null,null,null,null,null,null,null,null,null,null,null,null,null,null,null,null,null,null,null,null,null,null,null,null,null,null,null,null,0]
[null,null,null,null,null,null,null,null,null,null,null,null,null,null,null,null,null,null,null,null,null,null,null,null,null,null,null,null,null,null,null,null,0]
[null,null,null,null,null,null,null,null,null,null,null,null,null,null,null,null,null,null,null,null,null,null,null,null,null,null,null,null,null,null,null,null,0]
[null,null,null,null,null,null,null,null,null,null,null,null,null,null,null,null,null,null,null,null,null,null,null,null,null,null,null,null,null,null,null,null,0]
[null,null,null,null,null,null,null,null,null,null,null,null,null,null,null,null,null,null,null,null,null,null,null,null,null,null,null,null,null,null,null,null,0]
[null,null,null,null,null,null,null,null,null,null,null,null,null,null,null,null,null,null,null,null,null,null,null,null,null,null,null,null,null,null,null,null,0]
[null,null,null,null,null,null,null,null,null,null,null,null,null,null,null,null,null,null,null,null,null,null,null,null,null,null,null,null,null,null,null,null,0]
[null,null,null,null,null,null,null,null,null,null,null,null,null,null,null,null,null,null,null,null,null,null,null,null,null,null,null,null,null,null,null,null,0]
[null,null,null,null,null,null,null,null,null,null,null,null,null,null,null,null,null,null,null,null,null,null,null,null,null,null,null,null,null,null,null,null,0]
[null,null,null,null,null,null,null,null,null,null,null,null,null,null,null,null,null,null,null,null,null,null,null,null,null,null,null,null,null,null,null,null,0]
[null,null,null,null,null,null,null,null,null,null,null,null,null,null,null,null,null,null,null,null,null,null,null,null,null,null,null,null,null,null,null,null,0]
[null,null,null,null,null,null,null,null,null,null,null,null,null,null,null,null,null,null,null,null,null,null,null,null,null,null,null,null,null,null,null,null,0]
[null,null,null,null,null,null,null,null,null,null,null,null,null,null,null,null,null,null,null,null,null,null,null,null,null,null,null,null,null,null,null,null,0]
[null,null,null,null,null,null,null,null,null,null,null,null,null,null,null,null,null,null,null,null,null,null,null,null,null,null,null,null,null,null,null,null,0]
[null,null,null,null,null,null,null,null,null,null,null,null,null,null,null,null,null,null,null,null,null,null,null,null,null,null,null,null,null,null,null,null,0]
[null,null,null,null,null,null,null,null,null,null,null,null,null,null,null,null,null,null,null,null,null,null,null,null,null,null,null,null,null,null,null,null,0]
[null,null,null,null,null,null,null,null,null,null,null,null,null,null,null,null,null,null,null,null,null,null,null,null,null,null,null,null,null,null,null,null,0]
[null,null,null,null,null,null,null,null,null,null,null,null,null,null,null,null,null,null,null,null,null,null,null,null,null,null,null,null,null,null,null,null,0]
[null,null,null,null,null,null,null,null,null,null,null,null,null,null,null,null,null,null,null,null,null,null,null,null,null,null,null,null,null,null,null,null,0]
[null,null,null,null,null,null,null,null,null,null,null,null,null,null,null,null,null,null,null,null,null,null,null,null,null,null,null,null,null,null,null,null,0]
[null,null,null,null,null,null,null,null,null,null,null,null,null,null,null,null,null,null,null,null,null,null,null,null,null,null,null,null,null,null,null,null,0]
[null,null,null,null,null,null,null,null,null,null,null,null,null,null,null,null,null,null,null,null,null,null,null,null,null,null,null,null,null,null,null,null,0]
[null,null,null,null,null,null,null,null,null,null,null,null,null,null,null,null,null,null,null,null,null,null,null,null,null,null,null,null,null,null,null,null,0]
[null,null,null,null,null,null,null,null,null,null,null,null,null,null,null,null,null,null,null,null,null,null,null,null,null,null,null,null,null,null,null,null,0]
[null,null,null,null,null,null,null,null,null,null,null,null,null,null,null,null,null,null,null,null,null,null,null,null,null,null,null,null,null,null,null,null,0]
[null,null,null,null,null,null,null,null,null,null,null,null,null,null,null,null,null,null,null,null,null,null,null,null,null,null,null,null,null,null,null,null,0]
[null,null,null,null,null,null,null,null,null,null,null,null,null,null,null,null,null,null,null,null,null,null,null,null,null,null,null,null,null,null,null,null,{"$f":"IF(AF67=1,COUNTA(D67:E67,H67:L67,N67,Q67:U67,W67:Y67,AB67),COUNTA(D67:E67,H67:I67,Q67:U67,W67:Y67,AB67))","v":0}]
[null,null,null,null,null,null,null,null,null,null,null,null,null,null,null,null,null,null,null,null,null,null,null,null,null,null,null,null,null,null,null,null,0]
[null,null,null,null,null,null,null,null,null,null,null,null,null,null,null,null,null,null,null,null,null,null,null,null,null,null,null,null,null,null,null,null,0]
[null,null,null,null,null,null,null,null,null,null,null,null,null,null,null,null,null,null,null,null,null,null,null,null,null,null,null,null,null,null,null,null,0]
[null,null,null,null,null,null,null,null,null,null,null,null,null,null,null,null,null,null,null,null,null,null,null,null,null,null,null,null,null,null,null,null,0]
[null,null,null,null,null,null,null,null,null,null,null,null,null,null,null,null,null,null,null,null,null,null,null,null,null,null,null,null,null,null,null,null,0]
[null,null,null,null,null,null,null,null,null,null,null,null,null,null,null,null,null,null,null,null,null,null,null,null,null,null,null,null,null,null,null,null,0]
[null,null,null,null,null,null,null,null,null,null,null,null,null,null,null,null,null,null,null,null,null,null,null,null,null,null,null,null,null,null,null,null,0]
[null,null,null,null,null,null,null,null,null,null,null,null,null,null,null,null,null,null,null,null,null,null,null,null,null,null,null,null,null,null,null,null,0]
[null,null,null,null,null,null,null,null,null,null,null,null,null,null,null,null,null,null,null,null,null,null,null,null,null,null,null,null,null,null,null,null,0]
[null,null,null,null,null,null,null,null,null,null,null,null,null,null,null,null,null,null,null,null,null,null,null,null,null,null,null,null,null,null,null,null,0]
[null,null,null,null,null,null,null,null,null,null,null,null,null,null,null,null,null,null,null,null,null,null,null,null,null,null,null,null,null,null,null,null,0]
[null,null,null,null,null,null,null,null,null,null,null,null,null,null,null,null,null,null,null,null,null,null,null,null,null,null,null,null,null,null,null,null,0]
[null,null,null,null,null,null,null,null,null,null,null,null,null,null,null,null,null,null,null,null,null,null,null,null,null,null,null,null,null,null,null,null,0]
[null,null,null,null,null,null,null,null,null,null,null,null,null,null,null,null,null,null,null,null,null,null,null,null,null,null,null,null,null,null,null,null,0]
[null,null,null,null,null,null,null,null,null,null,null,null,null,null,null,null,null,null,null,null,null,null,null,null,null,null,null,null,null,null,null,null,0]
[null,null,null,null,null,null,null,null,null,null,null,null,null,null,null,null,null,null,null,null,null,null,null,null,null,null,null,null,null,null,null,null,0]
[null,null,null,null,null,null,null,null,null,null,null,null,null,null,null,null,null,null,null,null,null,null,null,null,null,null,null,null,null,null,null,null,0]
[null,null,null,null,null,null,null,null,null,null,null,null,null,null,null,null,null,null,null,null,null,null,null,null,null,null,null,null,null,null,null,null,0]
[null,null,null,null,null,null,null,null,null,null,null,null,null,null,null,null,null,null,null,null,null,null,null,null,null,null,null,null,null,null,null,null,0]
[null,null,null,null,null,null,null,null,null,null,null,null,null,null,null,null,null,null,null,null,null,null,null,null,null,null,null,null,null,null,null,null,0]
[null,null,null,null,null,null,null,null,null,null,null,null,null,null,null,null,null,null,null,null,null,null,null,null,null,null,null,null,null,null,null,null,0]
[null,null,null,null,null,null,null,null,null,null,null,null,null,null,null,null,null,null,null,null,null,null,null,null,null,null,null,null,null,null,null,null,0]
[null,null,null,null,null,null,null,null,null,null,null,null,null,null,null,null,null,null,null,null,null,null,null,null,null,null,null,null,null,null,null,null,0]
[null,null,null,null,null,null,null,null,null,null,null,null,null,null,null,null,null,null,null,null,null,null,null,null,null,null,null,null,null,null,null,null,0]
[null,null,null,null,null,null,null,null,null,null,null,null,null,null,null,null,null,null,null,null,null,null,null,null,null,null,null,null,null,null,null,null,0]
[null,null,null,null,null,null,null,null,null,null,null,null,null,null,null,null,null,null,null,null,null,null,null,null,null,null,null,null,null,null,null,null,0]
[null,null,null,null,null,null,null,null,null,null,null,null,null,null,null,null,null,null,null,null,null,null,null,null,null,null,null,null,null,null,null,null,0]
[null,null,null,null,null,null,null,null,null,null,null,null,null,null,null,null,null,null,null,null,null,null,null,null,null,null,null,null,null,null,null,null,0]
[null,null,null,null,null,null,null,null,null,null,null,null,null,null,null,null,null,null,null,null,null,null,null,null,null,null,null,null,null,null,null,null,0]
[null,null,null,null,null,null,null,null,null,null,null,null,null,null,null,null,null,null,null,null,null,null,null,null,null,null,null,null,null,null,null,null,0]
[null,null,null,null,null,null,null,null,null,null,null,null,null,null,null,null,null,null,null,null,null,null,null,null,null,null,null,null,null,null,null,null,0]
[null,null,null,null,null,null,null,null,null,null,null,null,null,null,null,null,null,null,null,null,null,null,null,null,null,null,null,null,null,null,null,null,{"$f":"IF(AF99=1,COUNTA(D99:E99,H99:L99,N99,Q99:U99,W99:Y99,AB99),COUNTA(D99:E99,H99:I99,Q99:U99,W99:Y99,AB99))","v":0}]
[null,null,null,null,null,null,null,null,null,null,null,null,null,null,null,null,null,null,null,null,null,null,null,null,null,null,null,null,null,null,null,null,0]
[null,null,null,null,null,null,null,null,null,null,null,null,null,null,null,null,null,null,null,null,null,null,null,null,null,null,null,null,null,null,null,null,0]
[null,null,null,null,null,null,null,null,null,null,null,null,null,null,null,null,null,null,null,null,null,null,null,null,null,null,null,null,null,null,null,null,0]
[null,null,null,null,null,null,null,null,null,null,null,null,null,null,null,null,null,null,null,null,null,null,null,null,null,null,null,null,null,null,null,null,0]
[null,null,null,null,null,null,null,null,null,null,null,null,null,null,null,null,null,null,null,null,null,null,null,null,null,null,null,null,null,null,null,null,0]
[null,null,null,null,null,null,null,null,null,null,null,null,null,null,null,null,null,null,null,null,null,null,null,null,null,null,null,null,null,null,null,null,0]
[null,null,null,null,null,null,null,null,null,null,null,null,null,null,null,null,null,null,null,null,null,null,null,null,null,null,null,null,null,null,null,null,0]
[null,null,null,null,null,null,null,null,null,null,null,null,null,null,null,null,null,null,null,null,null,null,null,null,null,null,null,null,null,null,null,null,0]
[null,null,null,null,null,null,null,null,null,null,null,null,null,null,null,null,null,null,null,null,null,null,null,null,null,null,null,null,null,null,null,null,0]
[null,null,null,null,null,null,null,null,null,null,null,null,null,null,null,null,null,null,null,null,null,null,null,null,null,null,null,null,null,null,null,null,0]
[null,null,null,null,null,null,null,null,null,null,null,null,null,null,null,null,null,null,null,null,null,null,null,null,null,null,null,null,null,null,null,null,0]
[null,null,null,null,null,null,null,null,null,null,null,null,null,null,null,null,null,null,null,null,null,null,null,null,null,null,null,null,null,null,null,null,0]
[null,null,null,null,null,null,null,null,null,null,null,null,null,null,null,null,null,null,null,null,null,null,null,null,null,null,null,null,null,null,null,null,0]
[null,null,null,null,null,null,null,null,null,null,null,null,null,null,null,null,null,null,null,null,null,null,null,null,null,null,null,null,null,null,null,null,0]
[null,null,null,null,null,null,null,null,null,null,null,null,null,null,null,null,null,null,null,null,null,null,null,null,null,null,null,null,null,null,null,null,0]
[null,null,null,null,null,null,null,null,null,null,null,null,null,null,null,null,null,null,null,null,null,null,null,null,null,null,null,null,null,null,null,null,0]
[null,null,null,null,null,null,null,null,null,null,null,null,null,null,null,null,null,null,null,null,null,null,null,null,null,null,null,null,null,null,null,null,0]
[null,null,null,null,null,null,null,null,null,null,null,null,null,null,null,null,null,null,null,null,null,null,null,null,null,null,null,null,null,null,null,null,0]
[null,null,null,null,null,null,null,null,null,null,null,null,null,null,null,null,null,null,null,null,null,null,null,null,null,null,null,null,null,null,null,null,0]
[null,null,null,null,null,null,null,null,null,null,null,null,null,null,null,null,null,null,null,null,null,null,null,null,null,null,null,null,null,null,null,null,0]
[null,null,null,null,null,null,null,null,null,null,null,null,null,null,null,null,null,null,null,null,null,null,null,null,null,null,null,null,null,null,null,null,0]
[null,null,null,null,null,null,null,null,null,null,null,null,null,null,null,null,null,null,null,null,null,null,null,null,null,null,null,null,null,null,null,null,0]
[null,null,null,null,null,null,null,null,null,null,null,null,null,null,null,null,null,null,null,null,null,null,null,null,null,null,null,null,null,null,null,null,0]
[null,null,null,null,null,null,null,null,null,null,null,null,null,null,null,null,null,null,null,null,null,null,null,null,null,null,null,null,null,null,null,null,0]
[null,null,null,null,null,null,null,null,null,null,null,null,null,null,null,null,null,null,null,null,null,null,null,null,null,null,null,null,null,null,null,null,0]
[null,null,null,null,null,null,null,null,null,null,null,null,null,null,null,null,null,null,null,null,null,null,null,null,null,null,null,null,null,null,null,null,0]
[null,null,null,null,null,null,null,null,null,null,null,null,null,null,null,null,null,null,null,null,null,null,null,null,null,null,null,null,null,null,null,null,0]
[null,null,null,null,null,null,null,null,null,null,null,null,null,null,null,null,null,null,null,null,null,null,null,null,null,null,null,null,null,null,null,null,0]
[null,null,null,null,null,null,null,null,null,null,null,null,null,null,null,null,null,null,null,null,null,null,null,null,null,null,null,null,null,null,null,null,0]
[null,null,null,null,null,null,null,null,null,null,null,null,null,null,null,null,null,null,null,null,null,null,null,null,null,null,null,null,null,null,null,null,0]
[null,null,null,null,null,null,null,null,null,null,null,null,null,null,null,null,null,null,null,null,null,null,null,null,null,null,null,null,null,null,null,null,0]
[null,null,null,null,null,null,null,null,null,null,null,null,null,null,null,null,null,null,null,null,null,null,null,null,null,null,null,null,null,null,null,null,{"$f":"IF(AF131=1,COUNTA(D131:E131,H131:L131,N131,Q131:U131,W131:Y131,AB131),COUNTA(D131:E131,H131:I131,Q131:U131,W131:Y131,AB131))","v":0}]
[null,null,null,null,null,null,null,null,null,null,null,null,null,null,null,null,null,null,null,null,null,null,null,null,null,null,null,null,null,null,null,null,0]
[null,null,null,null,null,null,null,null,null,null,null,null,null,null,null,null,null,null,null,null,null,null,null,null,null,null,null,null,null,null,null,null,0]
[null,null,null,null,null,null,null,null,null,null,null,null,null,null,null,null,null,null,null,null,null,null,null,null,null,null,null,null,null,null,null,null,0]
[null,null,null,null,null,null,null,null,null,null,null,null,null,null,null,null,null,null,null,null,null,null,null,null,null,null,null,null,null,null,null,null,0]
[null,null,null,null,null,null,null,null,null,null,null,null,null,null,null,null,null,null,null,null,null,null,null,null,null,null,null,null,null,null,null,null,0]
[null,null,null,null,null,null,null,null,null,null,null,null,null,null,null,null,null,null,null,null,null,null,null,null,null,null,null,null,null,null,null,null,0]
[null,null,null,null,null,null,null,null,null,null,null,null,null,null,null,null,null,null,null,null,null,null,null,null,null,null,null,null,null,null,null,null,0]
[null,null,null,null,null,null,null,null,null,null,null,null,null,null,null,null,null,null,null,null,null,null,null,null,null,null,null,null,null,null,null,null,0]
[null,null,null,null,null,null,null,null,null,null,null,null,null,null,null,null,null,null,null,null,null,null,null,null,null,null,null,null,null,null,null,null,0]
[null,null,null,null,null,null,null,null,null,null,null,null,null,null,null,null,null,null,null,null,null,null,null,null,null,null,null,null,null,null,null,null,0]
[null,null,null,null,null,null,null,null,null,null,null,null,null,null,null,null,null,null,null,null,null,null,null,null,null,null,null,null,null,null,null,null,0]
[null,null,null,null,null,null,null,null,null,null,null,null,null,null,null,null,null,null,null,null,null,null,null,null,null,null,null,null,null,null,null,null,0]
[null,null,null,null,null,null,null,null,null,null,null,null,null,null,null,null,null,null,null,null,null,null,null,null,null,null,null,null,null,null,null,null,0]

{"sheet":"Earthworks","index":15,"n_rows":146,"n_cols":50,"rows_kept":146,"cut":false,"hidden":true,"merged":[[6,3,6,13],[6,15,6,20],[6,22,6,25],[0,29,0,30],[0,39,0,41],[2,3,2,12],[2,22,2,25],[4,10,4,11],[3,23,3,24],[4,23,4,24]]}
[null,null,null,null,null,null,null,null,null,null,null,null,null,null,null,null,null,null,null,null,null,null,null,null,null,null,null,null,null,null,null,null,null,1,null,null,null,null,null,null,null,null,null,null,null,null,null,null,0]
[null,null,null,null,null,null,null,null,null,null,null,null,null,null,null,null,null,null,{"$f":"IF(SUM(O:O)>0,\"err\",\"\")","v":""},null,null,null,null,null,null,null,null,null,null,null,null,null,null,null,null,null,null,null,null,null,null,null,null,null,null,null,null,null,0]
[null,null,null,"2022 Aug   -   Earthworks",null,null,null,null,null,null,null,null,null,null,null,null,null,null,null,null,null,null,"Converter:",null,null,null,null,null,null,null,null,null,null,null,null,null,null,null,null,null,null,null,null,null,null,null,null,null,0,"<---DO NOT CHANGE ('return is blank' flag)"]
["(",null,null,null,null,null,null,null,null,null,null,null,"(excluding bulk materials)",null,null,null,null,null,null,null,null,null,"Miles","=",null,"km",null,null,null,null,null,null,null,null,null,null,null,null,null,null,null,null,null,null,null,null,null,null,"Earthworks"]
[null,null,null,"Add new row:          ",null,null,null,null,null,"Total CO2e",{"$f":"SUMIFS(M:M,AF:AF,\"<>2\")+SUMIFS(Z:Z,AF:AF,\"<>2\")-Z5","v":0},null,"Tonnes",null,null,null,null,null,null,null,null,null,1,"=",null,{"$f":"1.609344*W5","v":1.6093440000000001}]
[]
[null,null,null,"Material / Product",null,null,null,null,null,null,null,null,null,null,null,"Assign % of total quantity to categories",null,null,null,null,null,null,"Transport ",null,null,null,null,"Forecast",null,null,null,"row type"]
[null,null,null,"Item","Type","Unit","Material Type","This Return Quantity","Next Return Quantity Forecast","Carbon Factor Value","Carbon Factor Unit","Conver\n-sion Factor","This Return tCO2e","Methodology",null,"Not Allocated","Fencing","Drainage","Road Pavements","Civils Structures","Waste",null,"Transport mode","Transport distance value (km)","Carbon Factor (tCO2e/t.km)","This Return tCO2e",null,"Next Return Quantity Forecast",null,null,null,"std = 0 / non std = 1 / major material = 2 / of which = 3","is row populated? (based on whether standard row or not"]
["Earthworks",null,"Earthworks",null,null,{"$f":"IF(ISERROR(VLOOKUP(D9&E9,'Emissions Factors Lookup'!J4:Q400,2,FALSE)),\"\",VLOOKUP(D9&E9,'Emissions Factors Lookup'!J4:Q400,2,FALSE))","v":""},{"$f":"IF(ISERROR(VLOOKUP(D9&E9,'Emissions Factors Lookup'!J4:Q400,3,FALSE)),\"\",VLOOKUP(D9&E9,'Emissions Factors Lookup'!J4:Q400,3,FALSE))","v":""},null,null,{"$f":"IF(ISERROR(VLOOKUP(D9&E9,'Emissions Factors Lookup'!J4:Q400,4,FALSE)),\"\",VLOOKUP(D9&E9,'Emissions Factors Lookup'!J4:Q400,4,FALSE))","v":""},{"$f":"IF(ISERROR(VLOOKUP(D9&E9,'Emissions Factors Lookup'!J4:Q400,5,FALSE)),\"\",VLOOKUP(D9&E9,'Emissions Factors Lookup'!J4:Q400,5,FALSE))","v":""},{"$f":"IF(ISERROR(VLOOKUP(D9&E9,'Emissions Factors Lookup'!J4:Q400,6,FALSE)),\"\",VLOOKUP(D9&E9,'Emissions Factors Lookup'!J4:Q400,6,FALSE))","v":""},{"$f":"IF(OR((N(L9)*N(H9)*N(J9)) = 0, ISERROR(L9*H9*J9)),\"\",L9*H9*J9)","v":""},{"$f":"IF(ISERROR(VLOOKUP(D9&E9,'Emissions Factors Lookup'!J4:Q400,6,FALSE)),\"\",VLOOKUP(D9&E9,'Emissions Factors Lookup'!J4:Q400,7,FALSE)&IF(VLOOKUP(D9&E9,'Emissions Factors Lookup'!J4:Q400,8,FALSE)=\"\",\"\",\" - \"&VLOOKUP(D9&E9,'Emissions Factors Lookup'!J4:Q400,8,FALSE)))","v":""},{"$f":"IF(P9<0,1,0)","v":0},null,null,null,null,null,null,null,null,null,{"$f":"IF(ISBLANK(W9),\"\",((VLOOKUP(\"Laden\" & W9,'Emissions Factors Lookup'!J4:Q400,4,FALSE)*VLOOKUP(\"Laden\" &W9,'Emissions Factors Lookup'!J4:Q400,6,FALSE)) + (VLOOKUP(\"Unladen\" & W9,'Emissions Factors Lookup'!J4:Q400,4,FALSE)*VLOOKUP(\"Unladen\" &W9,'Emissions Factors Lookup'!J4:Q400,6,FALSE)))/2)","v":""},{"$f":"IF(ISBLANK(X9),\"\",(X9*H9*L9*Y9)*2)","v":""},null,null,null,null,null,0,{"$f":"IF(AF9=1,COUNTA(D9:E9,H9:L9,N9,Q9:U9,W9:Y9,AB9),COUNTA(D9:E9,H9:I9,Q9:U9,W9:X9,AB9))","v":0},{"$f":"IF(ISERROR(VLOOKUP(D9&E9,'Emissions Factors Lookup'!J4:R400,9,FALSE)),\"\",VLOOKUP(D9&E9,'Emissions Factors Lookup'!J4:R400,9,FALSE))","v":""}]
[null,null,null,null,null,null,null,null,null,null,null,null,null,null,null,null,null,null,null,null,null,null,null,null,null,null,null,null,null,null,null,null,{"$f":"IF(AF10=1,COUNTA(D10:E10,H10:L10,N10,Q10:U10,W10:Y10,AB10),COUNTA(D10:E10,H10:I10,Q10:U10,W10:X10,AB10))","v":0},{"$f":"IF(ISERROR(VLOOKUP(D10&E10,'Emissions Factors Lookup'!J4:R309,9,FALSE)),\"\",VLOOKUP(D10&E10,'Emissions Factors Lookup'!J4:R309,9,FALSE))","v":""}]
[null,null,null,null,null,null,null,null,null,null,null,null,null,null,null,null,null,null,null,null,null,null,null,null,null,null,null,null,null,null,null,null,{"$f":"IF(AF11=1,COUNTA(D11:E11,H11:L11,N11,Q11:U11,W11:Y11,AB11),COUNTA(D11:E11,H11:I11,Q11:U11,W11:X11,AB11))","v":0},{"$f":"IF(ISERROR(VLOOKUP(D11&E11,'Emissions Factors Lookup'!J4:R309,9,FALSE)),\"\",VLOOKUP(D11&E11,'Emissions Factors Lookup'!J4:R309,9,FALSE))","v":""}]
[null,null,null,null,null,null,null,null,null,null,null,null,null,null,null,null,null,null,null,null,null,null,null,null,null,null,null,null,null,null,null,null,{"$f":"IF(AF12=1,COUNTA(D12:E12,H12:L12,N12,Q12:U12,W12:Y12,AB12),COUNTA(D12:E12,H12:I12,Q12:U12,W12:Y12,AB12))","v":0}]
[null,null,null,null,null,null,null,null,null,null,null,null,null,null,null,null,null,null,null,null,null,null,null,null,null,null,null,null,null,null,null,null,0]
[null,null,null,null,null,null,null,null,null,null,null,null,null,null,null,null,null,null,null,null,null,null,null,null,null,null,null,null,null,null,null,null,0]
[null,null,null,null,null,null,null,null,null,null,null,null,null,null,null,null,null,null,null,null,null,null,null,null,null,null,null,null,null,null,null,null,0]
[null,null,null,null,null,null,null,null,null,null,null,null,null,null,null,null,null,null,null,null,null,null,null,null,null,null,null,null,null,null,null,null,0]
[null,null,null,null,null,null,null,null,null,null,null,null,null,null,null,null,null,null,null,null,null,null,null,null,null,null,null,null,null,null,null,null,0]
[null,null,null,null,null,null,null,null,null,null,null,null,null,null,null,null,null,null,null,null,null,null,null,null,null,null,null,null,null,null,null,null,0]
[null,null,null,null,null,null,null,null,null,null,null,null,null,null,null,null,null,null,null,null,null,null,null,null,null,null,null,null,null,null,null,null,0]
[null,null,null,null,null,null,null,null,null,null,null,null,null,null,null,null,null,null,null,null,null,null,null,null,null,null,null,null,null,null,null,null,0]
[null,null,null,null,null,null,null,null,null,null,null,null,null,null,null,null,null,null,null,null,null,null,null,null,null,null,null,null,null,null,null,null,0]
[null,null,null,null,null,null,null,null,null,null,null,null,null,null,null,null,null,null,null,null,null,null,null,null,null,null,null,null,null,null,null,null,0]
[null,null,null,null,null,null,null,null,null,null,null,null,null,null,null,null,null,null,null,null,null,null,null,null,null,null,null,null,null,null,null,null,0]
[null,null,null,null,null,null,null,null,null,null,null,null,null,null,null,null,null,null,null,null,null,null,null,null,null,null,null,null,null,null,null,null,0]
[null,null,null,null,null,null,null,null,null,null,null,null,null,null,null,null,null,null,null,null,null,null,null,null,null,null,null,null,null,null,null,null,0]
[null,null,null,null,null,null,null,null,null,null,null,null,null,null,null,null,null,null,null,null,null,null,null,null,null,null,null,null,null,null,null,null,0]
[null,null,null,null,null,null,null,null,null,null,null,null,null,null,null,null,null,null,null,null,null,null,null,null,null,null,null,null,null,null,null,null,0]
[null,null,null,null,null,null,null,null,null,null,null,null,null,null,null,null,null,null,null,null,null,null,null,null,null,null,null,null,null,null,null,null,0]
[null,null,null,null,null,null,null,null,null,null,null,null,null,null,null,null,null,null,null,null,null,null,null,null,null,null,null,null,null,null,null,null,0]
[null,null,null,null,null,null,null,null,null,null,null,null,null,null,null,null,null,null,null,null,null,null,null,null,null,null,null,null,null,null,null,null,0]
[null,null,null,null,null,null,null,null,null,null,null,null,null,null,null,null,null,null,null,null,null,null,null,null,null,null,null,null,null,null,null,null,0]
[null,null,null,null,null,null,null,null,null,null,null,null,null,null,null,null,null,null,null,null,null,null,null,null,null,null,null,null,null,null,null,null,0]
[null,null,null,null,null,null,null,null,null,null,null,null,null,null,null,null,null,null,null,null,null,null,null,null,null,null,null,null,null,null,null,null,0]
[null,null,null,null,null,null,null,null,null,null,null,null,null,null,null,null,null,null,null,null,null,null,null,null,null,null,null,null,null,null,null,null,0]
[null,null,null,null,null,null,null,null,null,null,null,null,null,null,null,null,null,null,null,null,null,null,null,null,null,null,null,null,null,null,null,null,0]
[null,null,null,null,null,null,null,null,null,null,null,null,null,null,null,null,null,null,null,null,null,null,null,null,null,null,null,null,null,null,null,null,0]
[null,null,null,null,null,null,null,null,null,null,null,null,null,null,null,null,null,null,null,null,null,null,null,null,null,null,null,null,null,null,null,null,0]
[null,null,null,null,null,null,null,null,null,null,null,null,null,null,null,null,null,null,null,null,null,null,null,null,null,null,null,null,null,null,null,null,{"$f":"IF(AF38=1,COUNTA(D38:E38,H38:L38,N38,Q38:U38,W38:Y38,AB38),COUNTA(D38:E38,H38:I38,Q38:U38,W38:Y38,AB38))","v":0}]
[null,null,null,null,null,null,null,null,null,null,null,null,null,null,null,null,null,null,null,null,null,null,null,null,null,null,null,null,null,null,null,null,0]
[null,null,null,null,null,null,null,null,null,null,null,null,null,null,null,null,null,null,null,null,null,null,null,null,null,null,null,null,null,null,null,null,0]
[null,null,null,null,null,null,null,null,null,null,null,null,null,null,null,null,null,null,null,null,null,null,null,null,null,null,null,null,null,null,null,null,0]
[null,null,null,null,null,null,null,null,null,null,null,null,null,null,null,null,null,null,null,null,null,null,null,null,null,null,null,null,null,null,null,null,0]
[null,null,null,null,null,null,null,null,null,null,null,null,null,null,null,null,null,null,null,null,null,null,null,null,null,null,null,null,null,null,null,null,0]
[null,null,null,null,null,null,null,null,null,null,null,null,null,null,null,null,null,null,null,null,null,null,null,null,null,null,null,null,null,null,null,null,0]
[null,null,null,null,null,null,null,null,null,null,null,null,null,null,null,null,null,null,null,null,null,null,null,null,null,null,null,null,null,null,null,null,0]
[null,null,null,null,null,null,null,null,null,null,null,null,null,null,null,null,null,null,null,null,null,null,null,null,null,null,null,null,null,null,null,null,0]
[null,null,null,null,null,null,null,null,null,null,null,null,null,null,null,null,null,null,null,null,null,null,null,null,null,null,null,null,null,null,null,null,0]
[null,null,null,null,null,null,null,null,null,null,null,null,null,null,null,null,null,null,null,null,null,null,null,null,null,null,null,null,null,null,null,null,0]
[null,null,null,null,null,null,null,null,null,null,null,null,null,null,null,null,null,null,null,null,null,null,null,null,null,null,null,null,null,null,null,null,0]
[null,null,null,null,null,null,null,null,null,null,null,null,null,null,null,null,null,null,null,null,null,null,null,null,null,null,null,null,null,null,null,null,0]
[null,null,null,null,null,null,null,null,null,null,null,null,null,null,null,null,null,null,null,null,null,null,null,null,null,null,null,null,null,null,null,null,0]
[null,null,null,null,null,null,null,null,null,null,null,null,null,null,null,null,null,null,null,null,null,null,null,null,null,null,null,null,null,null,null,null,0]
[null,null,null,null,null,null,null,null,null,null,null,null,null,null,null,null,null,null,null,null,null,null,null,null,null,null,null,null,null,null,null,null,0]
[null,null,null,null,null,null,null,null,null,null,null,null,null,null,null,null,null,null,null,null,null,null,null,null,null,null,null,null,null,null,null,null,0]
[null,null,null,null,null,null,null,null,null,null,null,null,null,null,null,null,null,null,null,null,null,null,null,null,null,null,null,null,null,null,null,null,0]
[null,null,null,null,null,null,null,null,null,null,null,null,null,null,null,null,null,null,null,null,null,null,null,null,null,null,null,null,null,null,null,null,0]
[null,null,null,null,null,null,null,null,null,null,null,null,null,null,null,null,null,null,null,null,null,null,null,null,null,null,null,null,null,null,null,null,0]
[null,null,null,null,null,null,null,null,null,null,null,null,null,null,null,null,null,null,null,null,null,null,null,null,null,null,null,null,null,null,null,null,0]
[null,null,null,null,null,null,null,null,null,null,null,null,null,null,null,null,null,null,null,null,null,null,null,null,null,null,null,null,null,null,null,null,0]
[null,null,null,null,null,null,null,null,null,null,null,null,null,null,null,null,null,null,null,null,null,null,null,null,null,null,null,null,null,null,null,null,0]
[null,null,null,null,null,null,null,null,null,null,null,null,null,null,null,null,null,null,null,null,null,null,null,null,null,null,null,null,null,null,null,null,0]
[null,null,null,null,null,null,null,null,null,null,null,null,null,null,null,null,null,null,null,null,null,null,null,null,null,null,null,null,null,null,null,null,0]
[null,null,null,null,null,null,null,null,null,null,null,null,null,null,null,null,null,null,null,null,null,null,null,null,null,null,null,null,null,null,null,null,0]
[null,null,null,null,null,null,null,null,null,null,null,null,null,null,null,null,null,null,null,null,null,null,null,null,null,null,null,null,null,null,null,null,0]
[null,null,null,null,null,null,null,null,null,null,null,null,null,null,null,null,null,null,null,null,null,null,null,null,null,null,null,null,null,null,null,null,0]
[null,null,null,null,null,null,null,null,null,null,null,null,null,null,null,null,null,null,null,null,null,null,null,null,null,null,null,null,null,null,null,null,0]
[null,null,null,null,null,null,null,null,null,null,null,null,null,null,null,null,null,null,null,null,null,null,null,null,null,null,null,null,null,null,null,null,0]
[null,null,null,null,null,null,null,null,null,null,null,null,null,null,null,null,null,null,null,null,null,null,null,null,null,null,null,null,null,null,null,null,0]
[null,null,null,null,null,null,null,null,null,null,null,null,null,null,null,null,null,null,null,null,null,null,null,null,null,null,null,null,null,null,null,null,0]
[null,null,null,null,null,null,null,null,null,null,null,null,null,null,null,null,null,null,null,null,null,null,null,null,null,null,null,null,null,null,null,null,{"$f":"IF(AF70=1,COUNTA(D70:E70,H70:L70,N70,Q70:U70,W70:Y70,AB70),COUNTA(D70:E70,H70:I70,Q70:U70,W70:Y70,AB70))","v":0}]
[null,null,null,null,null,null,null,null,null,null,null,null,null,null,null,null,null,null,null,null,null,null,null,null,null,null,null,null,null,null,null,null,0]
[null,null,null,null,null,null,null,null,null,null,null,null,null,null,null,null,null,null,null,null,null,null,null,null,null,null,null,null,null,null,null,null,0]
[null,null,null,null,null,null,null,null,null,null,null,null,null,null,null,null,null,null,null,null,null,null,null,null,null,null,null,null,null,null,null,null,0]
[null,null,null,null,null,null,null,null,null,null,null,null,null,null,null,null,null,null,null,null,null,null,null,null,null,null,null,null,null,null,null,null,0]
[null,null,null,null,null,null,null,null,null,null,null,null,null,null,null,null,null,null,null,null,null,null,null,null,null,null,null,null,null,null,null,null,0]
[null,null,null,null,null,null,null,null,null,null,null,null,null,null,null,null,null,null,null,null,null,null,null,null,null,null,null,null,null,null,null,null,0]
[null,null,null,null,null,null,null,null,null,null,null,null,null,null,null,null,null,null,null,null,null,null,null,null,null,null,null,null,null,null,null,null,0]
[null,null,null,null,null,null,null,null,null,null,null,null,null,null,null,null,null,null,null,null,null,null,null,null,null,null,null,null,null,null,null,null,0]
[null,null,null,null,null,null,null,null,null,null,null,null,null,null,null,null,null,null,null,null,null,null,null,null,null,null,null,null,null,null,null,null,0]
[null,null,null,null,null,null,null,null,null,null,null,null,null,null,null,null,null,null,null,null,null,null,null,null,null,null,null,null,null,null,null,null,0]
[null,null,null,null,null,null,null,null,null,null,null,null,null,null,null,null,null,null,null,null,null,null,null,null,null,null,null,null,null,null,null,null,0]
[null,null,null,null,null,null,null,null,null,null,null,null,null,null,null,null,null,null,null,null,null,null,null,null,null,null,null,null,null,null,null,null,0]
[null,null,null,null,null,null,null,null,null,null,null,null,null,null,null,null,null,null,null,null,null,null,null,null,null,null,null,null,null,null,null,null,0]
[null,null,null,null,null,null,null,null,null,null,null,null,null,null,null,null,null,null,null,null,null,null,null,null,null,null,null,null,null,null,null,null,0]
[null,null,null,null,null,null,null,null,null,null,null,null,null,null,null,null,null,null,null,null,null,null,null,null,null,null,null,null,null,null,null,null,0]
[null,null,null,null,null,null,null,null,null,null,null,null,null,null,null,null,null,null,null,null,null,null,null,null,null,null,null,null,null,null,null,null,0]
[null,null,null,null,null,null,null,null,null,null,null,null,null,null,null,null,null,null,null,null,null,null,null,null,null,null,null,null,null,null,null,null,0]
[null,null,null,null,null,null,null,null,null,null,null,null,null,null,null,null,null,null,null,null,null,null,null,null,null,null,null,null,null,null,null,null,0]
[null,null,null,null,null,null,null,null,null,null,null,null,null,null,null,null,null,null,null,null,null,null,null,null,null,null,null,null,null,null,null,null,0]
[null,null,null,null,null,null,null,null,null,null,null,null,null,null,null,null,null,null,null,null,null,null,null,null,null,null,null,null,null,null,null,null,0]
[null,null,null,null,null,null,null,null,null,null,null,null,null,null,null,null,null,null,null,null,null,null,null,null,null,null,null,null,null,null,null,null,0]
[null,null,null,null,null,null,null,null,null,null,null,null,null,null,null,null,null,null,null,null,null,null,null,null,null,null,null,null,null,null,null,null,0]
[null,null,null,null,null,null,null,null,null,null,null,null,null,null,null,null,null,null,null,null,null,null,null,null,null,null,null,null,null,null,null,null,0]
[null,null,null,null,null,null,null,null,null,null,null,null,null,null,null,null,null,null,null,null,null,null,null,null,null,null,null,null,null,null,null,null,0]
[null,null,null,null,null,null,null,null,null,null,null,null,null,null,null,null,null,null,null,null,null,null,null,null,null,null,null,null,null,null,null,null,0]
[null,null,null,null,null,null,null,null,null,null,null,null,null,null,null,null,null,null,null,null,null,null,null,null,null,null,null,null,null,null,null,null,0]
[null,null,null,null,null,null,null,null,null,null,null,null,null,null,null,null,null,null,null,null,null,null,null,null,null,null,null,null,null,null,null,null,0]
[null,null,null,null,null,null,null,null,null,null,null,null,null,null,null,null,null,null,null,null,null,null,null,null,null,null,null,null,null,null,null,null,0]
[null,null,null,null,null,null,null,null,null,null,null,null,null,null,null,null,null,null,null,null,null,null,null,null,null,null,null,null,null,null,null,null,0]
[null,null,null,null,null,null,null,null,null,null,null,null,null,null,null,null,null,null,null,null,null,null,null,null,null,null,null,null,null,null,null,null,0]
[null,null,null,null,null,null,null,null,null,null,null,null,null,null,null,null,null,null,null,null,null,null,null,null,null,null,null,null,null,null,null,null,0]
[null,null,null,null,null,null,null,null,null,null,null,null,null,null,null,null,null,null,null,null,null,null,null,null,null,null,null,null,null,null,null,null,{"$f":"IF(AF102=1,COUNTA(D102:E102,H102:L102,N102,Q102:U102,W102:Y102,AB102),COUNTA(D102:E102,H102:I102,Q102:U102,W102:Y102,AB102))","v":0}]
[null,null,null,null,null,null,null,null,null,null,null,null,null,null,null,null,null,null,null,null,null,null,null,null,null,null,null,null,null,null,null,null,0]
[null,null,null,null,null,null,null,null,null,null,null,null,null,null,null,null,null,null,null,null,null,null,null,null,null,null,null,null,null,null,null,null,0]
[null,null,null,null,null,null,null,null,null,null,null,null,null,null,null,null,null,null,null,null,null,null,null,null,null,null,null,null,null,null,null,null,0]
[null,null,null,null,null,null,null,null,null,null,null,null,null,null,null,null,null,null,null,null,null,null,null,null,null,null,null,null,null,null,null,null,0]
[null,null,null,null,null,null,null,null,null,null,null,null,null,null,null,null,null,null,null,null,null,null,null,null,null,null,null,null,null,null,null,null,0]
[null,null,null,null,null,null,null,null,null,null,null,null,null,null,null,null,null,null,null,null,null,null,null,null,null,null,null,null,null,null,null,null,0]
[null,null,null,null,null,null,null,null,null,null,null,null,null,null,null,null,null,null,null,null,null,null,null,null,null,null,null,null,null,null,null,null,0]
[null,null,null,null,null,null,null,null,null,null,null,null,null,null,null,null,null,null,null,null,null,null,null,null,null,null,null,null,null,null,null,null,0]
[null,null,null,null,null,null,null,null,null,null,null,null,null,null,null,null,null,null,null,null,null,null,null,null,null,null,null,null,null,null,null,null,0]
[null,null,null,null,null,null,null,null,null,null,null,null,null,null,null,null,null,null,null,null,null,null,null,null,null,null,null,null,null,null,null,null,0]
[null,null,null,null,null,null,null,null,null,null,null,null,null,null,null,null,null,null,null,null,null,null,null,null,null,null,null,null,null,null,null,null,0]
[null,null,null,null,null,null,null,null,null,null,null,null,null,null,null,null,null,null,null,null,null,null,null,null,null,null,null,null,null,null,null,null,0]
[null,null,null,null,null,null,null,null,null,null,null,null,null,null,null,null,null,null,null,null,null,null,null,null,null,null,null,null,null,null,null,null,0]
[null,null,null,null,null,null,null,null,null,null,null,null,null,null,null,null,null,null,null,null,null,null,null,null,null,null,null,null,null,null,null,null,0]
[null,null,null,null,null,null,null,null,null,null,null,null,null,null,null,null,null,null,null,null,null,null,null,null,null,null,null,null,null,null,null,null,0]
[null,null,null,null,null,null,null,null,null,null,null,null,null,null,null,null,null,null,null,null,null,null,null,null,null,null,null,null,null,null,null,null,0]
[null,null,null,null,null,null,null,null,null,null,null,null,null,null,null,null,null,null,null,null,null,null,null,null,null,null,null,null,null,null,null,null,0]
[null,null,null,null,null,null,null,null,null,null,null,null,null,null,null,null,null,null,null,null,null,null,null,null,null,null,null,null,null,null,null,null,0]
[null,null,null,null,null,null,null,null,null,null,null,null,null,null,null,null,null,null,null,null,null,null,null,null,null,null,null,null,null,null,null,null,0]
[null,null,null,null,null,null,null,null,null,null,null,null,null,null,null,null,null,null,null,null,null,null,null,null,null,null,null,null,null,null,null,null,0]
[null,null,null,null,null,null,null,null,null,null,null,null,null,null,null,null,null,null,null,null,null,null,null,null,null,null,null,null,null,null,null,null,0]
[null,null,null,null,null,null,null,null,null,null,null,null,null,null,null,null,null,null,null,null,null,null,null,null,null,null,null,null,null,null,null,null,0]
[null,null,null,null,null,null,null,null,null,null,null,null,null,null,null,null,null,null,null,null,null,null,null,null,null,null,null,null,null,null,null,null,0]
[null,null,null,null,null,null,null,null,null,null,null,null,null,null,null,null,null,null,null,null,null,null,null,null,null,null,null,null,null,null,null,null,0]
[null,null,null,null,null,null,null,null,null,null,null,null,null,null,null,null,null,null,null,null,null,null,null,null,null,null,null,null,null,null,null,null,0]
[null,null,null,null,null,null,null,null,null,null,null,null,null,null,null,null,null,null,null,null,null,null,null,null,null,null,null,null,null,null,null,null,0]
[null,null,null,null,null,null,null,null,null,null,null,null,null,null,null,null,null,null,null,null,null,null,null,null,null,null,null,null,null,null,null,null,0]
[null,null,null,null,null,null,null,null,null,null,null,null,null,null,null,null,null,null,null,null,null,null,null,null,null,null,null,null,null,null,null,null,0]
[null,null,null,null,null,null,null,null,null,null,null,null,null,null,null,null,null,null,null,null,null,null,null,null,null,null,null,null,null,null,null,null,0]
[null,null,null,null,null,null,null,null,null,null,null,null,null,null,null,null,null,null,null,null,null,null,null,null,null,null,null,null,null,null,null,null,0]
[null,null,null,null,null,null,null,null,null,null,null,null,null,null,null,null,null,null,null,null,null,null,null,null,null,null,null,null,null,null,null,null,0]
[null,null,null,null,null,null,null,null,null,null,null,null,null,null,null,null,null,null,null,null,null,null,null,null,null,null,null,null,null,null,null,null,{"$f":"IF(AF134=1,COUNTA(D134:E134,H134:L134,N134,Q134:U134,W134:Y134,AB134),COUNTA(D134:E134,H134:I134,Q134:U134,W134:Y134,AB134))","v":0}]
[null,null,null,null,null,null,null,null,null,null,null,null,null,null,null,null,null,null,null,null,null,null,null,null,null,null,null,null,null,null,null,null,0]
[null,null,null,null,null,null,null,null,null,null,null,null,null,null,null,null,null,null,null,null,null,null,null,null,null,null,null,null,null,null,null,null,0]
[null,null,null,null,null,null,null,null,null,null,null,null,null,null,null,null,null,null,null,null,null,null,null,null,null,null,null,null,null,null,null,null,0]
[null,null,null,null,null,null,null,null,null,null,null,null,null,null,null,null,null,null,null,null,null,null,null,null,null,null,null,null,null,null,null,null,0]
[null,null,null,null,null,null,null,null,null,null,null,null,null,null,null,null,null,null,null,null,null,null,null,null,null,null,null,null,null,null,null,null,0]
[null,null,null,null,null,null,null,null,null,null,null,null,null,null,null,null,null,null,null,null,null,null,null,null,null,null,null,null,null,null,null,null,0]
[null,null,null,null,null,null,null,null,null,null,null,null,null,null,null,null,null,null,null,null,null,null,null,null,null,null,null,null,null,null,null,null,0]
[null,null,null,null,null,null,null,null,null,null,null,null,null,null,null,null,null,null,null,null,null,null,null,null,null,null,null,null,null,null,null,null,0]
[null,null,null,null,null,null,null,null,null,null,null,null,null,null,null,null,null,null,null,null,null,null,null,null,null,null,null,null,null,null,null,null,0]
[null,null,null,null,null,null,null,null,null,null,null,null,null,null,null,null,null,null,null,null,null,null,null,null,null,null,null,null,null,null,null,null,0]
[null,null,null,null,null,null,null,null,null,null,null,null,null,null,null,null,null,null,null,null,null,null,null,null,null,null,null,null,null,null,null,null,0]
[null,null,null,null,null,null,null,null,null,null,null,null,null,null,null,null,null,null,null,null,null,null,null,null,null,null,null,null,null,null,null,null,0]

{"sheet":"Fencing","index":16,"n_rows":159,"n_cols":50,"rows_kept":159,"cut":false,"hidden":true,"merged":[[6,3,6,13],[6,15,6,20],[6,22,6,25],[0,29,0,30],[0,39,0,41],[2,3,2,12],[2,22,2,25],[4,10,4,11],[3,23,3,24],[4,23,4,24]]}
[null,null,null,null,null,null,null,null,null,null,null,null,null,null,null,null,null,null,null,null,null,null,null,null,null,null,null,null,null,null,null,null,null,1,null,null,null,null,null,null,null,null,null,null,null,null,null,null,0]
[null,null,null,null,null,null,null,null,null,null,null,null,null,null,null,null,null,null,{"$f":"IF(SUM(O:O)>0,\"err\",\"\")","v":""},null,null,null,null,null,null,null,null,null,null,null,null,null,null,null,null,null,null,null,null,null,null,null,null,null,null,null,null,null,0]
[null,null,null,"2022 Aug   -   Fencing, Barriers & Road Restraint Systems",null,null,null,null,null,null,null,null,null,null,null,null,null,null,null,null,null,null,"Converter:",null,null,null,null,null,null,null,null,null,null,null,null,null,null,null,null,null,null,null,null,null,null,null,null,null,0,"<---DO NOT CHANGE ('return is blank' flag)"]
[null,null,null,null,null,null,null,null,null,null,null,null,"(excluding bulk materials)",null,null,null,null,null,null,null,null,null,"Miles","=",null,"km",null,null,null,null,null,null,null,null,null,null,null,null,null,null,null,null,null,null,null,null,null,null,"Fencing, Barriers & Road Restraint Systems"]
[null,null,null,"Add new row:          ",null,null,null,null,null,"Total CO2e",{"$f":"SUMIFS(M:M,AF:AF,\"<>2\")+SUMIFS(Z:Z,AF:AF,\"<>2\")-Z5","v":0},null,"Tonnes",null,null,null,null,null,null,null,null,null,1,"=",null,{"$f":"1.609344*W5","v":1.6093440000000001}]
[]
[null,null,null,"Material / Product",null,null,null,null,null,null,null,null,null,null,null,"Assign % of total quantity to categories",null,null,null,null,null,null,"Transport ",null,null,null,null,"Forecast",null,null,null,"row type"]
[null,null,null,"Item","Type","Unit","Material Type","This Return Quantity","Next Return Quantity Forecast","Carbon Factor Value","Carbon Factor Unit","Conver\n-sion Factor","This Return tCO2e","Methodology",null,"Not Allocated","Fencing","Drainage","Road Pavements","Civils Structures","Waste",null,"Transport mode","Transport distance value (km)","Carbon Factor (tCO2e/t.km)","This Return tCO2e",null,"Next Return Quantity Forecast",null,null,null,"std = 0 / non std = 1 / major material = 2 / of which = 3","is row populated? (based on whether standard row or not"]
["Fencing, Barriers & Road Restraint Systems",null,"Fencing, Barriers & Road Restraint Systems",null,null,{"$f":"IF(ISERROR(VLOOKUP(D9&E9,'Emissions Factors Lookup'!J4:Q400,2,FALSE)),\"\",VLOOKUP(D9&E9,'Emissions Factors Lookup'!J4:Q400,2,FALSE))","v":""},{"$f":"IF(ISERROR(VLOOKUP(D9&E9,'Emissions Factors Lookup'!J4:Q400,3,FALSE)),\"\",VLOOKUP(D9&E9,'Emissions Factors Lookup'!J4:Q400,3,FALSE))","v":""},null,null,{"$f":"IF(ISERROR(VLOOKUP(D9&E9,'Emissions Factors Lookup'!J4:Q400,4,FALSE)),\"\",VLOOKUP(D9&E9,'Emissions Factors Lookup'!J4:Q400,4,FALSE))","v":""},{"$f":"IF(ISERROR(VLOOKUP(D9&E9,'Emissions Factors Lookup'!J4:Q400,5,FALSE)),\"\",VLOOKUP(D9&E9,'Emissions Factors Lookup'!J4:Q400,5,FALSE))","v":""},{"$f":"IF(ISERROR(VLOOKUP(D9&E9,'Emissions Factors Lookup'!J4:Q400,6,FALSE)),\"\",VLOOKUP(D9&E9,'Emissions Factors Lookup'!J4:Q400,6,FALSE))","v":""},{"$f":"IF(OR((N(L9)*N(H9)*N(J9)) = 0, ISERROR(L9*H9*J9)),\"\",L9*H9*J9)","v":""},{"$f":"IF(ISERROR(VLOOKUP(D9&E9,'Emissions Factors Lookup'!J4:Q400,6,FALSE)),\"\",VLOOKUP(D9&E9,'Emissions Factors Lookup'!J4:Q400,7,FALSE)&IF(VLOOKUP(D9&E9,'Emissions Factors Lookup'!J4:Q400,8,FALSE)=\"\",\"\",\" - \"&VLOOKUP(D9&E9,'Emissions Factors Lookup'!J4:Q400,8,FALSE)))","v":""},{"$f":"IF(P9<0,1,0)","v":0},null,null,null,null,null,null,null,null,null,{"$f":"IF(ISBLANK(W9),\"\",((VLOOKUP(\"Laden\" & W9,'Emissions Factors Lookup'!J4:Q400,4,FALSE)*VLOOKUP(\"Laden\" &W9,'Emissions Factors Lookup'!J4:Q400,6,FALSE)) + (VLOOKUP(\"Unladen\" & W9,'Emissions Factors Lookup'!J4:Q400,4,FALSE)*VLOOKUP(\"Unladen\" &W9,'Emissions Factors Lookup'!J4:Q400,6,FALSE)))/2)","v":""},{"$f":"IF(ISBLANK(X9),\"\",(X9*H9*L9*Y9)*2)","v":""},null,null,null,null,null,0,{"$f":"IF(AF9=1,COUNTA(D9:E9,H9:L9,N9,Q9:U9,W9:Y9,AB9),COUNTA(D9:E9,H9:I9,Q9:U9,W9:X9,AB9))","v":0},{"$f":"IF(ISERROR(VLOOKUP(D9&E9,'Emissions Factors Lookup'!J4:R400,9,FALSE)),\"\",VLOOKUP(D9&E9,'Emissions Factors Lookup'!J4:R400,9,FALSE))","v":""}]
[null,null,null,null,null,null,null,null,null,null,null,null,null,null,null,null,null,null,null,null,null,null,null,null,null,null,null,null,null,null,null,null,{"$f":"IF(AF10=1,COUNTA(D10:E10,H10:L10,N10,Q10:U10,W10:Y10,AB10),COUNTA(D10:E10,H10:I10,Q10:U10,W10:X10,AB10))","v":0},{"$f":"IF(ISERROR(VLOOKUP(D10&E10,'Emissions Factors Lookup'!J4:R400,9,FALSE)),\"\",VLOOKUP(D10&E10,'Emissions Factors Lookup'!J4:R400,9,FALSE))","v":""}]
[null,null,null,null,null,null,null,null,null,null,null,null,null,null,null,null,null,null,null,null,null,null,null,null,null,null,null,null,null,null,null,null,{"$f":"IF(AF11=1,COUNTA(D11:E11,H11:L11,N11,Q11:U11,W11:Y11,AB11),COUNTA(D11:E11,H11:I11,Q11:U11,W11:X11,AB11))","v":0},{"$f":"IF(ISERROR(VLOOKUP(D11&E11,'Emissions Factors Lookup'!J4:R309,9,FALSE)),\"\",VLOOKUP(D11&E11,'Emissions Factors Lookup'!J4:R309,9,FALSE))","v":""}]
[null,null,null,null,null,null,null,null,null,null,null,null,null,null,null,null,null,null,null,null,null,null,null,null,null,null,null,null,null,null,null,null,{"$f":"IF(AF12=1,COUNTA(D12:E12,H12:L12,N12,Q12:U12,W12:Y12,AB12),COUNTA(D12:E12,H12:I12,Q12:U12,W12:X12,AB12))","v":0},{"$f":"IF(ISERROR(VLOOKUP(D12&E12,'Emissions Factors Lookup'!J4:R309,9,FALSE)),\"\",VLOOKUP(D12&E12,'Emissions Factors Lookup'!J4:R309,9,FALSE))","v":""}]
[null,null,null,null,null,null,null,null,null,null,null,null,null,null,null,null,null,null,null,null,null,null,null,null,null,null,null,null,null,null,null,null,{"$f":"IF(AF13=1,COUNTA(D13:E13,H13:L13,N13,Q13:U13,W13:Y13,AB13),COUNTA(D13:E13,H13:I13,Q13:U13,W13:X13,AB13))","v":0},{"$f":"IF(ISERROR(VLOOKUP(D13&E13,'Emissions Factors Lookup'!J4:R309,9,FALSE)),\"\",VLOOKUP(D13&E13,'Emissions Factors Lookup'!J4:R309,9,FALSE))","v":""}]
[null,null,null,null,null,null,null,null,null,null,null,null,null,null,null,null,null,null,null,null,null,null,null,null,null,null,null,null,null,null,null,null,0,{"$f":"IF(ISERROR(VLOOKUP(D14&E14,'Emissions Factors Lookup'!J4:R309,9,FALSE)),\"\",VLOOKUP(D14&E14,'Emissions Factors Lookup'!J4:R309,9,FALSE))","v":""}]
[null,null,null,null,null,null,null,null,null,null,null,null,null,null,null,null,null,null,null,null,null,null,null,null,null,null,null,null,null,null,null,null,0,1]
[null,null,null,null,null,null,null,null,null,null,null,null,null,null,null,null,null,null,null,null,null,null,null,null,null,null,null,null,null,null,null,null,0,1]
[null,null,null,null,null,null,null,null,null,null,null,null,null,null,null,null,null,null,null,null,null,null,null,null,null,null,null,null,null,null,null,null,{"$f":"IF(AF17=1,COUNTA(D17:E17,H17:L17,N17,Q17:U17,V17:X17,AA17),COUNTA(D17:E17,H17:I17,Q17:U17,V17:X17,AA17))","v":0},1]
[null,null,null,null,null,null,null,null,null,null,null,null,null,null,null,null,null,null,null,null,null,null,null,null,null,null,null,null,null,null,null,null,0,1]
[null,null,null,null,null,null,null,null,null,null,null,null,null,null,null,null,null,null,null,null,null,null,null,null,null,null,null,null,null,null,null,null,0]
[null,null,null,null,null,null,null,null,null,null,null,null,null,null,null,null,null,null,null,null,null,null,null,null,null,null,null,null,null,null,null,null,0]
[null,null,null,null,null,null,null,null,null,null,null,null,null,null,null,null,null,null,null,null,null,null,null,null,null,null,null,null,null,null,null,null,{"$f":"IF(AF21=1,COUNTA(D21:E21,H21:L21,N21,Q21:U21,W21:Y21,AB21),COUNTA(D21:E21,H21:I21,Q21:U21,W21:Y21,AB21))","v":0}]
[null,null,null,null,null,null,null,null,null,null,null,null,null,null,null,null,null,null,null,null,null,null,null,null,null,null,null,null,null,null,null,null,0]
[null,null,null,null,null,null,null,null,null,null,null,null,null,null,null,null,null,null,null,null,null,null,null,null,null,null,null,null,null,null,null,null,0]
[null,null,null,null,null,null,null,null,null,null,null,null,null,null,null,null,null,null,null,null,null,null,null,null,null,null,null,null,null,null,null,null,0]
[null,null,null,null,null,null,null,null,null,null,null,null,null,null,null,null,null,null,null,null,null,null,null,null,null,null,null,null,null,null,null,null,0]
[null,null,null,null,null,null,null,null,null,null,null,null,null,null,null,null,null,null,null,null,null,null,null,null,null,null,null,null,null,null,null,null,0]
[null,null,null,null,null,null,null,null,null,null,null,null,null,null,null,null,null,null,null,null,null,null,null,null,null,null,null,null,null,null,null,null,0]
[null,null,null,null,null,null,null,null,null,null,null,null,null,null,null,null,null,null,null,null,null,null,null,null,null,null,null,null,null,null,null,null,0]
[null,null,null,null,null,null,null,null,null,null,null,null,null,null,null,null,null,null,null,null,null,null,null,null,null,null,null,null,null,null,null,null,0]
[null,null,null,null,null,null,null,null,null,null,null,null,null,null,null,null,null,null,null,null,null,null,null,null,null,null,null,null,null,null,null,null,0]
[null,null,null,null,null,null,null,null,null,null,null,null,null,null,null,null,null,null,null,null,null,null,null,null,null,null,null,null,null,null,null,null,0]
[null,null,null,null,null,null,null,null,null,null,null,null,null,null,null,null,null,null,null,null,null,null,null,null,null,null,null,null,null,null,null,null,0]
[null,null,null,null,null,null,null,null,null,null,null,null,null,null,null,null,null,null,null,null,null,null,null,null,null,null,null,null,null,null,null,null,0]
[null,null,null,null,null,null,null,null,null,null,null,null,null,null,null,null,null,null,null,null,null,null,null,null,null,null,null,null,null,null,null,null,0]
[null,null,null,null,null,null,null,null,null,null,null,null,null,null,null,null,null,null,null,null,null,null,null,null,null,null,null,null,null,null,null,null,0]
[null,null,null,null,null,null,null,null,null,null,null,null,null,null,null,null,null,null,null,null,null,null,null,null,null,null,null,null,null,null,null,null,0]
[null,null,null,null,null,null,null,null,null,null,null,null,null,null,null,null,null,null,null,null,null,null,null,null,null,null,null,null,null,null,null,null,0]
[null,null,null,null,null,null,null,null,null,null,null,null,null,null,null,null,null,null,null,null,null,null,null,null,null,null,null,null,null,null,null,null,0]
[null,null,null,null,null,null,null,null,null,null,null,null,null,null,null,null,null,null,null,null,null,null,null,null,null,null,null,null,null,null,null,null,0]
[null,null,null,null,null,null,null,null,null,null,null,null,null,null,null,null,null,null,null,null,null,null,null,null,null,null,null,null,null,null,null,null,0]
[null,null,null,null,null,null,null,null,null,null,null,null,null,null,null,null,null,null,null,null,null,null,null,null,null,null,null,null,null,null,null,null,0]
[null,null,null,null,null,null,null,null,null,null,null,null,null,null,null,null,null,null,null,null,null,null,null,null,null,null,null,null,null,null,null,null,0]
[null,null,null,null,null,null,null,null,null,null,null,null,null,null,null,null,null,null,null,null,null,null,null,null,null,null,null,null,null,null,null,null,0]
[null,null,null,null,null,null,null,null,null,null,null,null,null,null,null,null,null,null,null,null,null,null,null,null,null,null,null,null,null,null,null,null,0]
[null,null,null,null,null,null,null,null,null,null,null,null,null,null,null,null,null,null,null,null,null,null,null,null,null,null,null,null,null,null,null,null,0]
[null,null,null,null,null,null,null,null,null,null,null,null,null,null,null,null,null,null,null,null,null,null,null,null,null,null,null,null,null,null,null,null,0]
[null,null,null,null,null,null,null,null,null,null,null,null,null,null,null,null,null,null,null,null,null,null,null,null,null,null,null,null,null,null,null,null,0]
[null,null,null,null,null,null,null,null,null,null,null,null,null,null,null,null,null,null,null,null,null,null,null,null,null,null,null,null,null,null,null,null,0]
[null,null,null,null,null,null,null,null,null,null,null,null,null,null,null,null,null,null,null,null,null,null,null,null,null,null,null,null,null,null,null,null,0]
[null,null,null,null,null,null,null,null,null,null,null,null,null,null,null,null,null,null,null,null,null,null,null,null,null,null,null,null,null,null,null,null,0]
[null,null,null,null,null,null,null,null,null,null,null,null,null,null,null,null,null,null,null,null,null,null,null,null,null,null,null,null,null,null,null,null,0]
[null,null,null,null,null,null,null,null,null,null,null,null,null,null,null,null,null,null,null,null,null,null,null,null,null,null,null,null,null,null,null,null,0]
[null,null,null,null,null,null,null,null,null,null,null,null,null,null,null,null,null,null,null,null,null,null,null,null,null,null,null,null,null,null,null,null,{"$f":"IF(AF53=1,COUNTA(D53:E53,H53:L53,N53,Q53:U53,W53:Y53,AB53),COUNTA(D53:E53,H53:I53,Q53:U53,W53:Y53,AB53))","v":0}]
[null,null,null,null,null,null,null,null,null,null,null,null,null,null,null,null,null,null,null,null,null,null,null,null,null,null,null,null,null,null,null,null,0]
[null,null,null,null,null,null,null,null,null,null,null,null,null,null,null,null,null,null,null,null,null,null,null,null,null,null,null,null,null,null,null,null,0]
[null,null,null,null,null,null,null,null,null,null,null,null,null,null,null,null,null,null,null,null,null,null,null,null,null,null,null,null,null,null,null,null,0]
[null,null,null,null,null,null,null,null,null,null,null,null,null,null,null,null,null,null,null,null,null,null,null,null,null,null,null,null,null,null,null,null,0]
[null,null,null,null,null,null,null,null,null,null,null,null,null,null,null,null,null,null,null,null,null,null,null,null,null,null,null,null,null,null,null,null,0]
[null,null,null,null,null,null,null,null,null,null,null,null,null,null,null,null,null,null,null,null,null,null,null,null,null,null,null,null,null,null,null,null,0]
[null,null,null,null,null,null,null,null,null,null,null,null,null,null,null,null,null,null,null,null,null,null,null,null,null,null,null,null,null,null,null,null,0]
[null,null,null,null,null,null,null,null,null,null,null,null,null,null,null,null,null,null,null,null,null,null,null,null,null,null,null,null,null,null,null,null,0]
[null,null,null,null,null,null,null,null,null,null,null,null,null,null,null,null,null,null,null,null,null,null,null,null,null,null,null,null,null,null,null,null,0]
[null,null,null,null,null,null,null,null,null,null,null,null,null,null,null,null,null,null,null,null,null,null,null,null,null,null,null,null,null,null,null,null,0]
[null,null,null,null,null,null,null,null,null,null,null,null,null,null,null,null,null,null,null,null,null,null,null,null,null,null,null,null,null,null,null,null,0]
[null,null,null,null,null,null,null,null,null,null,null,null,null,null,null,null,null,null,null,null,null,null,null,null,null,null,null,null,null,null,null,null,0]
[null,null,null,null,null,null,null,null,null,null,null,null,null,null,null,null,null,null,null,null,null,null,null,null,null,null,null,null,null,null,null,null,0]
[null,null,null,null,null,null,null,null,null,null,null,null,null,null,null,null,null,null,null,null,null,null,null,null,null,null,null,null,null,null,null,null,0]
[null,null,null,null,null,null,null,null,null,null,null,null,null,null,null,null,null,null,null,null,null,null,null,null,null,null,null,null,null,null,null,null,0]
[null,null,null,null,null,null,null,null,null,null,null,null,null,null,null,null,null,null,null,null,null,null,null,null,null,null,null,null,null,null,null,null,0]
[null,null,null,null,null,null,null,null,null,null,null,null,null,null,null,null,null,null,null,null,null,null,null,null,null,null,null,null,null,null,null,null,0]
[null,null,null,null,null,null,null,null,null,null,null,null,null,null,null,null,null,null,null,null,null,null,null,null,null,null,null,null,null,null,null,null,0]
[null,null,null,null,null,null,null,null,null,null,null,null,null,null,null,null,null,null,null,null,null,null,null,null,null,null,null,null,null,null,null,null,0]
[null,null,null,null,null,null,null,null,null,null,null,null,null,null,null,null,null,null,null,null,null,null,null,null,null,null,null,null,null,null,null,null,0]
[null,null,null,null,null,null,null,null,null,null,null,null,null,null,null,null,null,null,null,null,null,null,null,null,null,null,null,null,null,null,null,null,0]
[null,null,null,null,null,null,null,null,null,null,null,null,null,null,null,null,null,null,null,null,null,null,null,null,null,null,null,null,null,null,null,null,0]
[null,null,null,null,null,null,null,null,null,null,null,null,null,null,null,null,null,null,null,null,null,null,null,null,null,null,null,null,null,null,null,null,0]
[null,null,null,null,null,null,null,null,null,null,null,null,null,null,null,null,null,null,null,null,null,null,null,null,null,null,null,null,null,null,null,null,0]
[null,null,null,null,null,null,null,null,null,null,null,null,null,null,null,null,null,null,null,null,null,null,null,null,null,null,null,null,null,null,null,null,0]
[null,null,null,null,null,null,null,null,null,null,null,null,null,null,null,null,null,null,null,null,null,null,null,null,null,null,null,null,null,null,null,null,0]
[null,null,null,null,null,null,null,null,null,null,null,null,null,null,null,null,null,null,null,null,null,null,null,null,null,null,null,null,null,null,null,null,0]
[null,null,null,null,null,null,null,null,null,null,null,null,null,null,null,null,null,null,null,null,null,null,null,null,null,null,null,null,null,null,null,null,0]
[null,null,null,null,null,null,null,null,null,null,null,null,null,null,null,null,null,null,null,null,null,null,null,null,null,null,null,null,null,null,null,null,0]
[null,null,null,null,null,null,null,null,null,null,null,null,null,null,null,null,null,null,null,null,null,null,null,null,null,null,null,null,null,null,null,null,0]
[null,null,null,null,null,null,null,null,null,null,null,null,null,null,null,null,null,null,null,null,null,null,null,null,null,null,null,null,null,null,null,null,0]
[null,null,null,null,null,null,null,null,null,null,null,null,null,null,null,null,null,null,null,null,null,null,null,null,null,null,null,null,null,null,null,null,{"$f":"IF(AF85=1,COUNTA(D85:E85,H85:L85,N85,Q85:U85,W85:Y85,AB85),COUNTA(D85:E85,H85:I85,Q85:U85,W85:Y85,AB85))","v":0}]
[null,null,null,null,null,null,null,null,null,null,null,null,null,null,null,null,null,null,null,null,null,null,null,null,null,null,null,null,null,null,null,null,0]
[null,null,null,null,null,null,null,null,null,null,null,null,null,null,null,null,null,null,null,null,null,null,null,null,null,null,null,null,null,null,null,null,0]
[null,null,null,null,null,null,null,null,null,null,null,null,null,null,null,null,null,null,null,null,null,null,null,null,null,null,null,null,null,null,null,null,0]
[null,null,null,null,null,null,null,null,null,null,null,null,null,null,null,null,null,null,null,null,null,null,null,null,null,null,null,null,null,null,null,null,0]
[null,null,null,null,null,null,null,null,null,null,null,null,null,null,null,null,null,null,null,null,null,null,null,null,null,null,null,null,null,null,null,null,0]
[null,null,null,null,null,null,null,null,null,null,null,null,null,null,null,null,null,null,null,null,null,null,null,null,null,null,null,null,null,null,null,null,0]
[null,null,null,null,null,null,null,null,null,null,null,null,null,null,null,null,null,null,null,null,null,null,null,null,null,null,null,null,null,null,null,null,0]
[null,null,null,null,null,null,null,null,null,null,null,null,null,null,null,null,null,null,null,null,null,null,null,null,null,null,null,null,null,null,null,null,0]
[null,null,null,null,null,null,null,null,null,null,null,null,null,null,null,null,null,null,null,null,null,null,null,null,null,null,null,null,null,null,null,null,0]
[null,null,null,null,null,null,null,null,null,null,null,null,null,null,null,null,null,null,null,null,null,null,null,null,null,null,null,null,null,null,null,null,0]
[null,null,null,null,null,null,null,null,null,null,null,null,null,null,null,null,null,null,null,null,null,null,null,null,null,null,null,null,null,null,null,null,0]
[null,null,null,null,null,null,null,null,null,null,null,null,null,null,null,null,null,null,null,null,null,null,null,null,null,null,null,null,null,null,null,null,0]
[null,null,null,null,null,null,null,null,null,null,null,null,null,null,null,null,null,null,null,null,null,null,null,null,null,null,null,null,null,null,null,null,0]
[null,null,null,null,null,null,null,null,null,null,null,null,null,null,null,null,null,null,null,null,null,null,null,null,null,null,null,null,null,null,null,null,0]
[null,null,null,null,null,null,null,null,null,null,null,null,null,null,null,null,null,null,null,null,null,null,null,null,null,null,null,null,null,null,null,null,0]
[null,null,null,null,null,null,null,null,null,null,null,null,null,null,null,null,null,null,null,null,null,null,null,null,null,null,null,null,null,null,null,null,0]
[null,null,null,null,null,null,null,null,null,null,null,null,null,null,null,null,null,null,null,null,null,null,null,null,null,null,null,null,null,null,null,null,0]
[null,null,null,null,null,null,null,null,null,null,null,null,null,null,null,null,null,null,null,null,null,null,null,null,null,null,null,null,null,null,null,null,0]
[null,null,null,null,null,null,null,null,null,null,null,null,null,null,null,null,null,null,null,null,null,null,null,null,null,null,null,null,null,null,null,null,0]
[null,null,null,null,null,null,null,null,null,null,null,null,null,null,null,null,null,null,null,null,null,null,null,null,null,null,null,null,null,null,null,null,0]
[null,null,null,null,null,null,null,null,null,null,null,null,null,null,null,null,null,null,null,null,null,null,null,null,null,null,null,null,null,null,null,null,0]
[null,null,null,null,null,null,null,null,null,null,null,null,null,null,null,null,null,null,null,null,null,null,null,null,null,null,null,null,null,null,null,null,0]
[null,null,null,null,null,null,null,null,null,null,null,null,null,null,null,null,null,null,null,null,null,null,null,null,null,null,null,null,null,null,null,null,0]
[null,null,null,null,null,null,null,null,null,null,null,null,null,null,null,null,null,null,null,null,null,null,null,null,null,null,null,null,null,null,null,null,0]
[null,null,null,null,null,null,null,null,null,null,null,null,null,null,null,null,null,null,null,null,null,null,null,null,null,null,null,null,null,null,null,null,0]
[null,null,null,null,null,null,null,null,null,null,null,null,null,null,null,null,null,null,null,null,null,null,null,null,null,null,null,null,null,null,null,null,0]
[null,null,null,null,null,null,null,null,null,null,null,null,null,null,null,null,null,null,null,null,null,null,null,null,null,null,null,null,null,null,null,null,0]
[null,null,null,null,null,null,null,null,null,null,null,null,null,null,null,null,null,null,null,null,null,null,null,null,null,null,null,null,null,null,null,null,0]
[null,null,null,null,null,null,null,null,null,null,null,null,null,null,null,null,null,null,null,null,null,null,null,null,null,null,null,null,null,null,null,null,0]
[null,null,null,null,null,null,null,null,null,null,null,null,null,null,null,null,null,null,null,null,null,null,null,null,null,null,null,null,null,null,null,null,0]
[null,null,null,null,null,null,null,null,null,null,null,null,null,null,null,null,null,null,null,null,null,null,null,null,null,null,null,null,null,null,null,null,0]
[null,null,null,null,null,null,null,null,null,null,null,null,null,null,null,null,null,null,null,null,null,null,null,null,null,null,null,null,null,null,null,null,{"$f":"IF(AF117=1,COUNTA(D117:E117,H117:L117,N117,Q117:U117,W117:Y117,AB117),COUNTA(D117:E117,H117:I117,Q117:U117,W117:Y117,AB117))","v":0}]
[null,null,null,null,null,null,null,null,null,null,null,null,null,null,null,null,null,null,null,null,null,null,null,null,null,null,null,null,null,null,null,null,0]
[null,null,null,null,null,null,null,null,null,null,null,null,null,null,null,null,null,null,null,null,null,null,null,null,null,null,null,null,null,null,null,null,0]
[null,null,null,null,null,null,null,null,null,null,null,null,null,null,null,null,null,null,null,null,null,null,null,null,null,null,null,null,null,null,null,null,0]
[null,null,null,null,null,null,null,null,null,null,null,null,null,null,null,null,null,null,null,null,null,null,null,null,null,null,null,null,null,null,null,null,0]
[null,null,null,null,null,null,null,null,null,null,null,null,null,null,null,null,null,null,null,null,null,null,null,null,null,null,null,null,null,null,null,null,0]
[null,null,null,null,null,null,null,null,null,null,null,null,null,null,null,null,null,null,null,null,null,null,null,null,null,null,null,null,null,null,null,null,0]
[null,null,null,null,null,null,null,null,null,null,null,null,null,null,null,null,null,null,null,null,null,null,null,null,null,null,null,null,null,null,null,null,0]
[null,null,null,null,null,null,null,null,null,null,null,null,null,null,null,null,null,null,null,null,null,null,null,null,null,null,null,null,null,null,null,null,0]
[null,null,null,null,null,null,null,null,null,null,null,null,null,null,null,null,null,null,null,null,null,null,null,null,null,null,null,null,null,null,null,null,0]
[null,null,null,null,null,null,null,null,null,null,null,null,null,null,null,null,null,null,null,null,null,null,null,null,null,null,null,null,null,null,null,null,0]
[null,null,null,null,null,null,null,null,null,null,null,null,null,null,null,null,null,null,null,null,null,null,null,null,null,null,null,null,null,null,null,null,0]
[null,null,null,null,null,null,null,null,null,null,null,null,null,null,null,null,null,null,null,null,null,null,null,null,null,null,null,null,null,null,null,null,0]
[null,null,null,null,null,null,null,null,null,null,null,null,null,null,null,null,null,null,null,null,null,null,null,null,null,null,null,null,null,null,null,null,0]
[null,null,null,null,null,null,null,null,null,null,null,null,null,null,null,null,null,null,null,null,null,null,null,null,null,null,null,null,null,null,null,null,0]
[null,null,null,null,null,null,null,null,null,null,null,null,null,null,null,null,null,null,null,null,null,null,null,null,null,null,null,null,null,null,null,null,0]
[null,null,null,null,null,null,null,null,null,null,null,null,null,null,null,null,null,null,null,null,null,null,null,null,null,null,null,null,null,null,null,null,0]
[null,null,null,null,null,null,null,null,null,null,null,null,null,null,null,null,null,null,null,null,null,null,null,null,null,null,null,null,null,null,null,null,0]
[null,null,null,null,null,null,null,null,null,null,null,null,null,null,null,null,null,null,null,null,null,null,null,null,null,null,null,null,null,null,null,null,0]
[null,null,null,null,null,null,null,null,null,null,null,null,null,null,null,null,null,null,null,null,null,null,null,null,null,null,null,null,null,null,null,null,0]
[null,null,null,null,null,null,null,null,null,null,null,null,null,null,null,null,null,null,null,null,null,null,null,null,null,null,null,null,null,null,null,null,0]
[null,null,null,null,null,null,null,null,null,null,null,null,null,null,null,null,null,null,null,null,null,null,null,null,null,null,null,null,null,null,null,null,0]
[null,null,null,null,null,null,null,null,null,null,null,null,null,null,null,null,null,null,null,null,null,null,null,null,null,null,null,null,null,null,null,null,0]
[null,null,null,null,null,null,null,null,null,null,null,null,null,null,null,null,null,null,null,null,null,null,null,null,null,null,null,null,null,null,null,null,0]
[null,null,null,null,null,null,null,null,null,null,null,null,null,null,null,null,null,null,null,null,null,null,null,null,null,null,null,null,null,null,null,null,0]
[null,null,null,null,null,null,null,null,null,null,null,null,null,null,null,null,null,null,null,null,null,null,null,null,null,null,null,null,null,null,null,null,0]
[null,null,null,null,null,null,null,null,null,null,null,null,null,null,null,null,null,null,null,null,null,null,null,null,null,null,null,null,null,null,null,null,0]
[null,null,null,null,null,null,null,null,null,null,null,null,null,null,null,null,null,null,null,null,null,null,null,null,null,null,null,null,null,null,null,null,0]
[null,null,null,null,null,null,null,null,null,null,null,null,null,null,null,null,null,null,null,null,null,null,null,null,null,null,null,null,null,null,null,null,0]
[null,null,null,null,null,null,null,null,null,null,null,null,null,null,null,null,null,null,null,null,null,null,null,null,null,null,null,null,null,null,null,null,0]
[null,null,null,null,null,null,null,null,null,null,null,null,null,null,null,null,null,null,null,null,null,null,null,null,null,null,null,null,null,null,null,null,0]
[null,null,null,null,null,null,null,null,null,null,null,null,null,null,null,null,null,null,null,null,null,null,null,null,null,null,null,null,null,null,null,null,0]
[null,null,null,null,null,null,null,null,null,null,null,null,null,null,null,null,null,null,null,null,null,null,null,null,null,null,null,null,null,null,null,null,{"$f":"IF(AF149=1,COUNTA(D149:E149,H149:L149,N149,Q149:U149,W149:Y149,AB149),COUNTA(D149:E149,H149:I149,Q149:U149,W149:Y149,AB149))","v":0}]
[null,null,null,null,null,null,null,null,null,null,null,null,null,null,null,null,null,null,null,null,null,null,null,null,null,null,null,null,null,null,null,null,0]
[null,null,null,null,null,null,null,null,null,null,null,null,null,null,null,null,null,null,null,null,null,null,null,null,null,null,null,null,null,null,null,null,0]
[null,null,null,null,null,null,null,null,null,null,null,null,null,null,null,null,null,null,null,null,null,null,null,null,null,null,null,null,null,null,null,null,0]
[null,null,null,null,null,null,null,null,null,null,null,null,null,null,null,null,null,null,null,null,null,null,null,null,null,null,null,null,null,null,null,null,0]
[null,null,null,null,null,null,null,null,null,null,null,null,null,null,null,null,null,null,null,null,null,null,null,null,null,null,null,null,null,null,null,null,0]
[null,null,null,null,null,null,null,null,null,null,null,null,null,null,null,null,null,null,null,null,null,null,null,null,null,null,null,null,null,null,null,null,0]
[null,null,null,null,null,null,null,null,null,null,null,null,null,null,null,null,null,null,null,null,null,null,null,null,null,null,null,null,null,null,null,null,0]
[null,null,null,null,null,null,null,null,null,null,null,null,null,null,null,null,null,null,null,null,null,null,null,null,null,null,null,null,null,null,null,null,0]
[null,null,null,null,null,null,null,null,null,null,null,null,null,null,null,null,null,null,null,null,null,null,null,null,null,null,null,null,null,null,null,null,0]
[null,null,null,null,null,null,null,null,null,null,null,null,null,null,null,null,null,null,null,null,null,null,null,null,null,null,null,null,null,null,null,null,0]

{"sheet":"Drainage","index":17,"n_rows":158,"n_cols":50,"rows_kept":158,"cut":false,"hidden":true,"merged":[[6,3,6,13],[6,15,6,20],[6,22,6,25],[0,29,0,30],[0,39,0,41],[2,3,2,12],[2,22,2,25],[4,10,4,11],[3,23,3,24],[4,23,4,24]]}
[null,null,null,null,null,null,null,null,null,null,null,null,null,null,null,null,null,null,null,null,null,null,null,null,null,null,null,null,null,null,null,null,null,null,null,null,null,null,null,null,null,null,null,null,null,null,null,null,0]
[null,null,null,null,null,null,null,null,null,null,null,null,null,null,null,null,null,null,{"$f":"IF(SUM(O:O)>0,\"err\",\"\")","v":""},null,null,null,0,null,null,null,null,null,null,null,null,null,null,null,null,null,null,null,null,null,null,null,null,null,null,null,null,null,0]
[null,null,null,"2022 Aug   -   Drainage",null,null,null,null,null,null,null,null,null,null,null,null,null,null,null,null,null,null,"Converter:",null,null,null,null,null,null,null,null,null,null,null,null,null,null,null,null,null,null,null,null,null,null,null,null,null,0,"<---DO NOT CHANGE ('return is blank' flag)"]
[null,null,null,null,null,null,null,null,null,null,null,null,"(excluding bulk materials)",null,null,null,null,null,null,null,null,null,"Miles","=",null,"km",null,null,null,null,null,null,null,null,null,null,null,null,null,null,null,null,null,null,null,null,null,null,"Drainage"]
[null,null,null,"Add new row:          ",null,null,null,null,null,"Total CO2e",{"$f":"SUMIFS(M:M,AF:AF,\"<>2\")+SUMIFS(Z:Z,AF:AF,\"<>2\")-Z5","v":0},null,"Tonnes",null,null,null,null,null,null,null,null,null,1,"=",null,{"$f":"1.609344*W5","v":1.6093440000000001}]
[]
[null,null,null,"Material / Product",null,null,null,null,null,null,null,null,null,null,null,"Assign % of total quantity to categories",null,null,null,null,null,null,"Transport ",null,null,null,null,"Forecast",null,null,null,"row type"]
[null,null,null,"Item","Type","Unit","Material Type","This Return Quantity","Next Return Quantity Forecast","Carbon Factor Value","Carbon Factor Unit","Conver\n-sion Factor","This Return tCO2e","Methodology",null,"Not Allocated","Fencing","Drainage","Road Pavements","Civils Structures","Waste",null,"Transport mode","Transport distance value (km)","Carbon Factor (tCO2e/t.km)","This Return tCO2e",null,"Next Return Quantity Forecast",null,null,null,"std = 0 / non std = 1 / major material = 2 / of which = 3","is row populated? (based on whether standard row or not"]
["Drainage",null,"Drainage",null,null,{"$f":"IF(ISERROR(VLOOKUP(D9&E9,'Emissions Factors Lookup'!J4:Q400,2,FALSE)),\"\",VLOOKUP(D9&E9,'Emissions Factors Lookup'!J4:Q400,2,FALSE))","v":""},{"$f":"IF(ISERROR(VLOOKUP(D9&E9,'Emissions Factors Lookup'!J4:Q400,3,FALSE)),\"\",VLOOKUP(D9&E9,'Emissions Factors Lookup'!J4:Q400,3,FALSE))","v":""},null,null,{"$f":"IF(ISERROR(VLOOKUP(D9&E9,'Emissions Factors Lookup'!J4:Q400,4,FALSE)),\"\",VLOOKUP(D9&E9,'Emissions Factors Lookup'!J4:Q400,4,FALSE))","v":""},{"$f":"IF(ISERROR(VLOOKUP(D9&E9,'Emissions Factors Lookup'!J4:Q400,5,FALSE)),\"\",VLOOKUP(D9&E9,'Emissions Factors Lookup'!J4:Q400,5,FALSE))","v":""},{"$f":"IF(ISERROR(VLOOKUP(D9&E9,'Emissions Factors Lookup'!J4:Q400,6,FALSE)),\"\",VLOOKUP(D9&E9,'Emissions Factors Lookup'!J4:Q400,6,FALSE))","v":""},{"$f":"IF(OR((N(L9)*N(H9)*N(J9)) = 0, ISERROR(L9*H9*J9)),\"\",L9*H9*J9)","v":""},{"$f":"IF(ISERROR(VLOOKUP(D9&E9,'Emissions Factors Lookup'!J4:Q400,6,FALSE)),\"\",VLOOKUP(D9&E9,'Emissions Factors Lookup'!J4:Q400,7,FALSE)&IF(VLOOKUP(D9&E9,'Emissions Factors Lookup'!J4:Q400,8,FALSE)=\"\",\"\",\" - \"&VLOOKUP(D9&E9,'Emissions Factors Lookup'!J4:Q400,8,FALSE)))","v":""},{"$f":"IF(P9<0,1,0)","v":0},null,null,null,null,null,null,null,null,null,{"$f":"IF(ISBLANK(W9),\"\",((VLOOKUP(\"Laden\" & W9,'Emissions Factors Lookup'!J4:Q400,4,FALSE)*VLOOKUP(\"Laden\" &W9,'Emissions Factors Lookup'!J4:Q400,6,FALSE)) + (VLOOKUP(\"Unladen\" & W9,'Emissions Factors Lookup'!J4:Q400,4,FALSE)*VLOOKUP(\"Unladen\" &W9,'Emissions Factors Lookup'!J4:Q400,6,FALSE)))/2)","v":""},{"$f":"IF(ISBLANK(X9),\"\",(X9*H9*L9*Y9)*2)","v":""},null,null,null,null,null,0,{"$f":"IF(AF9=1,COUNTA(D9:E9,H9:L9,N9,Q9:U9,W9:Y9,AB9),COUNTA(D9:E9,H9:I9,Q9:U9,W9:X9,AB9))","v":0},{"$f":"IF(ISERROR(VLOOKUP(D9&E9,'Emissions Factors Lookup'!J4:R400,9,FALSE)),\"\",VLOOKUP(D9&E9,'Emissions Factors Lookup'!J4:R400,9,FALSE))","v":""}]
[null,null,null,null,null,null,null,null,null,null,null,null,null,null,null,null,null,null,null,null,null,null,null,null,null,null,null,null,null,null,null,null,{"$f":"IF(AF10=1,COUNTA(D10:E10,H10:L10,N10,Q10:U10,W10:Y10,AB10),COUNTA(D10:E10,H10:I10,Q10:U10,W10:X10,AB10))","v":0},{"$f":"IF(ISERROR(VLOOKUP(D10&E10,'Emissions Factors Lookup'!J4:R309,9,FALSE)),\"\",VLOOKUP(D10&E10,'Emissions Factors Lookup'!J4:R309,9,FALSE))","v":""}]
[null,null,null,null,null,null,null,null,null,null,null,null,null,null,null,null,null,null,null,null,null,null,null,null,null,null,null,null,null,null,null,null,{"$f":"IF(AF11=1,COUNTA(D11:E11,H11:L11,N11,Q11:U11,W11:Y11,AB11),COUNTA(D11:E11,H11:I11,Q11:U11,W11:X11,AB11))","v":0},{"$f":"IF(ISERROR(VLOOKUP(D11&E11,'Emissions Factors Lookup'!J4:R309,9,FALSE)),\"\",VLOOKUP(D11&E11,'Emissions Factors Lookup'!J4:R309,9,FALSE))","v":""}]
[null,null,null,null,null,null,null,null,null,null,null,null,null,null,null,null,null,null,null,null,null,null,null,null,null,null,null,null,null,null,null,null,{"$f":"IF(AF12=1,COUNTA(D12:E12,H12:L12,N12,Q12:U12,W12:Y12,AB12),COUNTA(D12:E12,H12:I12,Q12:U12,W12:X12,AB12))","v":0},{"$f":"IF(ISERROR(VLOOKUP(D12&E12,'Emissions Factors Lookup'!J4:R309,9,FALSE)),\"\",VLOOKUP(D12&E12,'Emissions Factors Lookup'!J4:R309,9,FALSE))","v":""}]
[null,null,null,null,null,null,null,null,null,null,null,null,null,null,null,null,null,null,null,null,null,null,null,null,null,null,null,null,null,null,null,null,{"$f":"IF(AF13=1,COUNTA(D13:E13,H13:L13,N13,Q13:U13,W13:Y13,AB13),COUNTA(D13:E13,H13:I13,Q13:U13,W13:X13,AB13))","v":0},1]
[null,null,null,null,null,null,null,null,null,null,null,null,null,null,null,null,null,null,null,null,null,null,null,null,null,null,null,null,null,null,null,null,{"$f":"IF(AF14=1,COUNTA(D14:E14,H14:L14,N14,Q14:U14,V14:X14,AA14),COUNTA(D14:E14,H14:I14,Q14:U14,V14:X14,AA14))","v":0},1]
[null,null,null,null,null,null,null,null,null,null,null,null,null,null,null,null,null,null,null,null,null,null,null,null,null,null,null,null,null,null,null,null,0,1]
[null,null,null,null,null,null,null,null,null,null,null,null,null,null,null,null,null,null,null,null,null,null,null,null,null,null,null,null,null,null,null,null,0]
[null,null,null,null,null,null,null,null,null,null,null,null,null,null,null,null,null,null,null,null,null,null,null,null,null,null,null,null,null,null,null,null,0]
[null,null,null,null,null,null,null,null,null,null,null,null,null,null,null,null,null,null,null,null,null,null,null,null,null,null,null,null,null,null,null,null,0]
[null,null,null,null,null,null,null,null,null,null,null,null,null,null,null,null,null,null,null,null,null,null,null,null,null,null,null,null,null,null,null,null,{"$f":"IF(AF19=1,COUNTA(D19:E19,H19:L19,N19,Q19:U19,W19:Y19,AB19),COUNTA(D19:E19,H19:I19,Q19:U19,W19:Y19,AB19))","v":0}]
[null,null,null,null,null,null,null,null,null,null,null,null,null,null,null,null,null,null,null,null,null,null,null,null,null,null,null,null,null,null,null,null,0]
[null,null,null,null,null,null,null,null,null,null,null,null,null,null,null,null,null,null,null,null,null,null,null,null,null,null,null,null,null,null,null,null,0]
[null,null,null,null,null,null,null,null,null,null,null,null,null,null,null,null,null,null,null,null,null,null,null,null,null,null,null,null,null,null,null,null,0]
[null,null,null,null,null,null,null,null,null,null,null,null,null,null,null,null,null,null,null,null,null,null,null,null,null,null,null,null,null,null,null,null,0]
[null,null,null,null,null,null,null,null,null,null,null,null,null,null,null,null,null,null,null,null,null,null,null,null,null,null,null,null,null,null,null,null,0]
[null,null,null,null,null,null,null,null,null,null,null,null,null,null,null,null,null,null,null,null,null,null,null,null,null,null,null,null,null,null,null,null,0]
[null,null,null,null,null,null,null,null,null,null,null,null,null,null,null,null,null,null,null,null,null,null,null,null,null,null,null,null,null,null,null,null,0]
[null,null,null,null,null,null,null,null,null,null,null,null,null,null,null,null,null,null,null,null,null,null,null,null,null,null,null,null,null,null,null,null,0]
[null,null,null,null,null,null,null,null,null,null,null,null,null,null,null,null,null,null,null,null,null,null,null,null,null,null,null,null,null,null,null,null,0]
[null,null,null,null,null,null,null,null,null,null,null,null,null,null,null,null,null,null,null,null,null,null,null,null,null,null,null,null,null,null,null,null,0]
[null,null,null,null,null,null,null,null,null,null,null,null,null,null,null,null,null,null,null,null,null,null,null,null,null,null,null,null,null,null,null,null,0]
[null,null,null,null,null,null,null,null,null,null,null,null,null,null,null,null,null,null,null,null,null,null,null,null,null,null,null,null,null,null,null,null,0]
[null,null,null,null,null,null,null,null,null,null,null,null,null,null,null,null,null,null,null,null,null,null,null,null,null,null,null,null,null,null,null,null,0]
[null,null,null,null,null,null,null,null,null,null,null,null,null,null,null,null,null,null,null,null,null,null,null,null,null,null,null,null,null,null,null,null,0]
[null,null,null,null,null,null,null,null,null,null,null,null,null,null,null,null,null,null,null,null,null,null,null,null,null,null,null,null,null,null,null,null,0]
[null,null,null,null,null,null,null,null,null,null,null,null,null,null,null,null,null,null,null,null,null,null,null,null,null,null,null,null,null,null,null,null,0]
[null,null,null,null,null,null,null,null,null,null,null,null,null,null,null,null,null,null,null,null,null,null,null,null,null,null,null,null,null,null,null,null,0]
[null,null,null,null,null,null,null,null,null,null,null,null,null,null,null,null,null,null,null,null,null,null,null,null,null,null,null,null,null,null,null,null,0]
[null,null,null,null,null,null,null,null,null,null,null,null,null,null,null,null,null,null,null,null,null,null,null,null,null,null,null,null,null,null,null,null,0]
[null,null,null,null,null,null,null,null,null,null,null,null,null,null,null,null,null,null,null,null,null,null,null,null,null,null,null,null,null,null,null,null,0]
[null,null,null,null,null,null,null,null,null,null,null,null,null,null,null,null,null,null,null,null,null,null,null,null,null,null,null,null,null,null,null,null,0]
[null,null,null,null,null,null,null,null,null,null,null,null,null,null,null,null,null,null,null,null,null,null,null,null,null,null,null,null,null,null,null,null,0]
[null,null,null,null,null,null,null,null,null,null,null,null,null,null,null,null,null,null,null,null,null,null,null,null,null,null,null,null,null,null,null,null,0]
[null,null,null,null,null,null,null,null,null,null,null,null,null,null,null,null,null,null,null,null,null,null,null,null,null,null,null,null,null,null,null,null,0]
[null,null,null,null,null,null,null,null,null,null,null,null,null,null,null,null,null,null,null,null,null,null,null,null,null,null,null,null,null,null,null,null,0]
[null,null,null,null,null,null,null,null,null,null,null,null,null,null,null,null,null,null,null,null,null,null,null,null,null,null,null,null,null,null,null,null,0]
[null,null,null,null,null,null,null,null,null,null,null,null,null,null,null,null,null,null,null,null,null,null,null,null,null,null,null,null,null,null,null,null,0]
[null,null,null,null,null,null,null,null,null,null,null,null,null,null,null,null,null,null,null,null,null,null,null,null,null,null,null,null,null,null,null,null,0]
[null,null,null,null,null,null,null,null,null,null,null,null,null,null,null,null,null,null,null,null,null,null,null,null,null,null,null,null,null,null,null,null,0]
[null,null,null,null,null,null,null,null,null,null,null,null,null,null,null,null,null,null,null,null,null,null,null,null,null,null,null,null,null,null,null,null,0]
[null,null,null,null,null,null,null,null,null,null,null,null,null,null,null,null,null,null,null,null,null,null,null,null,null,null,null,null,null,null,null,null,0]
[null,null,null,null,null,null,null,null,null,null,null,null,null,null,null,null,null,null,null,null,null,null,null,null,null,null,null,null,null,null,null,null,{"$f":"IF(AF51=1,COUNTA(D51:E51,H51:L51,N51,Q51:U51,W51:Y51,AB51),COUNTA(D51:E51,H51:I51,Q51:U51,W51:Y51,AB51))","v":0}]
[null,null,null,null,null,null,null,null,null,null,null,null,null,null,null,null,null,null,null,null,null,null,null,null,null,null,null,null,null,null,null,null,0]
[null,null,null,null,null,null,null,null,null,null,null,null,null,null,null,null,null,null,null,null,null,null,null,null,null,null,null,null,null,null,null,null,0]
[null,null,null,null,null,null,null,null,null,null,null,null,null,null,null,null,null,null,null,null,null,null,null,null,null,null,null,null,null,null,null,null,0]
[null,null,null,null,null,null,null,null,null,null,null,null,null,null,null,null,null,null,null,null,null,null,null,null,null,null,null,null,null,null,null,null,0]
[null,null,null,null,null,null,null,null,null,null,null,null,null,null,null,null,null,null,null,null,null,null,null,null,null,null,null,null,null,null,null,null,0]
[null,null,null,null,null,null,null,null,null,null,null,null,null,null,null,null,null,null,null,null,null,null,null,null,null,null,null,null,null,null,null,null,0]
[null,null,null,null,null,null,null,null,null,null,null,null,null,null,null,null,null,null,null,null,null,null,null,null,null,null,null,null,null,null,null,null,0]
[null,null,null,null,null,null,null,null,null,null,null,null,null,null,null,null,null,null,null,null,null,null,null,null,null,null,null,null,null,null,null,null,0]
[null,null,null,null,null,null,null,null,null,null,null,null,null,null,null,null,null,null,null,null,null,null,null,null,null,null,null,null,null,null,null,null,0]
[null,null,null,null,null,null,null,null,null,null,null,null,null,null,null,null,null,null,null,null,null,null,null,null,null,null,null,null,null,null,null,null,0]
[null,null,null,null,null,null,null,null,null,null,null,null,null,null,null,null,null,null,null,null,null,null,null,null,null,null,null,null,null,null,null,null,0]
[null,null,null,null,null,null,null,null,null,null,null,null,null,null,null,null,null,null,null,null,null,null,null,null,null,null,null,null,null,null,null,null,0]
[null,null,null,null,null,null,null,null,null,null,null,null,null,null,null,null,null,null,null,null,null,null,null,null,null,null,null,null,null,null,null,null,0]
[null,null,null,null,null,null,null,null,null,null,null,null,null,null,null,null,null,null,null,null,null,null,null,null,null,null,null,null,null,null,null,null,0]
[null,null,null,null,null,null,null,null,null,null,null,null,null,null,null,null,null,null,null,null,null,null,null,null,null,null,null,null,null,null,null,null,0]
[null,null,null,null,null,null,null,null,null,null,null,null,null,null,null,null,null,null,null,null,null,null,null,null,null,null,null,null,null,null,null,null,0]
[null,null,null,null,null,null,null,null,null,null,null,null,null,null,null,null,null,null,null,null,null,null,null,null,null,null,null,null,null,null,null,null,0]
[null,null,null,null,null,null,null,null,null,null,null,null,null,null,null,null,null,null,null,null,null,null,null,null,null,null,null,null,null,null,null,null,0]
[null,null,null,null,null,null,null,null,null,null,null,null,null,null,null,null,null,null,null,null,null,null,null,null,null,null,null,null,null,null,null,null,0]
[null,null,null,null,null,null,null,null,null,null,null,null,null,null,null,null,null,null,null,null,null,null,null,null,null,null,null,null,null,null,null,null,0]
[null,null,null,null,null,null,null,null,null,null,null,null,null,null,null,null,null,null,null,null,null,null,null,null,null,null,null,null,null,null,null,null,0]
[null,null,null,null,null,null,null,null,null,null,null,null,null,null,null,null,null,null,null,null,null,null,null,null,null,null,null,null,null,null,null,null,0]
[null,null,null,null,null,null,null,null,null,null,null,null,null,null,null,null,null,null,null,null,null,null,null,null,null,null,null,null,null,null,null,null,0]
[null,null,null,null,null,null,null,null,null,null,null,null,null,null,null,null,null,null,null,null,null,null,null,null,null,null,null,null,null,null,null,null,0]
[null,null,null,null,null,null,null,null,null,null,null,null,null,null,null,null,null,null,null,null,null,null,null,null,null,null,null,null,null,null,null,null,0]
[null,null,null,null,null,null,null,null,null,null,null,null,null,null,null,null,null,null,null,null,null,null,null,null,null,null,null,null,null,null,null,null,0]
[null,null,null,null,null,null,null,null,null,null,null,null,null,null,null,null,null,null,null,null,null,null,null,null,null,null,null,null,null,null,null,null,0]
[null,null,null,null,null,null,null,null,null,null,null,null,null,null,null,null,null,null,null,null,null,null,null,null,null,null,null,null,null,null,null,null,0]
[null,null,null,null,null,null,null,null,null,null,null,null,null,null,null,null,null,null,null,null,null,null,null,null,null,null,null,null,null,null,null,null,0]
[null,null,null,null,null,null,null,null,null,null,null,null,null,null,null,null,null,null,null,null,null,null,null,null,null,null,null,null,null,null,null,null,0]
[null,null,null,null,null,null,null,null,null,null,null,null,null,null,null,null,null,null,null,null,null,null,null,null,null,null,null,null,null,null,null,null,0]
[null,null,null,null,null,null,null,null,null,null,null,null,null,null,null,null,null,null,null,null,null,null,null,null,null,null,null,null,null,null,null,null,{"$f":"IF(AF83=1,COUNTA(D83:E83,H83:L83,N83,Q83:U83,W83:Y83,AB83),COUNTA(D83:E83,H83:I83,Q83:U83,W83:Y83,AB83))","v":0}]
[null,null,null,null,null,null,null,null,null,null,null,null,null,null,null,null,null,null,null,null,null,null,null,null,null,null,null,null,null,null,null,null,0]
[null,null,null,null,null,null,null,null,null,null,null,null,null,null,null,null,null,null,null,null,null,null,null,null,null,null,null,null,null,null,null,null,0]
[null,null,null,null,null,null,null,null,null,null,null,null,null,null,null,null,null,null,null,null,null,null,null,null,null,null,null,null,null,null,null,null,0]
[null,null,null,null,null,null,null,null,null,null,null,null,null,null,null,null,null,null,null,null,null,null,null,null,null,null,null,null,null,null,null,null,0]
[null,null,null,null,null,null,null,null,null,null,null,null,null,null,null,null,null,null,null,null,null,null,null,null,null,null,null,null,null,null,null,null,0]
[null,null,null,null,null,null,null,null,null,null,null,null,null,null,null,null,null,null,null,null,null,null,null,null,null,null,null,null,null,null,null,null,0]
[null,null,null,null,null,null,null,null,null,null,null,null,null,null,null,null,null,null,null,null,null,null,null,null,null,null,null,null,null,null,null,null,0]
[null,null,null,null,null,null,null,null,null,null,null,null,null,null,null,null,null,null,null,null,null,null,null,null,null,null,null,null,null,null,null,null,0]
[null,null,null,null,null,null,null,null,null,null,null,null,null,null,null,null,null,null,null,null,null,null,null,null,null,null,null,null,null,null,null,null,0]
[null,null,null,null,null,null,null,null,null,null,null,null,null,null,null,null,null,null,null,null,null,null,null,null,null,null,null,null,null,null,null,null,0]
[null,null,null,null,null,null,null,null,null,null,null,null,null,null,null,null,null,null,null,null,null,null,null,null,null,null,null,null,null,null,null,null,0]
[null,null,null,null,null,null,null,null,null,null,null,null,null,null,null,null,null,null,null,null,null,null,null,null,null,null,null,null,null,null,null,null,0]
[null,null,null,null,null,null,null,null,null,null,null,null,null,null,null,null,null,null,null,null,null,null,null,null,null,null,null,null,null,null,null,null,0]
[null,null,null,null,null,null,null,null,null,null,null,null,null,null,null,null,null,null,null,null,null,null,null,null,null,null,null,null,null,null,null,null,0]
[null,null,null,null,null,null,null,null,null,null,null,null,null,null,null,null,null,null,null,null,null,null,null,null,null,null,null,null,null,null,null,null,0]
[null,null,null,null,null,null,null,null,null,null,null,null,null,null,null,null,null,null,null,null,null,null,null,null,null,null,null,null,null,null,null,null,0]
[null,null,null,null,null,null,null,null,null,null,null,null,null,null,null,null,null,null,null,null,null,null,null,null,null,null,null,null,null,null,null,null,0]
[null,null,null,null,null,null,null,null,null,null,null,null,null,null,null,null,null,null,null,null,null,null,null,null,null,null,null,null,null,null,null,null,0]
[null,null,null,null,null,null,null,null,null,null,null,null,null,null,null,null,null,null,null,null,null,null,null,null,null,null,null,null,null,null,null,null,0]
[null,null,null,null,null,null,null,null,null,null,null,null,null,null,null,null,null,null,null,null,null,null,null,null,null,null,null,null,null,null,null,null,0]
[null,null,null,null,null,null,null,null,null,null,null,null,null,null,null,null,null,null,null,null,null,null,null,null,null,null,null,null,null,null,null,null,0]
[null,null,null,null,null,null,null,null,null,null,null,null,null,null,null,null,null,null,null,null,null,null,null,null,null,null,null,null,null,null,null,null,0]
[null,null,null,null,null,null,null,null,null,null,null,null,null,null,null,null,null,null,null,null,null,null,null,null,null,null,null,null,null,null,null,null,0]
[null,null,null,null,null,null,null,null,null,null,null,null,null,null,null,null,null,null,null,null,null,null,null,null,null,null,null,null,null,null,null,null,0]
[null,null,null,null,null,null,null,null,null,null,null,null,null,null,null,null,null,null,null,null,null,null,null,null,null,null,null,null,null,null,null,null,0]
[null,null,null,null,null,null,null,null,null,null,null,null,null,null,null,null,null,null,null,null,null,null,null,null,null,null,null,null,null,null,null,null,0]
[null,null,null,null,null,null,null,null,null,null,null,null,null,null,null,null,null,null,null,null,null,null,null,null,null,null,null,null,null,null,null,null,0]
[null,null,null,null,null,null,null,null,null,null,null,null,null,null,null,null,null,null,null,null,null,null,null,null,null,null,null,null,null,null,null,null,0]
[null,null,null,null,null,null,null,null,null,null,null,null,null,null,null,null,null,null,null,null,null,null,null,null,null,null,null,null,null,null,null,null,0]
[null,null,null,null,null,null,null,null,null,null,null,null,null,null,null,null,null,null,null,null,null,null,null,null,null,null,null,null,null,null,null,null,0]
[null,null,null,null,null,null,null,null,null,null,null,null,null,null,null,null,null,null,null,null,null,null,null,null,null,null,null,null,null,null,null,null,0]
[null,null,null,null,null,null,null,null,null,null,null,null,null,null,null,null,null,null,null,null,null,null,null,null,null,null,null,null,null,null,null,null,{"$f":"IF(AF115=1,COUNTA(D115:E115,H115:L115,N115,Q115:U115,W115:Y115,AB115),COUNTA(D115:E115,H115:I115,Q115:U115,W115:Y115,AB115))","v":0}]
[null,null,null,null,null,null,null,null,null,null,null,null,null,null,null,null,null,null,null,null,null,null,null,null,null,null,null,null,null,null,null,null,0]
[null,null,null,null,null,null,null,null,null,null,null,null,null,null,null,null,null,null,null,null,null,null,null,null,null,null,null,null,null,null,null,null,0]
[null,null,null,null,null,null,null,null,null,null,null,null,null,null,null,null,null,null,null,null,null,null,null,null,null,null,null,null,null,null,null,null,0]
[null,null,null,null,null,null,null,null,null,null,null,null,null,null,null,null,null,null,null,null,null,null,null,null,null,null,null,null,null,null,null,null,0]
[null,null,null,null,null,null,null,null,null,null,null,null,null,null,null,null,null,null,null,null,null,null,null,null,null,null,null,null,null,null,null,null,0]
[null,null,null,null,null,null,null,null,null,null,null,null,null,null,null,null,null,null,null,null,null,null,null,null,null,null,null,null,null,null,null,null,0]
[null,null,null,null,null,null,null,null,null,null,null,null,null,null,null,null,null,null,null,null,null,null,null,null,null,null,null,null,null,null,null,null,0]
[null,null,null,null,null,null,null,null,null,null,null,null,null,null,null,null,null,null,null,null,null,null,null,null,null,null,null,null,null,null,null,null,0]
[null,null,null,null,null,null,null,null,null,null,null,null,null,null,null,null,null,null,null,null,null,null,null,null,null,null,null,null,null,null,null,null,0]
[null,null,null,null,null,null,null,null,null,null,null,null,null,null,null,null,null,null,null,null,null,null,null,null,null,null,null,null,null,null,null,null,0]
[null,null,null,null,null,null,null,null,null,null,null,null,null,null,null,null,null,null,null,null,null,null,null,null,null,null,null,null,null,null,null,null,0]
[null,null,null,null,null,null,null,null,null,null,null,null,null,null,null,null,null,null,null,null,null,null,null,null,null,null,null,null,null,null,null,null,0]
[null,null,null,null,null,null,null,null,null,null,null,null,null,null,null,null,null,null,null,null,null,null,null,null,null,null,null,null,null,null,null,null,0]
[null,null,null,null,null,null,null,null,null,null,null,null,null,null,null,null,null,null,null,null,null,null,null,null,null,null,null,null,null,null,null,null,0]
[null,null,null,null,null,null,null,null,null,null,null,null,null,null,null,null,null,null,null,null,null,null,null,null,null,null,null,null,null,null,null,null,0]
[null,null,null,null,null,null,null,null,null,null,null,null,null,null,null,null,null,null,null,null,null,null,null,null,null,null,null,null,null,null,null,null,0]
[null,null,null,null,null,null,null,null,null,null,null,null,null,null,null,null,null,null,null,null,null,null,null,null,null,null,null,null,null,null,null,null,0]
[null,null,null,null,null,null,null,null,null,null,null,null,null,null,null,null,null,null,null,null,null,null,null,null,null,null,null,null,null,null,null,null,0]
[null,null,null,null,null,null,null,null,null,null,null,null,null,null,null,null,null,null,null,null,null,null,null,null,null,null,null,null,null,null,null,null,0]
[null,null,null,null,null,null,null,null,null,null,null,null,null,null,null,null,null,null,null,null,null,null,null,null,null,null,null,null,null,null,null,null,0]
[null,null,null,null,null,null,null,null,null,null,null,null,null,null,null,null,null,null,null,null,null,null,null,null,null,null,null,null,null,null,null,null,0]
[null,null,null,null,null,null,null,null,null,null,null,null,null,null,null,null,null,null,null,null,null,null,null,null,null,null,null,null,null,null,null,null,0]
[null,null,null,null,null,null,null,null,null,null,null,null,null,null,null,null,null,null,null,null,null,null,null,null,null,null,null,null,null,null,null,null,0]
[null,null,null,null,null,null,null,null,null,null,null,null,null,null,null,null,null,null,null,null,null,null,null,null,null,null,null,null,null,null,null,null,0]
[null,null,null,null,null,null,null,null,null,null,null,null,null,null,null,null,null,null,null,null,null,null,null,null,null,null,null,null,null,null,null,null,0]
[null,null,null,null,null,null,null,null,null,null,null,null,null,null,null,null,null,null,null,null,null,null,null,null,null,null,null,null,null,null,null,null,0]
[null,null,null,null,null,null,null,null,null,null,null,null,null,null,null,null,null,null,null,null,null,null,null,null,null,null,null,null,null,null,null,null,0]
[null,null,null,null,null,null,null,null,null,null,null,null,null,null,null,null,null,null,null,null,null,null,null,null,null,null,null,null,null,null,null,null,0]
[null,null,null,null,null,null,null,null,null,null,null,null,null,null,null,null,null,null,null,null,null,null,null,null,null,null,null,null,null,null,null,null,0]
[null,null,null,null,null,null,null,null,null,null,null,null,null,null,null,null,null,null,null,null,null,null,null,null,null,null,null,null,null,null,null,null,0]
[null,null,null,null,null,null,null,null,null,null,null,null,null,null,null,null,null,null,null,null,null,null,null,null,null,null,null,null,null,null,null,null,0]
[null,null,null,null,null,null,null,null,null,null,null,null,null,null,null,null,null,null,null,null,null,null,null,null,null,null,null,null,null,null,null,null,{"$f":"IF(AF147=1,COUNTA(D147:E147,H147:L147,N147,Q147:U147,W147:Y147,AB147),COUNTA(D147:E147,H147:I147,Q147:U147,W147:Y147,AB147))","v":0}]
[null,null,null,null,null,null,null,null,null,null,null,null,null,null,null,null,null,null,null,null,null,null,null,null,null,null,null,null,null,null,null,null,0]
[null,null,null,null,null,null,null,null,null,null,null,null,null,null,null,null,null,null,null,null,null,null,null,null,null,null,null,null,null,null,null,null,0]
[null,null,null,null,null,null,null,null,null,null,null,null,null,null,null,null,null,null,null,null,null,null,null,null,null,null,null,null,null,null,null,null,0]
[null,null,null,null,null,null,null,null,null,null,null,null,null,null,null,null,null,null,null,null,null,null,null,null,null,null,null,null,null,null,null,null,0]
[null,null,null,null,null,null,null,null,null,null,null,null,null,null,null,null,null,null,null,null,null,null,null,null,null,null,null,null,null,null,null,null,0]
[null,null,null,null,null,null,null,null,null,null,null,null,null,null,null,null,null,null,null,null,null,null,null,null,null,null,null,null,null,null,null,null,0]
[null,null,null,null,null,null,null,null,null,null,null,null,null,null,null,null,null,null,null,null,null,null,null,null,null,null,null,null,null,null,null,null,0]
[null,null,null,null,null,null,null,null,null,null,null,null,null,null,null,null,null,null,null,null,null,null,null,null,null,null,null,null,null,null,null,null,0]
[null,null,null,null,null,null,null,null,null,null,null,null,null,null,null,null,null,null,null,null,null,null,null,null,null,null,null,null,null,null,null,null,0]
[null,null,null,null,null,null,null,null,null,null,null,null,null,null,null,null,null,null,null,null,null,null,null,null,null,null,null,null,null,null,null,null,0]
[null,null,null,null,null,null,null,null,null,null,null,null,null,null,null,null,null,null,null,null,null,null,null,null,null,null,null,null,null,null,null,null,0]

{"sheet":"Road Pavements","index":18,"n_rows":154,"n_cols":50,"rows_kept":154,"cut":false,"hidden":true,"merged":[[6,3,6,13],[6,15,6,20],[6,22,6,25],[0,29,0,30],[0,39,0,41],[2,3,2,12],[2,22,2,25],[4,10,4,11],[3,23,3,24],[4,23,4,24]]}
[null,null,null,null,null,null,null,null,null,null,null,null,null,null,null,null,null,null,null,null,null,null,null,null,null,null,null,null,null,null,null,null,null,1,null,null,null,null,null,null,null,null,null,null,null,null,null,null,0]
[null,null,null,null,null,null,null,null,null,null,null,null,null,null,null,null,null,null,{"$f":"IF(SUM(O:O)>0,\"err\",\"\")","v":""},null,null,null,null,null,null,null,null,null,null,null,null,null,null,null,null,null,null,null,null,null,null,null,null,null,null,null,null,null,0]
[null,null,null,"2022 Aug   -   Road Pavements",null,null,null,null,null,null,null,null,null,null,null,null,null,null,null,null,null,null,"Converter:",null,null,null,null,null,null,null,null,null,null,null,null,null,null,null,null,null,null,null,null,null,null,null,null,null,0,"<---DO NOT CHANGE ('return is blank' flag)"]
[null,null,null,null,null,null,null,null,null,null,null,null,"(excluding bulk materials)",null,null,null,null,null,null,null,null,null,"Miles","=",null,"km",null,null,null,null,null,null,null,null,null,null,null,null,null,null,null,null,null,null,null,null,null,null,"Road Pavements"]
[null,null,null,"Add new row:          ",null,null,null,null,null,"Total CO2e",{"$f":"SUMIFS(M:M,AF:AF,\"<>2\")+SUMIFS(Z:Z,AF:AF,\"<>2\")-Z5","v":0},null,"Tonnes",null,null,null,null,null,null,null,null,null,1,"=",null,{"$f":"1.609344*W5","v":1.6093440000000001}]
[]
[null,null,null,"Material / Product",null,null,null,null,null,null,null,null,null,null,null,"Assign % of total quantity to categories",null,null,null,null,null,null,"Transport ",null,null,null,null,"Forecast",null,null,null,"row type"]
[null,null,null,"Item","Type","Unit","Material Type","This Return Quantity","Next Return Quantity Forecast","Carbon Factor Value","Carbon Factor Unit","Conver\n-sion Factor","This Return tCO2e","Methodology",null,"Not Allocated","Fencing","Drainage","Road Pavements","Civils Structures","Waste",null,"Transport mode","Transport distance value (km)","Carbon Factor (tCO2e/t.km)","This Return tCO2e",null,"Next Return Quantity Forecast",null,null,null,"std = 0 / non std = 1 / major material = 2 / of which = 3","is row populated? (based on whether standard row or not"]
["Road Pavements",null,"Road Pavements",null,null,{"$f":"IF(ISERROR(VLOOKUP(D9&E9,'Emissions Factors Lookup'!J4:Q400,2,FALSE)),\"\",VLOOKUP(D9&E9,'Emissions Factors Lookup'!J4:Q400,2,FALSE))","v":""},{"$f":"IF(ISERROR(VLOOKUP(D9&E9,'Emissions Factors Lookup'!J4:Q400,3,FALSE)),\"\",VLOOKUP(D9&E9,'Emissions Factors Lookup'!J4:Q400,3,FALSE))","v":""},null,null,{"$f":"IF(ISERROR(VLOOKUP(D9&E9,'Emissions Factors Lookup'!J4:Q400,4,FALSE)),\"\",VLOOKUP(D9&E9,'Emissions Factors Lookup'!J4:Q400,4,FALSE))","v":""},{"$f":"IF(ISERROR(VLOOKUP(D9&E9,'Emissions Factors Lookup'!J4:Q400,5,FALSE)),\"\",VLOOKUP(D9&E9,'Emissions Factors Lookup'!J4:Q400,5,FALSE))","v":""},{"$f":"IF(ISERROR(VLOOKUP(D9&E9,'Emissions Factors Lookup'!J4:Q400,6,FALSE)),\"\",VLOOKUP(D9&E9,'Emissions Factors Lookup'!J4:Q400,6,FALSE))","v":""},{"$f":"IF(OR((N(L9)*N(H9)*N(J9)) = 0, ISERROR(L9*H9*J9)),\"\",L9*H9*J9)","v":""},{"$f":"IF(ISERROR(VLOOKUP(D9&E9,'Emissions Factors Lookup'!J4:Q400,6,FALSE)),\"\",VLOOKUP(D9&E9,'Emissions Factors Lookup'!J4:Q400,7,FALSE)&IF(VLOOKUP(D9&E9,'Emissions Factors Lookup'!J4:Q400,8,FALSE)=\"\",\"\",\" - \"&VLOOKUP(D9&E9,'Emissions Factors Lookup'!J4:Q400,8,FALSE)))","v":""},{"$f":"IF(P9<0,1,0)","v":0},null,null,null,null,null,null,null,null,null,{"$f":"IF(ISBLANK(W9),\"\",((VLOOKUP(\"Laden\" & W9,'Emissions Factors Lookup'!J4:Q400,4,FALSE)*VLOOKUP(\"Laden\" &W9,'Emissions Factors Lookup'!J4:Q400,6,FALSE)) + (VLOOKUP(\"Unladen\" & W9,'Emissions Factors Lookup'!J4:Q400,4,FALSE)*VLOOKUP(\"Unladen\" &W9,'Emissions Factors Lookup'!J4:Q400,6,FALSE)))/2)","v":""},{"$f":"IF(ISBLANK(X9),\"\",(X9*H9*L9*Y9)*2)","v":""},null,null,null,null,null,0,{"$f":"IF(AF9=1,COUNTA(D9:E9,H9:L9,N9,Q9:U9,W9:Y9,AB9),COUNTA(D9:E9,H9:I9,Q9:U9,W9:X9,AB9))","v":0},{"$f":"IF(ISERROR(VLOOKUP(D9&E9,'Emissions Factors Lookup'!J4:R400,9,FALSE)),\"\",VLOOKUP(D9&E9,'Emissions Factors Lookup'!J4:R400,9,FALSE))","v":""}]
[null,null,null,null,null,null,null,null,null,null,null,null,null,null,null,null,null,null,null,null,null,null,null,null,null,null,null,null,null,null,null,null,{"$f":"IF(AF10=1,COUNTA(D10:E10,H10:L10,N10,Q10:U10,W10:Y10,AB10),COUNTA(D10:E10,H10:I10,Q10:U10,W10:X10,AB10))","v":0},{"$f":"IF(ISERROR(VLOOKUP(D10&E10,'Emissions Factors Lookup'!J4:R309,9,FALSE)),\"\",VLOOKUP(D10&E10,'Emissions Factors Lookup'!J4:R309,9,FALSE))","v":""}]
[null,null,null,null,null,null,null,null,null,null,null,null,null,null,null,null,null,null,null,null,null,null,null,null,null,null,null,null,null,null,null,null,{"$f":"IF(AF11=1,COUNTA(D11:E11,H11:L11,N11,Q11:U11,W11:Y11,AB11),COUNTA(D11:E11,H11:I11,Q11:U11,W11:X11,AB11))","v":0},{"$f":"IF(ISERROR(VLOOKUP(D11&E11,'Emissions Factors Lookup'!J4:R309,9,FALSE)),\"\",VLOOKUP(D11&E11,'Emissions Factors Lookup'!J4:R309,9,FALSE))","v":""}]
[null,null,null,null,null,null,null,null,null,null,null,null,null,null,null,null,null,null,null,null,null,null,null,null,null,null,null,null,null,null,null,null,{"$f":"IF(AF12=1,COUNTA(D12:E12,H12:L12,N12,Q12:U12,W12:Y12,AB12),COUNTA(D12:E12,H12:I12,Q12:U12,W12:X12,AB12))","v":0},{"$f":"IF(ISERROR(VLOOKUP(D12&E12,'Emissions Factors Lookup'!J4:R309,9,FALSE)),\"\",VLOOKUP(D12&E12,'Emissions Factors Lookup'!J4:R309,9,FALSE))","v":""}]
[null,null,null,null,null,null,null,null,null,null,null,null,null,null,null,null,null,null,null,null,null,null,null,null,null,null,null,null,null,null,null,null,{"$f":"IF(AF13=1,COUNTA(D13:E13,H13:L13,N13,Q13:U13,W13:Y13,AB13),COUNTA(D13:E13,H13:I13,Q13:U13,W13:X13,AB13))","v":0},{"$f":"IF(ISERROR(VLOOKUP(D13&E13,'Emissions Factors Lookup'!J4:R309,9,FALSE)),\"\",VLOOKUP(D13&E13,'Emissions Factors Lookup'!J4:R309,9,FALSE))","v":""}]
[null,null,null,null,null,null,null,null,null,null,null,null,null,null,null,null,null,null,null,null,null,null,null,null,null,null,null,null,null,null,null,null,{"$f":"IF(AF14=1,COUNTA(D14:E14,H14:L14,N14,Q14:U14,W14:Y14,AB14),COUNTA(D14:E14,H14:I14,Q14:U14,W14:Y14,AB14))","v":0}]
[null,null,null,null,null,null,null,null,null,null,null,null,null,null,null,null,null,null,null,null,null,null,null,null,null,null,null,null,null,null,null,null,0]
[null,null,null,null,null,null,null,null,null,null,null,null,null,null,null,null,null,null,null,null,null,null,null,null,null,null,null,null,null,null,null,null,0]
[null,null,null,null,null,null,null,null,null,null,null,null,null,null,null,null,null,null,null,null,null,null,null,null,null,null,null,null,null,null,null,null,0]
[null,null,null,null,null,null,null,null,null,null,null,null,null,null,null,null,null,null,null,null,null,null,null,null,null,null,null,null,null,null,null,null,0]
[null,null,null,null,null,null,null,null,null,null,null,null,null,null,null,null,null,null,null,null,null,null,null,null,null,null,null,null,null,null,null,null,0]
[null,null,null,null,null,null,null,null,null,null,null,null,null,null,null,null,null,null,null,null,null,null,null,null,null,null,null,null,null,null,null,null,0]
[null,null,null,null,null,null,null,null,null,null,null,null,null,null,null,null,null,null,null,null,null,null,null,null,null,null,null,null,null,null,null,null,0]
[null,null,null,null,null,null,null,null,null,null,null,null,null,null,null,null,null,null,null,null,null,null,null,null,null,null,null,null,null,null,null,null,0]
[null,null,null,null,null,null,null,null,null,null,null,null,null,null,null,null,null,null,null,null,null,null,null,null,null,null,null,null,null,null,null,null,0]
[null,null,null,null,null,null,null,null,null,null,null,null,null,null,null,null,null,null,null,null,null,null,null,null,null,null,null,null,null,null,null,null,0]
[null,null,null,null,null,null,null,null,null,null,null,null,null,null,null,null,null,null,null,null,null,null,null,null,null,null,null,null,null,null,null,null,0]
[null,null,null,null,null,null,null,null,null,null,null,null,null,null,null,null,null,null,null,null,null,null,null,null,null,null,null,null,null,null,null,null,0]
[null,null,null,null,null,null,null,null,null,null,null,null,null,null,null,null,null,null,null,null,null,null,null,null,null,null,null,null,null,null,null,null,0]
[null,null,null,null,null,null,null,null,null,null,null,null,null,null,null,null,null,null,null,null,null,null,null,null,null,null,null,null,null,null,null,null,0]
[null,null,null,null,null,null,null,null,null,null,null,null,null,null,null,null,null,null,null,null,null,null,null,null,null,null,null,null,null,null,null,null,0]
[null,null,null,null,null,null,null,null,null,null,null,null,null,null,null,null,null,null,null,null,null,null,null,null,null,null,null,null,null,null,null,null,0]
[null,null,null,null,null,null,null,null,null,null,null,null,null,null,null,null,null,null,null,null,null,null,null,null,null,null,null,null,null,null,null,null,0]
[null,null,null,null,null,null,null,null,null,null,null,null,null,null,null,null,null,null,null,null,null,null,null,null,null,null,null,null,null,null,null,null,0]
[null,null,null,null,null,null,null,null,null,null,null,null,null,null,null,null,null,null,null,null,null,null,null,null,null,null,null,null,null,null,null,null,0]
[null,null,null,null,null,null,null,null,null,null,null,null,null,null,null,null,null,null,null,null,null,null,null,null,null,null,null,null,null,null,null,null,0]
[null,null,null,null,null,null,null,null,null,null,null,null,null,null,null,null,null,null,null,null,null,null,null,null,null,null,null,null,null,null,null,null,0]
[null,null,null,null,null,null,null,null,null,null,null,null,null,null,null,null,null,null,null,null,null,null,null,null,null,null,null,null,null,null,null,null,0]
[null,null,null,null,null,null,null,null,null,null,null,null,null,null,null,null,null,null,null,null,null,null,null,null,null,null,null,null,null,null,null,null,0]
[null,null,null,null,null,null,null,null,null,null,null,null,null,null,null,null,null,null,null,null,null,null,null,null,null,null,null,null,null,null,null,null,0]
[null,null,null,null,null,null,null,null,null,null,null,null,null,null,null,null,null,null,null,null,null,null,null,null,null,null,null,null,null,null,null,null,0]
[null,null,null,null,null,null,null,null,null,null,null,null,null,null,null,null,null,null,null,null,null,null,null,null,null,null,null,null,null,null,null,null,0]
[null,null,null,null,null,null,null,null,null,null,null,null,null,null,null,null,null,null,null,null,null,null,null,null,null,null,null,null,null,null,null,null,0]
[null,null,null,null,null,null,null,null,null,null,null,null,null,null,null,null,null,null,null,null,null,null,null,null,null,null,null,null,null,null,null,null,0]
[null,null,null,null,null,null,null,null,null,null,null,null,null,null,null,null,null,null,null,null,null,null,null,null,null,null,null,null,null,null,null,null,0]
[null,null,null,null,null,null,null,null,null,null,null,null,null,null,null,null,null,null,null,null,null,null,null,null,null,null,null,null,null,null,null,null,0]
[null,null,null,null,null,null,null,null,null,null,null,null,null,null,null,null,null,null,null,null,null,null,null,null,null,null,null,null,null,null,null,null,{"$f":"IF(AF45=1,COUNTA(D45:E45,H45:L45,N45,Q45:U45,W45:Y45,AB45),COUNTA(D45:E45,H45:I45,Q45:U45,W45:Y45,AB45))","v":0}]
[null,null,null,null,null,null,null,null,null,null,null,null,null,null,null,null,null,null,null,null,null,null,null,null,null,null,null,null,null,null,null,null,0]
[null,null,null,null,null,null,null,null,null,null,null,null,null,null,null,null,null,null,null,null,null,null,null,null,null,null,null,null,null,null,null,null,0]
[null,null,null,null,null,null,null,null,null,null,null,null,null,null,null,null,null,null,null,null,null,null,null,null,null,null,null,null,null,null,null,null,0]
[null,null,null,null,null,null,null,null,null,null,null,null,null,null,null,null,null,null,null,null,null,null,null,null,null,null,null,null,null,null,null,null,0]
[null,null,null,null,null,null,null,null,null,null,null,null,null,null,null,null,null,null,null,null,null,null,null,null,null,null,null,null,null,null,null,null,0]
[null,null,null,null,null,null,null,null,null,null,null,null,null,null,null,null,null,null,null,null,null,null,null,null,null,null,null,null,null,null,null,null,0]
[null,null,null,null,null,null,null,null,null,null,null,null,null,null,null,null,null,null,null,null,null,null,null,null,null,null,null,null,null,null,null,null,0]
[null,null,null,null,null,null,null,null,null,null,null,null,null,null,null,null,null,null,null,null,null,null,null,null,null,null,null,null,null,null,null,null,0]
[null,null,null,null,null,null,null,null,null,null,null,null,null,null,null,null,null,null,null,null,null,null,null,null,null,null,null,null,null,null,null,null,0]
[null,null,null,null,null,null,null,null,null,null,null,null,null,null,null,null,null,null,null,null,null,null,null,null,null,null,null,null,null,null,null,null,0]
[null,null,null,null,null,null,null,null,null,null,null,null,null,null,null,null,null,null,null,null,null,null,null,null,null,null,null,null,null,null,null,null,0]
[null,null,null,null,null,null,null,null,null,null,null,null,null,null,null,null,null,null,null,null,null,null,null,null,null,null,null,null,null,null,null,null,0]
[null,null,null,null,null,null,null,null,null,null,null,null,null,null,null,null,null,null,null,null,null,null,null,null,null,null,null,null,null,null,null,null,0]
[null,null,null,null,null,null,null,null,null,null,null,null,null,null,null,null,null,null,null,null,null,null,null,null,null,null,null,null,null,null,null,null,0]
[null,null,null,null,null,null,null,null,null,null,null,null,null,null,null,null,null,null,null,null,null,null,null,null,null,null,null,null,null,null,null,null,0]
[null,null,null,null,null,null,null,null,null,null,null,null,null,null,null,null,null,null,null,null,null,null,null,null,null,null,null,null,null,null,null,null,0]
[null,null,null,null,null,null,null,null,null,null,null,null,null,null,null,null,null,null,null,null,null,null,null,null,null,null,null,null,null,null,null,null,0]
[null,null,null,null,null,null,null,null,null,null,null,null,null,null,null,null,null,null,null,null,null,null,null,null,null,null,null,null,null,null,null,null,0]
[null,null,null,null,null,null,null,null,null,null,null,null,null,null,null,null,null,null,null,null,null,null,null,null,null,null,null,null,null,null,null,null,0]
[null,null,null,null,null,null,null,null,null,null,null,null,null,null,null,null,null,null,null,null,null,null,null,null,null,null,null,null,null,null,null,null,0]
[null,null,null,null,null,null,null,null,null,null,null,null,null,null,null,null,null,null,null,null,null,null,null,null,null,null,null,null,null,null,null,null,0]
[null,null,null,null,null,null,null,null,null,null,null,null,null,null,null,null,null,null,null,null,null,null,null,null,null,null,null,null,null,null,null,null,0]
[null,null,null,null,null,null,null,null,null,null,null,null,null,null,null,null,null,null,null,null,null,null,null,null,null,null,null,null,null,null,null,null,0]
[null,null,null,null,null,null,null,null,null,null,null,null,null,null,null,null,null,null,null,null,null,null,null,null,null,null,null,null,null,null,null,null,0]
[null,null,null,null,null,null,null,null,null,null,null,null,null,null,null,null,null,null,null,null,null,null,null,null,null,null,null,null,null,null,null,null,0]
[null,null,null,null,null,null,null,null,null,null,null,null,null,null,null,null,null,null,null,null,null,null,null,null,null,null,null,null,null,null,null,null,0]
[null,null,null,null,null,null,null,null,null,null,null,null,null,null,null,null,null,null,null,null,null,null,null,null,null,null,null,null,null,null,null,null,0]
[null,null,null,null,null,null,null,null,null,null,null,null,null,null,null,null,null,null,null,null,null,null,null,null,null,null,null,null,null,null,null,null,0]
[null,null,null,null,null,null,null,null,null,null,null,null,null,null,null,null,null,null,null,null,null,null,null,null,null,null,null,null,null,null,null,null,0]
[null,null,null,null,null,null,null,null,null,null,null,null,null,null,null,null,null,null,null,null,null,null,null,null,null,null,null,null,null,null,null,null,0]
[null,null,null,null,null,null,null,null,null,null,null,null,null,null,null,null,null,null,null,null,null,null,null,null,null,null,null,null,null,null,null,null,0]
[null,null,null,null,null,null,null,null,null,null,null,null,null,null,null,null,null,null,null,null,null,null,null,null,null,null,null,null,null,null,null,null,{"$f":"IF(AF77=1,COUNTA(D77:E77,H77:L77,N77,Q77:U77,W77:Y77,AB77),COUNTA(D77:E77,H77:I77,Q77:U77,W77:Y77,AB77))","v":0}]
[null,null,null,null,null,null,null,null,null,null,null,null,null,null,null,null,null,null,null,null,null,null,null,null,null,null,null,null,null,null,null,null,0]
[null,null,null,null,null,null,null,null,null,null,null,null,null,null,null,null,null,null,null,null,null,null,null,null,null,null,null,null,null,null,null,null,0]
[null,null,null,null,null,null,null,null,null,null,null,null,null,null,null,null,null,null,null,null,null,null,null,null,null,null,null,null,null,null,null,null,0]
[null,null,null,null,null,null,null,null,null,null,null,null,null,null,null,null,null,null,null,null,null,null,null,null,null,null,null,null,null,null,null,null,0]
[null,null,null,null,null,null,null,null,null,null,null,null,null,null,null,null,null,null,null,null,null,null,null,null,null,null,null,null,null,null,null,null,0]
[null,null,null,null,null,null,null,null,null,null,null,null,null,null,null,null,null,null,null,null,null,null,null,null,null,null,null,null,null,null,null,null,0]
[null,null,null,null,null,null,null,null,null,null,null,null,null,null,null,null,null,null,null,null,null,null,null,null,null,null,null,null,null,null,null,null,0]
[null,null,null,null,null,null,null,null,null,null,null,null,null,null,null,null,null,null,null,null,null,null,null,null,null,null,null,null,null,null,null,null,0]
[null,null,null,null,null,null,null,null,null,null,null,null,null,null,null,null,null,null,null,null,null,null,null,null,null,null,null,null,null,null,null,null,0]
[null,null,null,null,null,null,null,null,null,null,null,null,null,null,null,null,null,null,null,null,null,null,null,null,null,null,null,null,null,null,null,null,0]
[null,null,null,null,null,null,null,null,null,null,null,null,null,null,null,null,null,null,null,null,null,null,null,null,null,null,null,null,null,null,null,null,0]
[null,null,null,null,null,null,null,null,null,null,null,null,null,null,null,null,null,null,null,null,null,null,null,null,null,null,null,null,null,null,null,null,0]
[null,null,null,null,null,null,null,null,null,null,null,null,null,null,null,null,null,null,null,null,null,null,null,null,null,null,null,null,null,null,null,null,0]
[null,null,null,null,null,null,null,null,null,null,null,null,null,null,null,null,null,null,null,null,null,null,null,null,null,null,null,null,null,null,null,null,0]
[null,null,null,null,null,null,null,null,null,null,null,null,null,null,null,null,null,null,null,null,null,null,null,null,null,null,null,null,null,null,null,null,0]
[null,null,null,null,null,null,null,null,null,null,null,null,null,null,null,null,null,null,null,null,null,null,null,null,null,null,null,null,null,null,null,null,0]
[null,null,null,null,null,null,null,null,null,null,null,null,null,null,null,null,null,null,null,null,null,null,null,null,null,null,null,null,null,null,null,null,0]
[null,null,null,null,null,null,null,null,null,null,null,null,null,null,null,null,null,null,null,null,null,null,null,null,null,null,null,null,null,null,null,null,0]
[null,null,null,null,null,null,null,null,null,null,null,null,null,null,null,null,null,null,null,null,null,null,null,null,null,null,null,null,null,null,null,null,0]
[null,null,null,null,null,null,null,null,null,null,null,null,null,null,null,null,null,null,null,null,null,null,null,null,null,null,null,null,null,null,null,null,0]
[null,null,null,null,null,null,null,null,null,null,null,null,null,null,null,null,null,null,null,null,null,null,null,null,null,null,null,null,null,null,null,null,0]
[null,null,null,null,null,null,null,null,null,null,null,null,null,null,null,null,null,null,null,null,null,null,null,null,null,null,null,null,null,null,null,null,0]
[null,null,null,null,null,null,null,null,null,null,null,null,null,null,null,null,null,null,null,null,null,null,null,null,null,null,null,null,null,null,null,null,0]
[null,null,null,null,null,null,null,null,null,null,null,null,null,null,null,null,null,null,null,null,null,null,null,null,null,null,null,null,null,null,null,null,0]
[null,null,null,null,null,null,null,null,null,null,null,null,null,null,null,null,null,null,null,null,null,null,null,null,null,null,null,null,null,null,null,null,0]
[null,null,null,null,null,null,null,null,null,null,null,null,null,null,null,null,null,null,null,null,null,null,null,null,null,null,null,null,null,null,null,null,0]
[null,null,null,null,null,null,null,null,null,null,null,null,null,null,null,null,null,null,null,null,null,null,null,null,null,null,null,null,null,null,null,null,0]
[null,null,null,null,null,null,null,null,null,null,null,null,null,null,null,null,null,null,null,null,null,null,null,null,null,null,null,null,null,null,null,null,0]
[null,null,null,null,null,null,null,null,null,null,null,null,null,null,null,null,null,null,null,null,null,null,null,null,null,null,null,null,null,null,null,null,0]
[null,null,null,null,null,null,null,null,null,null,null,null,null,null,null,null,null,null,null,null,null,null,null,null,null,null,null,null,null,null,null,null,0]
[null,null,null,null,null,null,null,null,null,null,null,null,null,null,null,null,null,null,null,null,null,null,null,null,null,null,null,null,null,null,null,null,0]
[null,null,null,null,null,null,null,null,null,null,null,null,null,null,null,null,null,null,null,null,null,null,null,null,null,null,null,null,null,null,null,null,{"$f":"IF(AF109=1,COUNTA(D109:E109,H109:L109,N109,Q109:U109,W109:Y109,AB109),COUNTA(D109:E109,H109:I109,Q109:U109,W109:Y109,AB109))","v":0}]
[null,null,null,null,null,null,null,null,null,null,null,null,null,null,null,null,null,null,null,null,null,null,null,null,null,null,null,null,null,null,null,null,0]
[null,null,null,null,null,null,null,null,null,null,null,null,null,null,null,null,null,null,null,null,null,null,null,null,null,null,null,null,null,null,null,null,0]
[null,null,null,null,null,null,null,null,null,null,null,null,null,null,null,null,null,null,null,null,null,null,null,null,null,null,null,null,null,null,null,null,0]
[null,null,null,null,null,null,null,null,null,null,null,null,null,null,null,null,null,null,null,null,null,null,null,null,null,null,null,null,null,null,null,null,0]
[null,null,null,null,null,null,null,null,null,null,null,null,null,null,null,null,null,null,null,null,null,null,null,null,null,null,null,null,null,null,null,null,0]
[null,null,null,null,null,null,null,null,null,null,null,null,null,null,null,null,null,null,null,null,null,null,null,null,null,null,null,null,null,null,null,null,0]
[null,null,null,null,null,null,null,null,null,null,null,null,null,null,null,null,null,null,null,null,null,null,null,null,null,null,null,null,null,null,null,null,0]
[null,null,null,null,null,null,null,null,null,null,null,null,null,null,null,null,null,null,null,null,null,null,null,null,null,null,null,null,null,null,null,null,0]
[null,null,null,null,null,null,null,null,null,null,null,null,null,null,null,null,null,null,null,null,null,null,null,null,null,null,null,null,null,null,null,null,0]
[null,null,null,null,null,null,null,null,null,null,null,null,null,null,null,null,null,null,null,null,null,null,null,null,null,null,null,null,null,null,null,null,0]
[null,null,null,null,null,null,null,null,null,null,null,null,null,null,null,null,null,null,null,null,null,null,null,null,null,null,null,null,null,null,null,null,0]
[null,null,null,null,null,null,null,null,null,null,null,null,null,null,null,null,null,null,null,null,null,null,null,null,null,null,null,null,null,null,null,null,0]
[null,null,null,null,null,null,null,null,null,null,null,null,null,null,null,null,null,null,null,null,null,null,null,null,null,null,null,null,null,null,null,null,0]
[null,null,null,null,null,null,null,null,null,null,null,null,null,null,null,null,null,null,null,null,null,null,null,null,null,null,null,null,null,null,null,null,0]
[null,null,null,null,null,null,null,null,null,null,null,null,null,null,null,null,null,null,null,null,null,null,null,null,null,null,null,null,null,null,null,null,0]
[null,null,null,null,null,null,null,null,null,null,null,null,null,null,null,null,null,null,null,null,null,null,null,null,null,null,null,null,null,null,null,null,0]
[null,null,null,null,null,null,null,null,null,null,null,null,null,null,null,null,null,null,null,null,null,null,null,null,null,null,null,null,null,null,null,null,0]
[null,null,null,null,null,null,null,null,null,null,null,null,null,null,null,null,null,null,null,null,null,null,null,null,null,null,null,null,null,null,null,null,0]
[null,null,null,null,null,null,null,null,null,null,null,null,null,null,null,null,null,null,null,null,null,null,null,null,null,null,null,null,null,null,null,null,0]
[null,null,null,null,null,null,null,null,null,null,null,null,null,null,null,null,null,null,null,null,null,null,null,null,null,null,null,null,null,null,null,null,0]
[null,null,null,null,null,null,null,null,null,null,null,null,null,null,null,null,null,null,null,null,null,null,null,null,null,null,null,null,null,null,null,null,0]
[null,null,null,null,null,null,null,null,null,null,null,null,null,null,null,null,null,null,null,null,null,null,null,null,null,null,null,null,null,null,null,null,0]
[null,null,null,null,null,null,null,null,null,null,null,null,null,null,null,null,null,null,null,null,null,null,null,null,null,null,null,null,null,null,null,null,0]
[null,null,null,null,null,null,null,null,null,null,null,null,null,null,null,null,null,null,null,null,null,null,null,null,null,null,null,null,null,null,null,null,0]
[null,null,null,null,null,null,null,null,null,null,null,null,null,null,null,null,null,null,null,null,null,null,null,null,null,null,null,null,null,null,null,null,0]
[null,null,null,null,null,null,null,null,null,null,null,null,null,null,null,null,null,null,null,null,null,null,null,null,null,null,null,null,null,null,null,null,0]
[null,null,null,null,null,null,null,null,null,null,null,null,null,null,null,null,null,null,null,null,null,null,null,null,null,null,null,null,null,null,null,null,0]
[null,null,null,null,null,null,null,null,null,null,null,null,null,null,null,null,null,null,null,null,null,null,null,null,null,null,null,null,null,null,null,null,0]
[null,null,null,null,null,null,null,null,null,null,null,null,null,null,null,null,null,null,null,null,null,null,null,null,null,null,null,null,null,null,null,null,0]
[null,null,null,null,null,null,null,null,null,null,null,null,null,null,null,null,null,null,null,null,null,null,null,null,null,null,null,null,null,null,null,null,0]
[null,null,null,null,null,null,null,null,null,null,null,null,null,null,null,null,null,null,null,null,null,null,null,null,null,null,null,null,null,null,null,null,0]
[null,null,null,null,null,null,null,null,null,null,null,null,null,null,null,null,null,null,null,null,null,null,null,null,null,null,null,null,null,null,null,null,{"$f":"IF(AF141=1,COUNTA(D141:E141,H141:L141,N141,Q141:U141,W141:Y141,AB141),COUNTA(D141:E141,H141:I141,Q141:U141,W141:Y141,AB141))","v":0}]
[null,null,null,null,null,null,null,null,null,null,null,null,null,null,null,null,null,null,null,null,null,null,null,null,null,null,null,null,null,null,null,null,0]
[null,null,null,null,null,null,null,null,null,null,null,null,null,null,null,null,null,null,null,null,null,null,null,null,null,null,null,null,null,null,null,null,0]
[null,null,null,null,null,null,null,null,null,null,null,null,null,null,null,null,null,null,null,null,null,null,null,null,null,null,null,null,null,null,null,null,0]
[null,null,null,null,null,null,null,null,null,null,null,null,null,null,null,null,null,null,null,null,null,null,null,null,null,null,null,null,null,null,null,null,0]
[null,null,null,null,null,null,null,null,null,null,null,null,null,null,null,null,null,null,null,null,null,null,null,null,null,null,null,null,null,null,null,null,0]
[null,null,null,null,null,null,null,null,null,null,null,null,null,null,null,null,null,null,null,null,null,null,null,null,null,null,null,null,null,null,null,null,0]
[null,null,null,null,null,null,null,null,null,null,null,null,null,null,null,null,null,null,null,null,null,null,null,null,null,null,null,null,null,null,null,null,0]
[null,null,null,null,null,null,null,null,null,null,null,null,null,null,null,null,null,null,null,null,null,null,null,null,null,null,null,null,null,null,null,null,0]
[null,null,null,null,null,null,null,null,null,null,null,null,null,null,null,null,null,null,null,null,null,null,null,null,null,null,null,null,null,null,null,null,0]
[null,null,null,null,null,null,null,null,null,null,null,null,null,null,null,null,null,null,null,null,null,null,null,null,null,null,null,null,null,null,null,null,0]
[null,null,null,null,null,null,null,null,null,null,null,null,null,null,null,null,null,null,null,null,null,null,null,null,null,null,null,null,null,null,null,null,0]
[null,null,null,null,null,null,null,null,null,null,null,null,null,null,null,null,null,null,null,null,null,null,null,null,null,null,null,null,null,null,null,null,0]
[null,null,null,null,null,null,null,null,null,null,null,null,null,null,null,null,null,null,null,null,null,null,null,null,null,null,null,null,null,null,null,null,0]

{"sheet":"Street Furniture","index":19,"n_rows":151,"n_cols":50,"rows_kept":151,"cut":false,"hidden":true,"merged":[[6,3,6,13],[6,15,6,20],[6,22,6,25],[0,29,0,30],[0,39,0,41],[2,3,2,12],[2,22,2,25],[4,10,4,11],[3,23,3,24],[4,23,4,24]]}
[null,null,null,null,null,null,null,null,null,null,null,null,null,null,null,null,null,null,null,null,null,null,null,null,null,null,null,null,null,null,null,null,null,null,null,null,null,null,null,null,null,null,null,null,null,null,null,null,0]
[null,null,null,null,null,null,null,null,null,null,null,null,null,null,null,null,null,null,{"$f":"IF(SUM(O:O)>0,\"err\",\"\")","v":""},null,null,null,null,null,null,null,null,null,null,null,null,null,null,null,null,null,null,null,null,null,null,null,null,null,null,null,null,null,0]
[null,null,null,"2022 Aug   -   Street Furniture & Electrical Equipment",null,null,null,null,null,null,null,null,null,null,null,null,null,null,null,null,null,null,"Converter:",null,null,null,null,null,null,null,null,null,null,null,null,null,null,null,null,null,null,null,null,null,null,null,null,null,0,"<---DO NOT CHANGE ('return is blank' flag)"]
[null,null,null,null,null,null,null,null,null,null,null,null,"(excluding bulk materials)",null,null,null,null,null,null,null,null,null,"Miles","=",null,"km",null,null,null,null,null,null,null,null,null,null,null,null,null,null,null,null,null,null,null,null,null,null,"Street Furniture & Electrical Equipment"]
[null,null,null,"Add new row:          ",null,null,null,null,null,"Total CO2e",{"$f":"SUMIFS(M:M,AF:AF,\"<>2\")+SUMIFS(Z:Z,AF:AF,\"<>2\")-Z5","v":0},null,"Tonnes",null,null,null,null,null,null,null,null,null,1,"=",null,{"$f":"1.609344*W5","v":1.6093440000000001}]
[]
[null,null,null,"Material / Product",null,null,null,null,null,null,null,null,null,null,null,"Assign % of total quantity to categories",null,null,null,null,null,null,"Transport ",null,null,null,null,"Forecast",null,null,null,"row type"]
[null,null,null,"Item","Type","Unit","Material Type","This Return Quantity","Next Return Quantity Forecast","Carbon Factor Value","Carbon Factor Unit","Conver\n-sion Factor","This Return tCO2e","Methodology",null,"Not Allocated","Fencing","Drainage","Road Pavements","Civils Structures","Waste",null,"Transport mode","Transport distance value (km)","Carbon Factor (tCO2e/t.km)","This Return tCO2e",null,"Next Return Quantity Forecast",null,null,null,"std = 0 / non std = 1 / major material = 2 / of which = 3","is row populated? (based on whether standard row or not"]
["Street Furniture & Electrical Equipment",null,"Street Furniture & Electrical Equipment",null,null,{"$f":"IF(ISERROR(VLOOKUP(D9&E9,'Emissions Factors Lookup'!J4:Q400,2,FALSE)),\"\",VLOOKUP(D9&E9,'Emissions Factors Lookup'!J4:Q400,2,FALSE))","v":""},{"$f":"IF(ISERROR(VLOOKUP(D9&E9,'Emissions Factors Lookup'!J4:Q400,3,FALSE)),\"\",VLOOKUP(D9&E9,'Emissions Factors Lookup'!J4:Q400,3,FALSE))","v":""},null,null,{"$f":"IF(ISERROR(VLOOKUP(D9&E9,'Emissions Factors Lookup'!J4:Q400,4,FALSE)),\"\",VLOOKUP(D9&E9,'Emissions Factors Lookup'!J4:Q400,4,FALSE))","v":""},{"$f":"IF(ISERROR(VLOOKUP(D9&E9,'Emissions Factors Lookup'!J4:Q400,5,FALSE)),\"\",VLOOKUP(D9&E9,'Emissions Factors Lookup'!J4:Q400,5,FALSE))","v":""},{"$f":"IF(ISERROR(VLOOKUP(D9&E9,'Emissions Factors Lookup'!J4:Q400,6,FALSE)),\"\",VLOOKUP(D9&E9,'Emissions Factors Lookup'!J4:Q400,6,FALSE))","v":""},{"$f":"IF(OR((N(L9)*N(H9)*N(J9)) = 0, ISERROR(L9*H9*J9)),\"\",L9*H9*J9)","v":""},{"$f":"IF(ISERROR(VLOOKUP(D9&E9,'Emissions Factors Lookup'!J4:Q400,6,FALSE)),\"\",VLOOKUP(D9&E9,'Emissions Factors Lookup'!J4:Q400,7,FALSE)&IF(VLOOKUP(D9&E9,'Emissions Factors Lookup'!J4:Q400,8,FALSE)=\"\",\"\",\" - \"&VLOOKUP(D9&E9,'Emissions Factors Lookup'!J4:Q400,8,FALSE)))","v":""},{"$f":"IF(P9<0,1,0)","v":0},null,null,null,null,null,null,null,null,null,{"$f":"IF(ISBLANK(W9),\"\",((VLOOKUP(\"Laden\" & W9,'Emissions Factors Lookup'!J4:Q400,4,FALSE)*VLOOKUP(\"Laden\" &W9,'Emissions Factors Lookup'!J4:Q400,6,FALSE)) + (VLOOKUP(\"Unladen\" & W9,'Emissions Factors Lookup'!J4:Q400,4,FALSE)*VLOOKUP(\"Unladen\" &W9,'Emissions Factors Lookup'!J4:Q400,6,FALSE)))/2)","v":""},{"$f":"IF(ISBLANK(X9),\"\",(X9*H9*L9*Y9)*2)","v":""},null,null,null,null,null,0,{"$f":"IF(AF9=1,COUNTA(D9:E9,H9:L9,N9,Q9:U9,W9:Y9,AB9),COUNTA(D9:E9,H9:I9,Q9:U9,W9:X9,AB9))","v":0},{"$f":"IF(ISERROR(VLOOKUP(D9&E9,'Emissions Factors Lookup'!J4:R400,9,FALSE)),\"\",VLOOKUP(D9&E9,'Emissions Factors Lookup'!J4:R400,9,FALSE))","v":""}]
[null,null,null,null,null,null,null,null,null,null,null,null,null,null,null,null,null,null,null,null,null,null,null,null,null,null,null,null,null,null,null,null,{"$f":"IF(AF10=1,COUNTA(D10:E10,H10:L10,N10,Q10:U10,W10:Y10,AB10),COUNTA(D10:E10,H10:I10,Q10:U10,W10:X10,AB10))","v":0},{"$f":"IF(ISERROR(VLOOKUP(D10&E10,'Emissions Factors Lookup'!J4:R309,9,FALSE)),\"\",VLOOKUP(D10&E10,'Emissions Factors Lookup'!J4:R309,9,FALSE))","v":""}]
[null,null,null,null,null,null,null,null,null,null,null,null,null,null,null,null,null,null,null,null,null,null,null,null,null,null,null,null,null,null,null,null,{"$f":"IF(AF11=1,COUNTA(D11:E11,H11:L11,N11,Q11:U11,W11:Y11,AB11),COUNTA(D11:E11,H11:I11,Q11:U11,W11:Y11,AB11))","v":0}]
[null,null,null,null,null,null,null,null,null,null,null,null,null,null,null,null,null,null,null,null,null,null,null,null,null,null,null,null,null,null,null,null,0]
[null,null,null,null,null,null,null,null,null,null,null,null,null,null,null,null,null,null,null,null,null,null,null,null,null,null,null,null,null,null,null,null,0]
[null,null,null,null,null,null,null,null,null,null,null,null,null,null,null,null,null,null,null,null,null,null,null,null,null,null,null,null,null,null,null,null,0]
[null,null,null,null,null,null,null,null,null,null,null,null,null,null,null,null,null,null,null,null,null,null,null,null,null,null,null,null,null,null,null,null,0]
[null,null,null,null,null,null,null,null,null,null,null,null,null,null,null,null,null,null,null,null,null,null,null,null,null,null,null,null,null,null,null,null,0]
[null,null,null,null,null,null,null,null,null,null,null,null,null,null,null,null,null,null,null,null,null,null,null,null,null,null,null,null,null,null,null,null,0]
[null,null,null,null,null,null,null,null,null,null,null,null,null,null,null,null,null,null,null,null,null,null,null,null,null,null,null,null,null,null,null,null,0]
[null,null,null,null,null,null,null,null,null,null,null,null,null,null,null,null,null,null,null,null,null,null,null,null,null,null,null,null,null,null,null,null,0]
[null,null,null,null,null,null,null,null,null,null,null,null,null,null,null,null,null,null,null,null,null,null,null,null,null,null,null,null,null,null,null,null,0]
[null,null,null,null,null,null,null,null,null,null,null,null,null,null,null,null,null,null,null,null,null,null,null,null,null,null,null,null,null,null,null,null,0]
[null,null,null,null,null,null,null,null,null,null,null,null,null,null,null,null,null,null,null,null,null,null,null,null,null,null,null,null,null,null,null,null,0]
[null,null,null,null,null,null,null,null,null,null,null,null,null,null,null,null,null,null,null,null,null,null,null,null,null,null,null,null,null,null,null,null,0]
[null,null,null,null,null,null,null,null,null,null,null,null,null,null,null,null,null,null,null,null,null,null,null,null,null,null,null,null,null,null,null,null,0]
[null,null,null,null,null,null,null,null,null,null,null,null,null,null,null,null,null,null,null,null,null,null,null,null,null,null,null,null,null,null,null,null,0]
[null,null,null,null,null,null,null,null,null,null,null,null,null,null,null,null,null,null,null,null,null,null,null,null,null,null,null,null,null,null,null,null,0]
[null,null,null,null,null,null,null,null,null,null,null,null,null,null,null,null,null,null,null,null,null,null,null,null,null,null,null,null,null,null,null,null,0]
[null,null,null,null,null,null,null,null,null,null,null,null,null,null,null,null,null,null,null,null,null,null,null,null,null,null,null,null,null,null,null,null,0]
[null,null,null,null,null,null,null,null,null,null,null,null,null,null,null,null,null,null,null,null,null,null,null,null,null,null,null,null,null,null,null,null,0]
[null,null,null,null,null,null,null,null,null,null,null,null,null,null,null,null,null,null,null,null,null,null,null,null,null,null,null,null,null,null,null,null,0]
[null,null,null,null,null,null,null,null,null,null,null,null,null,null,null,null,null,null,null,null,null,null,null,null,null,null,null,null,null,null,null,null,0]
[null,null,null,null,null,null,null,null,null,null,null,null,null,null,null,null,null,null,null,null,null,null,null,null,null,null,null,null,null,null,null,null,0]
[null,null,null,null,null,null,null,null,null,null,null,null,null,null,null,null,null,null,null,null,null,null,null,null,null,null,null,null,null,null,null,null,0]
[null,null,null,null,null,null,null,null,null,null,null,null,null,null,null,null,null,null,null,null,null,null,null,null,null,null,null,null,null,null,null,null,0]
[null,null,null,null,null,null,null,null,null,null,null,null,null,null,null,null,null,null,null,null,null,null,null,null,null,null,null,null,null,null,null,null,0]
[null,null,null,null,null,null,null,null,null,null,null,null,null,null,null,null,null,null,null,null,null,null,null,null,null,null,null,null,null,null,null,null,0]
[null,null,null,null,null,null,null,null,null,null,null,null,null,null,null,null,null,null,null,null,null,null,null,null,null,null,null,null,null,null,null,null,0]
[null,null,null,null,null,null,null,null,null,null,null,null,null,null,null,null,null,null,null,null,null,null,null,null,null,null,null,null,null,null,null,null,0]
[null,null,null,null,null,null,null,null,null,null,null,null,null,null,null,null,null,null,null,null,null,null,null,null,null,null,null,null,null,null,null,null,0]
[null,null,null,null,null,null,null,null,null,null,null,null,null,null,null,null,null,null,null,null,null,null,null,null,null,null,null,null,null,null,null,null,0]
[null,null,null,null,null,null,null,null,null,null,null,null,null,null,null,null,null,null,null,null,null,null,null,null,null,null,null,null,null,null,null,null,0]
[null,null,null,null,null,null,null,null,null,null,null,null,null,null,null,null,null,null,null,null,null,null,null,null,null,null,null,null,null,null,null,null,{"$f":"IF(AF42=1,COUNTA(D42:E42,H42:L42,N42,Q42:U42,W42:Y42,AB42),COUNTA(D42:E42,H42:I42,Q42:U42,W42:Y42,AB42))","v":0}]
[null,null,null,null,null,null,null,null,null,null,null,null,null,null,null,null,null,null,null,null,null,null,null,null,null,null,null,null,null,null,null,null,0]
[null,null,null,null,null,null,null,null,null,null,null,null,null,null,null,null,null,null,null,null,null,null,null,null,null,null,null,null,null,null,null,null,0]
[null,null,null,null,null,null,null,null,null,null,null,null,null,null,null,null,null,null,null,null,null,null,null,null,null,null,null,null,null,null,null,null,0]
[null,null,null,null,null,null,null,null,null,null,null,null,null,null,null,null,null,null,null,null,null,null,null,null,null,null,null,null,null,null,null,null,0]
[null,null,null,null,null,null,null,null,null,null,null,null,null,null,null,null,null,null,null,null,null,null,null,null,null,null,null,null,null,null,null,null,0]
[null,null,null,null,null,null,null,null,null,null,null,null,null,null,null,null,null,null,null,null,null,null,null,null,null,null,null,null,null,null,null,null,0]
[null,null,null,null,null,null,null,null,null,null,null,null,null,null,null,null,null,null,null,null,null,null,null,null,null,null,null,null,null,null,null,null,0]
[null,null,null,null,null,null,null,null,null,null,null,null,null,null,null,null,null,null,null,null,null,null,null,null,null,null,null,null,null,null,null,null,0]
[null,null,null,null,null,null,null,null,null,null,null,null,null,null,null,null,null,null,null,null,null,null,null,null,null,null,null,null,null,null,null,null,0]
[null,null,null,null,null,null,null,null,null,null,null,null,null,null,null,null,null,null,null,null,null,null,null,null,null,null,null,null,null,null,null,null,0]
[null,null,null,null,null,null,null,null,null,null,null,null,null,null,null,null,null,null,null,null,null,null,null,null,null,null,null,null,null,null,null,null,0]
[null,null,null,null,null,null,null,null,null,null,null,null,null,null,null,null,null,null,null,null,null,null,null,null,null,null,null,null,null,null,null,null,0]
[null,null,null,null,null,null,null,null,null,null,null,null,null,null,null,null,null,null,null,null,null,null,null,null,null,null,null,null,null,null,null,null,0]
[null,null,null,null,null,null,null,null,null,null,null,null,null,null,null,null,null,null,null,null,null,null,null,null,null,null,null,null,null,null,null,null,0]
[null,null,null,null,null,null,null,null,null,null,null,null,null,null,null,null,null,null,null,null,null,null,null,null,null,null,null,null,null,null,null,null,0]
[null,null,null,null,null,null,null,null,null,null,null,null,null,null,null,null,null,null,null,null,null,null,null,null,null,null,null,null,null,null,null,null,0]
[null,null,null,null,null,null,null,null,null,null,null,null,null,null,null,null,null,null,null,null,null,null,null,null,null,null,null,null,null,null,null,null,0]
[null,null,null,null,null,null,null,null,null,null,null,null,null,null,null,null,null,null,null,null,null,null,null,null,null,null,null,null,null,null,null,null,0]
[null,null,null,null,null,null,null,null,null,null,null,null,null,null,null,null,null,null,null,null,null,null,null,null,null,null,null,null,null,null,null,null,0]
[null,null,null,null,null,null,null,null,null,null,null,null,null,null,null,null,null,null,null,null,null,null,null,null,null,null,null,null,null,null,null,null,0]
[null,null,null,null,null,null,null,null,null,null,null,null,null,null,null,null,null,null,null,null,null,null,null,null,null,null,null,null,null,null,null,null,0]
[null,null,null,null,null,null,null,null,null,null,null,null,null,null,null,null,null,null,null,null,null,null,null,null,null,null,null,null,null,null,null,null,0]
[null,null,null,null,null,null,null,null,null,null,null,null,null,null,null,null,null,null,null,null,null,null,null,null,null,null,null,null,null,null,null,null,0]
[null,null,null,null,null,null,null,null,null,null,null,null,null,null,null,null,null,null,null,null,null,null,null,null,null,null,null,null,null,null,null,null,0]
[null,null,null,null,null,null,null,null,null,null,null,null,null,null,null,null,null,null,null,null,null,null,null,null,null,null,null,null,null,null,null,null,0]
[null,null,null,null,null,null,null,null,null,null,null,null,null,null,null,null,null,null,null,null,null,null,null,null,null,null,null,null,null,null,null,null,0]
[null,null,null,null,null,null,null,null,null,null,null,null,null,null,null,null,null,null,null,null,null,null,null,null,null,null,null,null,null,null,null,null,0]
[null,null,null,null,null,null,null,null,null,null,null,null,null,null,null,null,null,null,null,null,null,null,null,null,null,null,null,null,null,null,null,null,0]
[null,null,null,null,null,null,null,null,null,null,null,null,null,null,null,null,null,null,null,null,null,null,null,null,null,null,null,null,null,null,null,null,0]
[null,null,null,null,null,null,null,null,null,null,null,null,null,null,null,null,null,null,null,null,null,null,null,null,null,null,null,null,null,null,null,null,0]
[null,null,null,null,null,null,null,null,null,null,null,null,null,null,null,null,null,null,null,null,null,null,null,null,null,null,null,null,null,null,null,null,0]
[null,null,null,null,null,null,null,null,null,null,null,null,null,null,null,null,null,null,null,null,null,null,null,null,null,null,null,null,null,null,null,null,{"$f":"IF(AF74=1,COUNTA(D74:E74,H74:L74,N74,Q74:U74,W74:Y74,AB74),COUNTA(D74:E74,H74:I74,Q74:U74,W74:Y74,AB74))","v":0}]
[null,null,null,null,null,null,null,null,null,null,null,null,null,null,null,null,null,null,null,null,null,null,null,null,null,null,null,null,null,null,null,null,0]
[null,null,null,null,null,null,null,null,null,null,null,null,null,null,null,null,null,null,null,null,null,null,null,null,null,null,null,null,null,null,null,null,0]
[null,null,null,null,null,null,null,null,null,null,null,null,null,null,null,null,null,null,null,null,null,null,null,null,null,null,null,null,null,null,null,null,0]
[null,null,null,null,null,null,null,null,null,null,null,null,null,null,null,null,null,null,null,null,null,null,null,null,null,null,null,null,null,null,null,null,0]
[null,null,null,null,null,null,null,null,null,null,null,null,null,null,null,null,null,null,null,null,null,null,null,null,null,null,null,null,null,null,null,null,0]
[null,null,null,null,null,null,null,null,null,null,null,null,null,null,null,null,null,null,null,null,null,null,null,null,null,null,null,null,null,null,null,null,0]
[null,null,null,null,null,null,null,null,null,null,null,null,null,null,null,null,null,null,null,null,null,null,null,null,null,null,null,null,null,null,null,null,0]
[null,null,null,null,null,null,null,null,null,null,null,null,null,null,null,null,null,null,null,null,null,null,null,null,null,null,null,null,null,null,null,null,0]
[null,null,null,null,null,null,null,null,null,null,null,null,null,null,null,null,null,null,null,null,null,null,null,null,null,null,null,null,null,null,null,null,0]
[null,null,null,null,null,null,null,null,null,null,null,null,null,null,null,null,null,null,null,null,null,null,null,null,null,null,null,null,null,null,null,null,0]
[null,null,null,null,null,null,null,null,null,null,null,null,null,null,null,null,null,null,null,null,null,null,null,null,null,null,null,null,null,null,null,null,0]
[null,null,null,null,null,null,null,null,null,null,null,null,null,null,null,null,null,null,null,null,null,null,null,null,null,null,null,null,null,null,null,null,0]
[null,null,null,null,null,null,null,null,null,null,null,null,null,null,null,null,null,null,null,null,null,null,null,null,null,null,null,null,null,null,null,null,0]
[null,null,null,null,null,null,null,null,null,null,null,null,null,null,null,null,null,null,null,null,null,null,null,null,null,null,null,null,null,null,null,null,0]
[null,null,null,null,null,null,null,null,null,null,null,null,null,null,null,null,null,null,null,null,null,null,null,null,null,null,null,null,null,null,null,null,0]
[null,null,null,null,null,null,null,null,null,null,null,null,null,null,null,null,null,null,null,null,null,null,null,null,null,null,null,null,null,null,null,null,0]
[null,null,null,null,null,null,null,null,null,null,null,null,null,null,null,null,null,null,null,null,null,null,null,null,null,null,null,null,null,null,null,null,0]
[null,null,null,null,null,null,null,null,null,null,null,null,null,null,null,null,null,null,null,null,null,null,null,null,null,null,null,null,null,null,null,null,0]
[null,null,null,null,null,null,null,null,null,null,null,null,null,null,null,null,null,null,null,null,null,null,null,null,null,null,null,null,null,null,null,null,0]
[null,null,null,null,null,null,null,null,null,null,null,null,null,null,null,null,null,null,null,null,null,null,null,null,null,null,null,null,null,null,null,null,0]
[null,null,null,null,null,null,null,null,null,null,null,null,null,null,null,null,null,null,null,null,null,null,null,null,null,null,null,null,null,null,null,null,0]
[null,null,null,null,null,null,null,null,null,null,null,null,null,null,null,null,null,null,null,null,null,null,null,null,null,null,null,null,null,null,null,null,0]
[null,null,null,null,null,null,null,null,null,null,null,null,null,null,null,null,null,null,null,null,null,null,null,null,null,null,null,null,null,null,null,null,0]
[null,null,null,null,null,null,null,null,null,null,null,null,null,null,null,null,null,null,null,null,null,null,null,null,null,null,null,null,null,null,null,null,0]
[null,null,null,null,null,null,null,null,null,null,null,null,null,null,null,null,null,null,null,null,null,null,null,null,null,null,null,null,null,null,null,null,0]
[null,null,null,null,null,null,null,null,null,null,null,null,null,null,null,null,null,null,null,null,null,null,null,null,null,null,null,null,null,null,null,null,0]
[null,null,null,null,null,null,null,null,null,null,null,null,null,null,null,null,null,null,null,null,null,null,null,null,null,null,null,null,null,null,null,null,0]
[null,null,null,null,null,null,null,null,null,null,null,null,null,null,null,null,null,null,null,null,null,null,null,null,null,null,null,null,null,null,null,null,0]
[null,null,null,null,null,null,null,null,null,null,null,null,null,null,null,null,null,null,null,null,null,null,null,null,null,null,null,null,null,null,null,null,0]
[null,null,null,null,null,null,null,null,null,null,null,null,null,null,null,null,null,null,null,null,null,null,null,null,null,null,null,null,null,null,null,null,0]
[null,null,null,null,null,null,null,null,null,null,null,null,null,null,null,null,null,null,null,null,null,null,null,null,null,null,null,null,null,null,null,null,0]
[null,null,null,null,null,null,null,null,null,null,null,null,null,null,null,null,null,null,null,null,null,null,null,null,null,null,null,null,null,null,null,null,{"$f":"IF(AF106=1,COUNTA(D106:E106,H106:L106,N106,Q106:U106,W106:Y106,AB106),COUNTA(D106:E106,H106:I106,Q106:U106,W106:Y106,AB106))","v":0}]
[null,null,null,null,null,null,null,null,null,null,null,null,null,null,null,null,null,null,null,null,null,null,null,null,null,null,null,null,null,null,null,null,0]
[null,null,null,null,null,null,null,null,null,null,null,null,null,null,null,null,null,null,null,null,null,null,null,null,null,null,null,null,null,null,null,null,0]
[null,null,null,null,null,null,null,null,null,null,null,null,null,null,null,null,null,null,null,null,null,null,null,null,null,null,null,null,null,null,null,null,0]
[null,null,null,null,null,null,null,null,null,null,null,null,null,null,null,null,null,null,null,null,null,null,null,null,null,null,null,null,null,null,null,null,0]
[null,null,null,null,null,null,null,null,null,null,null,null,null,null,null,null,null,null,null,null,null,null,null,null,null,null,null,null,null,null,null,null,0]
[null,null,null,null,null,null,null,null,null,null,null,null,null,null,null,null,null,null,null,null,null,null,null,null,null,null,null,null,null,null,null,null,0]
[null,null,null,null,null,null,null,null,null,null,null,null,null,null,null,null,null,null,null,null,null,null,null,null,null,null,null,null,null,null,null,null,0]
[null,null,null,null,null,null,null,null,null,null,null,null,null,null,null,null,null,null,null,null,null,null,null,null,null,null,null,null,null,null,null,null,0]
[null,null,null,null,null,null,null,null,null,null,null,null,null,null,null,null,null,null,null,null,null,null,null,null,null,null,null,null,null,null,null,null,0]
[null,null,null,null,null,null,null,null,null,null,null,null,null,null,null,null,null,null,null,null,null,null,null,null,null,null,null,null,null,null,null,null,0]
[null,null,null,null,null,null,null,null,null,null,null,null,null,null,null,null,null,null,null,null,null,null,null,null,null,null,null,null,null,null,null,null,0]
[null,null,null,null,null,null,null,null,null,null,null,null,null,null,null,null,null,null,null,null,null,null,null,null,null,null,null,null,null,null,null,null,0]
[null,null,null,null,null,null,null,null,null,null,null,null,null,null,null,null,null,null,null,null,null,null,null,null,null,null,null,null,null,null,null,null,0]
[null,null,null,null,null,null,null,null,null,null,null,null,null,null,null,null,null,null,null,null,null,null,null,null,null,null,null,null,null,null,null,null,0]
[null,null,null,null,null,null,null,null,null,null,null,null,null,null,null,null,null,null,null,null,null,null,null,null,null,null,null,null,null,null,null,null,0]
[null,null,null,null,null,null,null,null,null,null,null,null,null,null,null,null,null,null,null,null,null,null,null,null,null,null,null,null,null,null,null,null,0]
[null,null,null,null,null,null,null,null,null,null,null,null,null,null,null,null,null,null,null,null,null,null,null,null,null,null,null,null,null,null,null,null,0]
[null,null,null,null,null,null,null,null,null,null,null,null,null,null,null,null,null,null,null,null,null,null,null,null,null,null,null,null,null,null,null,null,0]
[null,null,null,null,null,null,null,null,null,null,null,null,null,null,null,null,null,null,null,null,null,null,null,null,null,null,null,null,null,null,null,null,0]
[null,null,null,null,null,null,null,null,null,null,null,null,null,null,null,null,null,null,null,null,null,null,null,null,null,null,null,null,null,null,null,null,0]
[null,null,null,null,null,null,null,null,null,null,null,null,null,null,null,null,null,null,null,null,null,null,null,null,null,null,null,null,null,null,null,null,0]
[null,null,null,null,null,null,null,null,null,null,null,null,null,null,null,null,null,null,null,null,null,null,null,null,null,null,null,null,null,null,null,null,0]
[null,null,null,null,null,null,null,null,null,null,null,null,null,null,null,null,null,null,null,null,null,null,null,null,null,null,null,null,null,null,null,null,0]
[null,null,null,null,null,null,null,null,null,null,null,null,null,null,null,null,null,null,null,null,null,null,null,null,null,null,null,null,null,null,null,null,0]
[null,null,null,null,null,null,null,null,null,null,null,null,null,null,null,null,null,null,null,null,null,null,null,null,null,null,null,null,null,null,null,null,0]
[null,null,null,null,null,null,null,null,null,null,null,null,null,null,null,null,null,null,null,null,null,null,null,null,null,null,null,null,null,null,null,null,0]
[null,null,null,null,null,null,null,null,null,null,null,null,null,null,null,null,null,null,null,null,null,null,null,null,null,null,null,null,null,null,null,null,0]
[null,null,null,null,null,null,null,null,null,null,null,null,null,null,null,null,null,null,null,null,null,null,null,null,null,null,null,null,null,null,null,null,0]
[null,null,null,null,null,null,null,null,null,null,null,null,null,null,null,null,null,null,null,null,null,null,null,null,null,null,null,null,null,null,null,null,0]
[null,null,null,null,null,null,null,null,null,null,null,null,null,null,null,null,null,null,null,null,null,null,null,null,null,null,null,null,null,null,null,null,0]
[null,null,null,null,null,null,null,null,null,null,null,null,null,null,null,null,null,null,null,null,null,null,null,null,null,null,null,null,null,null,null,null,0]
[null,null,null,null,null,null,null,null,null,null,null,null,null,null,null,null,null,null,null,null,null,null,null,null,null,null,null,null,null,null,null,null,{"$f":"IF(AF138=1,COUNTA(D138:E138,H138:L138,N138,Q138:U138,W138:Y138,AB138),COUNTA(D138:E138,H138:I138,Q138:U138,W138:Y138,AB138))","v":0}]
[null,null,null,null,null,null,null,null,null,null,null,null,null,null,null,null,null,null,null,null,null,null,null,null,null,null,null,null,null,null,null,null,0]
[null,null,null,null,null,null,null,null,null,null,null,null,null,null,null,null,null,null,null,null,null,null,null,null,null,null,null,null,null,null,null,null,0]
[null,null,null,null,null,null,null,null,null,null,null,null,null,null,null,null,null,null,null,null,null,null,null,null,null,null,null,null,null,null,null,null,0]
[null,null,null,null,null,null,null,null,null,null,null,null,null,null,null,null,null,null,null,null,null,null,null,null,null,null,null,null,null,null,null,null,0]
[null,null,null,null,null,null,null,null,null,null,null,null,null,null,null,null,null,null,null,null,null,null,null,null,null,null,null,null,null,null,null,null,0]
[null,null,null,null,null,null,null,null,null,null,null,null,null,null,null,null,null,null,null,null,null,null,null,null,null,null,null,null,null,null,null,null,0]
[null,null,null,null,null,null,null,null,null,null,null,null,null,null,null,null,null,null,null,null,null,null,null,null,null,null,null,null,null,null,null,null,0]
[null,null,null,null,null,null,null,null,null,null,null,null,null,null,null,null,null,null,null,null,null,null,null,null,null,null,null,null,null,null,null,null,0]
[null,null,null,null,null,null,null,null,null,null,null,null,null,null,null,null,null,null,null,null,null,null,null,null,null,null,null,null,null,null,null,null,0]
[null,null,null,null,null,null,null,null,null,null,null,null,null,null,null,null,null,null,null,null,null,null,null,null,null,null,null,null,null,null,null,null,0]
[null,null,null,null,null,null,null,null,null,null,null,null,null,null,null,null,null,null,null,null,null,null,null,null,null,null,null,null,null,null,null,null,0]
[null,null,null,null,null,null,null,null,null,null,null,null,null,null,null,null,null,null,null,null,null,null,null,null,null,null,null,null,null,null,null,null,0]
[null,null,null,null,null,null,null,null,null,null,null,null,null,null,null,null,null,null,null,null,null,null,null,null,null,null,null,null,null,null,null,null,0]

{"sheet":"Civils Structures","index":20,"n_rows":155,"n_cols":50,"rows_kept":155,"cut":false,"hidden":true,"merged":[[6,3,6,13],[6,15,6,20],[6,22,6,25],[0,29,0,30],[0,39,0,41],[2,3,2,12],[2,22,2,25],[4,10,4,11],[3,23,3,24],[4,23,4,24]]}
[null,null,null,null,null,null,null,null,null,null,null,null,null,null,null,null,null,null,null,null,null,null,null,null,null,null,null,null,null,null,null,null,null,1,null,null,null,null,null,null,null,null,null,null,null,null,null,null,0]
[null,null,null,null,null,null,null,null,null,null,null,null,null,null,null,null,null,null,{"$f":"IF(SUM(O:O)>0,\"err\",\"\")","v":""},null,null,null,null,null,null,null,null,null,null,null,null,null,null,null,null,null,null,null,null,null,null,null,null,null,null,null,null,null,0]
[null,null,null,"2022 Aug   -   Civils Structures & Retaining Walls",null,null,null,null,null,null,null,null,null,null,null,null,null,null,null,null,null,null,"Converter:",null,null,null,null,null,null,null,null,null,null,null,null,null,null,null,null,null,null,null,null,null,null,null,null,null,0,"<---DO NOT CHANGE ('return is blank' flag)"]
[null,null,null,null,null,null,null,null,null,null,null,null,"(excluding bulk materials)",null,null,null,null,null,null,null,null,null,"Miles","=",null,"km",null,null,null,null,null,null,null,null,null,null,null,null,null,null,null,null,null,null,null,null,null,null,"Civils Structures & Retaining Walls"]
[null,null,null,"Add new row:          ",null,null,null,null,null,"Total CO2e",{"$f":"SUMIFS(M:M,AF:AF,\"<>2\")+SUMIFS(Z:Z,AF:AF,\"<>2\")-Z5","v":0},null,"Tonnes",null,null,null,null,null,null,null,null,null,1,"=",null,{"$f":"1.609344*W5","v":1.6093440000000001}]
[]
[null,null,null,"Material / Product",null,null,null,null,null,null,null,null,null,null,null,"Assign % of total quantity to categories",null,null,null,null,null,null,"Transport ",null,null,null,null,"Forecast",null,null,null,"row type"]
[null,null,null,"Item","Type","Unit","Material Type","This Return Quantity","Next Return Quantity Forecast","Carbon Factor Value","Carbon Factor Unit","Conver\n-sion Factor","This Return tCO2e","Methodology",null,"Not Allocated","Fencing","Drainage","Road Pavements","Civils Structures","Waste",null,"Transport mode","Transport distance value (km)","Carbon Factor (tCO2e/t.km)","This Return tCO2e",null,"Next Return Quantity Forecast",null,null,null,"std = 0 / non std = 1 / major material = 2 / of which = 3","is row populated? (based on whether standard row or not"]
["Civils Structures & Retaining Walls",null,"Civils Structures & Retaining Walls",null,null,{"$f":"IF(ISERROR(VLOOKUP(D9&E9,'Emissions Factors Lookup'!J4:Q400,2,FALSE)),\"\",VLOOKUP(D9&E9,'Emissions Factors Lookup'!J4:Q400,2,FALSE))","v":""},{"$f":"IF(ISERROR(VLOOKUP(D9&E9,'Emissions Factors Lookup'!J4:Q400,3,FALSE)),\"\",VLOOKUP(D9&E9,'Emissions Factors Lookup'!J4:Q400,3,FALSE))","v":""},null,null,{"$f":"IF(ISERROR(VLOOKUP(D9&E9,'Emissions Factors Lookup'!J4:Q400,4,FALSE)),\"\",VLOOKUP(D9&E9,'Emissions Factors Lookup'!J4:Q400,4,FALSE))","v":""},{"$f":"IF(ISERROR(VLOOKUP(D9&E9,'Emissions Factors Lookup'!J4:Q400,5,FALSE)),\"\",VLOOKUP(D9&E9,'Emissions Factors Lookup'!J4:Q400,5,FALSE))","v":""},{"$f":"IF(ISERROR(VLOOKUP(D9&E9,'Emissions Factors Lookup'!J4:Q400,6,FALSE)),\"\",VLOOKUP(D9&E9,'Emissions Factors Lookup'!J4:Q400,6,FALSE))","v":""},{"$f":"IF(OR((N(L9)*N(H9)*N(J9)) = 0, ISERROR(L9*H9*J9)),\"\",L9*H9*J9)","v":""},{"$f":"IF(ISERROR(VLOOKUP(D9&E9,'Emissions Factors Lookup'!J4:Q400,6,FALSE)),\"\",VLOOKUP(D9&E9,'Emissions Factors Lookup'!J4:Q400,7,FALSE)&IF(VLOOKUP(D9&E9,'Emissions Factors Lookup'!J4:Q400,8,FALSE)=\"\",\"\",\" - \"&VLOOKUP(D9&E9,'Emissions Factors Lookup'!J4:Q400,8,FALSE)))","v":""},{"$f":"IF(P9<0,1,0)","v":0},null,null,null,null,null,null,null,null,null,{"$f":"IF(ISBLANK(W9),\"\",((VLOOKUP(\"Laden\" & W9,'Emissions Factors Lookup'!J4:Q400,4,FALSE)*VLOOKUP(\"Laden\" &W9,'Emissions Factors Lookup'!J4:Q400,6,FALSE)) + (VLOOKUP(\"Unladen\" & W9,'Emissions Factors Lookup'!J4:Q400,4,FALSE)*VLOOKUP(\"Unladen\" &W9,'Emissions Factors Lookup'!J4:Q400,6,FALSE)))/2)","v":""},{"$f":"IF(ISBLANK(X9),\"\",(X9*H9*L9*Y9)*2)","v":""},null,null,null,null,null,0,{"$f":"IF(AF9=1,COUNTA(D9:E9,H9:L9,N9,Q9:U9,W9:Y9,AB9),COUNTA(D9:E9,H9:I9,Q9:U9,W9:X9,AB9))","v":0},{"$f":"IF(ISERROR(VLOOKUP(D9&E9,'Emissions Factors Lookup'!J4:R400,9,FALSE)),\"\",VLOOKUP(D9&E9,'Emissions Factors Lookup'!J4:R400,9,FALSE))","v":""}]
[null,null,null,null,null,null,null,null,null,null,null,null,null,null,null,null,null,null,null,null,null,null,null,null,null,null,null,null,null,null,null,null,{"$f":"IF(AF10=1,COUNTA(D10:E10,H10:L10,N10,Q10:U10,W10:Y10,AB10),COUNTA(D10:E10,H10:I10,Q10:U10,W10:X10,AB10))","v":0},{"$f":"IF(ISERROR(VLOOKUP(D10&E10,'Emissions Factors Lookup'!J4:R400,9,FALSE)),\"\",VLOOKUP(D10&E10,'Emissions Factors Lookup'!J4:R400,9,FALSE))","v":""}]
[null,null,null,null,null,null,null,null,null,null,null,null,null,null,null,null,null,null,null,null,null,null,null,null,null,null,null,null,null,null,null,null,{"$f":"IF(AF11=1,COUNTA(D11:E11,H11:L11,N11,Q11:U11,W11:Y11,AB11),COUNTA(D11:E11,H11:I11,Q11:U11,W11:X11,AB11))","v":0},{"$f":"IF(ISERROR(VLOOKUP(D11&E11,'Emissions Factors Lookup'!J4:R309,9,FALSE)),\"\",VLOOKUP(D11&E11,'Emissions Factors Lookup'!J4:R309,9,FALSE))","v":""}]
[null,null,null,null,null,null,null,null,null,null,null,null,null,null,null,null,null,null,null,null,null,null,null,null,null,null,null,null,null,null,null,null,{"$f":"IF(AF12=1,COUNTA(D12:E12,H12:L12,N12,Q12:U12,W12:Y12,AB12),COUNTA(D12:E12,H12:I12,Q12:U12,W12:X12,AB12))","v":0},{"$f":"IF(ISERROR(VLOOKUP(D12&E12,'Emissions Factors Lookup'!J4:R309,9,FALSE)),\"\",VLOOKUP(D12&E12,'Emissions Factors Lookup'!J4:R309,9,FALSE))","v":""}]
[null,null,null,null,null,null,null,null,null,null,null,null,null,null,null,null,null,null,null,null,null,null,null,null,null,null,null,null,null,null,null,null,{"$f":"IF(AF13=1,COUNTA(D13:E13,H13:L13,N13,Q13:U13,W13:Y13,AB13),COUNTA(D13:E13,H13:I13,Q13:U13,W13:X13,AB13))","v":0},{"$f":"IF(ISERROR(VLOOKUP(D13&E13,'Emissions Factors Lookup'!J4:R309,9,FALSE)),\"\",VLOOKUP(D13&E13,'Emissions Factors Lookup'!J4:R309,9,FALSE))","v":""}]
[null,null,null,null,null,null,null,null,null,null,null,null,null,null,null,null,null,null,null,null,null,null,null,null,null,null,null,null,null,null,null,null,{"$f":"IF(AF14=1,COUNTA(D14:E14,H14:L14,N14,Q14:U14,W14:Y14,AB14),COUNTA(D14:E14,H14:I14,Q14:U14,W14:Y14,AB14))","v":0}]
[null,null,null,null,null,null,null,null,null,null,null,null,null,null,null,null,null,null,null,null,null,null,null,null,null,null,null,null,null,null,null,null,0]
[null,null,null,null,null,null,null,null,null,null,null,null,null,null,null,null,null,null,null,null,null,null,null,null,null,null,null,null,null,null,null,null,0]
[null,null,null,null,null,null,null,null,null,null,null,null,null,null,null,null,null,null,null,null,null,null,null,null,null,null,null,null,null,null,null,null,0]
[null,null,null,null,null,null,null,null,null,null,null,null,null,null,null,null,null,null,null,null,null,null,null,null,null,null,null,null,null,null,null,null,0]
[null,null,null,null,null,null,null,null,null,null,null,null,null,null,null,null,null,null,null,null,null,null,null,null,null,null,null,null,null,null,null,null,0]
[null,null,null,null,null,null,null,null,null,null,null,null,null,null,null,null,null,null,null,null,null,null,null,null,null,null,null,null,null,null,null,null,0]
[null,null,null,null,null,null,null,null,null,null,null,null,null,null,null,null,null,null,null,null,null,null,null,null,null,null,null,null,null,null,null,null,0]
[null,null,null,null,null,null,null,null,null,null,null,null,null,null,null,null,null,null,null,null,null,null,null,null,null,null,null,null,null,null,null,null,0]
[null,null,null,null,null,null,null,null,null,null,null,null,null,null,null,null,null,null,null,null,null,null,null,null,null,null,null,null,null,null,null,null,0]
[null,null,null,null,null,null,null,null,null,null,null,null,null,null,null,null,null,null,null,null,null,null,null,null,null,null,null,null,null,null,null,null,0]
[null,null,null,null,null,null,null,null,null,null,null,null,null,null,null,null,null,null,null,null,null,null,null,null,null,null,null,null,null,null,null,null,0]
[null,null,null,null,null,null,null,null,null,null,null,null,null,null,null,null,null,null,null,null,null,null,null,null,null,null,null,null,null,null,null,null,0]
[null,null,null,null,null,null,null,null,null,null,null,null,null,null,null,null,null,null,null,null,null,null,null,null,null,null,null,null,null,null,null,null,0]
[null,null,null,null,null,null,null,null,null,null,null,null,null,null,null,null,null,null,null,null,null,null,null,null,null,null,null,null,null,null,null,null,0]
[null,null,null,null,null,null,null,null,null,null,null,null,null,null,null,null,null,null,null,null,null,null,null,null,null,null,null,null,null,null,null,null,0]
[null,null,null,null,null,null,null,null,null,null,null,null,null,null,null,null,null,null,null,null,null,null,null,null,null,null,null,null,null,null,null,null,0]
[null,null,null,null,null,null,null,null,null,null,null,null,null,null,null,null,null,null,null,null,null,null,null,null,null,null,null,null,null,null,null,null,0]
[null,null,null,null,null,null,null,null,null,null,null,null,null,null,null,null,null,null,null,null,null,null,null,null,null,null,null,null,null,null,null,null,0]
[null,null,null,null,null,null,null,null,null,null,null,null,null,null,null,null,null,null,null,null,null,null,null,null,null,null,null,null,null,null,null,null,0]
[null,null,null,null,null,null,null,null,null,null,null,null,null,null,null,null,null,null,null,null,null,null,null,null,null,null,null,null,null,null,null,null,0]
[null,null,null,null,null,null,null,null,null,null,null,null,null,null,null,null,null,null,null,null,null,null,null,null,null,null,null,null,null,null,null,null,0]
[null,null,null,null,null,null,null,null,null,null,null,null,null,null,null,null,null,null,null,null,null,null,null,null,null,null,null,null,null,null,null,null,0]
[null,null,null,null,null,null,null,null,null,null,null,null,null,null,null,null,null,null,null,null,null,null,null,null,null,null,null,null,null,null,null,null,0]
[null,null,null,null,null,null,null,null,null,null,null,null,null,null,null,null,null,null,null,null,null,null,null,null,null,null,null,null,null,null,null,null,0]
[null,null,null,null,null,null,null,null,null,null,null,null,null,null,null,null,null,null,null,null,null,null,null,null,null,null,null,null,null,null,null,null,0]
[null,null,null,null,null,null,null,null,null,null,null,null,null,null,null,null,null,null,null,null,null,null,null,null,null,null,null,null,null,null,null,null,0]
[null,null,null,null,null,null,null,null,null,null,null,null,null,null,null,null,null,null,null,null,null,null,null,null,null,null,null,null,null,null,null,null,0]
[null,null,null,null,null,null,null,null,null,null,null,null,null,null,null,null,null,null,null,null,null,null,null,null,null,null,null,null,null,null,null,null,0]
[null,null,null,null,null,null,null,null,null,null,null,null,null,null,null,null,null,null,null,null,null,null,null,null,null,null,null,null,null,null,null,null,0]
[null,null,null,null,null,null,null,null,null,null,null,null,null,null,null,null,null,null,null,null,null,null,null,null,null,null,null,null,null,null,null,null,0]
[null,null,null,null,null,null,null,null,null,null,null,null,null,null,null,null,null,null,null,null,null,null,null,null,null,null,null,null,null,null,null,null,0]
[null,null,null,null,null,null,null,null,null,null,null,null,null,null,null,null,null,null,null,null,null,null,null,null,null,null,null,null,null,null,null,null,{"$f":"IF(AF46=1,COUNTA(D46:E46,H46:L46,N46,Q46:U46,W46:Y46,AB46),COUNTA(D46:E46,H46:I46,Q46:U46,W46:Y46,AB46))","v":0}]
[null,null,null,null,null,null,null,null,null,null,null,null,null,null,null,null,null,null,null,null,null,null,null,null,null,null,null,null,null,null,null,null,0]
[null,null,null,null,null,null,null,null,null,null,null,null,null,null,null,null,null,null,null,null,null,null,null,null,null,null,null,null,null,null,null,null,0]
[null,null,null,null,null,null,null,null,null,null,null,null,null,null,null,null,null,null,null,null,null,null,null,null,null,null,null,null,null,null,null,null,0]
[null,null,null,null,null,null,null,null,null,null,null,null,null,null,null,null,null,null,null,null,null,null,null,null,null,null,null,null,null,null,null,null,0]
[null,null,null,null,null,null,null,null,null,null,null,null,null,null,null,null,null,null,null,null,null,null,null,null,null,null,null,null,null,null,null,null,0]
[null,null,null,null,null,null,null,null,null,null,null,null,null,null,null,null,null,null,null,null,null,null,null,null,null,null,null,null,null,null,null,null,0]
[null,null,null,null,null,null,null,null,null,null,null,null,null,null,null,null,null,null,null,null,null,null,null,null,null,null,null,null,null,null,null,null,0]
[null,null,null,null,null,null,null,null,null,null,null,null,null,null,null,null,null,null,null,null,null,null,null,null,null,null,null,null,null,null,null,null,0]
[null,null,null,null,null,null,null,null,null,null,null,null,null,null,null,null,null,null,null,null,null,null,null,null,null,null,null,null,null,null,null,null,0]
[null,null,null,null,null,null,null,null,null,null,null,null,null,null,null,null,null,null,null,null,null,null,null,null,null,null,null,null,null,null,null,null,0]
[null,null,null,null,null,null,null,null,null,null,null,null,null,null,null,null,null,null,null,null,null,null,null,null,null,null,null,null,null,null,null,null,0]
[null,null,null,null,null,null,null,null,null,null,null,null,null,null,null,null,null,null,null,null,null,null,null,null,null,null,null,null,null,null,null,null,0]
[null,null,null,null,null,null,null,null,null,null,null,null,null,null,null,null,null,null,null,null,null,null,null,null,null,null,null,null,null,null,null,null,0]
[null,null,null,null,null,null,null,null,null,null,null,null,null,null,null,null,null,null,null,null,null,null,null,null,null,null,null,null,null,null,null,null,0]
[null,null,null,null,null,null,null,null,null,null,null,null,null,null,null,null,null,null,null,null,null,null,null,null,null,null,null,null,null,null,null,null,0]
[null,null,null,null,null,null,null,null,null,null,null,null,null,null,null,null,null,null,null,null,null,null,null,null,null,null,null,null,null,null,null,null,0]
[null,null,null,null,null,null,null,null,null,null,null,null,null,null,null,null,null,null,null,null,null,null,null,null,null,null,null,null,null,null,null,null,0]
[null,null,null,null,null,null,null,null,null,null,null,null,null,null,null,null,null,null,null,null,null,null,null,null,null,null,null,null,null,null,null,null,0]
[null,null,null,null,null,null,null,null,null,null,null,null,null,null,null,null,null,null,null,null,null,null,null,null,null,null,null,null,null,null,null,null,0]
[null,null,null,null,null,null,null,null,null,null,null,null,null,null,null,null,null,null,null,null,null,null,null,null,null,null,null,null,null,null,null,null,0]
[null,null,null,null,null,null,null,null,null,null,null,null,null,null,null,null,null,null,null,null,null,null,null,null,null,null,null,null,null,null,null,null,0]
[null,null,null,null,null,null,null,null,null,null,null,null,null,null,null,null,null,null,null,null,null,null,null,null,null,null,null,null,null,null,null,null,0]
[null,null,null,null,null,null,null,null,null,null,null,null,null,null,null,null,null,null,null,null,null,null,null,null,null,null,null,null,null,null,null,null,0]
[null,null,null,null,null,null,null,null,null,null,null,null,null,null,null,null,null,null,null,null,null,null,null,null,null,null,null,null,null,null,null,null,0]
[null,null,null,null,null,null,null,null,null,null,null,null,null,null,null,null,null,null,null,null,null,null,null,null,null,null,null,null,null,null,null,null,0]
[null,null,null,null,null,null,null,null,null,null,null,null,null,null,null,null,null,null,null,null,null,null,null,null,null,null,null,null,null,null,null,null,0]
[null,null,null,null,null,null,null,null,null,null,null,null,null,null,null,null,null,null,null,null,null,null,null,null,null,null,null,null,null,null,null,null,0]
[null,null,null,null,null,null,null,null,null,null,null,null,null,null,null,null,null,null,null,null,null,null,null,null,null,null,null,null,null,null,null,null,0]
[null,null,null,null,null,null,null,null,null,null,null,null,null,null,null,null,null,null,null,null,null,null,null,null,null,null,null,null,null,null,null,null,0]
[null,null,null,null,null,null,null,null,null,null,null,null,null,null,null,null,null,null,null,null,null,null,null,null,null,null,null,null,null,null,null,null,0]
[null,null,null,null,null,null,null,null,null,null,null,null,null,null,null,null,null,null,null,null,null,null,null,null,null,null,null,null,null,null,null,null,0]
[null,null,null,null,null,null,null,null,null,null,null,null,null,null,null,null,null,null,null,null,null,null,null,null,null,null,null,null,null,null,null,null,{"$f":"IF(AF78=1,COUNTA(D78:E78,H78:L78,N78,Q78:U78,W78:Y78,AB78),COUNTA(D78:E78,H78:I78,Q78:U78,W78:Y78,AB78))","v":0}]
[null,null,null,null,null,null,null,null,null,null,null,null,null,null,null,null,null,null,null,null,null,null,null,null,null,null,null,null,null,null,null,null,0]
[null,null,null,null,null,null,null,null,null,null,null,null,null,null,null,null,null,null,null,null,null,null,null,null,null,null,null,null,null,null,null,null,0]
[null,null,null,null,null,null,null,null,null,null,null,null,null,null,null,null,null,null,null,null,null,null,null,null,null,null,null,null,null,null,null,null,0]
[null,null,null,null,null,null,null,null,null,null,null,null,null,null,null,null,null,null,null,null,null,null,null,null,null,null,null,null,null,null,null,null,0]
[null,null,null,null,null,null,null,null,null,null,null,null,null,null,null,null,null,null,null,null,null,null,null,null,null,null,null,null,null,null,null,null,0]
[null,null,null,null,null,null,null,null,null,null,null,null,null,null,null,null,null,null,null,null,null,null,null,null,null,null,null,null,null,null,null,null,0]
[null,null,null,null,null,null,null,null,null,null,null,null,null,null,null,null,null,null,null,null,null,null,null,null,null,null,null,null,null,null,null,null,0]
[null,null,null,null,null,null,null,null,null,null,null,null,null,null,null,null,null,null,null,null,null,null,null,null,null,null,null,null,null,null,null,null,0]
[null,null,null,null,null,null,null,null,null,null,null,null,null,null,null,null,null,null,null,null,null,null,null,null,null,null,null,null,null,null,null,null,0]
[null,null,null,null,null,null,null,null,null,null,null,null,null,null,null,null,null,null,null,null,null,null,null,null,null,null,null,null,null,null,null,null,0]
[null,null,null,null,null,null,null,null,null,null,null,null,null,null,null,null,null,null,null,null,null,null,null,null,null,null,null,null,null,null,null,null,0]
[null,null,null,null,null,null,null,null,null,null,null,null,null,null,null,null,null,null,null,null,null,null,null,null,null,null,null,null,null,null,null,null,0]
[null,null,null,null,null,null,null,null,null,null,null,null,null,null,null,null,null,null,null,null,null,null,null,null,null,null,null,null,null,null,null,null,0]
[null,null,null,null,null,null,null,null,null,null,null,null,null,null,null,null,null,null,null,null,null,null,null,null,null,null,null,null,null,null,null,null,0]
[null,null,null,null,null,null,null,null,null,null,null,null,null,null,null,null,null,null,null,null,null,null,null,null,null,null,null,null,null,null,null,null,0]
[null,null,null,null,null,null,null,null,null,null,null,null,null,null,null,null,null,null,null,null,null,null,null,null,null,null,null,null,null,null,null,null,0]
[null,null,null,null,null,null,null,null,null,null,null,null,null,null,null,null,null,null,null,null,null,null,null,null,null,null,null,null,null,null,null,null,0]
[null,null,null,null,null,null,null,null,null,null,null,null,null,null,null,null,null,null,null,null,null,null,null,null,null,null,null,null,null,null,null,null,0]
[null,null,null,null,null,null,null,null,null,null,null,null,null,null,null,null,null,null,null,null,null,null,null,null,null,null,null,null,null,null,null,null,0]
[null,null,null,null,null,null,null,null,null,null,null,null,null,null,null,null,null,null,null,null,null,null,null,null,null,null,null,null,null,null,null,null,0]
[null,null,null,null,null,null,null,null,null,null,null,null,null,null,null,null,null,null,null,null,null,null,null,null,null,null,null,null,null,null,null,null,0]
[null,null,null,null,null,null,null,null,null,null,null,null,null,null,null,null,null,null,null,null,null,null,null,null,null,null,null,null,null,null,null,null,0]
[null,null,null,null,null,null,null,null,null,null,null,null,null,null,null,null,null,null,null,null,null,null,null,null,null,null,null,null,null,null,null,null,0]
[null,null,null,null,null,null,null,null,null,null,null,null,null,null,null,null,null,null,null,null,null,null,null,null,null,null,null,null,null,null,null,null,0]
[null,null,null,null,null,null,null,null,null,null,null,null,null,null,null,null,null,null,null,null,null,null,null,null,null,null,null,null,null,null,null,null,0]
[null,null,null,null,null,null,null,null,null,null,null,null,null,null,null,null,null,null,null,null,null,null,null,null,null,null,null,null,null,null,null,null,0]
[null,null,null,null,null,null,null,null,null,null,null,null,null,null,null,null,null,null,null,null,null,null,null,null,null,null,null,null,null,null,null,null,0]
[null,null,null,null,null,null,null,null,null,null,null,null,null,null,null,null,null,null,null,null,null,null,null,null,null,null,null,null,null,null,null,null,0]
[null,null,null,null,null,null,null,null,null,null,null,null,null,null,null,null,null,null,null,null,null,null,null,null,null,null,null,null,null,null,null,null,0]
[null,null,null,null,null,null,null,null,null,null,null,null,null,null,null,null,null,null,null,null,null,null,null,null,null,null,null,null,null,null,null,null,0]
[null,null,null,null,null,null,null,null,null,null,null,null,null,null,null,null,null,null,null,null,null,null,null,null,null,null,null,null,null,null,null,null,0]
[null,null,null,null,null,null,null,null,null,null,null,null,null,null,null,null,null,null,null,null,null,null,null,null,null,null,null,null,null,null,null,null,{"$f":"IF(AF110=1,COUNTA(D110:E110,H110:L110,N110,Q110:U110,W110:Y110,AB110),COUNTA(D110:E110,H110:I110,Q110:U110,W110:Y110,AB110))","v":0}]
[null,null,null,null,null,null,null,null,null,null,null,null,null,null,null,null,null,null,null,null,null,null,null,null,null,null,null,null,null,null,null,null,0]
[null,null,null,null,null,null,null,null,null,null,null,null,null,null,null,null,null,null,null,null,null,null,null,null,null,null,null,null,null,null,null,null,0]
[null,null,null,null,null,null,null,null,null,null,null,null,null,null,null,null,null,null,null,null,null,null,null,null,null,null,null,null,null,null,null,null,0]
[null,null,null,null,null,null,null,null,null,null,null,null,null,null,null,null,null,null,null,null,null,null,null,null,null,null,null,null,null,null,null,null,0]
[null,null,null,null,null,null,null,null,null,null,null,null,null,null,null,null,null,null,null,null,null,null,null,null,null,null,null,null,null,null,null,null,0]
[null,null,null,null,null,null,null,null,null,null,null,null,null,null,null,null,null,null,null,null,null,null,null,null,null,null,null,null,null,null,null,null,0]
[null,null,null,null,null,null,null,null,null,null,null,null,null,null,null,null,null,null,null,null,null,null,null,null,null,null,null,null,null,null,null,null,0]
[null,null,null,null,null,null,null,null,null,null,null,null,null,null,null,null,null,null,null,null,null,null,null,null,null,null,null,null,null,null,null,null,0]
[null,null,null,null,null,null,null,null,null,null,null,null,null,null,null,null,null,null,null,null,null,null,null,null,null,null,null,null,null,null,null,null,0]
[null,null,null,null,null,null,null,null,null,null,null,null,null,null,null,null,null,null,null,null,null,null,null,null,null,null,null,null,null,null,null,null,0]
[null,null,null,null,null,null,null,null,null,null,null,null,null,null,null,null,null,null,null,null,null,null,null,null,null,null,null,null,null,null,null,null,0]
[null,null,null,null,null,null,null,null,null,null,null,null,null,null,null,null,null,null,null,null,null,null,null,null,null,null,null,null,null,null,null,null,0]
[null,null,null,null,null,null,null,null,null,null,null,null,null,null,null,null,null,null,null,null,null,null,null,null,null,null,null,null,null,null,null,null,0]
[null,null,null,null,null,null,null,null,null,null,null,null,null,null,null,null,null,null,null,null,null,null,null,null,null,null,null,null,null,null,null,null,0]
[null,null,null,null,null,null,null,null,null,null,null,null,null,null,null,null,null,null,null,null,null,null,null,null,null,null,null,null,null,null,null,null,0]
[null,null,null,null,null,null,null,null,null,null,null,null,null,null,null,null,null,null,null,null,null,null,null,null,null,null,null,null,null,null,null,null,0]
[null,null,null,null,null,null,null,null,null,null,null,null,null,null,null,null,null,null,null,null,null,null,null,null,null,null,null,null,null,null,null,null,0]
[null,null,null,null,null,null,null,null,null,null,null,null,null,null,null,null,null,null,null,null,null,null,null,null,null,null,null,null,null,null,null,null,0]
[null,null,null,null,null,null,null,null,null,null,null,null,null,null,null,null,null,null,null,null,null,null,null,null,null,null,null,null,null,null,null,null,0]
[null,null,null,null,null,null,null,null,null,null,null,null,null,null,null,null,null,null,null,null,null,null,null,null,null,null,null,null,null,null,null,null,0]
[null,null,null,null,null,null,null,null,null,null,null,null,null,null,null,null,null,null,null,null,null,null,null,null,null,null,null,null,null,null,null,null,0]
[null,null,null,null,null,null,null,null,null,null,null,null,null,null,null,null,null,null,null,null,null,null,null,null,null,null,null,null,null,null,null,null,0]
[null,null,null,null,null,null,null,null,null,null,null,null,null,null,null,null,null,null,null,null,null,null,null,null,null,null,null,null,null,null,null,null,0]
[null,null,null,null,null,null,null,null,null,null,null,null,null,null,null,null,null,null,null,null,null,null,null,null,null,null,null,null,null,null,null,null,0]
[null,null,null,null,null,null,null,null,null,null,null,null,null,null,null,null,null,null,null,null,null,null,null,null,null,null,null,null,null,null,null,null,0]
[null,null,null,null,null,null,null,null,null,null,null,null,null,null,null,null,null,null,null,null,null,null,null,null,null,null,null,null,null,null,null,null,0]
[null,null,null,null,null,null,null,null,null,null,null,null,null,null,null,null,null,null,null,null,null,null,null,null,null,null,null,null,null,null,null,null,0]
[null,null,null,null,null,null,null,null,null,null,null,null,null,null,null,null,null,null,null,null,null,null,null,null,null,null,null,null,null,null,null,null,0]
[null,null,null,null,null,null,null,null,null,null,null,null,null,null,null,null,null,null,null,null,null,null,null,null,null,null,null,null,null,null,null,null,0]
[null,null,null,null,null,null,null,null,null,null,null,null,null,null,null,null,null,null,null,null,null,null,null,null,null,null,null,null,null,null,null,null,0]
[null,null,null,null,null,null,null,null,null,null,null,null,null,null,null,null,null,null,null,null,null,null,null,null,null,null,null,null,null,null,null,null,0]
[null,null,null,null,null,null,null,null,null,null,null,null,null,null,null,null,null,null,null,null,null,null,null,null,null,null,null,null,null,null,null,null,{"$f":"IF(AF142=1,COUNTA(D142:E142,H142:L142,N142,Q142:U142,W142:Y142,AB142),COUNTA(D142:E142,H142:I142,Q142:U142,W142:Y142,AB142))","v":0}]
[null,null,null,null,null,null,null,null,null,null,null,null,null,null,null,null,null,null,null,null,null,null,null,null,null,null,null,null,null,null,null,null,0]
[null,null,null,null,null,null,null,null,null,null,null,null,null,null,null,null,null,null,null,null,null,null,null,null,null,null,null,null,null,null,null,null,0]
[null,null,null,null,null,null,null,null,null,null,null,null,null,null,null,null,null,null,null,null,null,null,null,null,null,null,null,null,null,null,null,null,0]
[null,null,null,null,null,null,null,null,null,null,null,null,null,null,null,null,null,null,null,null,null,null,null,null,null,null,null,null,null,null,null,null,0]
[null,null,null,null,null,null,null,null,null,null,null,null,null,null,null,null,null,null,null,null,null,null,null,null,null,null,null,null,null,null,null,null,0]
[null,null,null,null,null,null,null,null,null,null,null,null,null,null,null,null,null,null,null,null,null,null,null,null,null,null,null,null,null,null,null,null,0]
[null,null,null,null,null,null,null,null,null,null,null,null,null,null,null,null,null,null,null,null,null,null,null,null,null,null,null,null,null,null,null,null,0]
[null,null,null,null,null,null,null,null,null,null,null,null,null,null,null,null,null,null,null,null,null,null,null,null,null,null,null,null,null,null,null,null,0]
[null,null,null,null,null,null,null,null,null,null,null,null,null,null,null,null,null,null,null,null,null,null,null,null,null,null,null,null,null,null,null,null,0]
[null,null,null,null,null,null,null,null,null,null,null,null,null,null,null,null,null,null,null,null,null,null,null,null,null,null,null,null,null,null,null,null,0]
[null,null,null,null,null,null,null,null,null,null,null,null,null,null,null,null,null,null,null,null,null,null,null,null,null,null,null,null,null,null,null,null,0]
[null,null,null,null,null,null,null,null,null,null,null,null,null,null,null,null,null,null,null,null,null,null,null,null,null,null,null,null,null,null,null,null,0]
[null,null,null,null,null,null,null,null,null,null,null,null,null,null,null,null,null,null,null,null,null,null,null,null,null,null,null,null,null,null,null,null,0]

{"sheet":"Fuel and Energy","index":21,"n_rows":151,"n_cols":50,"rows_kept":151,"cut":false,"hidden":true,"merged":[[6,3,6,13],[6,15,6,20],[6,22,6,25],[0,29,0,30],[0,39,0,41],[2,3,2,12],[2,22,2,25],[4,10,4,11],[3,23,3,24],[4,23,4,24]]}
[null,null,null,null,null,null,null,null,null,null,null,null,null,null,null,null,null,null,null,null,null,null,null,null,null,null,null,null,null,null,null,null,null,null,null,null,null,null,null,null,null,null,null,null,null,null,null,null,0]
[null,null,null,null,null,null,null,null,null,null,null,null,null,null,null,null,null,null,{"$f":"IF(SUM(O:O)>0,\"err\",\"\")","v":""},null,null,null,null,null,null,null,null,null,null,null,null,null,null,null,null,null,null,null,null,null,null,null,null,null,null,null,null,null,0]
[null,null,null,"2022 Aug   -   Fuel, Energy & Water",null,null,null,null,null,null,null,null,null,null,null,null,null,null,null,null,null,null,"Converter:",null,null,null,null,null,null,null,null,null,null,null,null,null,null,null,null,null,null,null,null,null,null,null,null,null,0,"<---DO NOT CHANGE ('return is blank' flag)"]
[null,null,null,null,null,null,null,null,null,null,null,null,"(excluding bulk materials)",null,null,null,null,null,null,null,null,null,"Miles","=",null,"km",null,null,null,null,null,null,null,null,null,null,null,null,null,null,null,null,null,null,null,null,null,null,"Fuel, Energy & Water"]
[null,null,null,"Add new row:          ",null,null,null,null,null,"Total CO2e",{"$f":"SUMIFS(M:M,AF:AF,\"<>2\")+SUMIFS(Z:Z,AF:AF,\"<>2\")-Z5","v":0},null,"Tonnes",null,null,null,null,null,null,null,null,null,1,"=",null,{"$f":"1.609344*W5","v":1.6093440000000001}]
[]
[null,null,null,"Material / Product",null,null,null,null,null,null,null,null,null,null,null,"Assign % of total quantity to categories",null,null,null,null,null,null,"Transport ",null,null,null,null,"Forecast",null,null,null,"row type"]
[null,null,null,"Item","Type","Unit","Material Type","This Return Quantity","Next Return Quantity Forecast","Carbon Factor Value","Carbon Factor Unit","Conver\n-sion Factor","This Return tCO2e","Methodology",null,"Not Allocated","Fencing","Drainage","Road Pavements","Civils Structures","Waste",null,"Transport mode","Transport distance value (km)","Carbon Factor (tCO2e/t.km)","This Return tCO2e",null,"Next Return Quantity Forecast",null,null,null,"std = 0 / non std = 1 / major material = 2 / of which = 3","is row populated? (based on whether standard row or not"]
["Fuel, Energy & Water",null,"Fuel, Energy & Water",null,null,{"$f":"IF(ISERROR(VLOOKUP(D9&E9,'Emissions Factors Lookup'!J4:Q400,2,FALSE)),\"\",VLOOKUP(D9&E9,'Emissions Factors Lookup'!J4:Q400,2,FALSE))","v":""},{"$f":"IF(ISERROR(VLOOKUP(D9&E9,'Emissions Factors Lookup'!J4:Q400,3,FALSE)),\"\",VLOOKUP(D9&E9,'Emissions Factors Lookup'!J4:Q400,3,FALSE))","v":""},null,null,{"$f":"IF(ISERROR(VLOOKUP(D9&E9,'Emissions Factors Lookup'!J4:Q400,4,FALSE)),\"\",VLOOKUP(D9&E9,'Emissions Factors Lookup'!J4:Q400,4,FALSE))","v":""},{"$f":"IF(ISERROR(VLOOKUP(D9&E9,'Emissions Factors Lookup'!J4:Q400,5,FALSE)),\"\",VLOOKUP(D9&E9,'Emissions Factors Lookup'!J4:Q400,5,FALSE))","v":""},{"$f":"IF(ISERROR(VLOOKUP(D9&E9,'Emissions Factors Lookup'!J4:Q400,6,FALSE)),\"\",VLOOKUP(D9&E9,'Emissions Factors Lookup'!J4:Q400,6,FALSE))","v":""},{"$f":"IF(OR((N(L9)*N(H9)*N(J9)) = 0, ISERROR(L9*H9*J9)),\"\",L9*H9*J9)","v":""},{"$f":"IF(ISERROR(VLOOKUP(D9&E9,'Emissions Factors Lookup'!J4:Q400,6,FALSE)),\"\",VLOOKUP(D9&E9,'Emissions Factors Lookup'!J4:Q400,7,FALSE)&IF(VLOOKUP(D9&E9,'Emissions Factors Lookup'!J4:Q400,8,FALSE)=\"\",\"\",\" - \"&VLOOKUP(D9&E9,'Emissions Factors Lookup'!J4:Q400,8,FALSE)))","v":""},{"$f":"IF(P9<0,1,0)","v":0},null,null,null,null,null,null,null,null,null,{"$f":"IF(ISBLANK(W9),\"\",((VLOOKUP(\"Laden\" & W9,'Emissions Factors Lookup'!J4:Q400,4,FALSE)*VLOOKUP(\"Laden\" &W9,'Emissions Factors Lookup'!J4:Q400,6,FALSE)) + (VLOOKUP(\"Unladen\" & W9,'Emissions Factors Lookup'!J4:Q400,4,FALSE)*VLOOKUP(\"Unladen\" &W9,'Emissions Factors Lookup'!J4:Q400,6,FALSE)))/2)","v":""},{"$f":"IF(ISBLANK(X9),\"\",(X9*H9*L9*Y9)*2)","v":""},null,null,null,null,null,0,{"$f":"IF(AF9=1,COUNTA(D9:E9,H9:L9,N9,Q9:U9,W9:Y9,AB9),COUNTA(D9:E9,H9:I9,Q9:U9,W9:X9,AB9))","v":0},{"$f":"IF(ISERROR(VLOOKUP(D9&E9,'Emissions Factors Lookup'!J4:R400,9,FALSE)),\"\",VLOOKUP(D9&E9,'Emissions Factors Lookup'!J4:R400,9,FALSE))","v":""}]
[null,null,null,null,null,null,null,null,null,null,null,null,null,null,null,null,null,null,null,null,null,null,null,null,null,null,null,null,null,null,null,null,{"$f":"IF(AF10=1,COUNTA(D10:E10,H10:L10,N10,Q10:U10,W10:Y10,AB10),COUNTA(D10:E10,H10:I10,Q10:U10,W10:X10,AB10))","v":0},{"$f":"IF(ISERROR(VLOOKUP(D10&E10,'Emissions Factors Lookup'!J4:R398,9,FALSE)),\"\",VLOOKUP(D10&E10,'Emissions Factors Lookup'!J4:R398,9,FALSE))","v":""}]
[null,null,null,null,null,null,null,null,null,null,null,null,null,null,null,null,null,null,null,null,null,null,null,null,null,null,null,null,null,null,null,null,{"$f":"IF(AF11=1,COUNTA(D11:E11,H11:L11,N11,Q11:U11,W11:Y11,AB11),COUNTA(D11:E11,H11:I11,Q11:U11,W11:X11,AB11))","v":0},{"$f":"IF(ISERROR(VLOOKUP(D11&E11,'Emissions Factors Lookup'!J4:R309,9,FALSE)),\"\",VLOOKUP(D11&E11,'Emissions Factors Lookup'!J4:R309,9,FALSE))","v":""}]
[null,null,null,null,null,null,null,null,null,null,null,null,null,null,null,null,null,null,null,null,null,null,null,null,null,null,null,null,null,null,null,null,{"$f":"IF(AF12=1,COUNTA(D12:E12,H12:L12,N12,Q12:U12,W12:Y12,AB12),COUNTA(D12:E12,H12:I12,Q12:U12,W12:Y12,AB12))","v":0}]
[null,null,null,null,null,null,null,null,null,null,null,null,null,null,null,null,null,null,null,null,null,null,null,null,null,null,null,null,null,null,null,null,0]
[null,null,null,null,null,null,null,null,null,null,null,null,null,null,null,null,null,null,null,null,null,null,null,null,null,null,null,null,null,null,null,null,0]
[null,null,null,null,null,null,null,null,null,null,null,null,null,null,null,null,null,null,null,null,null,null,null,null,null,null,null,null,null,null,null,null,0]
[null,null,null,null,null,null,null,null,null,null,null,null,null,null,null,null,null,null,null,null,null,null,null,null,null,null,null,null,null,null,null,null,0]
[null,null,null,null,null,null,null,null,null,null,null,null,null,null,null,null,null,null,null,null,null,null,null,null,null,null,null,null,null,null,null,null,0]
[null,null,null,null,null,null,null,null,null,null,null,null,null,null,null,null,null,null,null,null,null,null,null,null,null,null,null,null,null,null,null,null,0]
[null,null,null,null,null,null,null,null,null,null,null,null,null,null,null,null,null,null,null,null,null,null,null,null,null,null,null,null,null,null,null,null,0]
[null,null,null,null,null,null,null,null,null,null,null,null,null,null,null,null,null,null,null,null,null,null,null,null,null,null,null,null,null,null,null,null,0]
[null,null,null,null,null,null,null,null,null,null,null,null,null,null,null,null,null,null,null,null,null,null,null,null,null,null,null,null,null,null,null,null,0]
[null,null,null,null,null,null,null,null,null,null,null,null,null,null,null,null,null,null,null,null,null,null,null,null,null,null,null,null,null,null,null,null,0]
[null,null,null,null,null,null,null,null,null,null,null,null,null,null,null,null,null,null,null,null,null,null,null,null,null,null,null,null,null,null,null,null,0]
[null,null,null,null,null,null,null,null,null,null,null,null,null,null,null,null,null,null,null,null,null,null,null,null,null,null,null,null,null,null,null,null,0]
[null,null,null,null,null,null,null,null,null,null,null,null,null,null,null,null,null,null,null,null,null,null,null,null,null,null,null,null,null,null,null,null,0]
[null,null,null,null,null,null,null,null,null,null,null,null,null,null,null,null,null,null,null,null,null,null,null,null,null,null,null,null,null,null,null,null,0]
[null,null,null,null,null,null,null,null,null,null,null,null,null,null,null,null,null,null,null,null,null,null,null,null,null,null,null,null,null,null,null,null,0]
[null,null,null,null,null,null,null,null,null,null,null,null,null,null,null,null,null,null,null,null,null,null,null,null,null,null,null,null,null,null,null,null,0]
[null,null,null,null,null,null,null,null,null,null,null,null,null,null,null,null,null,null,null,null,null,null,null,null,null,null,null,null,null,null,null,null,0]
[null,null,null,null,null,null,null,null,null,null,null,null,null,null,null,null,null,null,null,null,null,null,null,null,null,null,null,null,null,null,null,null,0]
[null,null,null,null,null,null,null,null,null,null,null,null,null,null,null,null,null,null,null,null,null,null,null,null,null,null,null,null,null,null,null,null,0]
[null,null,null,null,null,null,null,null,null,null,null,null,null,null,null,null,null,null,null,null,null,null,null,null,null,null,null,null,null,null,null,null,0]
[null,null,null,null,null,null,null,null,null,null,null,null,null,null,null,null,null,null,null,null,null,null,null,null,null,null,null,null,null,null,null,null,0]
[null,null,null,null,null,null,null,null,null,null,null,null,null,null,null,null,null,null,null,null,null,null,null,null,null,null,null,null,null,null,null,null,0]
[null,null,null,null,null,null,null,null,null,null,null,null,null,null,null,null,null,null,null,null,null,null,null,null,null,null,null,null,null,null,null,null,0]
[null,null,null,null,null,null,null,null,null,null,null,null,null,null,null,null,null,null,null,null,null,null,null,null,null,null,null,null,null,null,null,null,0]
[null,null,null,null,null,null,null,null,null,null,null,null,null,null,null,null,null,null,null,null,null,null,null,null,null,null,null,null,null,null,null,null,0]
[null,null,null,null,null,null,null,null,null,null,null,null,null,null,null,null,null,null,null,null,null,null,null,null,null,null,null,null,null,null,null,null,0]
[null,null,null,null,null,null,null,null,null,null,null,null,null,null,null,null,null,null,null,null,null,null,null,null,null,null,null,null,null,null,null,null,0]
[null,null,null,null,null,null,null,null,null,null,null,null,null,null,null,null,null,null,null,null,null,null,null,null,null,null,null,null,null,null,null,null,0]
[null,null,null,null,null,null,null,null,null,null,null,null,null,null,null,null,null,null,null,null,null,null,null,null,null,null,null,null,null,null,null,null,0]
[null,null,null,null,null,null,null,null,null,null,null,null,null,null,null,null,null,null,null,null,null,null,null,null,null,null,null,null,null,null,null,null,{"$f":"IF(AF42=1,COUNTA(D42:E42,H42:L42,N42,Q42:U42,W42:Y42,AB42),COUNTA(D42:E42,H42:I42,Q42:U42,W42:Y42,AB42))","v":0}]
[null,null,null,null,null,null,null,null,null,null,null,null,null,null,null,null,null,null,null,null,null,null,null,null,null,null,null,null,null,null,null,null,0]
[null,null,null,null,null,null,null,null,null,null,null,null,null,null,null,null,null,null,null,null,null,null,null,null,null,null,null,null,null,null,null,null,0]
[null,null,null,null,null,null,null,null,null,null,null,null,null,null,null,null,null,null,null,null,null,null,null,null,null,null,null,null,null,null,null,null,0]
[null,null,null,null,null,null,null,null,null,null,null,null,null,null,null,null,null,null,null,null,null,null,null,null,null,null,null,null,null,null,null,null,0]
[null,null,null,null,null,null,null,null,null,null,null,null,null,null,null,null,null,null,null,null,null,null,null,null,null,null,null,null,null,null,null,null,0]
[null,null,null,null,null,null,null,null,null,null,null,null,null,null,null,null,null,null,null,null,null,null,null,null,null,null,null,null,null,null,null,null,0]
[null,null,null,null,null,null,null,null,null,null,null,null,null,null,null,null,null,null,null,null,null,null,null,null,null,null,null,null,null,null,null,null,0]
[null,null,null,null,null,null,null,null,null,null,null,null,null,null,null,null,null,null,null,null,null,null,null,null,null,null,null,null,null,null,null,null,0]
[null,null,null,null,null,null,null,null,null,null,null,null,null,null,null,null,null,null,null,null,null,null,null,null,null,null,null,null,null,null,null,null,0]
[null,null,null,null,null,null,null,null,null,null,null,null,null,null,null,null,null,null,null,null,null,null,null,null,null,null,null,null,null,null,null,null,0]
[null,null,null,null,null,null,null,null,null,null,null,null,null,null,null,null,null,null,null,null,null,null,null,null,null,null,null,null,null,null,null,null,0]
[null,null,null,null,null,null,null,null,null,null,null,null,null,null,null,null,null,null,null,null,null,null,null,null,null,null,null,null,null,null,null,null,0]
[null,null,null,null,null,null,null,null,null,null,null,null,null,null,null,null,null,null,null,null,null,null,null,null,null,null,null,null,null,null,null,null,0]
[null,null,null,null,null,null,null,null,null,null,null,null,null,null,null,null,null,null,null,null,null,null,null,null,null,null,null,null,null,null,null,null,0]
[null,null,null,null,null,null,null,null,null,null,null,null,null,null,null,null,null,null,null,null,null,null,null,null,null,null,null,null,null,null,null,null,0]
[null,null,null,null,null,null,null,null,null,null,null,null,null,null,null,null,null,null,null,null,null,null,null,null,null,null,null,null,null,null,null,null,0]
[null,null,null,null,null,null,null,null,null,null,null,null,null,null,null,null,null,null,null,null,null,null,null,null,null,null,null,null,null,null,null,null,0]
[null,null,null,null,null,null,null,null,null,null,null,null,null,null,null,null,null,null,null,null,null,null,null,null,null,null,null,null,null,null,null,null,0]
[null,null,null,null,null,null,null,null,null,null,null,null,null,null,null,null,null,null,null,null,null,null,null,null,null,null,null,null,null,null,null,null,0]
[null,null,null,null,null,null,null,null,null,null,null,null,null,null,null,null,null,null,null,null,null,null,null,null,null,null,null,null,null,null,null,null,0]
[null,null,null,null,null,null,null,null,null,null,null,null,null,null,null,null,null,null,null,null,null,null,null,null,null,null,null,null,null,null,null,null,0]
[null,null,null,null,null,null,null,null,null,null,null,null,null,null,null,null,null,null,null,null,null,null,null,null,null,null,null,null,null,null,null,null,0]
[null,null,null,null,null,null,null,null,null,null,null,null,null,null,null,null,null,null,null,null,null,null,null,null,null,null,null,null,null,null,null,null,0]
[null,null,null,null,null,null,null,null,null,null,null,null,null,null,null,null,null,null,null,null,null,null,null,null,null,null,null,null,null,null,null,null,0]
[null,null,null,null,null,null,null,null,null,null,null,null,null,null,null,null,null,null,null,null,null,null,null,null,null,null,null,null,null,null,null,null,0]
[null,null,null,null,null,null,null,null,null,null,null,null,null,null,null,null,null,null,null,null,null,null,null,null,null,null,null,null,null,null,null,null,0]
[null,null,null,null,null,null,null,null,null,null,null,null,null,null,null,null,null,null,null,null,null,null,null,null,null,null,null,null,null,null,null,null,0]
[null,null,null,null,null,null,null,null,null,null,null,null,null,null,null,null,null,null,null,null,null,null,null,null,null,null,null,null,null,null,null,null,0]
[null,null,null,null,null,null,null,null,null,null,null,null,null,null,null,null,null,null,null,null,null,null,null,null,null,null,null,null,null,null,null,null,0]
[null,null,null,null,null,null,null,null,null,null,null,null,null,null,null,null,null,null,null,null,null,null,null,null,null,null,null,null,null,null,null,null,0]
[null,null,null,null,null,null,null,null,null,null,null,null,null,null,null,null,null,null,null,null,null,null,null,null,null,null,null,null,null,null,null,null,0]
[null,null,null,null,null,null,null,null,null,null,null,null,null,null,null,null,null,null,null,null,null,null,null,null,null,null,null,null,null,null,null,null,{"$f":"IF(AF74=1,COUNTA(D74:E74,H74:L74,N74,Q74:U74,W74:Y74,AB74),COUNTA(D74:E74,H74:I74,Q74:U74,W74:Y74,AB74))","v":0}]
[null,null,null,null,null,null,null,null,null,null,null,null,null,null,null,null,null,null,null,null,null,null,null,null,null,null,null,null,null,null,null,null,0]
[null,null,null,null,null,null,null,null,null,null,null,null,null,null,null,null,null,null,null,null,null,null,null,null,null,null,null,null,null,null,null,null,0]
[null,null,null,null,null,null,null,null,null,null,null,null,null,null,null,null,null,null,null,null,null,null,null,null,null,null,null,null,null,null,null,null,0]
[null,null,null,null,null,null,null,null,null,null,null,null,null,null,null,null,null,null,null,null,null,null,null,null,null,null,null,null,null,null,null,null,0]
[null,null,null,null,null,null,null,null,null,null,null,null,null,null,null,null,null,null,null,null,null,null,null,null,null,null,null,null,null,null,null,null,0]
[null,null,null,null,null,null,null,null,null,null,null,null,null,null,null,null,null,null,null,null,null,null,null,null,null,null,null,null,null,null,null,null,0]
[null,null,null,null,null,null,null,null,null,null,null,null,null,null,null,null,null,null,null,null,null,null,null,null,null,null,null,null,null,null,null,null,0]
[null,null,null,null,null,null,null,null,null,null,null,null,null,null,null,null,null,null,null,null,null,null,null,null,null,null,null,null,null,null,null,null,0]
[null,null,null,null,null,null,null,null,null,null,null,null,null,null,null,null,null,null,null,null,null,null,null,null,null,null,null,null,null,null,null,null,0]
[null,null,null,null,null,null,null,null,null,null,null,null,null,null,null,null,null,null,null,null,null,null,null,null,null,null,null,null,null,null,null,null,0]
[null,null,null,null,null,null,null,null,null,null,null,null,null,null,null,null,null,null,null,null,null,null,null,null,null,null,null,null,null,null,null,null,0]
[null,null,null,null,null,null,null,null,null,null,null,null,null,null,null,null,null,null,null,null,null,null,null,null,null,null,null,null,null,null,null,null,0]
[null,null,null,null,null,null,null,null,null,null,null,null,null,null,null,null,null,null,null,null,null,null,null,null,null,null,null,null,null,null,null,null,0]
[null,null,null,null,null,null,null,null,null,null,null,null,null,null,null,null,null,null,null,null,null,null,null,null,null,null,null,null,null,null,null,null,0]
[null,null,null,null,null,null,null,null,null,null,null,null,null,null,null,null,null,null,null,null,null,null,null,null,null,null,null,null,null,null,null,null,0]
[null,null,null,null,null,null,null,null,null,null,null,null,null,null,null,null,null,null,null,null,null,null,null,null,null,null,null,null,null,null,null,null,0]
[null,null,null,null,null,null,null,null,null,null,null,null,null,null,null,null,null,null,null,null,null,null,null,null,null,null,null,null,null,null,null,null,0]
[null,null,null,null,null,null,null,null,null,null,null,null,null,null,null,null,null,null,null,null,null,null,null,null,null,null,null,null,null,null,null,null,0]
[null,null,null,null,null,null,null,null,null,null,null,null,null,null,null,null,null,null,null,null,null,null,null,null,null,null,null,null,null,null,null,null,0]
[null,null,null,null,null,null,null,null,null,null,null,null,null,null,null,null,null,null,null,null,null,null,null,null,null,null,null,null,null,null,null,null,0]
[null,null,null,null,null,null,null,null,null,null,null,null,null,null,null,null,null,null,null,null,null,null,null,null,null,null,null,null,null,null,null,null,0]
[null,null,null,null,null,null,null,null,null,null,null,null,null,null,null,null,null,null,null,null,null,null,null,null,null,null,null,null,null,null,null,null,0]
[null,null,null,null,null,null,null,null,null,null,null,null,null,null,null,null,null,null,null,null,null,null,null,null,null,null,null,null,null,null,null,null,0]
[null,null,null,null,null,null,null,null,null,null,null,null,null,null,null,null,null,null,null,null,null,null,null,null,null,null,null,null,null,null,null,null,0]
[null,null,null,null,null,null,null,null,null,null,null,null,null,null,null,null,null,null,null,null,null,null,null,null,null,null,null,null,null,null,null,null,0]
[null,null,null,null,null,null,null,null,null,null,null,null,null,null,null,null,null,null,null,null,null,null,null,null,null,null,null,null,null,null,null,null,0]
[null,null,null,null,null,null,null,null,null,null,null,null,null,null,null,null,null,null,null,null,null,null,null,null,null,null,null,null,null,null,null,null,0]
[null,null,null,null,null,null,null,null,null,null,null,null,null,null,null,null,null,null,null,null,null,null,null,null,null,null,null,null,null,null,null,null,0]
[null,null,null,null,null,null,null,null,null,null,null,null,null,null,null,null,null,null,null,null,null,null,null,null,null,null,null,null,null,null,null,null,0]
[null,null,null,null,null,null,null,null,null,null,null,null,null,null,null,null,null,null,null,null,null,null,null,null,null,null,null,null,null,null,null,null,0]
[null,null,null,null,null,null,null,null,null,null,null,null,null,null,null,null,null,null,null,null,null,null,null,null,null,null,null,null,null,null,null,null,0]
[null,null,null,null,null,null,null,null,null,null,null,null,null,null,null,null,null,null,null,null,null,null,null,null,null,null,null,null,null,null,null,null,{"$f":"IF(AF106=1,COUNTA(D106:E106,H106:L106,N106,Q106:U106,W106:Y106,AB106),COUNTA(D106:E106,H106:I106,Q106:U106,W106:Y106,AB106))","v":0}]
[null,null,null,null,null,null,null,null,null,null,null,null,null,null,null,null,null,null,null,null,null,null,null,null,null,null,null,null,null,null,null,null,0]
[null,null,null,null,null,null,null,null,null,null,null,null,null,null,null,null,null,null,null,null,null,null,null,null,null,null,null,null,null,null,null,null,0]
[null,null,null,null,null,null,null,null,null,null,null,null,null,null,null,null,null,null,null,null,null,null,null,null,null,null,null,null,null,null,null,null,0]
[null,null,null,null,null,null,null,null,null,null,null,null,null,null,null,null,null,null,null,null,null,null,null,null,null,null,null,null,null,null,null,null,0]
[null,null,null,null,null,null,null,null,null,null,null,null,null,null,null,null,null,null,null,null,null,null,null,null,null,null,null,null,null,null,null,null,0]
[null,null,null,null,null,null,null,null,null,null,null,null,null,null,null,null,null,null,null,null,null,null,null,null,null,null,null,null,null,null,null,null,0]
[null,null,null,null,null,null,null,null,null,null,null,null,null,null,null,null,null,null,null,null,null,null,null,null,null,null,null,null,null,null,null,null,0]
[null,null,null,null,null,null,null,null,null,null,null,null,null,null,null,null,null,null,null,null,null,null,null,null,null,null,null,null,null,null,null,null,0]
[null,null,null,null,null,null,null,null,null,null,null,null,null,null,null,null,null,null,null,null,null,null,null,null,null,null,null,null,null,null,null,null,0]
[null,null,null,null,null,null,null,null,null,null,null,null,null,null,null,null,null,null,null,null,null,null,null,null,null,null,null,null,null,null,null,null,0]
[null,null,null,null,null,null,null,null,null,null,null,null,null,null,null,null,null,null,null,null,null,null,null,null,null,null,null,null,null,null,null,null,0]
[null,null,null,null,null,null,null,null,null,null,null,null,null,null,null,null,null,null,null,null,null,null,null,null,null,null,null,null,null,null,null,null,0]
[null,null,null,null,null,null,null,null,null,null,null,null,null,null,null,null,null,null,null,null,null,null,null,null,null,null,null,null,null,null,null,null,0]
[null,null,null,null,null,null,null,null,null,null,null,null,null,null,null,null,null,null,null,null,null,null,null,null,null,null,null,null,null,null,null,null,0]
[null,null,null,null,null,null,null,null,null,null,null,null,null,null,null,null,null,null,null,null,null,null,null,null,null,null,null,null,null,null,null,null,0]
[null,null,null,null,null,null,null,null,null,null,null,null,null,null,null,null,null,null,null,null,null,null,null,null,null,null,null,null,null,null,null,null,0]
[null,null,null,null,null,null,null,null,null,null,null,null,null,null,null,null,null,null,null,null,null,null,null,null,null,null,null,null,null,null,null,null,0]
[null,null,null,null,null,null,null,null,null,null,null,null,null,null,null,null,null,null,null,null,null,null,null,null,null,null,null,null,null,null,null,null,0]
[null,null,null,null,null,null,null,null,null,null,null,null,null,null,null,null,null,null,null,null,null,null,null,null,null,null,null,null,null,null,null,null,0]
[null,null,null,null,null,null,null,null,null,null,null,null,null,null,null,null,null,null,null,null,null,null,null,null,null,null,null,null,null,null,null,null,0]
[null,null,null,null,null,null,null,null,null,null,null,null,null,null,null,null,null,null,null,null,null,null,null,null,null,null,null,null,null,null,null,null,0]
[null,null,null,null,null,null,null,null,null,null,null,null,null,null,null,null,null,null,null,null,null,null,null,null,null,null,null,null,null,null,null,null,0]
[null,null,null,null,null,null,null,null,null,null,null,null,null,null,null,null,null,null,null,null,null,null,null,null,null,null,null,null,null,null,null,null,0]
[null,null,null,null,null,null,null,null,null,null,null,null,null,null,null,null,null,null,null,null,null,null,null,null,null,null,null,null,null,null,null,null,0]
[null,null,null,null,null,null,null,null,null,null,null,null,null,null,null,null,null,null,null,null,null,null,null,null,null,null,null,null,null,null,null,null,0]
[null,null,null,null,null,null,null,null,null,null,null,null,null,null,null,null,null,null,null,null,null,null,null,null,null,null,null,null,null,null,null,null,0]
[null,null,null,null,null,null,null,null,null,null,null,null,null,null,null,null,null,null,null,null,null,null,null,null,null,null,null,null,null,null,null,null,0]
[null,null,null,null,null,null,null,null,null,null,null,null,null,null,null,null,null,null,null,null,null,null,null,null,null,null,null,null,null,null,null,null,0]
[null,null,null,null,null,null,null,null,null,null,null,null,null,null,null,null,null,null,null,null,null,null,null,null,null,null,null,null,null,null,null,null,0]
[null,null,null,null,null,null,null,null,null,null,null,null,null,null,null,null,null,null,null,null,null,null,null,null,null,null,null,null,null,null,null,null,0]
[null,null,null,null,null,null,null,null,null,null,null,null,null,null,null,null,null,null,null,null,null,null,null,null,null,null,null,null,null,null,null,null,0]
[null,null,null,null,null,null,null,null,null,null,null,null,null,null,null,null,null,null,null,null,null,null,null,null,null,null,null,null,null,null,null,null,{"$f":"IF(AF138=1,COUNTA(D138:E138,H138:L138,N138,Q138:U138,W138:Y138,AB138),COUNTA(D138:E138,H138:I138,Q138:U138,W138:Y138,AB138))","v":0}]
[null,null,null,null,null,null,null,null,null,null,null,null,null,null,null,null,null,null,null,null,null,null,null,null,null,null,null,null,null,null,null,null,0]
[null,null,null,null,null,null,null,null,null,null,null,null,null,null,null,null,null,null,null,null,null,null,null,null,null,null,null,null,null,null,null,null,0]
[null,null,null,null,null,null,null,null,null,null,null,null,null,null,null,null,null,null,null,null,null,null,null,null,null,null,null,null,null,null,null,null,0]
[null,null,null,null,null,null,null,null,null,null,null,null,null,null,null,null,null,null,null,null,null,null,null,null,null,null,null,null,null,null,null,null,0]
[null,null,null,null,null,null,null,null,null,null,null,null,null,null,null,null,null,null,null,null,null,null,null,null,null,null,null,null,null,null,null,null,0]
[null,null,null,null,null,null,null,null,null,null,null,null,null,null,null,null,null,null,null,null,null,null,null,null,null,null,null,null,null,null,null,null,0]
[null,null,null,null,null,null,null,null,null,null,null,null,null,null,null,null,null,null,null,null,null,null,null,null,null,null,null,null,null,null,null,null,0]
[null,null,null,null,null,null,null,null,null,null,null,null,null,null,null,null,null,null,null,null,null,null,null,null,null,null,null,null,null,null,null,null,0]
[null,null,null,null,null,null,null,null,null,null,null,null,null,null,null,null,null,null,null,null,null,null,null,null,null,null,null,null,null,null,null,null,0]
[null,null,null,null,null,null,null,null,null,null,null,null,null,null,null,null,null,null,null,null,null,null,null,null,null,null,null,null,null,null,null,null,0]
[null,null,null,null,null,null,null,null,null,null,null,null,null,null,null,null,null,null,null,null,null,null,null,null,null,null,null,null,null,null,null,null,0]
[null,null,null,null,null,null,null,null,null,null,null,null,null,null,null,null,null,null,null,null,null,null,null,null,null,null,null,null,null,null,null,null,0]
[null,null,null,null,null,null,null,null,null,null,null,null,null,null,null,null,null,null,null,null,null,null,null,null,null,null,null,null,null,null,null,null,0]

{"sheet":"Business Transport","index":22,"n_rows":151,"n_cols":50,"rows_kept":151,"cut":false,"hidden":true,"merged":[[6,3,6,13],[6,15,6,20],[6,22,6,25],[0,29,0,30],[0,39,0,41],[2,3,2,12],[2,22,2,25],[4,10,4,11],[3,23,3,24],[4,23,4,24]]}
[null,null,null,null,null,null,null,null,null,null,null,null,null,null,null,null,null,null,null,null,null,null,null,null,null,null,null,null,null,null,null,null,null,null,null,null,null,null,null,null,null,null,null,null,null,null,null,null,0]
[null,null,null,null,null,null,null,null,null,null,null,null,null,null,null,null,null,null,{"$f":"IF(SUM(O:O)>0,\"err\",\"\")","v":""},null,null,null,0,null,null,null,null,null,null,null,null,null,null,null,null,null,null,null,null,null,null,null,null,null,null,null,null,null,0]
[null,null,null,"2022 Aug   -   Business and Employee Transport",null,null,null,null,null,null,null,null,null,null,null,null,null,null,null,null,null,null,"Converter:",null,null,null,null,null,null,null,null,null,null,null,null,null,null,null,null,null,null,null,null,null,null,null,null,null,0,"<---DO NOT CHANGE ('return is blank' flag)"]
[null,null,null,null,null,null,null,null,null,null,null,null,"(excluding bulk materials)",null,null,null,null,null,null,null,null,null,"Miles","=",null,"km",null,null,null,null,null,null,null,null,null,null,null,null,null,null,null,null,null,null,null,null,null,null,"Business and Employee Transport"]
[null,null,null,"Add new row:          ",null,null,null,null,null,"Total CO2e",{"$f":"SUMIFS(M:M,AF:AF,\"<>2\")+SUMIFS(Z:Z,AF:AF,\"<>2\")-Z5","v":0},null,"Tonnes",null,null,null,null,null,null,null,null,null,1,"=",null,{"$f":"1.609344*W5","v":1.6093440000000001}]
[]
[null,null,null,"Material / Product",null,null,null,null,null,null,null,null,null,null,null,"Assign % of total quantity to categories",null,null,null,null,null,null,"Transport ",null,null,null,null,"Forecast",null,null,null,"row type"]
[null,null,null,"Item","Type","Unit","Material Type","This Return Quantity","Next Return Quantity Forecast","Carbon Factor Value","Carbon Factor Unit","Conver\n-sion Factor","This Return tCO2e","Methodology",null,"Not Allocated","Fencing","Drainage","Road Pavements","Civils Structures","Waste",null,"Transport mode","Transport distance value (km)","Carbon Factor (tCO2e/t.km)","This Return tCO2e",null,"Next Return Quantity Forecast",null,null,null,"std = 0 / non std = 1 / major material = 2 / of which = 3","is row populated? (based on whether standard row or not"]
["Business and Employee Transport",null,"Business and Employee Transport",null,null,{"$f":"IF(ISERROR(VLOOKUP(D9&E9,'Emissions Factors Lookup'!J4:Q400,2,FALSE)),\"\",VLOOKUP(D9&E9,'Emissions Factors Lookup'!J4:Q400,2,FALSE))","v":""},{"$f":"IF(ISERROR(VLOOKUP(D9&E9,'Emissions Factors Lookup'!J4:Q400,3,FALSE)),\"\",VLOOKUP(D9&E9,'Emissions Factors Lookup'!J4:Q400,3,FALSE))","v":""},null,null,{"$f":"IF(ISERROR(VLOOKUP(D9&E9,'Emissions Factors Lookup'!J4:Q400,4,FALSE)),\"\",VLOOKUP(D9&E9,'Emissions Factors Lookup'!J4:Q400,4,FALSE))","v":""},{"$f":"IF(ISERROR(VLOOKUP(D9&E9,'Emissions Factors Lookup'!J4:Q400,5,FALSE)),\"\",VLOOKUP(D9&E9,'Emissions Factors Lookup'!J4:Q400,5,FALSE))","v":""},{"$f":"IF(ISERROR(VLOOKUP(D9&E9,'Emissions Factors Lookup'!J4:Q400,6,FALSE)),\"\",VLOOKUP(D9&E9,'Emissions Factors Lookup'!J4:Q400,6,FALSE))","v":""},{"$f":"IF(OR((N(L9)*N(H9)*N(J9)) = 0, ISERROR(L9*H9*J9)),\"\",L9*H9*J9)","v":""},{"$f":"IF(ISERROR(VLOOKUP(D9&E9,'Emissions Factors Lookup'!J4:Q400,6,FALSE)),\"\",VLOOKUP(D9&E9,'Emissions Factors Lookup'!J4:Q400,7,FALSE)&IF(VLOOKUP(D9&E9,'Emissions Factors Lookup'!J4:Q400,8,FALSE)=\"\",\"\",\" - \"&VLOOKUP(D9&E9,'Emissions Factors Lookup'!J4:Q400,8,FALSE)))","v":""},{"$f":"IF(P9<0,1,0)","v":0},null,null,null,null,null,null,null,null,null,{"$f":"IF(ISBLANK(W9),\"\",((VLOOKUP(\"Laden\" & W9,'Emissions Factors Lookup'!J4:Q400,4,FALSE)*VLOOKUP(\"Laden\" &W9,'Emissions Factors Lookup'!J4:Q400,6,FALSE)) + (VLOOKUP(\"Unladen\" & W9,'Emissions Factors Lookup'!J4:Q400,4,FALSE)*VLOOKUP(\"Unladen\" &W9,'Emissions Factors Lookup'!J4:Q400,6,FALSE)))/2)","v":""},{"$f":"IF(ISBLANK(X9),\"\",(X9*H9*L9*Y9)*2)","v":""},null,null,null,null,null,0,{"$f":"IF(AF9=1,COUNTA(D9:E9,H9:L9,N9,Q9:U9,W9:Y9,AB9),COUNTA(D9:E9,H9:I9,Q9:U9,W9:X9,AB9))","v":0},{"$f":"IF(ISERROR(VLOOKUP(D9&E9,'Emissions Factors Lookup'!J4:R400,9,FALSE)),\"\",VLOOKUP(D9&E9,'Emissions Factors Lookup'!J4:R400,9,FALSE))","v":""}]
[null,null,null,null,null,null,null,null,null,null,null,null,null,null,null,null,null,null,null,null,null,null,null,null,null,null,null,null,null,null,null,null,{"$f":"IF(AF10=1,COUNTA(D10:E10,H10:L10,N10,Q10:U10,W10:Y10,AB10),COUNTA(D10:E10,H10:I10,Q10:U10,W10:X10,AB10))","v":0},{"$f":"IF(ISERROR(VLOOKUP(D10&E10,'Emissions Factors Lookup'!J4:R400,9,FALSE)),\"\",VLOOKUP(D10&E10,'Emissions Factors Lookup'!J4:R400,9,FALSE))","v":""}]
[null,null,null,null,null,null,null,null,null,null,null,null,null,null,null,null,null,null,null,null,null,null,null,null,null,null,null,null,null,null,null,null,{"$f":"IF(AF11=1,COUNTA(D11:E11,H11:L11,N11,Q11:U11,W11:Y11,AB11),COUNTA(D11:E11,H11:I11,Q11:U11,W11:X11,AB11))","v":0},{"$f":"IF(ISERROR(VLOOKUP(D11&E11,'Emissions Factors Lookup'!J4:R309,9,FALSE)),\"\",VLOOKUP(D11&E11,'Emissions Factors Lookup'!J4:R309,9,FALSE))","v":""}]
[null,null,null,null,null,null,null,null,null,null,null,null,null,null,null,null,null,null,null,null,null,null,null,null,null,null,null,null,null,null,null,null,{"$f":"IF(AF12=1,COUNTA(D12:E12,H12:L12,N12,Q12:U12,W12:Y12,AB12),COUNTA(D12:E12,H12:I12,Q12:U12,W12:Y12,AB12))","v":0}]
[null,null,null,null,null,null,null,null,null,null,null,null,null,null,null,null,null,null,null,null,null,null,null,null,null,null,null,null,null,null,null,null,0]
[null,null,null,null,null,null,null,null,null,null,null,null,null,null,null,null,null,null,null,null,null,null,null,null,null,null,null,null,null,null,null,null,0]
[null,null,null,null,null,null,null,null,null,null,null,null,null,null,null,null,null,null,null,null,null,null,null,null,null,null,null,null,null,null,null,null,0]
[null,null,null,null,null,null,null,null,null,null,null,null,null,null,null,null,null,null,null,null,null,null,null,null,null,null,null,null,null,null,null,null,0]
[null,null,null,null,null,null,null,null,null,null,null,null,null,null,null,null,null,null,null,null,null,null,null,null,null,null,null,null,null,null,null,null,0]
[null,null,null,null,null,null,null,null,null,null,null,null,null,null,null,null,null,null,null,null,null,null,null,null,null,null,null,null,null,null,null,null,0]
[null,null,null,null,null,null,null,null,null,null,null,null,null,null,null,null,null,null,null,null,null,null,null,null,null,null,null,null,null,null,null,null,0]
[null,null,null,null,null,null,null,null,null,null,null,null,null,null,null,null,null,null,null,null,null,null,null,null,null,null,null,null,null,null,null,null,0]
[null,null,null,null,null,null,null,null,null,null,null,null,null,null,null,null,null,null,null,null,null,null,null,null,null,null,null,null,null,null,null,null,0]
[null,null,null,null,null,null,null,null,null,null,null,null,null,null,null,null,null,null,null,null,null,null,null,null,null,null,null,null,null,null,null,null,0]
[null,null,null,null,null,null,null,null,null,null,null,null,null,null,null,null,null,null,null,null,null,null,null,null,null,null,null,null,null,null,null,null,0]
[null,null,null,null,null,null,null,null,null,null,null,null,null,null,null,null,null,null,null,null,null,null,null,null,null,null,null,null,null,null,null,null,0]
[null,null,null,null,null,null,null,null,null,null,null,null,null,null,null,null,null,null,null,null,null,null,null,null,null,null,null,null,null,null,null,null,0]
[null,null,null,null,null,null,null,null,null,null,null,null,null,null,null,null,null,null,null,null,null,null,null,null,null,null,null,null,null,null,null,null,0]
[null,null,null,null,null,null,null,null,null,null,null,null,null,null,null,null,null,null,null,null,null,null,null,null,null,null,null,null,null,null,null,null,0]
[null,null,null,null,null,null,null,null,null,null,null,null,null,null,null,null,null,null,null,null,null,null,null,null,null,null,null,null,null,null,null,null,0]
[null,null,null,null,null,null,null,null,null,null,null,null,null,null,null,null,null,null,null,null,null,null,null,null,null,null,null,null,null,null,null,null,0]
[null,null,null,null,null,null,null,null,null,null,null,null,null,null,null,null,null,null,null,null,null,null,null,null,null,null,null,null,null,null,null,null,0]
[null,null,null,null,null,null,null,null,null,null,null,null,null,null,null,null,null,null,null,null,null,null,null,null,null,null,null,null,null,null,null,null,0]
[null,null,null,null,null,null,null,null,null,null,null,null,null,null,null,null,null,null,null,null,null,null,null,null,null,null,null,null,null,null,null,null,0]
[null,null,null,null,null,null,null,null,null,null,null,null,null,null,null,null,null,null,null,null,null,null,null,null,null,null,null,null,null,null,null,null,0]
[null,null,null,null,null,null,null,null,null,null,null,null,null,null,null,null,null,null,null,null,null,null,null,null,null,null,null,null,null,null,null,null,0]
[null,null,null,null,null,null,null,null,null,null,null,null,null,null,null,null,null,null,null,null,null,null,null,null,null,null,null,null,null,null,null,null,0]
[null,null,null,null,null,null,null,null,null,null,null,null,null,null,null,null,null,null,null,null,null,null,null,null,null,null,null,null,null,null,null,null,0]
[null,null,null,null,null,null,null,null,null,null,null,null,null,null,null,null,null,null,null,null,null,null,null,null,null,null,null,null,null,null,null,null,0]
[null,null,null,null,null,null,null,null,null,null,null,null,null,null,null,null,null,null,null,null,null,null,null,null,null,null,null,null,null,null,null,null,0]
[null,null,null,null,null,null,null,null,null,null,null,null,null,null,null,null,null,null,null,null,null,null,null,null,null,null,null,null,null,null,null,null,0]
[null,null,null,null,null,null,null,null,null,null,null,null,null,null,null,null,null,null,null,null,null,null,null,null,null,null,null,null,null,null,null,null,0]
[null,null,null,null,null,null,null,null,null,null,null,null,null,null,null,null,null,null,null,null,null,null,null,null,null,null,null,null,null,null,null,null,0]
[null,null,null,null,null,null,null,null,null,null,null,null,null,null,null,null,null,null,null,null,null,null,null,null,null,null,null,null,null,null,null,null,{"$f":"IF(AF42=1,COUNTA(D42:E42,H42:L42,N42,Q42:U42,W42:Y42,AB42),COUNTA(D42:E42,H42:I42,Q42:U42,W42:Y42,AB42))","v":0}]
[null,null,null,null,null,null,null,null,null,null,null,null,null,null,null,null,null,null,null,null,null,null,null,null,null,null,null,null,null,null,null,null,0]
[null,null,null,null,null,null,null,null,null,null,null,null,null,null,null,null,null,null,null,null,null,null,null,null,null,null,null,null,null,null,null,null,0]
[null,null,null,null,null,null,null,null,null,null,null,null,null,null,null,null,null,null,null,null,null,null,null,null,null,null,null,null,null,null,null,null,0]
[null,null,null,null,null,null,null,null,null,null,null,null,null,null,null,null,null,null,null,null,null,null,null,null,null,null,null,null,null,null,null,null,0]
[null,null,null,null,null,null,null,null,null,null,null,null,null,null,null,null,null,null,null,null,null,null,null,null,null,null,null,null,null,null,null,null,0]
[null,null,null,null,null,null,null,null,null,null,null,null,null,null,null,null,null,null,null,null,null,null,null,null,null,null,null,null,null,null,null,null,0]
[null,null,null,null,null,null,null,null,null,null,null,null,null,null,null,null,null,null,null,null,null,null,null,null,null,null,null,null,null,null,null,null,0]
[null,null,null,null,null,null,null,null,null,null,null,null,null,null,null,null,null,null,null,null,null,null,null,null,null,null,null,null,null,null,null,null,0]
[null,null,null,null,null,null,null,null,null,null,null,null,null,null,null,null,null,null,null,null,null,null,null,null,null,null,null,null,null,null,null,null,0]
[null,null,null,null,null,null,null,null,null,null,null,null,null,null,null,null,null,null,null,null,null,null,null,null,null,null,null,null,null,null,null,null,0]
[null,null,null,null,null,null,null,null,null,null,null,null,null,null,null,null,null,null,null,null,null,null,null,null,null,null,null,null,null,null,null,null,0]
[null,null,null,null,null,null,null,null,null,null,null,null,null,null,null,null,null,null,null,null,null,null,null,null,null,null,null,null,null,null,null,null,0]
[null,null,null,null,null,null,null,null,null,null,null,null,null,null,null,null,null,null,null,null,null,null,null,null,null,null,null,null,null,null,null,null,0]
[null,null,null,null,null,null,null,null,null,null,null,null,null,null,null,null,null,null,null,null,null,null,null,null,null,null,null,null,null,null,null,null,0]
[null,null,null,null,null,null,null,null,null,null,null,null,null,null,null,null,null,null,null,null,null,null,null,null,null,null,null,null,null,null,null,null,0]
[null,null,null,null,null,null,null,null,null,null,null,null,null,null,null,null,null,null,null,null,null,null,null,null,null,null,null,null,null,null,null,null,0]
[null,null,null,null,null,null,null,null,null,null,null,null,null,null,null,null,null,null,null,null,null,null,null,null,null,null,null,null,null,null,null,null,0]
[null,null,null,null,null,null,null,null,null,null,null,null,null,null,null,null,null,null,null,null,null,null,null,null,null,null,null,null,null,null,null,null,0]
[null,null,null,null,null,null,null,null,null,null,null,null,null,null,null,null,null,null,null,null,null,null,null,null,null,null,null,null,null,null,null,null,0]
[null,null,null,null,null,null,null,null,null,null,null,null,null,null,null,null,null,null,null,null,null,null,null,null,null,null,null,null,null,null,null,null,0]
[null,null,null,null,null,null,null,null,null,null,null,null,null,null,null,null,null,null,null,null,null,null,null,null,null,null,null,null,null,null,null,null,0]
[null,null,null,null,null,null,null,null,null,null,null,null,null,null,null,null,null,null,null,null,null,null,null,null,null,null,null,null,null,null,null,null,0]
[null,null,null,null,null,null,null,null,null,null,null,null,null,null,null,null,null,null,null,null,null,null,null,null,null,null,null,null,null,null,null,null,0]
[null,null,null,null,null,null,null,null,null,null,null,null,null,null,null,null,null,null,null,null,null,null,null,null,null,null,null,null,null,null,null,null,0]
[null,null,null,null,null,null,null,null,null,null,null,null,null,null,null,null,null,null,null,null,null,null,null,null,null,null,null,null,null,null,null,null,0]
[null,null,null,null,null,null,null,null,null,null,null,null,null,null,null,null,null,null,null,null,null,null,null,null,null,null,null,null,null,null,null,null,0]
[null,null,null,null,null,null,null,null,null,null,null,null,null,null,null,null,null,null,null,null,null,null,null,null,null,null,null,null,null,null,null,null,0]
[null,null,null,null,null,null,null,null,null,null,null,null,null,null,null,null,null,null,null,null,null,null,null,null,null,null,null,null,null,null,null,null,0]
[null,null,null,null,null,null,null,null,null,null,null,null,null,null,null,null,null,null,null,null,null,null,null,null,null,null,null,null,null,null,null,null,0]
[null,null,null,null,null,null,null,null,null,null,null,null,null,null,null,null,null,null,null,null,null,null,null,null,null,null,null,null,null,null,null,null,0]
[null,null,null,null,null,null,null,null,null,null,null,null,null,null,null,null,null,null,null,null,null,null,null,null,null,null,null,null,null,null,null,null,0]
[null,null,null,null,null,null,null,null,null,null,null,null,null,null,null,null,null,null,null,null,null,null,null,null,null,null,null,null,null,null,null,null,{"$f":"IF(AF74=1,COUNTA(D74:E74,H74:L74,N74,Q74:U74,W74:Y74,AB74),COUNTA(D74:E74,H74:I74,Q74:U74,W74:Y74,AB74))","v":0}]
[null,null,null,null,null,null,null,null,null,null,null,null,null,null,null,null,null,null,null,null,null,null,null,null,null,null,null,null,null,null,null,null,0]
[null,null,null,null,null,null,null,null,null,null,null,null,null,null,null,null,null,null,null,null,null,null,null,null,null,null,null,null,null,null,null,null,0]
[null,null,null,null,null,null,null,null,null,null,null,null,null,null,null,null,null,null,null,null,null,null,null,null,null,null,null,null,null,null,null,null,0]
[null,null,null,null,null,null,null,null,null,null,null,null,null,null,null,null,null,null,null,null,null,null,null,null,null,null,null,null,null,null,null,null,0]
[null,null,null,null,null,null,null,null,null,null,null,null,null,null,null,null,null,null,null,null,null,null,null,null,null,null,null,null,null,null,null,null,0]
[null,null,null,null,null,null,null,null,null,null,null,null,null,null,null,null,null,null,null,null,null,null,null,null,null,null,null,null,null,null,null,null,0]
[null,null,null,null,null,null,null,null,null,null,null,null,null,null,null,null,null,null,null,null,null,null,null,null,null,null,null,null,null,null,null,null,0]
[null,null,null,null,null,null,null,null,null,null,null,null,null,null,null,null,null,null,null,null,null,null,null,null,null,null,null,null,null,null,null,null,0]
[null,null,null,null,null,null,null,null,null,null,null,null,null,null,null,null,null,null,null,null,null,null,null,null,null,null,null,null,null,null,null,null,0]
[null,null,null,null,null,null,null,null,null,null,null,null,null,null,null,null,null,null,null,null,null,null,null,null,null,null,null,null,null,null,null,null,0]
[null,null,null,null,null,null,null,null,null,null,null,null,null,null,null,null,null,null,null,null,null,null,null,null,null,null,null,null,null,null,null,null,0]
[null,null,null,null,null,null,null,null,null,null,null,null,null,null,null,null,null,null,null,null,null,null,null,null,null,null,null,null,null,null,null,null,0]
[null,null,null,null,null,null,null,null,null,null,null,null,null,null,null,null,null,null,null,null,null,null,null,null,null,null,null,null,null,null,null,null,0]
[null,null,null,null,null,null,null,null,null,null,null,null,null,null,null,null,null,null,null,null,null,null,null,null,null,null,null,null,null,null,null,null,0]
[null,null,null,null,null,null,null,null,null,null,null,null,null,null,null,null,null,null,null,null,null,null,null,null,null,null,null,null,null,null,null,null,0]
[null,null,null,null,null,null,null,null,null,null,null,null,null,null,null,null,null,null,null,null,null,null,null,null,null,null,null,null,null,null,null,null,0]
[null,null,null,null,null,null,null,null,null,null,null,null,null,null,null,null,null,null,null,null,null,null,null,null,null,null,null,null,null,null,null,null,0]
[null,null,null,null,null,null,null,null,null,null,null,null,null,null,null,null,null,null,null,null,null,null,null,null,null,null,null,null,null,null,null,null,0]
[null,null,null,null,null,null,null,null,null,null,null,null,null,null,null,null,null,null,null,null,null,null,null,null,null,null,null,null,null,null,null,null,0]
[null,null,null,null,null,null,null,null,null,null,null,null,null,null,null,null,null,null,null,null,null,null,null,null,null,null,null,null,null,null,null,null,0]
[null,null,null,null,null,null,null,null,null,null,null,null,null,null,null,null,null,null,null,null,null,null,null,null,null,null,null,null,null,null,null,null,0]
[null,null,null,null,null,null,null,null,null,null,null,null,null,null,null,null,null,null,null,null,null,null,null,null,null,null,null,null,null,null,null,null,0]
[null,null,null,null,null,null,null,null,null,null,null,null,null,null,null,null,null,null,null,null,null,null,null,null,null,null,null,null,null,null,null,null,0]
[null,null,null,null,null,null,null,null,null,null,null,null,null,null,null,null,null,null,null,null,null,null,null,null,null,null,null,null,null,null,null,null,0]
[null,null,null,null,null,null,null,null,null,null,null,null,null,null,null,null,null,null,null,null,null,null,null,null,null,null,null,null,null,null,null,null,0]
[null,null,null,null,null,null,null,null,null,null,null,null,null,null,null,null,null,null,null,null,null,null,null,null,null,null,null,null,null,null,null,null,0]
[null,null,null,null,null,null,null,null,null,null,null,null,null,null,null,null,null,null,null,null,null,null,null,null,null,null,null,null,null,null,null,null,0]
[null,null,null,null,null,null,null,null,null,null,null,null,null,null,null,null,null,null,null,null,null,null,null,null,null,null,null,null,null,null,null,null,0]
[null,null,null,null,null,null,null,null,null,null,null,null,null,null,null,null,null,null,null,null,null,null,null,null,null,null,null,null,null,null,null,null,0]
[null,null,null,null,null,null,null,null,null,null,null,null,null,null,null,null,null,null,null,null,null,null,null,null,null,null,null,null,null,null,null,null,0]
[null,null,null,null,null,null,null,null,null,null,null,null,null,null,null,null,null,null,null,null,null,null,null,null,null,null,null,null,null,null,null,null,0]
[null,null,null,null,null,null,null,null,null,null,null,null,null,null,null,null,null,null,null,null,null,null,null,null,null,null,null,null,null,null,null,null,{"$f":"IF(AF106=1,COUNTA(D106:E106,H106:L106,N106,Q106:U106,W106:Y106,AB106),COUNTA(D106:E106,H106:I106,Q106:U106,W106:Y106,AB106))","v":0}]
[null,null,null,null,null,null,null,null,null,null,null,null,null,null,null,null,null,null,null,null,null,null,null,null,null,null,null,null,null,null,null,null,0]
[null,null,null,null,null,null,null,null,null,null,null,null,null,null,null,null,null,null,null,null,null,null,null,null,null,null,null,null,null,null,null,null,0]
[null,null,null,null,null,null,null,null,null,null,null,null,null,null,null,null,null,null,null,null,null,null,null,null,null,null,null,null,null,null,null,null,0]
[null,null,null,null,null,null,null,null,null,null,null,null,null,null,null,null,null,null,null,null,null,null,null,null,null,null,null,null,null,null,null,null,0]
[null,null,null,null,null,null,null,null,null,null,null,null,null,null,null,null,null,null,null,null,null,null,null,null,null,null,null,null,null,null,null,null,0]
[null,null,null,null,null,null,null,null,null,null,null,null,null,null,null,null,null,null,null,null,null,null,null,null,null,null,null,null,null,null,null,null,0]
[null,null,null,null,null,null,null,null,null,null,null,null,null,null,null,null,null,null,null,null,null,null,null,null,null,null,null,null,null,null,null,null,0]
[null,null,null,null,null,null,null,null,null,null,null,null,null,null,null,null,null,null,null,null,null,null,null,null,null,null,null,null,null,null,null,null,0]
[null,null,null,null,null,null,null,null,null,null,null,null,null,null,null,null,null,null,null,null,null,null,null,null,null,null,null,null,null,null,null,null,0]
[null,null,null,null,null,null,null,null,null,null,null,null,null,null,null,null,null,null,null,null,null,null,null,null,null,null,null,null,null,null,null,null,0]
[null,null,null,null,null,null,null,null,null,null,null,null,null,null,null,null,null,null,null,null,null,null,null,null,null,null,null,null,null,null,null,null,0]
[null,null,null,null,null,null,null,null,null,null,null,null,null,null,null,null,null,null,null,null,null,null,null,null,null,null,null,null,null,null,null,null,0]
[null,null,null,null,null,null,null,null,null,null,null,null,null,null,null,null,null,null,null,null,null,null,null,null,null,null,null,null,null,null,null,null,0]
[null,null,null,null,null,null,null,null,null,null,null,null,null,null,null,null,null,null,null,null,null,null,null,null,null,null,null,null,null,null,null,null,0]
[null,null,null,null,null,null,null,null,null,null,null,null,null,null,null,null,null,null,null,null,null,null,null,null,null,null,null,null,null,null,null,null,0]
[null,null,null,null,null,null,null,null,null,null,null,null,null,null,null,null,null,null,null,null,null,null,null,null,null,null,null,null,null,null,null,null,0]
[null,null,null,null,null,null,null,null,null,null,null,null,null,null,null,null,null,null,null,null,null,null,null,null,null,null,null,null,null,null,null,null,0]
[null,null,null,null,null,null,null,null,null,null,null,null,null,null,null,null,null,null,null,null,null,null,null,null,null,null,null,null,null,null,null,null,0]
[null,null,null,null,null,null,null,null,null,null,null,null,null,null,null,null,null,null,null,null,null,null,null,null,null,null,null,null,null,null,null,null,0]
[null,null,null,null,null,null,null,null,null,null,null,null,null,null,null,null,null,null,null,null,null,null,null,null,null,null,null,null,null,null,null,null,0]
[null,null,null,null,null,null,null,null,null,null,null,null,null,null,null,null,null,null,null,null,null,null,null,null,null,null,null,null,null,null,null,null,0]
[null,null,null,null,null,null,null,null,null,null,null,null,null,null,null,null,null,null,null,null,null,null,null,null,null,null,null,null,null,null,null,null,0]
[null,null,null,null,null,null,null,null,null,null,null,null,null,null,null,null,null,null,null,null,null,null,null,null,null,null,null,null,null,null,null,null,0]
[null,null,null,null,null,null,null,null,null,null,null,null,null,null,null,null,null,null,null,null,null,null,null,null,null,null,null,null,null,null,null,null,0]
[null,null,null,null,null,null,null,null,null,null,null,null,null,null,null,null,null,null,null,null,null,null,null,null,null,null,null,null,null,null,null,null,0]
[null,null,null,null,null,null,null,null,null,null,null,null,null,null,null,null,null,null,null,null,null,null,null,null,null,null,null,null,null,null,null,null,0]
[null,null,null,null,null,null,null,null,null,null,null,null,null,null,null,null,null,null,null,null,null,null,null,null,null,null,null,null,null,null,null,null,0]
[null,null,null,null,null,null,null,null,null,null,null,null,null,null,null,null,null,null,null,null,null,null,null,null,null,null,null,null,null,null,null,null,0]
[null,null,null,null,null,null,null,null,null,null,null,null,null,null,null,null,null,null,null,null,null,null,null,null,null,null,null,null,null,null,null,null,0]
[null,null,null,null,null,null,null,null,null,null,null,null,null,null,null,null,null,null,null,null,null,null,null,null,null,null,null,null,null,null,null,null,0]
[null,null,null,null,null,null,null,null,null,null,null,null,null,null,null,null,null,null,null,null,null,null,null,null,null,null,null,null,null,null,null,null,0]
[null,null,null,null,null,null,null,null,null,null,null,null,null,null,null,null,null,null,null,null,null,null,null,null,null,null,null,null,null,null,null,null,{"$f":"IF(AF138=1,COUNTA(D138:E138,H138:L138,N138,Q138:U138,W138:Y138,AB138),COUNTA(D138:E138,H138:I138,Q138:U138,W138:Y138,AB138))","v":0}]
[null,null,null,null,null,null,null,null,null,null,null,null,null,null,null,null,null,null,null,null,null,null,null,null,null,null,null,null,null,null,null,null,0]
[null,null,null,null,null,null,null,null,null,null,null,null,null,null,null,null,null,null,null,null,null,null,null,null,null,null,null,null,null,null,null,null,0]
[null,null,null,null,null,null,null,null,null,null,null,null,null,null,null,null,null,null,null,null,null,null,null,null,null,null,null,null,null,null,null,null,0]
[null,null,null,null,null,null,null,null,null,null,null,null,null,null,null,null,null,null,null,null,null,null,null,null,null,null,null,null,null,null,null,null,0]
[null,null,null,null,null,null,null,null,null,null,null,null,null,null,null,null,null,null,null,null,null,null,null,null,null,null,null,null,null,null,null,null,0]
[null,null,null,null,null,null,null,null,null,null,null,null,null,null,null,null,null,null,null,null,null,null,null,null,null,null,null,null,null,null,null,null,0]
[null,null,null,null,null,null,null,null,null,null,null,null,null,null,null,null,null,null,null,null,null,null,null,null,null,null,null,null,null,null,null,null,0]
[null,null,null,null,null,null,null,null,null,null,null,null,null,null,null,null,null,null,null,null,null,null,null,null,null,null,null,null,null,null,null,null,0]
[null,null,null,null,null,null,null,null,null,null,null,null,null,null,null,null,null,null,null,null,null,null,null,null,null,null,null,null,null,null,null,null,0]
[null,null,null,null,null,null,null,null,null,null,null,null,null,null,null,null,null,null,null,null,null,null,null,null,null,null,null,null,null,null,null,null,0]
[null,null,null,null,null,null,null,null,null,null,null,null,null,null,null,null,null,null,null,null,null,null,null,null,null,null,null,null,null,null,null,null,0]
[null,null,null,null,null,null,null,null,null,null,null,null,null,null,null,null,null,null,null,null,null,null,null,null,null,null,null,null,null,null,null,null,0]
[null,null,null,null,null,null,null,null,null,null,null,null,null,null,null,null,null,null,null,null,null,null,null,null,null,null,null,null,null,null,null,null,0]

{"sheet":"Waste","index":23,"n_rows":152,"n_cols":50,"rows_kept":152,"cut":false,"hidden":true,"merged":[[6,3,6,13],[6,15,6,20],[6,22,6,25],[0,29,0,30],[0,39,0,41],[2,3,2,12],[2,22,2,25],[4,10,4,11],[3,23,3,24],[4,23,4,24]]}
[null,null,null,null,null,null,null,null,null,null,null,null,null,null,null,null,null,null,null,null,null,null,null,null,null,null,null,null,null,null,null,null,null,1,null,null,null,null,null,null,null,null,null,null,null,null,null,null,0]
[null,null,null,null,null,null,null,null,null,null,null,null,null,null,null,null,null,null,{"$f":"IF(SUM(O:O)>0,\"err\",\"\")","v":""},null,null,null,null,null,null,null,null,null,null,null,null,null,null,null,null,null,null,null,null,null,null,null,null,null,null,null,null,null,0]
[null,null,null,"2022 Aug   -   Waste",null,null,null,null,null,null,null,null,null,null,null,null,null,null,null,null,null,null,"Converter:",null,null,null,null,null,null,null,null,null,null,null,null,null,null,null,null,null,null,null,null,null,null,null,null,null,0,"<---DO NOT CHANGE ('return is blank' flag)"]
[null,null,null,null,null,null,null,null,null,null,null,null,"(excluding bulk materials)",null,null,null,null,null,null,null,null,null,"Miles","=",null,"km",null,null,null,null,null,null,null,null,null,null,null,null,null,null,null,null,null,null,null,null,null,null,"Waste"]
[null,null,null,"Add new row:          ",null,null,null,null,null,"Total CO2e",{"$f":"SUMIFS(M:M,AF:AF,\"<>2\")+SUMIFS(Z:Z,AF:AF,\"<>2\")-Z5","v":0},null,"Tonnes",null,null,null,null,null,null,null,null,null,1,"=",null,{"$f":"1.609344*W5","v":1.6093440000000001}]
[]
[null,null,null,"Material / Product",null,null,null,null,null,null,null,null,null,null,null,"Assign % of total quantity to categories",null,null,null,null,null,null,"Transport ",null,null,null,null,"Forecast",null,null,null,"row type"]
[null,null,null,"Item","Type","Unit","Material Type","This Return Quantity","Next Return Quantity Forecast","Carbon Factor Value","Carbon Factor Unit","Conver\n-sion Factor","This Return tCO2e","Methodology",null,"Not Allocated","Fencing","Drainage","Road Pavements","Civils Structures","Waste",null,"Transport mode","Transport distance value (km)","Carbon Factor (tCO2e/t.km)","This Return tCO2e",null,"Next Return Quantity Forecast",null,null,null,"std = 0 / non std = 1 / major material = 2 / of which = 3","is row populated? (based on whether standard row or not"]
["Waste",null,"Waste",null,null,{"$f":"IF(ISERROR(VLOOKUP(D9&E9,'Emissions Factors Lookup'!J4:Q400,2,FALSE)),\"\",VLOOKUP(D9&E9,'Emissions Factors Lookup'!J4:Q400,2,FALSE))","v":""},{"$f":"IF(ISERROR(VLOOKUP(D9&E9,'Emissions Factors Lookup'!J4:Q400,3,FALSE)),\"\",VLOOKUP(D9&E9,'Emissions Factors Lookup'!J4:Q400,3,FALSE))","v":""},null,null,{"$f":"IF(ISERROR(VLOOKUP(D9&E9,'Emissions Factors Lookup'!J4:Q400,4,FALSE)),\"\",VLOOKUP(D9&E9,'Emissions Factors Lookup'!J4:Q400,4,FALSE))","v":""},{"$f":"IF(ISERROR(VLOOKUP(D9&E9,'Emissions Factors Lookup'!J4:Q400,5,FALSE)),\"\",VLOOKUP(D9&E9,'Emissions Factors Lookup'!J4:Q400,5,FALSE))","v":""},{"$f":"IF(ISERROR(VLOOKUP(D9&E9,'Emissions Factors Lookup'!J4:Q400,6,FALSE)),\"\",VLOOKUP(D9&E9,'Emissions Factors Lookup'!J4:Q400,6,FALSE))","v":""},{"$f":"IF(OR((N(L9)*N(H9)*N(J9)) = 0, ISERROR(L9*H9*J9)),\"\",L9*H9*J9)","v":""},{"$f":"IF(ISERROR(VLOOKUP(D9&E9,'Emissions Factors Lookup'!J4:Q400,6,FALSE)),\"\",VLOOKUP(D9&E9,'Emissions Factors Lookup'!J4:Q400,7,FALSE)&IF(VLOOKUP(D9&E9,'Emissions Factors Lookup'!J4:Q400,8,FALSE)=\"\",\"\",\" - \"&VLOOKUP(D9&E9,'Emissions Factors Lookup'!J4:Q400,8,FALSE)))","v":""},{"$f":"IF(P9<0,1,0)","v":0},null,null,null,null,null,null,null,null,null,{"$f":"IF(ISBLANK(W9),\"\",((VLOOKUP(\"Laden\" & W9,'Emissions Factors Lookup'!J4:Q400,4,FALSE)*VLOOKUP(\"Laden\" &W9,'Emissions Factors Lookup'!J4:Q400,6,FALSE)) + (VLOOKUP(\"Unladen\" & W9,'Emissions Factors Lookup'!J4:Q400,4,FALSE)*VLOOKUP(\"Unladen\" &W9,'Emissions Factors Lookup'!J4:Q400,6,FALSE)))/2)","v":""},{"$f":"IF(ISBLANK(X9),\"\",(X9*H9*L9*Y9)*2)","v":""},null,null,null,null,null,0,{"$f":"IF(AF9=1,COUNTA(D9:E9,H9:L9,N9,Q9:U9,W9:Y9,AB9),COUNTA(D9:E9,H9:I9,Q9:U9,W9:X9,AB9))","v":0},{"$f":"IF(ISERROR(VLOOKUP(D9&E9,'Emissions Factors Lookup'!J4:R400,9,FALSE)),\"\",VLOOKUP(D9&E9,'Emissions Factors Lookup'!J4:R400,9,FALSE))","v":""}]
[null,null,null,null,null,null,null,null,null,null,null,null,null,null,null,null,null,null,null,null,null,null,null,null,null,null,null,null,null,null,null,null,{"$f":"IF(AF10=1,COUNTA(D10:E10,H10:L10,N10,Q10:U10,W10:Y10,AB10),COUNTA(D10:E10,H10:I10,Q10:U10,W10:X10,AB10))","v":0},{"$f":"IF(ISERROR(VLOOKUP(D10&E10,'Emissions Factors Lookup'!J4:R400,9,FALSE)),\"\",VLOOKUP(D10&E10,'Emissions Factors Lookup'!J4:R400,9,FALSE))","v":""}]
[null,null,null,null,null,null,null,null,null,null,null,null,null,null,null,null,null,null,null,null,null,null,null,null,null,null,null,null,null,null,null,null,{"$f":"IF(AF11=1,COUNTA(D11:E11,H11:L11,N11,Q11:U11,W11:Y11,AB11),COUNTA(D11:E11,H11:I11,Q11:U11,W11:X11,AB11))","v":0},{"$f":"IF(ISERROR(VLOOKUP(D11&E11,'Emissions Factors Lookup'!J4:R400,9,FALSE)),\"\",VLOOKUP(D11&E11,'Emissions Factors Lookup'!J4:R400,9,FALSE))","v":""}]
[null,null,null,null,null,null,null,null,null,null,null,null,null,null,null,null,null,null,null,null,null,null,null,null,null,null,null,null,null,null,null,null,{"$f":"IF(AF12=1,COUNTA(D12:E12,H12:L12,N12,Q12:U12,W12:Y12,AB12),COUNTA(D12:E12,H12:I12,Q12:U12,W12:X12,AB12))","v":0},{"$f":"IF(ISERROR(VLOOKUP(D12&E12,'Emissions Factors Lookup'!J4:R400,9,FALSE)),\"\",VLOOKUP(D12&E12,'Emissions Factors Lookup'!J4:R400,9,FALSE))","v":""}]
[null,null,null,null,null,null,null,null,null,null,null,null,null,null,null,null,null,null,null,null,null,null,null,null,null,null,null,null,null,null,null,null,{"$f":"IF(AF13=1,COUNTA(D13:E13,H13:L13,N13,Q13:U13,W13:Y13,AB13),COUNTA(D13:E13,H13:I13,Q13:U13,W13:X13,AB13))","v":0},{"$f":"IF(ISERROR(VLOOKUP(D13&E13,'Emissions Factors Lookup'!J4:R400,9,FALSE)),\"\",VLOOKUP(D13&E13,'Emissions Factors Lookup'!J4:R400,9,FALSE))","v":""}]
[null,null,null,null,null,null,null,null,null,null,null,null,null,null,null,null,null,null,null,null,null,null,null,null,null,null,null,null,null,null,null,null,{"$f":"IF(AF14=1,COUNTA(D14:E14,H14:L14,N14,Q14:U14,W14:Y14,AB14),COUNTA(D14:E14,H14:I14,Q14:U14,W14:Y14,AB14))","v":0}]
[null,null,null,null,null,null,null,null,null,null,null,null,null,null,null,null,null,null,null,null,null,null,null,null,null,null,null,null,null,null,null,null,0]
[null,null,null,null,null,null,null,null,null,null,null,null,null,null,null,null,null,null,null,null,null,null,null,null,null,null,null,null,null,null,null,null,0]
[null,null,null,null,null,null,null,null,null,null,null,null,null,null,null,null,null,null,null,null,null,null,null,null,null,null,null,null,null,null,null,null,0]
[null,null,null,null,null,null,null,null,null,null,null,null,null,null,null,null,null,null,null,null,null,null,null,null,null,null,null,null,null,null,null,null,0]
[null,null,null,null,null,null,null,null,null,null,null,null,null,null,null,null,null,null,null,null,null,null,null,null,null,null,null,null,null,null,null,null,0]
[null,null,null,null,null,null,null,null,null,null,null,null,null,null,null,null,null,null,null,null,null,null,null,null,null,null,null,null,null,null,null,null,0]
[null,null,null,null,null,null,null,null,null,null,null,null,null,null,null,null,null,null,null,null,null,null,null,null,null,null,null,null,null,null,null,null,0]
[null,null,null,null,null,null,null,null,null,null,null,null,null,null,null,null,null,null,null,null,null,null,null,null,null,null,null,null,null,null,null,null,0]
[null,null,null,null,null,null,null,null,null,null,null,null,null,null,null,null,null,null,null,null,null,null,null,null,null,null,null,null,null,null,null,null,0]
[null,null,null,null,null,null,null,null,null,null,null,null,null,null,null,null,null,null,null,null,null,null,null,null,null,null,null,null,null,null,null,null,0]
[null,null,null,null,null,null,null,null,null,null,null,null,null,null,null,null,null,null,null,null,null,null,null,null,null,null,null,null,null,null,null,null,0]
[null,null,null,null,null,null,null,null,null,null,null,null,null,null,null,null,null,null,null,null,null,null,null,null,null,null,null,null,null,null,null,null,0]
[null,null,null,null,null,null,null,null,null,null,null,null,null,null,null,null,null,null,null,null,null,null,null,null,null,null,null,null,null,null,null,null,0]
[null,null,null,null,null,null,null,null,null,null,null,null,null,null,null,null,null,null,null,null,null,null,null,null,null,null,null,null,null,null,null,null,0]
[null,null,null,null,null,null,null,null,null,null,null,null,null,null,null,null,null,null,null,null,null,null,null,null,null,null,null,null,null,null,null,null,0]
[null,null,null,null,null,null,null,null,null,null,null,null,null,null,null,null,null,null,null,null,null,null,null,null,null,null,null,null,null,null,null,null,0]
[null,null,null,null,null,null,null,null,null,null,null,null,null,null,null,null,null,null,null,null,null,null,null,null,null,null,null,null,null,null,null,null,0]
[null,null,null,null,null,null,null,null,null,null,null,null,null,null,null,null,null,null,null,null,null,null,null,null,null,null,null,null,null,null,null,null,0]
[null,null,null,null,null,null,null,null,null,null,null,null,null,null,null,null,null,null,null,null,null,null,null,null,null,null,null,null,null,null,null,null,0]
[null,null,null,null,null,null,null,null,null,null,null,null,null,null,null,null,null,null,null,null,null,null,null,null,null,null,null,null,null,null,null,null,0]
[null,null,null,null,null,null,null,null,null,null,null,null,null,null,null,null,null,null,null,null,null,null,null,null,null,null,null,null,null,null,null,null,0]
[null,null,null,null,null,null,null,null,null,null,null,null,null,null,null,null,null,null,null,null,null,null,null,null,null,null,null,null,null,null,null,null,0]
[null,null,null,null,null,null,null,null,null,null,null,null,null,null,null,null,null,null,null,null,null,null,null,null,null,null,null,null,null,null,null,null,0]
[null,null,null,null,null,null,null,null,null,null,null,null,null,null,null,null,null,null,null,null,null,null,null,null,null,null,null,null,null,null,null,null,0]
[null,null,null,null,null,null,null,null,null,null,null,null,null,null,null,null,null,null,null,null,null,null,null,null,null,null,null,null,null,null,null,null,0]
[null,null,null,null,null,null,null,null,null,null,null,null,null,null,null,null,null,null,null,null,null,null,null,null,null,null,null,null,null,null,null,null,0]
[null,null,null,null,null,null,null,null,null,null,null,null,null,null,null,null,null,null,null,null,null,null,null,null,null,null,null,null,null,null,null,null,0]
[null,null,null,null,null,null,null,null,null,null,null,null,null,null,null,null,null,null,null,null,null,null,null,null,null,null,null,null,null,null,null,null,0]
[null,null,null,null,null,null,null,null,null,null,null,null,null,null,null,null,null,null,null,null,null,null,null,null,null,null,null,null,null,null,null,null,0]
[null,null,null,null,null,null,null,null,null,null,null,null,null,null,null,null,null,null,null,null,null,null,null,null,null,null,null,null,null,null,null,null,{"$f":"IF(AF44=1,COUNTA(D44:E44,H44:L44,N44,Q44:U44,W44:Y44,AB44),COUNTA(D44:E44,H44:I44,Q44:U44,W44:Y44,AB44))","v":0}]
[null,null,null,null,null,null,null,null,null,null,null,null,null,null,null,null,null,null,null,null,null,null,null,null,null,null,null,null,null,null,null,null,0]
[null,null,null,null,null,null,null,null,null,null,null,null,null,null,null,null,null,null,null,null,null,null,null,null,null,null,null,null,null,null,null,null,0]
[null,null,null,null,null,null,null,null,null,null,null,null,null,null,null,null,null,null,null,null,null,null,null,null,null,null,null,null,null,null,null,null,0]
[null,null,null,null,null,null,null,null,null,null,null,null,null,null,null,null,null,null,null,null,null,null,null,null,null,null,null,null,null,null,null,null,0]
[null,null,null,null,null,null,null,null,null,null,null,null,null,null,null,null,null,null,null,null,null,null,null,null,null,null,null,null,null,null,null,null,0]
[null,null,null,null,null,null,null,null,null,null,null,null,null,null,null,null,null,null,null,null,null,null,null,null,null,null,null,null,null,null,null,null,0]
[null,null,null,null,null,null,null,null,null,null,null,null,null,null,null,null,null,null,null,null,null,null,null,null,null,null,null,null,null,null,null,null,0]
[null,null,null,null,null,null,null,null,null,null,null,null,null,null,null,null,null,null,null,null,null,null,null,null,null,null,null,null,null,null,null,null,0]
[null,null,null,null,null,null,null,null,null,null,null,null,null,null,null,null,null,null,null,null,null,null,null,null,null,null,null,null,null,null,null,null,0]
[null,null,null,null,null,null,null,null,null,null,null,null,null,null,null,null,null,null,null,null,null,null,null,null,null,null,null,null,null,null,null,null,0]
[null,null,null,null,null,null,null,null,null,null,null,null,null,null,null,null,null,null,null,null,null,null,null,null,null,null,null,null,null,null,null,null,0]
[null,null,null,null,null,null,null,null,null,null,null,null,null,null,null,null,null,null,null,null,null,null,null,null,null,null,null,null,null,null,null,null,0]
[null,null,null,null,null,null,null,null,null,null,null,null,null,null,null,null,null,null,null,null,null,null,null,null,null,null,null,null,null,null,null,null,0]
[null,null,null,null,null,null,null,null,null,null,null,null,null,null,null,null,null,null,null,null,null,null,null,null,null,null,null,null,null,null,null,null,0]
[null,null,null,null,null,null,null,null,null,null,null,null,null,null,null,null,null,null,null,null,null,null,null,null,null,null,null,null,null,null,null,null,0]
[null,null,null,null,null,null,null,null,null,null,null,null,null,null,null,null,null,null,null,null,null,null,null,null,null,null,null,null,null,null,null,null,0]
[null,null,null,null,null,null,null,null,null,null,null,null,null,null,null,null,null,null,null,null,null,null,null,null,null,null,null,null,null,null,null,null,0]
[null,null,null,null,null,null,null,null,null,null,null,null,null,null,null,null,null,null,null,null,null,null,null,null,null,null,null,null,null,null,null,null,0]
[null,null,null,null,null,null,null,null,null,null,null,null,null,null,null,null,null,null,null,null,null,null,null,null,null,null,null,null,null,null,null,null,0]
[null,null,null,null,null,null,null,null,null,null,null,null,null,null,null,null,null,null,null,null,null,null,null,null,null,null,null,null,null,null,null,null,0]
[null,null,null,null,null,null,null,null,null,null,null,null,null,null,null,null,null,null,null,null,null,null,null,null,null,null,null,null,null,null,null,null,0]
[null,null,null,null,null,null,null,null,null,null,null,null,null,null,null,null,null,null,null,null,null,null,null,null,null,null,null,null,null,null,null,null,0]
[null,null,null,null,null,null,null,null,null,null,null,null,null,null,null,null,null,null,null,null,null,null,null,null,null,null,null,null,null,null,null,null,0]
[null,null,null,null,null,null,null,null,null,null,null,null,null,null,null,null,null,null,null,null,null,null,null,null,null,null,null,null,null,null,null,null,0]
[null,null,null,null,null,null,null,null,null,null,null,null,null,null,null,null,null,null,null,null,null,null,null,null,null,null,null,null,null,null,null,null,0]
[null,null,null,null,null,null,null,null,null,null,null,null,null,null,null,null,null,null,null,null,null,null,null,null,null,null,null,null,null,null,null,null,0]
[null,null,null,null,null,null,null,null,null,null,null,null,null,null,null,null,null,null,null,null,null,null,null,null,null,null,null,null,null,null,null,null,0]
[null,null,null,null,null,null,null,null,null,null,null,null,null,null,null,null,null,null,null,null,null,null,null,null,null,null,null,null,null,null,null,null,0]
[null,null,null,null,null,null,null,null,null,null,null,null,null,null,null,null,null,null,null,null,null,null,null,null,null,null,null,null,null,null,null,null,0]
[null,null,null,null,null,null,null,null,null,null,null,null,null,null,null,null,null,null,null,null,null,null,null,null,null,null,null,null,null,null,null,null,0]
[null,null,null,null,null,null,null,null,null,null,null,null,null,null,null,null,null,null,null,null,null,null,null,null,null,null,null,null,null,null,null,null,0]
[null,null,null,null,null,null,null,null,null,null,null,null,null,null,null,null,null,null,null,null,null,null,null,null,null,null,null,null,null,null,null,null,{"$f":"IF(AF76=1,COUNTA(D76:E76,H76:L76,N76,Q76:U76,W76:Y76,AB76),COUNTA(D76:E76,H76:I76,Q76:U76,W76:Y76,AB76))","v":0}]
[null,null,null,null,null,null,null,null,null,null,null,null,null,null,null,null,null,null,null,null,null,null,null,null,null,null,null,null,null,null,null,null,0]
[null,null,null,null,null,null,null,null,null,null,null,null,null,null,null,null,null,null,null,null,null,null,null,null,null,null,null,null,null,null,null,null,0]
[null,null,null,null,null,null,null,null,null,null,null,null,null,null,null,null,null,null,null,null,null,null,null,null,null,null,null,null,null,null,null,null,0]
[null,null,null,null,null,null,null,null,null,null,null,null,null,null,null,null,null,null,null,null,null,null,null,null,null,null,null,null,null,null,null,null,0]
[null,null,null,null,null,null,null,null,null,null,null,null,null,null,null,null,null,null,null,null,null,null,null,null,null,null,null,null,null,null,null,null,0]
[null,null,null,null,null,null,null,null,null,null,null,null,null,null,null,null,null,null,null,null,null,null,null,null,null,null,null,null,null,null,null,null,0]
[null,null,null,null,null,null,null,null,null,null,null,null,null,null,null,null,null,null,null,null,null,null,null,null,null,null,null,null,null,null,null,null,0]
[null,null,null,null,null,null,null,null,null,null,null,null,null,null,null,null,null,null,null,null,null,null,null,null,null,null,null,null,null,null,null,null,0]
[null,null,null,null,null,null,null,null,null,null,null,null,null,null,null,null,null,null,null,null,null,null,null,null,null,null,null,null,null,null,null,null,0]
[null,null,null,null,null,null,null,null,null,null,null,null,null,null,null,null,null,null,null,null,null,null,null,null,null,null,null,null,null,null,null,null,0]
[null,null,null,null,null,null,null,null,null,null,null,null,null,null,null,null,null,null,null,null,null,null,null,null,null,null,null,null,null,null,null,null,0]
[null,null,null,null,null,null,null,null,null,null,null,null,null,null,null,null,null,null,null,null,null,null,null,null,null,null,null,null,null,null,null,null,0]
[null,null,null,null,null,null,null,null,null,null,null,null,null,null,null,null,null,null,null,null,null,null,null,null,null,null,null,null,null,null,null,null,0]
[null,null,null,null,null,null,null,null,null,null,null,null,null,null,null,null,null,null,null,null,null,null,null,null,null,null,null,null,null,null,null,null,0]
[null,null,null,null,null,null,null,null,null,null,null,null,null,null,null,null,null,null,null,null,null,null,null,null,null,null,null,null,null,null,null,null,0]
[null,null,null,null,null,null,null,null,null,null,null,null,null,null,null,null,null,null,null,null,null,null,null,null,null,null,null,null,null,null,null,null,0]
[null,null,null,null,null,null,null,null,null,null,null,null,null,null,null,null,null,null,null,null,null,null,null,null,null,null,null,null,null,null,null,null,0]
[null,null,null,null,null,null,null,null,null,null,null,null,null,null,null,null,null,null,null,null,null,null,null,null,null,null,null,null,null,null,null,null,0]
[null,null,null,null,null,null,null,null,null,null,null,null,null,null,null,null,null,null,null,null,null,null,null,null,null,null,null,null,null,null,null,null,0]
[null,null,null,null,null,null,null,null,null,null,null,null,null,null,null,null,null,null,null,null,null,null,null,null,null,null,null,null,null,null,null,null,0]
[null,null,null,null,null,null,null,null,null,null,null,null,null,null,null,null,null,null,null,null,null,null,null,null,null,null,null,null,null,null,null,null,0]
[null,null,null,null,null,null,null,null,null,null,null,null,null,null,null,null,null,null,null,null,null,null,null,null,null,null,null,null,null,null,null,null,0]
[null,null,null,null,null,null,null,null,null,null,null,null,null,null,null,null,null,null,null,null,null,null,null,null,null,null,null,null,null,null,null,null,0]
[null,null,null,null,null,null,null,null,null,null,null,null,null,null,null,null,null,null,null,null,null,null,null,null,null,null,null,null,null,null,null,null,0]
[null,null,null,null,null,null,null,null,null,null,null,null,null,null,null,null,null,null,null,null,null,null,null,null,null,null,null,null,null,null,null,null,0]
[null,null,null,null,null,null,null,null,null,null,null,null,null,null,null,null,null,null,null,null,null,null,null,null,null,null,null,null,null,null,null,null,0]
[null,null,null,null,null,null,null,null,null,null,null,null,null,null,null,null,null,null,null,null,null,null,null,null,null,null,null,null,null,null,null,null,0]
[null,null,null,null,null,null,null,null,null,null,null,null,null,null,null,null,null,null,null,null,null,null,null,null,null,null,null,null,null,null,null,null,0]
[null,null,null,null,null,null,null,null,null,null,null,null,null,null,null,null,null,null,null,null,null,null,null,null,null,null,null,null,null,null,null,null,0]
[null,null,null,null,null,null,null,null,null,null,null,null,null,null,null,null,null,null,null,null,null,null,null,null,null,null,null,null,null,null,null,null,0]
[null,null,null,null,null,null,null,null,null,null,null,null,null,null,null,null,null,null,null,null,null,null,null,null,null,null,null,null,null,null,null,null,0]
[null,null,null,null,null,null,null,null,null,null,null,null,null,null,null,null,null,null,null,null,null,null,null,null,null,null,null,null,null,null,null,null,{"$f":"IF(AF108=1,COUNTA(D108:E108,H108:L108,N108,Q108:U108,W108:Y108,AB108),COUNTA(D108:E108,H108:I108,Q108:U108,W108:Y108,AB108))","v":0}]
[null,null,null,null,null,null,null,null,null,null,null,null,null,null,null,null,null,null,null,null,null,null,null,null,null,null,null,null,null,null,null,null,0]
[null,null,null,null,null,null,null,null,null,null,null,null,null,null,null,null,null,null,null,null,null,null,null,null,null,null,null,null,null,null,null,null,0]
[null,null,null,null,null,null,null,null,null,null,null,null,null,null,null,null,null,null,null,null,null,null,null,null,null,null,null,null,null,null,null,null,0]
[null,null,null,null,null,null,null,null,null,null,null,null,null,null,null,null,null,null,null,null,null,null,null,null,null,null,null,null,null,null,null,null,0]
[null,null,null,null,null,null,null,null,null,null,null,null,null,null,null,null,null,null,null,null,null,null,null,null,null,null,null,null,null,null,null,null,0]
[null,null,null,null,null,null,null,null,null,null,null,null,null,null,null,null,null,null,null,null,null,null,null,null,null,null,null,null,null,null,null,null,0]
[null,null,null,null,null,null,null,null,null,null,null,null,null,null,null,null,null,null,null,null,null,null,null,null,null,null,null,null,null,null,null,null,0]
[null,null,null,null,null,null,null,null,null,null,null,null,null,null,null,null,null,null,null,null,null,null,null,null,null,null,null,null,null,null,null,null,0]
[null,null,null,null,null,null,null,null,null,null,null,null,null,null,null,null,null,null,null,null,null,null,null,null,null,null,null,null,null,null,null,null,0]
[null,null,null,null,null,null,null,null,null,null,null,null,null,null,null,null,null,null,null,null,null,null,null,null,null,null,null,null,null,null,null,null,0]
[null,null,null,null,null,null,null,null,null,null,null,null,null,null,null,null,null,null,null,null,null,null,null,null,null,null,null,null,null,null,null,null,0]
[null,null,null,null,null,null,null,null,null,null,null,null,null,null,null,null,null,null,null,null,null,null,null,null,null,null,null,null,null,null,null,null,0]
[null,null,null,null,null,null,null,null,null,null,null,null,null,null,null,null,null,null,null,null,null,null,null,null,null,null,null,null,null,null,null,null,0]
[null,null,null,null,null,null,null,null,null,null,null,null,null,null,null,null,null,null,null,null,null,null,null,null,null,null,null,null,null,null,null,null,0]
[null,null,null,null,null,null,null,null,null,null,null,null,null,null,null,null,null,null,null,null,null,null,null,null,null,null,null,null,null,null,null,null,0]
[null,null,null,null,null,null,null,null,null,null,null,null,null,null,null,null,null,null,null,null,null,null,null,null,null,null,null,null,null,null,null,null,0]
[null,null,null,null,null,null,null,null,null,null,null,null,null,null,null,null,null,null,null,null,null,null,null,null,null,null,null,null,null,null,null,null,0]
[null,null,null,null,null,null,null,null,null,null,null,null,null,null,null,null,null,null,null,null,null,null,null,null,null,null,null,null,null,null,null,null,0]
[null,null,null,null,null,null,null,null,null,null,null,null,null,null,null,null,null,null,null,null,null,null,null,null,null,null,null,null,null,null,null,null,0]
[null,null,null,null,null,null,null,null,null,null,null,null,null,null,null,null,null,null,null,null,null,null,null,null,null,null,null,null,null,null,null,null,0]
[null,null,null,null,null,null,null,null,null,null,null,null,null,null,null,null,null,null,null,null,null,null,null,null,null,null,null,null,null,null,null,null,0]
[null,null,null,null,null,null,null,null,null,null,null,null,null,null,null,null,null,null,null,null,null,null,null,null,null,null,null,null,null,null,null,null,0]
[null,null,null,null,null,null,null,null,null,null,null,null,null,null,null,null,null,null,null,null,null,null,null,null,null,null,null,null,null,null,null,null,0]
[null,null,null,null,null,null,null,null,null,null,null,null,null,null,null,null,null,null,null,null,null,null,null,null,null,null,null,null,null,null,null,null,0]
[null,null,null,null,null,null,null,null,null,null,null,null,null,null,null,null,null,null,null,null,null,null,null,null,null,null,null,null,null,null,null,null,0]
[null,null,null,null,null,null,null,null,null,null,null,null,null,null,null,null,null,null,null,null,null,null,null,null,null,null,null,null,null,null,null,null,0]
[null,null,null,null,null,null,null,null,null,null,null,null,null,null,null,null,null,null,null,null,null,null,null,null,null,null,null,null,null,null,null,null,0]
[null,null,null,null,null,null,null,null,null,null,null,null,null,null,null,null,null,null,null,null,null,null,null,null,null,null,null,null,null,null,null,null,0]
[null,null,null,null,null,null,null,null,null,null,null,null,null,null,null,null,null,null,null,null,null,null,null,null,null,null,null,null,null,null,null,null,0]
[null,null,null,null,null,null,null,null,null,null,null,null,null,null,null,null,null,null,null,null,null,null,null,null,null,null,null,null,null,null,null,null,0]
[null,null,null,null,null,null,null,null,null,null,null,null,null,null,null,null,null,null,null,null,null,null,null,null,null,null,null,null,null,null,null,null,0]
[null,null,null,null,null,null,null,null,null,null,null,null,null,null,null,null,null,null,null,null,null,null,null,null,null,null,null,null,null,null,null,null,{"$f":"IF(AF140=1,COUNTA(D140:E140,H140:L140,N140,Q140:U140,W140:Y140,AB140),COUNTA(D140:E140,H140:I140,Q140:U140,W140:Y140,AB140))","v":0}]
[null,null,null,null,null,null,null,null,null,null,null,null,null,null,null,null,null,null,null,null,null,null,null,null,null,null,null,null,null,null,null,null,0]
[null,null,null,null,null,null,null,null,null,null,null,null,null,null,null,null,null,null,null,null,null,null,null,null,null,null,null,null,null,null,null,null,0]
[null,null,null,null,null,null,null,null,null,null,null,null,null,null,null,null,null,null,null,null,null,null,null,null,null,null,null,null,null,null,null,null,0]
[null,null,null,null,null,null,null,null,null,null,null,null,null,null,null,null,null,null,null,null,null,null,null,null,null,null,null,null,null,null,null,null,0]
[null,null,null,null,null,null,null,null,null,null,null,null,null,null,null,null,null,null,null,null,null,null,null,null,null,null,null,null,null,null,null,null,0]
[null,null,null,null,null,null,null,null,null,null,null,null,null,null,null,null,null,null,null,null,null,null,null,null,null,null,null,null,null,null,null,null,0]
[null,null,null,null,null,null,null,null,null,null,null,null,null,null,null,null,null,null,null,null,null,null,null,null,null,null,null,null,null,null,null,null,0]
[null,null,null,null,null,null,null,null,null,null,null,null,null,null,null,null,null,null,null,null,null,null,null,null,null,null,null,null,null,null,null,null,0]
[null,null,null,null,null,null,null,null,null,null,null,null,null,null,null,null,null,null,null,null,null,null,null,null,null,null,null,null,null,null,null,null,0]
[null,null,null,null,null,null,null,null,null,null,null,null,null,null,null,null,null,null,null,null,null,null,null,null,null,null,null,null,null,null,null,null,0]
[null,null,null,null,null,null,null,null,null,null,null,null,null,null,null,null,null,null,null,null,null,null,null,null,null,null,null,null,null,null,null,null,0]
[null,null,null,null,null,null,null,null,null,null,null,null,null,null,null,null,null,null,null,null,null,null,null,null,null,null,null,null,null,null,null,null,0]